{"text_format":"1","workbook":"xlsx","n_sheets":20,"sheets":["BudgetPeriods","Info","Menu","EntityDetails","PackageItemList","EmployeeList","PackageItems","HR Summary","Employee Summary","PACKT01","PACKT02","PACKT03","PACKT04","PACKT05","PACKT06","PACKT07","PACKT08","PACKT09","PACKT10","PACKT11"],"not_rendered":{"charts":0,"images":3,"macros":1,"external_links":0,"defined_names":55,"comments":0,"pivot_tables":0},"unopened":[],"bounds":{"document_bytes":16777216,"sheet_cells":100000,"rows_first":2000,"rows_last":500,"rows_between":2000,"halvings":0,"cell_chars":16384,"cell_head_chars":4096},"cells_cut":0,"cells_raw":0,"read":"whole","date_system":"1900"}

{"sheet":"BudgetPeriods","index":0,"n_rows":15,"n_cols":8,"rows_kept":15,"cut":false,"hidden":true,"merged":[]}
["Home",{"$f":"EntityName","v":"Company A"}]
[]
["PeriodNumberText","Period Number","CalendarMonthNumber","CalendarMonthText","Calendar Month",null,"MonthNo","MonthName"]
[{"$f":"TEXT(B4,\"#\")","v":"1"},1,{"$f":"IF(C5=1,12,C5-1)","v":3},{"$f":"TEXT(C4,\"#\")","v":"3"},{"$f":"VLOOKUP(C4,$G$3:$H$15,2,FALSE)","v":"March"},null,1,"January"]
[{"$f":"TEXT(B5,\"#\")","v":"2"},2,4,{"$f":"TEXT(C5,\"#\")","v":"4"},"April",null,2,"February"]
["3",3,5,"5","May",null,3,"March"]
["4",4,6,"6","June",null,4,"April"]
["5",5,7,"7","July",null,5,"May"]
["6",6,8,"8","August",null,6,"June"]
["7",7,9,"9","September",null,7,"July"]
["8",8,10,"10","October",null,8,"August"]
["9",9,11,"11","November",null,9,"September"]
["10",10,12,"12","December",null,10,"October"]
["11",11,{"$f":"IF(C15=1,12,C15-1)","v":1},"1","January",null,11,"November"]
["12",12,{"$f":"MONTH(EntityDetails!D8)","v":2},"2","February",null,12,"December"]

{"sheet":"Info","index":1,"n_rows":17,"n_cols":2,"rows_kept":17,"cut":false,"hidden":false,"merged":[[15,1,15,11],[16,1,16,11],[10,1,10,11],[11,1,11,11],[12,1,12,11],[13,1,13,11],[14,1,14,11]]}
[]
[]
[]
[]
[]
[]
[]
[]
[]
[]
[null,"HR Budgeting"]
[null,"Version 101"]
[null,"Developed by Synergy Business Intelligence"]
[null,"http://www.synergy.co.za/what-we-do/financial-performance-management"]
[null,"Presented by: "]
[null,"Allan Gibbon"]
[null,"allang@synergy.co.za"]

{"sheet":"Menu","index":2,"n_rows":21,"n_cols":55,"rows_kept":21,"cut":false,"hidden":false,"merged":[[1,1,1,3],[2,1,2,8]]}
[]
[null,{"$f":"EntityName","v":"Company A"},null,null,{"$f":"YearEnd","v":"2013-02-28"}]
[null,"Menu"]
[]
[null,null,null,"Step Number","Details","Shortcut"]
[null,null,null,"Step 1","Entity details","Entity details"]
[null,null,null,"Step 2","Naming Package Items","Naming Package Items"]
[null,null,null,"Step 3","Naming employees","Naming employees"]
[null,null,null,"Step 4","Populating your Pacakage Item Amounts - PACKT01","Basic",null,null,null,null,null,null,null,null,null,null,null,null,null,null,null,null,null,null,null,null,null,null,null,null,null,null,null,null,null,null,null,null,null,null,null,null,null,null,null,null,null,null,null,null,null,null,null,null,"PACK001"]
[null,null,null,"Step 5","Populating your Pacakage Item Amounts - PACKT02","Other Income 1",null,null,null,null,null,null,null,null,null,null,null,null,null,null,null,null,null,null,null,null,null,null,null,null,null,null,null,null,null,null,null,null,null,null,null,null,null,null,null,null,null,null,null,null,null,null,null,null,"PACK002"]
[null,null,null,"Step 6","Populating your Pacakage Item Amounts - PACKT03",{"$f":"VLOOKUP(BC11,PackageItemListLookup[#Data],2,FALSE)","v":"Other Income 2"},null,null,null,null,null,null,null,null,null,null,null,null,null,null,null,null,null,null,null,null,null,null,null,null,null,null,null,null,null,null,null,null,null,null,null,null,null,null,null,null,null,null,null,null,null,null,null,null,"PACK003"]
[null,null,null,"Step 7","Populating your Pacakage Item Amounts - PACKT04",{"$f":"VLOOKUP(BC12,PackageItemListLookup[#Data],2,FALSE)","v":"Medical Aid"},null,null,null,null,null,null,null,null,null,null,null,null,null,null,null,null,null,null,null,null,null,null,null,null,null,null,null,null,null,null,null,null,null,null,null,null,null,null,null,null,null,null,null,null,null,null,null,null,"PACK004"]
[null,null,null,"Step 8","Populating your Pacakage Item Amounts - PACKT05",{"$f":"VLOOKUP(BC13,PackageItemListLookup[#Data],2,FALSE)","v":"SDL"},null,null,null,null,null,null,null,null,null,null,null,null,null,null,null,null,null,null,null,null,null,null,null,null,null,null,null,null,null,null,null,null,null,null,null,null,null,null,null,null,null,null,null,null,null,null,null,null,"PACK005"]
[null,null,null,"Step 9","Populating your Pacakage Item Amounts - PACKT06",{"$f":"VLOOKUP(BC14,PackageItemListLookup[#Data],2,FALSE)","v":"UIF"},null,null,null,null,null,null,null,null,null,null,null,null,null,null,null,null,null,null,null,null,null,null,null,null,null,null,null,null,null,null,null,null,null,null,null,null,null,null,null,null,null,null,null,null,null,null,null,null,"PACK006"]
[null,null,null,"Step 10","Populating your Pacakage Item Amounts - PACKT07",{"$f":"VLOOKUP(BC15,PackageItemListLookup[#Data],2,FALSE)","v":"Provident Fund"},null,null,null,null,null,null,null,null,null,null,null,null,null,null,null,null,null,null,null,null,null,null,null,null,null,null,null,null,null,null,null,null,null,null,null,null,null,null,null,null,null,null,null,null,null,null,null,null,"PACK007"]
[null,null,null,"Step 11","Populating your Pacakage Item Amounts - PACKT08",{"$f":"VLOOKUP(BC16,PackageItemListLookup[#Data],2,FALSE)","v":"Package Item 8"},null,null,null,null,null,null,null,null,null,null,null,null,null,null,null,null,null,null,null,null,null,null,null,null,null,null,null,null,null,null,null,null,null,null,null,null,null,null,null,null,null,null,null,null,null,null,null,null,"PACK008"]
[null,null,null,"Step 12","Populating your Pacakage Item Amounts - PACKT09",{"$f":"VLOOKUP(BC17,PackageItemListLookup[#Data],2,FALSE)","v":"Package Item 9"},null,null,null,null,null,null,null,null,null,null,null,null,null,null,null,null,null,null,null,null,null,null,null,null,null,null,null,null,null,null,null,null,null,null,null,null,null,null,null,null,null,null,null,null,null,null,null,null,"PACK009"]
[null,null,null,"Step 13","Populating your Pacakage Item Amounts - PACKT10",{"$f":"VLOOKUP(BC18,PackageItemListLookup[#Data],2,FALSE)","v":"Package Item 10"},null,null,null,null,null,null,null,null,null,null,null,null,null,null,null,null,null,null,null,null,null,null,null,null,null,null,null,null,null,null,null,null,null,null,null,null,null,null,null,null,null,null,null,null,null,null,null,null,"PACK010"]
[null,null,null,"Step 14","Populating your Pacakage Item Amounts - PACKT11",{"$f":"VLOOKUP(BC19,PackageItemListLookup[#Data],2,FALSE)","v":"Package Item 11"},null,null,null,null,null,null,null,null,null,null,null,null,null,null,null,null,null,null,null,null,null,null,null,null,null,null,null,null,null,null,null,null,null,null,null,null,null,null,null,null,null,null,null,null,null,null,null,null,"PACK011"]
[null,null,null,"Step 15","Viewing HR Summary ( All Employees Total Cost to Company)","HR Summary"]
[null,null,null,"Step 16","Viewing Employee Summary ( Total/Individual Employees Breakdown of Package)","Employee Summary"]

{"sheet":"EntityDetails","index":3,"n_rows":8,"n_cols":5,"rows_kept":8,"cut":false,"hidden":false,"merged":[[1,1,1,3],[1,4,1,8],[2,1,2,8]]}
[null,"Menu"]
[null,{"$f":"EntityName","v":"Company A"},null,null,{"$f":"YearEnd","v":"2013-02-28"}]
[null,"Entity details"]
[]
[]
[null,null,"Description","Details"]
[null,null,"Entity Name:","Company A"]
[null,null,"Year end","2013-02-28"]

{"sheet":"PackageItemList","index":4,"n_rows":110,"n_cols":7,"rows_kept":110,"cut":false,"hidden":false,"merged":[[3,1,3,5],[3,6,3,8],[1,1,1,3],[1,6,1,12],[2,1,2,12]]}
[null,"Menu"]
[null,{"$f":"EntityName","v":"Company A"},null,null,null,null,{"$f":"YearEnd","v":"2013-02-28"}]
[null,"Package Item list"]
[]
[]
[null,"PackageItemCode","PackageItem","PackItemCode2","PackItemTableName","Lookup"]
[null,"PACK001","Basic",{"$f":"PackageItemListLookup[[#This Row],[PackageItemCode]]","v":"PACK001"},"PACKT01",{"$f":"PackageItemListLookup[[#This Row],[PackageItemCode]]&\" - \"&PackageItemListLookup[[#This Row],[PackageItem]]","v":"PACK001 - Basic"},"Flat"]
[null,"PACK002","Other Income 1",{"$f":"PackageItemListLookup[[#This Row],[PackageItemCode]]","v":"PACK002"},"PACKT02",{"$f":"PackageItemListLookup[[#This Row],[PackageItemCode]]&\" - \"&PackageItemListLookup[[#This Row],[PackageItem]]","v":"PACK002 - Other Income 1"},"4-4-5"]
[null,"PACK003","Other Income 2",{"$f":"PackageItemListLookup[[#This Row],[PackageItemCode]]","v":"PACK003"},"PACKT03",{"$f":"PackageItemListLookup[[#This Row],[PackageItemCode]]&\" - \"&PackageItemListLookup[[#This Row],[PackageItem]]","v":"PACK003 - Other Income 2"},"Revenue Cycle"]
[null,"PACK004","Medical Aid",{"$f":"PackageItemListLookup[[#This Row],[PackageItemCode]]","v":"PACK004"},"PACKT04",{"$f":"PackageItemListLookup[[#This Row],[PackageItemCode]]&\" - \"&PackageItemListLookup[[#This Row],[PackageItem]]","v":"PACK004 - Medical Aid"},"Sales Cycle"]
[null,"PACK005","SDL",{"$f":"PackageItemListLookup[[#This Row],[PackageItemCode]]","v":"PACK005"},"PACKT05",{"$f":"PackageItemListLookup[[#This Row],[PackageItemCode]]&\" - \"&PackageItemListLookup[[#This Row],[PackageItem]]","v":"PACK005 - SDL"},"End of Quarter"]
[null,"PACK006","UIF",{"$f":"PackageItemListLookup[[#This Row],[PackageItemCode]]","v":"PACK006"},"PACKT06",{"$f":"PackageItemListLookup[[#This Row],[PackageItemCode]]&\" - \"&PackageItemListLookup[[#This Row],[PackageItem]]","v":"PACK006 - UIF"}]
[null,"PACK007","Provident Fund",{"$f":"PackageItemListLookup[[#This Row],[PackageItemCode]]","v":"PACK007"},"PACKT07",{"$f":"PackageItemListLookup[[#This Row],[PackageItemCode]]&\" - \"&PackageItemListLookup[[#This Row],[PackageItem]]","v":"PACK007 - Provident Fund"}]
[null,"PACK008","Package Item 8",{"$f":"PackageItemListLookup[[#This Row],[PackageItemCode]]","v":"PACK008"},"PACKT08",{"$f":"PackageItemListLookup[[#This Row],[PackageItemCode]]&\" - \"&PackageItemListLookup[[#This Row],[PackageItem]]","v":"PACK008 - Package Item 8"}]
[null,"PACK009","Package Item 9",{"$f":"PackageItemListLookup[[#This Row],[PackageItemCode]]","v":"PACK009"},"PACKT09",{"$f":"PackageItemListLookup[[#This Row],[PackageItemCode]]&\" - \"&PackageItemListLookup[[#This Row],[PackageItem]]","v":"PACK009 - Package Item 9"}]
[null,"PACK010","Package Item 10",{"$f":"PackageItemListLookup[[#This Row],[PackageItemCode]]","v":"PACK010"},"PACKT10",{"$f":"PackageItemListLookup[[#This Row],[PackageItemCode]]&\" - \"&PackageItemListLookup[[#This Row],[PackageItem]]","v":"PACK010 - Package Item 10"}]
[null,"PACK011","Package Item 11",{"$f":"PackageItemListLookup[[#This Row],[PackageItemCode]]","v":"PACK011"},"PACKT11",{"$f":"PackageItemListLookup[[#This Row],[PackageItemCode]]&\" - \"&PackageItemListLookup[[#This Row],[PackageItem]]","v":"PACK011 - Package Item 11"}]
[null,"TCTC001","Total Cost to Company",{"$f":"PackageItemListLookup[[#This Row],[PackageItemCode]]","v":"TCTC001"},"TCTC11",{"$f":"PackageItemListLookup[[#This Row],[PackageItemCode]]&\" - \"&PackageItemListLookup[[#This Row],[PackageItem]]","v":"TCTC001 - Total Cost to Company"}]
[]
[]
[]
[]
[]
[]
[]
[]
[]
[]
[]
[]
[]
[]
[]
[]
[]
[]
[]
[]
[]
[]
[]
[]
[]
[]
[]
[]
[]
[]
[]
[]
[]
[]
[]
[]
[]
[]
[]
[]
[]
[]
[]
[]
[]
[]
[]
[]
[]
[]
[]
[]
[]
[]
[]
[]
[]
[]
[]
[]
[]
[]
[]
[]
[]
[]
[]
[]
[]
[]
[]
[]
[]
[]
[]
[]
[]
[]
[]
[]
[]
[]
[]
[]
[]
[]
[]
[]
[null,null,null,null,null,"Headcount"]
[null,null,null,null,null,"Revenue"]
[null,null,null,null,null,"Number of PC's"]
[null,null,null,null,null,"Salary"]

{"sheet":"EmployeeList","index":5,"n_rows":107,"n_cols":19,"rows_kept":107,"cut":false,"hidden":false,"merged":[[2,1,2,10],[1,1,1,6],[1,7,1,10]]}
[null,"Menu"]
[null,{"$f":"EntityName","v":"Company A"},null,null,null,null,null,{"$f":"YearEnd","v":"2013-02-28"}]
[null,"Employee list"]
[]
[null,null,null,null,null,null,null,{"$f":"VLOOKUP(EmployeeListLookupTable[[#Headers],[PACK001]],PackageItemListLookup[[PackageItemCode]:[PackItemTableName]],2)","v":"Basic"},{"$f":"VLOOKUP(EmployeeListLookupTable[[#Headers],[PACK002]],PackageItemListLookup[[PackageItemCode]:[PackItemTableName]],2)","v":"Other Income 1"},{"$f":"VLOOKUP(EmployeeListLookupTable[[#Headers],[PACK003]],PackageItemListLookup[[PackageItemCode]:[PackItemTableName]],2)","v":"Other Income 2"},{"$f":"VLOOKUP(EmployeeListLookupTable[[#Headers],[PACK004]],PackageItemListLookup[[PackageItemCode]:[PackItemTableName]],2)","v":"Medical Aid"},{"$f":"VLOOKUP(EmployeeListLookupTable[[#Headers],[PACK005]],PackageItemListLookup[[PackageItemCode]:[PackItemTableName]],2)","v":"SDL"},{"$f":"VLOOKUP(EmployeeListLookupTable[[#Headers],[PACK006]],PackageItemListLookup[[PackageItemCode]:[PackItemTableName]],2)","v":"UIF"},{"$f":"VLOOKUP(EmployeeListLookupTable[[#Headers],[PACK007]],PackageItemListLookup[[PackageItemCode]:[PackItemTableName]],2)","v":"Provident Fund"},{"$f":"VLOOKUP(EmployeeListLookupTable[[#Headers],[PACK008]],PackageItemListLookup[[PackageItemCode]:[PackItemTableName]],2)","v":"Package Item 8"},{"$f":"VLOOKUP(EmployeeListLookupTable[[#Headers],[PACK009]],PackageItemListLookup[[PackageItemCode]:[PackItemTableName]],2)","v":"Package Item 9"},{"$f":"VLOOKUP(EmployeeListLookupTable[[#Headers],[PACK010]],PackageItemListLookup[[PackageItemCode]:[PackItemTableName]],2)","v":"Package Item 10"},{"$f":"VLOOKUP(EmployeeListLookupTable[[#Headers],[PACK011]],PackageItemListLookup[[PackageItemCode]:[PackItemTableName]],2)","v":"Package Item 11"},{"$f":"VLOOKUP(EmployeeListLookupTable[[#Headers],[TCTC001]],PackageItemListLookup[[PackageItemCode]:[PackItemTableName]],2)","v":"Total Cost to Company"}]
[null,"EmployeeID","EmployeeNumber","EmployeeName","EmployeeJobTitle","EmployeeFullName","EmployeeIDforLookup","PACK001","PACK002","PACK003","PACK004","PACK005","PACK006","PACK007","PACK008","PACK009","PACK010","PACK011","TCTC001"]
[null,null,null,"All Employees",null,"All Employees",{"$f":"EmployeeListLookupTable[[#This Row],[EmployeeID]]","v":0}]
[null,"EMP0001","EMPN001","Employee Name 1","Employee Job Title 1",{"$f":"CONCATENATE(EmployeeListLookupTable[[#This Row],[EmployeeID]], \" - \",EmployeeListLookupTable[[#This Row],[EmployeeName]])","v":"EMP0001 - Employee Name 1"},{"$f":"EmployeeListLookupTable[[#This Row],[EmployeeID]]","v":"EMP0001"},"Y","Y","Y","Y","Y","Y","Y","Y","Y","Y","Y","Y"]
[null,"EMP0002","EMPN002","Employee Name 2","Employee Job Title 2",{"$f":"CONCATENATE(EmployeeListLookupTable[[#This Row],[EmployeeID]], \" - \",EmployeeListLookupTable[[#This Row],[EmployeeName]])","v":"EMP0002 - Employee Name 2"},{"$f":"EmployeeListLookupTable[[#This Row],[EmployeeID]]","v":"EMP0002"},"Y","Y","Y","Y","Y","Y","Y","Y","Y","Y","Y","Y"]
[null,"EMP0003","EMPN003","Employee Name 3","Employee Job Title 3",{"$f":"CONCATENATE(EmployeeListLookupTable[[#This Row],[EmployeeID]], \" - \",EmployeeListLookupTable[[#This Row],[EmployeeName]])","v":"EMP0003 - Employee Name 3"},{"$f":"EmployeeListLookupTable[[#This Row],[EmployeeID]]","v":"EMP0003"},"Y","Y","Y","Y","Y","Y","Y","Y","Y","Y","Y","Y"]
[null,"EMP0004","EMPN004","Employee Name 4","Employee Job Title 4",{"$f":"CONCATENATE(EmployeeListLookupTable[[#This Row],[EmployeeID]], \" - \",EmployeeListLookupTable[[#This Row],[EmployeeName]])","v":"EMP0004 - Employee Name 4"},{"$f":"EmployeeListLookupTable[[#This Row],[EmployeeID]]","v":"EMP0004"},"Y","Y","Y","Y","Y","Y","Y","Y","Y","Y","Y","Y"]
[null,"EMP0005","EMPN005","Employee Name 5","Employee Job Title 5",{"$f":"CONCATENATE(EmployeeListLookupTable[[#This Row],[EmployeeID]], \" - \",EmployeeListLookupTable[[#This Row],[EmployeeName]])","v":"EMP0005 - Employee Name 5"},{"$f":"EmployeeListLookupTable[[#This Row],[EmployeeID]]","v":"EMP0005"},"Y","Y","Y","Y","Y","Y","Y","Y","Y","Y","Y","Y"]
[null,"EMP0006","EMPN006","Employee Name 6","Employee Job Title 6",{"$f":"CONCATENATE(EmployeeListLookupTable[[#This Row],[EmployeeID]], \" - \",EmployeeListLookupTable[[#This Row],[EmployeeName]])","v":"EMP0006 - Employee Name 6"},{"$f":"EmployeeListLookupTable[[#This Row],[EmployeeID]]","v":"EMP0006"},"Y","Y","Y","Y","Y","Y","Y","Y","Y","Y","Y","Y"]
[null,"EMP0007","EMPN007","Employee Name 7","Employee Job Title 7",{"$f":"CONCATENATE(EmployeeListLookupTable[[#This Row],[EmployeeID]], \" - \",EmployeeListLookupTable[[#This Row],[EmployeeName]])","v":"EMP0007 - Employee Name 7"},{"$f":"EmployeeListLookupTable[[#This Row],[EmployeeID]]","v":"EMP0007"},"Y","Y","Y","Y","Y","Y","Y","Y","Y","Y","Y","Y"]
[null,"EMP0008","EMPN008","Employee Name 8","Employee Job Title 8",{"$f":"CONCATENATE(EmployeeListLookupTable[[#This Row],[EmployeeID]], \" - \",EmployeeListLookupTable[[#This Row],[EmployeeName]])","v":"EMP0008 - Employee Name 8"},{"$f":"EmployeeListLookupTable[[#This Row],[EmployeeID]]","v":"EMP0008"},"Y","Y","Y","Y","Y","Y","Y","Y","Y","Y","Y","Y"]
[null,"EMP0009","EMPN009","Employee Name 9","Employee Job Title 9",{"$f":"CONCATENATE(EmployeeListLookupTable[[#This Row],[EmployeeID]], \" - \",EmployeeListLookupTable[[#This Row],[EmployeeName]])","v":"EMP0009 - Employee Name 9"},{"$f":"EmployeeListLookupTable[[#This Row],[EmployeeID]]","v":"EMP0009"},"Y","Y","Y","Y","Y","Y","Y","Y","Y","Y","Y","Y"]
[null,"EMP0010","EMPN010","Employee Name 10","Employee Job Title 10",{"$f":"CONCATENATE(EmployeeListLookupTable[[#This Row],[EmployeeID]], \" - \",EmployeeListLookupTable[[#This Row],[EmployeeName]])","v":"EMP0010 - Employee Name 10"},{"$f":"EmployeeListLookupTable[[#This Row],[EmployeeID]]","v":"EMP0010"},"Y","Y","Y","Y","Y","Y","Y","Y","Y","Y","Y","Y"]
[null,"EMP0011","EMPN011","Employee Name 11","Employee Job Title 11",{"$f":"CONCATENATE(EmployeeListLookupTable[[#This Row],[EmployeeID]], \" - \",EmployeeListLookupTable[[#This Row],[EmployeeName]])","v":"EMP0011 - Employee Name 11"},{"$f":"EmployeeListLookupTable[[#This Row],[EmployeeID]]","v":"EMP0011"},"Y","Y","Y","Y","Y","Y","Y","Y","Y","Y","Y","Y"]
[null,"EMP0012","EMPN012","Employee Name 12","Employee Job Title 12",{"$f":"CONCATENATE(EmployeeListLookupTable[[#This Row],[EmployeeID]], \" - \",EmployeeListLookupTable[[#This Row],[EmployeeName]])","v":"EMP0012 - Employee Name 12"},{"$f":"EmployeeListLookupTable[[#This Row],[EmployeeID]]","v":"EMP0012"},"Y","Y","Y","Y","Y","Y","Y","Y","Y","Y","Y","Y"]
[null,"EMP0013","EMPN013","Employee Name 13","Employee Job Title 13",{"$f":"CONCATENATE(EmployeeListLookupTable[[#This Row],[EmployeeID]], \" - \",EmployeeListLookupTable[[#This Row],[EmployeeName]])","v":"EMP0013 - Employee Name 13"},{"$f":"EmployeeListLookupTable[[#This Row],[EmployeeID]]","v":"EMP0013"},"Y","Y","Y","Y","Y","Y","Y","Y","Y","Y","Y","Y"]
[null,"EMP0014","EMPN014","Employee Name 14","Employee Job Title 14",{"$f":"CONCATENATE(EmployeeListLookupTable[[#This Row],[EmployeeID]], \" - \",EmployeeListLookupTable[[#This Row],[EmployeeName]])","v":"EMP0014 - Employee Name 14"},{"$f":"EmployeeListLookupTable[[#This Row],[EmployeeID]]","v":"EMP0014"},"Y","Y","Y","Y","Y","Y","Y","Y","Y","Y","Y","Y"]
[null,"EMP0015","EMPN015","Employee Name 15","Employee Job Title 15",{"$f":"CONCATENATE(EmployeeListLookupTable[[#This Row],[EmployeeID]], \" - \",EmployeeListLookupTable[[#This Row],[EmployeeName]])","v":"EMP0015 - Employee Name 15"},{"$f":"EmployeeListLookupTable[[#This Row],[EmployeeID]]","v":"EMP0015"},"Y","Y","Y","Y","Y","Y","Y","Y","Y","Y","Y","Y"]
[null,"EMP0016","EMPN016","Employee Name 16","Employee Job Title 16",{"$f":"CONCATENATE(EmployeeListLookupTable[[#This Row],[EmployeeID]], \" - \",EmployeeListLookupTable[[#This Row],[EmployeeName]])","v":"EMP0016 - Employee Name 16"},{"$f":"EmployeeListLookupTable[[#This Row],[EmployeeID]]","v":"EMP0016"},"Y","Y","Y","Y","Y","Y","Y","Y","Y","Y","Y","Y"]
[null,"EMP0017","EMPN017","Employee Name 17","Employee Job Title 17",{"$f":"CONCATENATE(EmployeeListLookupTable[[#This Row],[EmployeeID]], \" - \",EmployeeListLookupTable[[#This Row],[EmployeeName]])","v":"EMP0017 - Employee Name 17"},{"$f":"EmployeeListLookupTable[[#This Row],[EmployeeID]]","v":"EMP0017"},"Y","Y","Y","Y","Y","Y","Y","Y","Y","Y","Y","Y"]
[null,"EMP0018","EMPN018","Employee Name 18","Employee Job Title 18",{"$f":"CONCATENATE(EmployeeListLookupTable[[#This Row],[EmployeeID]], \" - \",EmployeeListLookupTable[[#This Row],[EmployeeName]])","v":"EMP0018 - Employee Name 18"},{"$f":"EmployeeListLookupTable[[#This Row],[EmployeeID]]","v":"EMP0018"},"Y","Y","Y","Y","Y","Y","Y","Y","Y","Y","Y","Y"]
[null,"EMP0019","EMPN019","Employee Name 19","Employee Job Title 19",{"$f":"CONCATENATE(EmployeeListLookupTable[[#This Row],[EmployeeID]], \" - \",EmployeeListLookupTable[[#This Row],[EmployeeName]])","v":"EMP0019 - Employee Name 19"},{"$f":"EmployeeListLookupTable[[#This Row],[EmployeeID]]","v":"EMP0019"},"Y","Y","Y","Y","Y","Y","Y","Y","Y","Y","Y","Y"]
[null,"EMP0020","EMPN020","Employee Name 20","Employee Job Title 20",{"$f":"CONCATENATE(EmployeeListLookupTable[[#This Row],[EmployeeID]], \" - \",EmployeeListLookupTable[[#This Row],[EmployeeName]])","v":"EMP0020 - Employee Name 20"},{"$f":"EmployeeListLookupTable[[#This Row],[EmployeeID]]","v":"EMP0020"},"Y","Y","Y","Y","Y","Y","Y","Y","Y","Y","Y","Y"]
[null,"EMP0021","EMPN021","Employee Name 21","Employee Job Title 21",{"$f":"CONCATENATE(EmployeeListLookupTable[[#This Row],[EmployeeID]], \" - \",EmployeeListLookupTable[[#This Row],[EmployeeName]])","v":"EMP0021 - Employee Name 21"},{"$f":"EmployeeListLookupTable[[#This Row],[EmployeeID]]","v":"EMP0021"},"Y","Y","Y","Y","Y","Y","Y","Y","Y","Y","Y","Y"]
[null,"EMP0022","EMPN022","Employee Name 22","Employee Job Title 22",{"$f":"CONCATENATE(EmployeeListLookupTable[[#This Row],[EmployeeID]], \" - \",EmployeeListLookupTable[[#This Row],[EmployeeName]])","v":"EMP0022 - Employee Name 22"},{"$f":"EmployeeListLookupTable[[#This Row],[EmployeeID]]","v":"EMP0022"},"Y","Y","Y","Y","Y","Y","Y","Y","Y","Y","Y","Y"]
[null,"EMP0023","EMPN023","Employee Name 23","Employee Job Title 23",{"$f":"CONCATENATE(EmployeeListLookupTable[[#This Row],[EmployeeID]], \" - \",EmployeeListLookupTable[[#This Row],[EmployeeName]])","v":"EMP0023 - Employee Name 23"},{"$f":"EmployeeListLookupTable[[#This Row],[EmployeeID]]","v":"EMP0023"},"Y","Y","Y","Y","Y","Y","Y","Y","Y","Y","Y","Y"]
[null,"EMP0024","EMPN024","Employee Name 24","Employee Job Title 24",{"$f":"CONCATENATE(EmployeeListLookupTable[[#This Row],[EmployeeID]], \" - \",EmployeeListLookupTable[[#This Row],[EmployeeName]])","v":"EMP0024 - Employee Name 24"},{"$f":"EmployeeListLookupTable[[#This Row],[EmployeeID]]","v":"EMP0024"},"Y","Y","Y","Y","Y","Y","Y","Y","Y","Y","Y","Y"]
[null,"EMP0025","EMPN025","Employee Name 25","Employee Job Title 25",{"$f":"CONCATENATE(EmployeeListLookupTable[[#This Row],[EmployeeID]], \" - \",EmployeeListLookupTable[[#This Row],[EmployeeName]])","v":"EMP0025 - Employee Name 25"},{"$f":"EmployeeListLookupTable[[#This Row],[EmployeeID]]","v":"EMP0025"},"Y","Y","Y","Y","Y","Y","Y","Y","Y","Y","Y","Y"]
[null,"EMP0026","EMPN026","Employee Name 26","Employee Job Title 26",{"$f":"CONCATENATE(EmployeeListLookupTable[[#This Row],[EmployeeID]], \" - \",EmployeeListLookupTable[[#This Row],[EmployeeName]])","v":"EMP0026 - Employee Name 26"},{"$f":"EmployeeListLookupTable[[#This Row],[EmployeeID]]","v":"EMP0026"},"Y","Y","Y","Y","Y","Y","Y","Y","Y","Y","Y","Y"]
[null,"EMP0027","EMPN027","Employee Name 27","Employee Job Title 27",{"$f":"CONCATENATE(EmployeeListLookupTable[[#This Row],[EmployeeID]], \" - \",EmployeeListLookupTable[[#This Row],[EmployeeName]])","v":"EMP0027 - Employee Name 27"},{"$f":"EmployeeListLookupTable[[#This Row],[EmployeeID]]","v":"EMP0027"},"Y","Y","Y","Y","Y","Y","Y","Y","Y","Y","Y","Y"]
[null,"EMP0028","EMPN028","Employee Name 28","Employee Job Title 28",{"$f":"CONCATENATE(EmployeeListLookupTable[[#This Row],[EmployeeID]], \" - \",EmployeeListLookupTable[[#This Row],[EmployeeName]])","v":"EMP0028 - Employee Name 28"},{"$f":"EmployeeListLookupTable[[#This Row],[EmployeeID]]","v":"EMP0028"},"Y","Y","Y","Y","Y","Y","Y","Y","Y","Y","Y","Y"]
[null,"EMP0029","EMPN029","Employee Name 29","Employee Job Title 29",{"$f":"CONCATENATE(EmployeeListLookupTable[[#This Row],[EmployeeID]], \" - \",EmployeeListLookupTable[[#This Row],[EmployeeName]])","v":"EMP0029 - Employee Name 29"},{"$f":"EmployeeListLookupTable[[#This Row],[EmployeeID]]","v":"EMP0029"},"Y","Y","Y","Y","Y","Y","Y","Y","Y","Y","Y","Y"]
[null,"EMP0030","EMPN030","Employee Name 30","Employee Job Title 30",{"$f":"CONCATENATE(EmployeeListLookupTable[[#This Row],[EmployeeID]], \" - \",EmployeeListLookupTable[[#This Row],[EmployeeName]])","v":"EMP0030 - Employee Name 30"},{"$f":"EmployeeListLookupTable[[#This Row],[EmployeeID]]","v":"EMP0030"},"Y","Y","Y","Y","Y","Y","Y","Y","Y","Y","Y","Y"]
[null,"EMP0031","EMPN031","Employee Name 31","Employee Job Title 31",{"$f":"CONCATENATE(EmployeeListLookupTable[[#This Row],[EmployeeID]], \" - \",EmployeeListLookupTable[[#This Row],[EmployeeName]])","v":"EMP0031 - Employee Name 31"},{"$f":"EmployeeListLookupTable[[#This Row],[EmployeeID]]","v":"EMP0031"},"Y","Y","Y","Y","Y","Y","Y","Y","Y","Y","Y","Y"]
[null,"EMP0032","EMPN032","Employee Name 32","Employee Job Title 32",{"$f":"CONCATENATE(EmployeeListLookupTable[[#This Row],[EmployeeID]], \" - \",EmployeeListLookupTable[[#This Row],[EmployeeName]])","v":"EMP0032 - Employee Name 32"},{"$f":"EmployeeListLookupTable[[#This Row],[EmployeeID]]","v":"EMP0032"},"Y","Y","Y","Y","Y","Y","Y","Y","Y","Y","Y","Y"]
[null,"EMP0033","EMPN033","Employee Name 33","Employee Job Title 33",{"$f":"CONCATENATE(EmployeeListLookupTable[[#This Row],[EmployeeID]], \" - \",EmployeeListLookupTable[[#This Row],[EmployeeName]])","v":"EMP0033 - Employee Name 33"},{"$f":"EmployeeListLookupTable[[#This Row],[EmployeeID]]","v":"EMP0033"},"Y","Y","Y","Y","Y","Y","Y","Y","Y","Y","Y","Y"]
[null,"EMP0034","EMPN034","Employee Name 34","Employee Job Title 34",{"$f":"CONCATENATE(EmployeeListLookupTable[[#This Row],[EmployeeID]], \" - \",EmployeeListLookupTable[[#This Row],[EmployeeName]])","v":"EMP0034 - Employee Name 34"},{"$f":"EmployeeListLookupTable[[#This Row],[EmployeeID]]","v":"EMP0034"},"Y","Y","Y","Y","Y","Y","Y","Y","Y","Y","Y","Y"]
[null,"EMP0035","EMPN035","Employee Name 35","Employee Job Title 35",{"$f":"CONCATENATE(EmployeeListLookupTable[[#This Row],[EmployeeID]], \" - \",EmployeeListLookupTable[[#This Row],[EmployeeName]])","v":"EMP0035 - Employee Name 35"},{"$f":"EmployeeListLookupTable[[#This Row],[EmployeeID]]","v":"EMP0035"},"Y","Y","Y","Y","Y","Y","Y","Y","Y","Y","Y","Y"]
[null,"EMP0036","EMPN036","Employee Name 36","Employee Job Title 36",{"$f":"CONCATENATE(EmployeeListLookupTable[[#This Row],[EmployeeID]], \" - \",EmployeeListLookupTable[[#This Row],[EmployeeName]])","v":"EMP0036 - Employee Name 36"},{"$f":"EmployeeListLookupTable[[#This Row],[EmployeeID]]","v":"EMP0036"},"Y","Y","Y","Y","Y","Y","Y","Y","Y","Y","Y","Y"]
[null,"EMP0037","EMPN037","Employee Name 37","Employee Job Title 37",{"$f":"CONCATENATE(EmployeeListLookupTable[[#This Row],[EmployeeID]], \" - \",EmployeeListLookupTable[[#This Row],[EmployeeName]])","v":"EMP0037 - Employee Name 37"},{"$f":"EmployeeListLookupTable[[#This Row],[EmployeeID]]","v":"EMP0037"},"Y","Y","Y","Y","Y","Y","Y","Y","Y","Y","Y","Y"]
[null,"EMP0038","EMPN038","Employee Name 38","Employee Job Title 38",{"$f":"CONCATENATE(EmployeeListLookupTable[[#This Row],[EmployeeID]], \" - \",EmployeeListLookupTable[[#This Row],[EmployeeName]])","v":"EMP0038 - Employee Name 38"},{"$f":"EmployeeListLookupTable[[#This Row],[EmployeeID]]","v":"EMP0038"},"Y","Y","Y","Y","Y","Y","Y","Y","Y","Y","Y","Y"]
[null,"EMP0039","EMPN039","Employee Name 39","Employee Job Title 39",{"$f":"CONCATENATE(EmployeeListLookupTable[[#This Row],[EmployeeID]], \" - \",EmployeeListLookupTable[[#This Row],[EmployeeName]])","v":"EMP0039 - Employee Name 39"},{"$f":"EmployeeListLookupTable[[#This Row],[EmployeeID]]","v":"EMP0039"},"Y","Y","Y","Y","Y","Y","Y","Y","Y","Y","Y","Y"]
[null,"EMP0040","EMPN040","Employee Name 40","Employee Job Title 40",{"$f":"CONCATENATE(EmployeeListLookupTable[[#This Row],[EmployeeID]], \" - \",EmployeeListLookupTable[[#This Row],[EmployeeName]])","v":"EMP0040 - Employee Name 40"},{"$f":"EmployeeListLookupTable[[#This Row],[EmployeeID]]","v":"EMP0040"},"Y","Y","Y","Y","Y","Y","Y","Y","Y","Y","Y","Y"]
[null,"EMP0041","EMPN041","Employee Name 41","Employee Job Title 41",{"$f":"CONCATENATE(EmployeeListLookupTable[[#This Row],[EmployeeID]], \" - \",EmployeeListLookupTable[[#This Row],[EmployeeName]])","v":"EMP0041 - Employee Name 41"},{"$f":"EmployeeListLookupTable[[#This Row],[EmployeeID]]","v":"EMP0041"},"Y","Y","Y","Y","Y","Y","Y","Y","Y","Y","Y","Y"]
[null,"EMP0042","EMPN042","Employee Name 42","Employee Job Title 42",{"$f":"CONCATENATE(EmployeeListLookupTable[[#This Row],[EmployeeID]], \" - \",EmployeeListLookupTable[[#This Row],[EmployeeName]])","v":"EMP0042 - Employee Name 42"},{"$f":"EmployeeListLookupTable[[#This Row],[EmployeeID]]","v":"EMP0042"},"Y","Y","Y","Y","Y","Y","Y","Y","Y","Y","Y","Y"]
[null,"EMP0043","EMPN043","Employee Name 43","Employee Job Title 43",{"$f":"CONCATENATE(EmployeeListLookupTable[[#This Row],[EmployeeID]], \" - \",EmployeeListLookupTable[[#This Row],[EmployeeName]])","v":"EMP0043 - Employee Name 43"},{"$f":"EmployeeListLookupTable[[#This Row],[EmployeeID]]","v":"EMP0043"},"Y","Y","Y","Y","Y","Y","Y","Y","Y","Y","Y","Y"]
[null,"EMP0044","EMPN044","Employee Name 44","Employee Job Title 44",{"$f":"CONCATENATE(EmployeeListLookupTable[[#This Row],[EmployeeID]], \" - \",EmployeeListLookupTable[[#This Row],[EmployeeName]])","v":"EMP0044 - Employee Name 44"},{"$f":"EmployeeListLookupTable[[#This Row],[EmployeeID]]","v":"EMP0044"},"Y","Y","Y","Y","Y","Y","Y","Y","Y","Y","Y","Y"]
[null,"EMP0045","EMPN045","Employee Name 45","Employee Job Title 45",{"$f":"CONCATENATE(EmployeeListLookupTable[[#This Row],[EmployeeID]], \" - \",EmployeeListLookupTable[[#This Row],[EmployeeName]])","v":"EMP0045 - Employee Name 45"},{"$f":"EmployeeListLookupTable[[#This Row],[EmployeeID]]","v":"EMP0045"},"Y","Y","Y","Y","Y","Y","Y","Y","Y","Y","Y","Y"]
[null,"EMP0046","EMPN046","Employee Name 46","Employee Job Title 46",{"$f":"CONCATENATE(EmployeeListLookupTable[[#This Row],[EmployeeID]], \" - \",EmployeeListLookupTable[[#This Row],[EmployeeName]])","v":"EMP0046 - Employee Name 46"},{"$f":"EmployeeListLookupTable[[#This Row],[EmployeeID]]","v":"EMP0046"},"Y","Y","Y","Y","Y","Y","Y","Y","Y","Y","Y","Y"]
[null,"EMP0047","EMPN047","Employee Name 47","Employee Job Title 47",{"$f":"CONCATENATE(EmployeeListLookupTable[[#This Row],[EmployeeID]], \" - \",EmployeeListLookupTable[[#This Row],[EmployeeName]])","v":"EMP0047 - Employee Name 47"},{"$f":"EmployeeListLookupTable[[#This Row],[EmployeeID]]","v":"EMP0047"},"Y","Y","Y","Y","Y","Y","Y","Y","Y","Y","Y","Y"]
[null,"EMP0048","EMPN048","Employee Name 48","Employee Job Title 48",{"$f":"CONCATENATE(EmployeeListLookupTable[[#This Row],[EmployeeID]], \" - \",EmployeeListLookupTable[[#This Row],[EmployeeName]])","v":"EMP0048 - Employee Name 48"},{"$f":"EmployeeListLookupTable[[#This Row],[EmployeeID]]","v":"EMP0048"},"Y","Y","Y","Y","Y","Y","Y","Y","Y","Y","Y","Y"]
[null,"EMP0049","EMPN049","Employee Name 49","Employee Job Title 49",{"$f":"CONCATENATE(EmployeeListLookupTable[[#This Row],[EmployeeID]], \" - \",EmployeeListLookupTable[[#This Row],[EmployeeName]])","v":"EMP0049 - Employee Name 49"},{"$f":"EmployeeListLookupTable[[#This Row],[EmployeeID]]","v":"EMP0049"},"Y","Y","Y","Y","Y","Y","Y","Y","Y","Y","Y","Y"]
[null,"EMP0050","EMPN050","Employee Name 50","Employee Job Title 50",{"$f":"CONCATENATE(EmployeeListLookupTable[[#This Row],[EmployeeID]], \" - \",EmployeeListLookupTable[[#This Row],[EmployeeName]])","v":"EMP0050 - Employee Name 50"},{"$f":"EmployeeListLookupTable[[#This Row],[EmployeeID]]","v":"EMP0050"},"Y","Y","Y","Y","Y","Y","Y","Y","Y","Y","Y","Y"]
[null,"EMP0051","EMPN051","Employee Name 51","Employee Job Title 51",{"$f":"CONCATENATE(EmployeeListLookupTable[[#This Row],[EmployeeID]], \" - \",EmployeeListLookupTable[[#This Row],[EmployeeName]])","v":"EMP0051 - Employee Name 51"},{"$f":"EmployeeListLookupTable[[#This Row],[EmployeeID]]","v":"EMP0051"},"Y","Y","Y","Y","Y","Y","Y","Y","Y","Y","Y","Y"]
[null,"EMP0052","EMPN052","Employee Name 52","Employee Job Title 52",{"$f":"CONCATENATE(EmployeeListLookupTable[[#This Row],[EmployeeID]], \" - \",EmployeeListLookupTable[[#This Row],[EmployeeName]])","v":"EMP0052 - Employee Name 52"},{"$f":"EmployeeListLookupTable[[#This Row],[EmployeeID]]","v":"EMP0052"},"Y","Y","Y","Y","Y","Y","Y","Y","Y","Y","Y","Y"]
[null,"EMP0053","EMPN053","Employee Name 53","Employee Job Title 53",{"$f":"CONCATENATE(EmployeeListLookupTable[[#This Row],[EmployeeID]], \" - \",EmployeeListLookupTable[[#This Row],[EmployeeName]])","v":"EMP0053 - Employee Name 53"},{"$f":"EmployeeListLookupTable[[#This Row],[EmployeeID]]","v":"EMP0053"},"Y","Y","Y","Y","Y","Y","Y","Y","Y","Y","Y","Y"]
[null,"EMP0054","EMPN054","Employee Name 54","Employee Job Title 54",{"$f":"CONCATENATE(EmployeeListLookupTable[[#This Row],[EmployeeID]], \" - \",EmployeeListLookupTable[[#This Row],[EmployeeName]])","v":"EMP0054 - Employee Name 54"},{"$f":"EmployeeListLookupTable[[#This Row],[EmployeeID]]","v":"EMP0054"},"Y","Y","Y","Y","Y","Y","Y","Y","Y","Y","Y","Y"]
[null,"EMP0055","EMPN055","Employee Name 55","Employee Job Title 55",{"$f":"CONCATENATE(EmployeeListLookupTable[[#This Row],[EmployeeID]], \" - \",EmployeeListLookupTable[[#This Row],[EmployeeName]])","v":"EMP0055 - Employee Name 55"},{"$f":"EmployeeListLookupTable[[#This Row],[EmployeeID]]","v":"EMP0055"},"Y","Y","Y","Y","Y","Y","Y","Y","Y","Y","Y","Y"]
[null,"EMP0056","EMPN056","Employee Name 56","Employee Job Title 56",{"$f":"CONCATENATE(EmployeeListLookupTable[[#This Row],[EmployeeID]], \" - \",EmployeeListLookupTable[[#This Row],[EmployeeName]])","v":"EMP0056 - Employee Name 56"},{"$f":"EmployeeListLookupTable[[#This Row],[EmployeeID]]","v":"EMP0056"},"Y","Y","Y","Y","Y","Y","Y","Y","Y","Y","Y","Y"]
[null,"EMP0057","EMPN057","Employee Name 57","Employee Job Title 57",{"$f":"CONCATENATE(EmployeeListLookupTable[[#This Row],[EmployeeID]], \" - \",EmployeeListLookupTable[[#This Row],[EmployeeName]])","v":"EMP0057 - Employee Name 57"},{"$f":"EmployeeListLookupTable[[#This Row],[EmployeeID]]","v":"EMP0057"},"Y","Y","Y","Y","Y","Y","Y","Y","Y","Y","Y","Y"]
[null,"EMP0058","EMPN058","Employee Name 58","Employee Job Title 58",{"$f":"CONCATENATE(EmployeeListLookupTable[[#This Row],[EmployeeID]], \" - \",EmployeeListLookupTable[[#This Row],[EmployeeName]])","v":"EMP0058 - Employee Name 58"},{"$f":"EmployeeListLookupTable[[#This Row],[EmployeeID]]","v":"EMP0058"},"Y","Y","Y","Y","Y","Y","Y","Y","Y","Y","Y","Y"]
[null,"EMP0059","EMPN059","Employee Name 59","Employee Job Title 59",{"$f":"CONCATENATE(EmployeeListLookupTable[[#This Row],[EmployeeID]], \" - \",EmployeeListLookupTable[[#This Row],[EmployeeName]])","v":"EMP0059 - Employee Name 59"},{"$f":"EmployeeListLookupTable[[#This Row],[EmployeeID]]","v":"EMP0059"},"Y","Y","Y","Y","Y","Y","Y","Y","Y","Y","Y","Y"]
[null,"EMP0060","EMPN060","Employee Name 60","Employee Job Title 60",{"$f":"CONCATENATE(EmployeeListLookupTable[[#This Row],[EmployeeID]], \" - \",EmployeeListLookupTable[[#This Row],[EmployeeName]])","v":"EMP0060 - Employee Name 60"},{"$f":"EmployeeListLookupTable[[#This Row],[EmployeeID]]","v":"EMP0060"},"Y","Y","Y","Y","Y","Y","Y","Y","Y","Y","Y","Y"]
[null,"EMP0061","EMPN061","Employee Name 61","Employee Job Title 61",{"$f":"CONCATENATE(EmployeeListLookupTable[[#This Row],[EmployeeID]], \" - \",EmployeeListLookupTable[[#This Row],[EmployeeName]])","v":"EMP0061 - Employee Name 61"},{"$f":"EmployeeListLookupTable[[#This Row],[EmployeeID]]","v":"EMP0061"},"Y","Y","Y","Y","Y","Y","Y","Y","Y","Y","Y","Y"]
[null,"EMP0062","EMPN062","Employee Name 62","Employee Job Title 62",{"$f":"CONCATENATE(EmployeeListLookupTable[[#This Row],[EmployeeID]], \" - \",EmployeeListLookupTable[[#This Row],[EmployeeName]])","v":"EMP0062 - Employee Name 62"},{"$f":"EmployeeListLookupTable[[#This Row],[EmployeeID]]","v":"EMP0062"},"Y","Y","Y","Y","Y","Y","Y","Y","Y","Y","Y","Y"]
[null,"EMP0063","EMPN063","Employee Name 63","Employee Job Title 63",{"$f":"CONCATENATE(EmployeeListLookupTable[[#This Row],[EmployeeID]], \" - \",EmployeeListLookupTable[[#This Row],[EmployeeName]])","v":"EMP0063 - Employee Name 63"},{"$f":"EmployeeListLookupTable[[#This Row],[EmployeeID]]","v":"EMP0063"},"Y","Y","Y","Y","Y","Y","Y","Y","Y","Y","Y","Y"]
[null,"EMP0064","EMPN064","Employee Name 64","Employee Job Title 64",{"$f":"CONCATENATE(EmployeeListLookupTable[[#This Row],[EmployeeID]], \" - \",EmployeeListLookupTable[[#This Row],[EmployeeName]])","v":"EMP0064 - Employee Name 64"},{"$f":"EmployeeListLookupTable[[#This Row],[EmployeeID]]","v":"EMP0064"},"Y","Y","Y","Y","Y","Y","Y","Y","Y","Y","Y","Y"]
[null,"EMP0065","EMPN065","Employee Name 65","Employee Job Title 65",{"$f":"CONCATENATE(EmployeeListLookupTable[[#This Row],[EmployeeID]], \" - \",EmployeeListLookupTable[[#This Row],[EmployeeName]])","v":"EMP0065 - Employee Name 65"},{"$f":"EmployeeListLookupTable[[#This Row],[EmployeeID]]","v":"EMP0065"},"Y","Y","Y","Y","Y","Y","Y","Y","Y","Y","Y","Y"]
[null,"EMP0066","EMPN066","Employee Name 66","Employee Job Title 66",{"$f":"CONCATENATE(EmployeeListLookupTable[[#This Row],[EmployeeID]], \" - \",EmployeeListLookupTable[[#This Row],[EmployeeName]])","v":"EMP0066 - Employee Name 66"},{"$f":"EmployeeListLookupTable[[#This Row],[EmployeeID]]","v":"EMP0066"},"Y","Y","Y","Y","Y","Y","Y","Y","Y","Y","Y","Y"]
[null,"EMP0067","EMPN067","Employee Name 67","Employee Job Title 67",{"$f":"CONCATENATE(EmployeeListLookupTable[[#This Row],[EmployeeID]], \" - \",EmployeeListLookupTable[[#This Row],[EmployeeName]])","v":"EMP0067 - Employee Name 67"},{"$f":"EmployeeListLookupTable[[#This Row],[EmployeeID]]","v":"EMP0067"},"Y","Y","Y","Y","Y","Y","Y","Y","Y","Y","Y","Y"]
[null,"EMP0068","EMPN068","Employee Name 68","Employee Job Title 68",{"$f":"CONCATENATE(EmployeeListLookupTable[[#This Row],[EmployeeID]], \" - \",EmployeeListLookupTable[[#This Row],[EmployeeName]])","v":"EMP0068 - Employee Name 68"},{"$f":"EmployeeListLookupTable[[#This Row],[EmployeeID]]","v":"EMP0068"},"Y","Y","Y","Y","Y","Y","Y","Y","Y","Y","Y","Y"]
[null,"EMP0069","EMPN069","Employee Name 69","Employee Job Title 69",{"$f":"CONCATENATE(EmployeeListLookupTable[[#This Row],[EmployeeID]], \" - \",EmployeeListLookupTable[[#This Row],[EmployeeName]])","v":"EMP0069 - Employee Name 69"},{"$f":"EmployeeListLookupTable[[#This Row],[EmployeeID]]","v":"EMP0069"},"Y","Y","Y","Y","Y","Y","Y","Y","Y","Y","Y","Y"]
[null,"EMP0070","EMPN070","Employee Name 70","Employee Job Title 70",{"$f":"CONCATENATE(EmployeeListLookupTable[[#This Row],[EmployeeID]], \" - \",EmployeeListLookupTable[[#This Row],[EmployeeName]])","v":"EMP0070 - Employee Name 70"},{"$f":"EmployeeListLookupTable[[#This Row],[EmployeeID]]","v":"EMP0070"},"Y","Y","Y","Y","Y","Y","Y","Y","Y","Y","Y","Y"]
[null,"EMP0071","EMPN071","Employee Name 71","Employee Job Title 71",{"$f":"CONCATENATE(EmployeeListLookupTable[[#This Row],[EmployeeID]], \" - \",EmployeeListLookupTable[[#This Row],[EmployeeName]])","v":"EMP0071 - Employee Name 71"},{"$f":"EmployeeListLookupTable[[#This Row],[EmployeeID]]","v":"EMP0071"},"Y","Y","Y","Y","Y","Y","Y","Y","Y","Y","Y","Y"]
[null,"EMP0072","EMPN072","Employee Name 72","Employee Job Title 72",{"$f":"CONCATENATE(EmployeeListLookupTable[[#This Row],[EmployeeID]], \" - \",EmployeeListLookupTable[[#This Row],[EmployeeName]])","v":"EMP0072 - Employee Name 72"},{"$f":"EmployeeListLookupTable[[#This Row],[EmployeeID]]","v":"EMP0072"},"Y","Y","Y","Y","Y","Y","Y","Y","Y","Y","Y","Y"]
[null,"EMP0073","EMPN073","Employee Name 73","Employee Job Title 73",{"$f":"CONCATENATE(EmployeeListLookupTable[[#This Row],[EmployeeID]], \" - \",EmployeeListLookupTable[[#This Row],[EmployeeName]])","v":"EMP0073 - Employee Name 73"},{"$f":"EmployeeListLookupTable[[#This Row],[EmployeeID]]","v":"EMP0073"},"Y","Y","Y","Y","Y","Y","Y","Y","Y","Y","Y","Y"]
[null,"EMP0074","EMPN074","Employee Name 74","Employee Job Title 74",{"$f":"CONCATENATE(EmployeeListLookupTable[[#This Row],[EmployeeID]], \" - \",EmployeeListLookupTable[[#This Row],[EmployeeName]])","v":"EMP0074 - Employee Name 74"},{"$f":"EmployeeListLookupTable[[#This Row],[EmployeeID]]","v":"EMP0074"},"Y","Y","Y","Y","Y","Y","Y","Y","Y","Y","Y","Y"]
[null,"EMP0075","EMPN075","Employee Name 75","Employee Job Title 75",{"$f":"CONCATENATE(EmployeeListLookupTable[[#This Row],[EmployeeID]], \" - \",EmployeeListLookupTable[[#This Row],[EmployeeName]])","v":"EMP0075 - Employee Name 75"},{"$f":"EmployeeListLookupTable[[#This Row],[EmployeeID]]","v":"EMP0075"},"Y","Y","Y","Y","Y","Y","Y","Y","Y","Y","Y","Y"]
[null,"EMP0076","EMPN076","Employee Name 76","Employee Job Title 76",{"$f":"CONCATENATE(EmployeeListLookupTable[[#This Row],[EmployeeID]], \" - \",EmployeeListLookupTable[[#This Row],[EmployeeName]])","v":"EMP0076 - Employee Name 76"},{"$f":"EmployeeListLookupTable[[#This Row],[EmployeeID]]","v":"EMP0076"},"Y","Y","Y","Y","Y","Y","Y","Y","Y","Y","Y","Y"]
[null,"EMP0077","EMPN077","Employee Name 77","Employee Job Title 77",{"$f":"CONCATENATE(EmployeeListLookupTable[[#This Row],[EmployeeID]], \" - \",EmployeeListLookupTable[[#This Row],[EmployeeName]])","v":"EMP0077 - Employee Name 77"},{"$f":"EmployeeListLookupTable[[#This Row],[EmployeeID]]","v":"EMP0077"},"Y","Y","Y","Y","Y","Y","Y","Y","Y","Y","Y","Y"]
[null,"EMP0078","EMPN078","Employee Name 78","Employee Job Title 78",{"$f":"CONCATENATE(EmployeeListLookupTable[[#This Row],[EmployeeID]], \" - \",EmployeeListLookupTable[[#This Row],[EmployeeName]])","v":"EMP0078 - Employee Name 78"},{"$f":"EmployeeListLookupTable[[#This Row],[EmployeeID]]","v":"EMP0078"},"Y","Y","Y","Y","Y","Y","Y","Y","Y","Y","Y","Y"]
[null,"EMP0079","EMPN079","Employee Name 79","Employee Job Title 79",{"$f":"CONCATENATE(EmployeeListLookupTable[[#This Row],[EmployeeID]], \" - \",EmployeeListLookupTable[[#This Row],[EmployeeName]])","v":"EMP0079 - Employee Name 79"},{"$f":"EmployeeListLookupTable[[#This Row],[EmployeeID]]","v":"EMP0079"},"Y","Y","Y","Y","Y","Y","Y","Y","Y","Y","Y","Y"]
[null,"EMP0080","EMPN080","Employee Name 80","Employee Job Title 80",{"$f":"CONCATENATE(EmployeeListLookupTable[[#This Row],[EmployeeID]], \" - \",EmployeeListLookupTable[[#This Row],[EmployeeName]])","v":"EMP0080 - Employee Name 80"},{"$f":"EmployeeListLookupTable[[#This Row],[EmployeeID]]","v":"EMP0080"},"Y","Y","Y","Y","Y","Y","Y","Y","Y","Y","Y","Y"]
[null,"EMP0081","EMPN081","Employee Name 81","Employee Job Title 81",{"$f":"CONCATENATE(EmployeeListLookupTable[[#This Row],[EmployeeID]], \" - \",EmployeeListLookupTable[[#This Row],[EmployeeName]])","v":"EMP0081 - Employee Name 81"},{"$f":"EmployeeListLookupTable[[#This Row],[EmployeeID]]","v":"EMP0081"},"Y","Y","Y","Y","Y","Y","Y","Y","Y","Y","Y","Y"]
[null,"EMP0082","EMPN082","Employee Name 82","Employee Job Title 82",{"$f":"CONCATENATE(EmployeeListLookupTable[[#This Row],[EmployeeID]], \" - \",EmployeeListLookupTable[[#This Row],[EmployeeName]])","v":"EMP0082 - Employee Name 82"},{"$f":"EmployeeListLookupTable[[#This Row],[EmployeeID]]","v":"EMP0082"},"Y","Y","Y","Y","Y","Y","Y","Y","Y","Y","Y","Y"]
[null,"EMP0083","EMPN083","Employee Name 83","Employee Job Title 83",{"$f":"CONCATENATE(EmployeeListLookupTable[[#This Row],[EmployeeID]], \" - \",EmployeeListLookupTable[[#This Row],[EmployeeName]])","v":"EMP0083 - Employee Name 83"},{"$f":"EmployeeListLookupTable[[#This Row],[EmployeeID]]","v":"EMP0083"},"Y","Y","Y","Y","Y","Y","Y","Y","Y","Y","Y","Y"]
[null,"EMP0084","EMPN084","Employee Name 84","Employee Job Title 84",{"$f":"CONCATENATE(EmployeeListLookupTable[[#This Row],[EmployeeID]], \" - \",EmployeeListLookupTable[[#This Row],[EmployeeName]])","v":"EMP0084 - Employee Name 84"},{"$f":"EmployeeListLookupTable[[#This Row],[EmployeeID]]","v":"EMP0084"},"Y","Y","Y","Y","Y","Y","Y","Y","Y","Y","Y","Y"]
[null,"EMP0085","EMPN085","Employee Name 85","Employee Job Title 85",{"$f":"CONCATENATE(EmployeeListLookupTable[[#This Row],[EmployeeID]], \" - \",EmployeeListLookupTable[[#This Row],[EmployeeName]])","v":"EMP0085 - Employee Name 85"},{"$f":"EmployeeListLookupTable[[#This Row],[EmployeeID]]","v":"EMP0085"},"Y","Y","Y","Y","Y","Y","Y","Y","Y","Y","Y","Y"]
[null,"EMP0086","EMPN086","Employee Name 86","Employee Job Title 86",{"$f":"CONCATENATE(EmployeeListLookupTable[[#This Row],[EmployeeID]], \" - \",EmployeeListLookupTable[[#This Row],[EmployeeName]])","v":"EMP0086 - Employee Name 86"},{"$f":"EmployeeListLookupTable[[#This Row],[EmployeeID]]","v":"EMP0086"},"Y","Y","Y","Y","Y","Y","Y","Y","Y","Y","Y","Y"]
[null,"EMP0087","EMPN087","Employee Name 87","Employee Job Title 87",{"$f":"CONCATENATE(EmployeeListLookupTable[[#This Row],[EmployeeID]], \" - \",EmployeeListLookupTable[[#This Row],[EmployeeName]])","v":"EMP0087 - Employee Name 87"},{"$f":"EmployeeListLookupTable[[#This Row],[EmployeeID]]","v":"EMP0087"},"Y","Y","Y","Y","Y","Y","Y","Y","Y","Y","Y","Y"]
[null,"EMP0088","EMPN088","Employee Name 88","Employee Job Title 88",{"$f":"CONCATENATE(EmployeeListLookupTable[[#This Row],[EmployeeID]], \" - \",EmployeeListLookupTable[[#This Row],[EmployeeName]])","v":"EMP0088 - Employee Name 88"},{"$f":"EmployeeListLookupTable[[#This Row],[EmployeeID]]","v":"EMP0088"},"Y","Y","Y","Y","Y","Y","Y","Y","Y","Y","Y","Y"]
[null,"EMP0089","EMPN089","Employee Name 89","Employee Job Title 89",{"$f":"CONCATENATE(EmployeeListLookupTable[[#This Row],[EmployeeID]], \" - \",EmployeeListLookupTable[[#This Row],[EmployeeName]])","v":"EMP0089 - Employee Name 89"},{"$f":"EmployeeListLookupTable[[#This Row],[EmployeeID]]","v":"EMP0089"},"Y","Y","Y","Y","Y","Y","Y","Y","Y","Y","Y","Y"]
[null,"EMP0090","EMPN090","Employee Name 90","Employee Job Title 90",{"$f":"CONCATENATE(EmployeeListLookupTable[[#This Row],[EmployeeID]], \" - \",EmployeeListLookupTable[[#This Row],[EmployeeName]])","v":"EMP0090 - Employee Name 90"},{"$f":"EmployeeListLookupTable[[#This Row],[EmployeeID]]","v":"EMP0090"},"Y","Y","Y","Y","Y","Y","Y","Y","Y","Y","Y","Y"]
[null,"EMP0091","EMPN091","Employee Name 91","Employee Job Title 91",{"$f":"CONCATENATE(EmployeeListLookupTable[[#This Row],[EmployeeID]], \" - \",EmployeeListLookupTable[[#This Row],[EmployeeName]])","v":"EMP0091 - Employee Name 91"},{"$f":"EmployeeListLookupTable[[#This Row],[EmployeeID]]","v":"EMP0091"},"Y","Y","Y","Y","Y","Y","Y","Y","Y","Y","Y","Y"]
[null,"EMP0092","EMPN092","Employee Name 92","Employee Job Title 92",{"$f":"CONCATENATE(EmployeeListLookupTable[[#This Row],[EmployeeID]], \" - \",EmployeeListLookupTable[[#This Row],[EmployeeName]])","v":"EMP0092 - Employee Name 92"},{"$f":"EmployeeListLookupTable[[#This Row],[EmployeeID]]","v":"EMP0092"},"Y","Y","Y","Y","Y","Y","Y","Y","Y","Y","Y","Y"]
[null,"EMP0093","EMPN093","Employee Name 93","Employee Job Title 93",{"$f":"CONCATENATE(EmployeeListLookupTable[[#This Row],[EmployeeID]], \" - \",EmployeeListLookupTable[[#This Row],[EmployeeName]])","v":"EMP0093 - Employee Name 93"},{"$f":"EmployeeListLookupTable[[#This Row],[EmployeeID]]","v":"EMP0093"},"Y","Y","Y","Y","Y","Y","Y","Y","Y","Y","Y","Y"]
[null,"EMP0094","EMPN094","Employee Name 94","Employee Job Title 94",{"$f":"CONCATENATE(EmployeeListLookupTable[[#This Row],[EmployeeID]], \" - \",EmployeeListLookupTable[[#This Row],[EmployeeName]])","v":"EMP0094 - Employee Name 94"},{"$f":"EmployeeListLookupTable[[#This Row],[EmployeeID]]","v":"EMP0094"},"Y","Y","Y","Y","Y","Y","Y","Y","Y","Y","Y","Y"]
[null,"EMP0095","EMPN095","Employee Name 95","Employee Job Title 95",{"$f":"CONCATENATE(EmployeeListLookupTable[[#This Row],[EmployeeID]], \" - \",EmployeeListLookupTable[[#This Row],[EmployeeName]])","v":"EMP0095 - Employee Name 95"},{"$f":"EmployeeListLookupTable[[#This Row],[EmployeeID]]","v":"EMP0095"},"Y","Y","Y","Y","Y","Y","Y","Y","Y","Y","Y","Y"]
[null,"EMP0096","EMPN096","Employee Name 96","Employee Job Title 96",{"$f":"CONCATENATE(EmployeeListLookupTable[[#This Row],[EmployeeID]], \" - \",EmployeeListLookupTable[[#This Row],[EmployeeName]])","v":"EMP0096 - Employee Name 96"},{"$f":"EmployeeListLookupTable[[#This Row],[EmployeeID]]","v":"EMP0096"},"Y","Y","Y","Y","Y","Y","Y","Y","Y","Y","Y","Y"]
[null,"EMP0097","EMPN097","Employee Name 97","Employee Job Title 97",{"$f":"CONCATENATE(EmployeeListLookupTable[[#This Row],[EmployeeID]], \" - \",EmployeeListLookupTable[[#This Row],[EmployeeName]])","v":"EMP0097 - Employee Name 97"},{"$f":"EmployeeListLookupTable[[#This Row],[EmployeeID]]","v":"EMP0097"},"Y","Y","Y","Y","Y","Y","Y","Y","Y","Y","Y","Y"]
[null,"EMP0098","EMPN098","Employee Name 98","Employee Job Title 98",{"$f":"CONCATENATE(EmployeeListLookupTable[[#This Row],[EmployeeID]], \" - \",EmployeeListLookupTable[[#This Row],[EmployeeName]])","v":"EMP0098 - Employee Name 98"},{"$f":"EmployeeListLookupTable[[#This Row],[EmployeeID]]","v":"EMP0098"},"Y","Y","Y","Y","Y","Y","Y","Y","Y","Y","Y","Y"]
[null,"EMP0099","EMPN099","Employee Name 99","Employee Job Title 99",{"$f":"CONCATENATE(EmployeeListLookupTable[[#This Row],[EmployeeID]], \" - \",EmployeeListLookupTable[[#This Row],[EmployeeName]])","v":"EMP0099 - Employee Name 99"},{"$f":"EmployeeListLookupTable[[#This Row],[EmployeeID]]","v":"EMP0099"},"Y","Y","Y","Y","Y","Y","Y","Y","Y","Y","Y","Y"]
[null,"EMP0100","EMPN100","Employee Name 100","Employee Job Title 100",{"$f":"CONCATENATE(EmployeeListLookupTable[[#This Row],[EmployeeID]], \" - \",EmployeeListLookupTable[[#This Row],[EmployeeName]])","v":"EMP0100 - Employee Name 100"},{"$f":"EmployeeListLookupTable[[#This Row],[EmployeeID]]","v":"EMP0100"},"Y","Y","Y","Y","Y","Y","Y","Y","Y","Y","Y","Y"]

{"sheet":"PackageItems","index":6,"n_rows":22,"n_cols":15,"rows_kept":22,"cut":false,"hidden":true,"merged":[[1,1,1,3],[1,4,1,8],[2,1,2,8]]}
[null,"Menu","Naming your expenses","Naming your drivers","Populating your drivers",null,"Populate your budget"]
[null,{"$f":"EntityName","v":"Company A"},null,null,{"$f":"YearEnd","v":"2013-02-28"}]
[null,"Package"]
[]
[]
[]
[null,null,null,{"$f":"VLOOKUP(PackageItemTable[[#Headers],[1]],CalendarMonthText,5,FALSE)","v":"March"},{"$f":"VLOOKUP(PackageItemTable[[#Headers],[2]],CalendarMonthText,5,FALSE)","v":"April"},{"$f":"VLOOKUP(PackageItemTable[[#Headers],[3]],CalendarMonthText,5,FALSE)","v":"May"},{"$f":"VLOOKUP(PackageItemTable[[#Headers],[4]],CalendarMonthText,5,FALSE)","v":"June"},{"$f":"VLOOKUP(PackageItemTable[[#Headers],[5]],CalendarMonthText,5,FALSE)","v":"July"},{"$f":"VLOOKUP(PackageItemTable[[#Headers],[6]],CalendarMonthText,5,FALSE)","v":"August"},{"$f":"VLOOKUP(PackageItemTable[[#Headers],[7]],CalendarMonthText,5,FALSE)","v":"September"},{"$f":"VLOOKUP(PackageItemTable[[#Headers],[8]],CalendarMonthText,5,FALSE)","v":"October"},{"$f":"VLOOKUP(PackageItemTable[[#Headers],[9]],CalendarMonthText,5,FALSE)","v":"November"},{"$f":"VLOOKUP(PackageItemTable[[#Headers],[10]],CalendarMonthText,5,FALSE)","v":"December"},{"$f":"VLOOKUP(PackageItemTable[[#Headers],[11]],CalendarMonthText,5,FALSE)","v":"January"},{"$f":"VLOOKUP(PackageItemTable[[#Headers],[12]],CalendarMonthText,5,FALSE)","v":"February"}]
[null,"PackageItemCode","PackageItem","1","2","3","4","5","6","7","8","9","10","11","12"]
[null,"PACK011",{"$f":"VLOOKUP(PackageItemTable[[#This Row],[PackageItemCode]],PackageItemListLookup[],2,FALSE)","v":"Package Item 11"},1,1,1,1,1,1,1,1,1,1,1,1]
[null,"PACK001",{"$f":"VLOOKUP(PackageItemTable[[#This Row],[PackageItemCode]],PackageItemListLookup[],2,FALSE)","v":"Basic"},1,1,1,1,1,1,1,1,1,1,1,1]
[null,"PACK002",{"$f":"VLOOKUP(PackageItemTable[[#This Row],[PackageItemCode]],PackageItemListLookup[],2,FALSE)","v":"Other Income 1"},1,1,1,1,1,1,1,1,1,1,1,1]
[null,"PACK003",{"$f":"VLOOKUP(PackageItemTable[[#This Row],[PackageItemCode]],PackageItemListLookup[],2,FALSE)","v":"Other Income 2"},1,1,1,1,1,1,1,1,1,1,1,1]
[null,"PACK004",{"$f":"VLOOKUP(PackageItemTable[[#This Row],[PackageItemCode]],PackageItemListLookup[],2,FALSE)","v":"Medical Aid"},1,1,1,1,1,1,1,1,1,1,1,1]
[null,"PACK005",{"$f":"VLOOKUP(PackageItemTable[[#This Row],[PackageItemCode]],PackageItemListLookup[],2,FALSE)","v":"SDL"},1,1,1,1,1,1,1,1,1,1,1,1]
[null,"PACK006",{"$f":"VLOOKUP(PackageItemTable[[#This Row],[PackageItemCode]],PackageItemListLookup[],2,FALSE)","v":"UIF"},1,1,1,1,1,1,1,1,1,1,1,1]
[null,"PACK007",{"$f":"VLOOKUP(PackageItemTable[[#This Row],[PackageItemCode]],PackageItemListLookup[],2,FALSE)","v":"Provident Fund"},1,1,1,1,1,1,1,1,1,1,1,1]
[null,"PACK008",{"$f":"VLOOKUP(PackageItemTable[[#This Row],[PackageItemCode]],PackageItemListLookup[],2,FALSE)","v":"Package Item 8"},1,1,1,1,1,1,1,1,1,1,1,1]
[null,"PACK009",{"$f":"VLOOKUP(PackageItemTable[[#This Row],[PackageItemCode]],PackageItemListLookup[],2,FALSE)","v":"Package Item 9"},1,1,1,1,1,1,1,1,1,1,1,1]
[null,"PACK010",{"$f":"VLOOKUP(PackageItemTable[[#This Row],[PackageItemCode]],PackageItemListLookup[],2,FALSE)","v":"Package Item 10"},1,1,1,1,1,1,1,1,1,1,1,1]
[]
[]
[null,null,null,null,null,null," "]

{"sheet":"HR Summary","index":7,"n_rows":111,"n_cols":22,"rows_kept":111,"cut":false,"hidden":false,"merged":[[2,2,2,4],[2,6,2,10],[3,2,3,10]]}
[null,null,null,null,null,null,null,null,null,1,{"$f":"+HRSummarylTable[[#Headers],[2]]","v":"2"},{"$f":"+HRSummarylTable[[#Headers],[3]]","v":"3"},{"$f":"+HRSummarylTable[[#Headers],[4]]","v":"4"},{"$f":"+HRSummarylTable[[#Headers],[5]]","v":"5"},{"$f":"+HRSummarylTable[[#Headers],[6]]","v":"6"},{"$f":"+HRSummarylTable[[#Headers],[7]]","v":"7"},{"$f":"+HRSummarylTable[[#Headers],[8]]","v":"8"},{"$f":"+HRSummarylTable[[#Headers],[9]]","v":"9"},{"$f":"+HRSummarylTable[[#Headers],[10]]","v":"10"},{"$f":"+HRSummarylTable[[#Headers],[11]]","v":"11"},12]
[null,null,"Menu"]
[null,null,{"$f":"EntityName","v":"Company A"},null,null,null,{"$f":"YearEnd","v":"2013-02-28"}]
[null,null,"HR Summary "]
[]
[]
[null,null,null,null,null,null,null,"Total",null,{"$f":"HRSummarylTable[[#Totals],[1]]","v":0},{"$f":"HRSummarylTable[[#Totals],[2]]","v":0},{"$f":"HRSummarylTable[[#Totals],[3]]","v":0},{"$f":"HRSummarylTable[[#Totals],[4]]","v":0},{"$f":"HRSummarylTable[[#Totals],[5]]","v":0},{"$f":"HRSummarylTable[[#Totals],[6]]","v":0},{"$f":"HRSummarylTable[[#Totals],[7]]","v":0},{"$f":"HRSummarylTable[[#Totals],[8]]","v":0},{"$f":"HRSummarylTable[[#Totals],[9]]","v":0},{"$f":"HRSummarylTable[[#Totals],[10]]","v":0},{"$f":"HRSummarylTable[[#Totals],[11]]","v":0},{"$f":"HRSummarylTable[[#Totals],[12]]","v":0}]
[]
[null,null,null,null,null,null,null,null,null,{"$f":"VLOOKUP(HRSummarylTable[[#Headers],[1]],CalendarMonthText,5,FALSE)","v":"March"},{"$f":"VLOOKUP(HRSummarylTable[[#Headers],[2]],CalendarMonthText,5,FALSE)","v":"April"},{"$f":"VLOOKUP(HRSummarylTable[[#Headers],[3]],CalendarMonthText,5,FALSE)","v":"May"},{"$f":"VLOOKUP(HRSummarylTable[[#Headers],[4]],CalendarMonthText,5,FALSE)","v":"June"},{"$f":"VLOOKUP(HRSummarylTable[[#Headers],[5]],CalendarMonthText,5,FALSE)","v":"July"},{"$f":"VLOOKUP(HRSummarylTable[[#Headers],[6]],CalendarMonthText,5,FALSE)","v":"August"},{"$f":"VLOOKUP(HRSummarylTable[[#Headers],[7]],CalendarMonthText,5,FALSE)","v":"September"},{"$f":"VLOOKUP(HRSummarylTable[[#Headers],[8]],CalendarMonthText,5,FALSE)","v":"October"},{"$f":"VLOOKUP(HRSummarylTable[[#Headers],[9]],CalendarMonthText,5,FALSE)","v":"November"},{"$f":"VLOOKUP(HRSummarylTable[[#Headers],[10]],CalendarMonthText,5,FALSE)","v":"December"},{"$f":"VLOOKUP(HRSummarylTable[[#Headers],[11]],CalendarMonthText,5,FALSE)","v":"January"},{"$f":"VLOOKUP(HRSummarylTable[[#Headers],[12]],CalendarMonthText,5,FALSE)","v":"February"}]
[null,"EmployeeID","EmployeeNumber","EmployeeName","EmployeeJobTitle","PackageItemCode","PackageItem","PackItemCode2","Profile","1","2","3","4","5","6","7","8","9","10","11","12","Total"]
[null,"EMP0001",{"$f":"VLOOKUP(HRSummarylTable[[#This Row],[EmployeeID]],EmployeeListLookupTable[],2,FALSE)","v":"EMPN001"},{"$f":"VLOOKUP(HRSummarylTable[[#This Row],[EmployeeID]],EmployeeListLookupTable[],3,FALSE)","v":"Employee Name 1"},{"$f":"VLOOKUP(HRSummarylTable[[#This Row],[EmployeeID]],EmployeeListLookupTable[],4,FALSE)","v":"Employee Job Title 1"},"TCTC001 - Total Cost to Company",{"$f":"LEFT(HRSummarylTable[[#This Row],[PackageItemCode]],7)","v":"TCTC001"},{"$f":"VLOOKUP(HRSummarylTable[[#This Row],[PackageItem]],PackageItemListLookup[],2,FALSE)","v":"Total Cost to Company"},null,{"$f":"SUMIF(PACKT01!$R12,\"TRUE\",PACKT01!F12)+SUMIF(PACKT02!$R12,\"TRUE\",PACKT02!F12)+SUMIF(PACKT03!$R12,\"TRUE\",PACKT03!F12)+SUMIF(PACKT04!$R12,\"TRUE\",PACKT04!F12)+SUMIF(PACKT05!$R12,\"TRUE\",PACKT05!F12)+SUMIF(PACKT06!$R13,\"TRUE\",PACKT06!F13)+SUMIF(PACKT07!$R12,\"TRUE\",PACKT07!F12)+SUMIF(PACKT08!$R12,\"TRUE\",PACKT08!F12)+SUMIF(PACKT09!$R12,\"TRUE\",PACKT09!F12)+SUMIF(PACKT10!$R12,\"TRUE\",PACKT10!F12)+SUMIF(PACKT11!$R12,\"TRUE\",PACKT11!F12)","v":0},{"$f":"SUMIF(PACKT01!$R12,\"TRUE\",PACKT01!G12)+SUMIF(PACKT02!$R12,\"TRUE\",PACKT02!G12)+SUMIF(PACKT03!$R12,\"TRUE\",PACKT03!G12)+SUMIF(PACKT04!$R12,\"TRUE\",PACKT04!G12)+SUMIF(PACKT05!$R12,\"TRUE\",PACKT05!G12)+SUMIF(PACKT06!$R13,\"TRUE\",PACKT06!G13)+SUMIF(PACKT07!$R12,\"TRUE\",PACKT07!G12)+SUMIF(PACKT08!$R12,\"TRUE\",PACKT08!G12)+SUMIF(PACKT09!$R12,\"TRUE\",PACKT09!G12)+SUMIF(PACKT10!$R12,\"TRUE\",PACKT10!G12)+SUMIF(PACKT11!$R12,\"TRUE\",PACKT11!G12)","v":0},{"$f":"SUMIF(PACKT01!$R12,\"TRUE\",PACKT01!H12)+SUMIF(PACKT02!$R12,\"TRUE\",PACKT02!H12)+SUMIF(PACKT03!$R12,\"TRUE\",PACKT03!H12)+SUMIF(PACKT04!$R12,\"TRUE\",PACKT04!H12)+SUMIF(PACKT05!$R12,\"TRUE\",PACKT05!H12)+SUMIF(PACKT06!$R13,\"TRUE\",PACKT06!H13)+SUMIF(PACKT07!$R12,\"TRUE\",PACKT07!H12)+SUMIF(PACKT08!$R12,\"TRUE\",PACKT08!H12)+SUMIF(PACKT09!$R12,\"TRUE\",PACKT09!H12)+SUMIF(PACKT10!$R12,\"TRUE\",PACKT10!H12)+SUMIF(PACKT11!$R12,\"TRUE\",PACKT11!H12)","v":0},{"$f":"SUMIF(PACKT01!$R12,\"TRUE\",PACKT01!I12)+SUMIF(PACKT02!$R12,\"TRUE\",PACKT02!I12)+SUMIF(PACKT03!$R12,\"TRUE\",PACKT03!I12)+SUMIF(PACKT04!$R12,\"TRUE\",PACKT04!I12)+SUMIF(PACKT05!$R12,\"TRUE\",PACKT05!I12)+SUMIF(PACKT06!$R13,\"TRUE\",PACKT06!I13)+SUMIF(PACKT07!$R12,\"TRUE\",PACKT07!I12)+SUMIF(PACKT08!$R12,\"TRUE\",PACKT08!I12)+SUMIF(PACKT09!$R12,\"TRUE\",PACKT09!I12)+SUMIF(PACKT10!$R12,\"TRUE\",PACKT10!I12)+SUMIF(PACKT11!$R12,\"TRUE\",PACKT11!I12)","v":0},{"$f":"SUMIF(PACKT01!$R12,\"TRUE\",PACKT01!J12)+SUMIF(PACKT02!$R12,\"TRUE\",PACKT02!J12)+SUMIF(PACKT03!$R12,\"TRUE\",PACKT03!J12)+SUMIF(PACKT04!$R12,\"TRUE\",PACKT04!J12)+SUMIF(PACKT05!$R12,\"TRUE\",PACKT05!J12)+SUMIF(PACKT06!$R13,\"TRUE\",PACKT06!J13)+SUMIF(PACKT07!$R12,\"TRUE\",PACKT07!J12)+SUMIF(PACKT08!$R12,\"TRUE\",PACKT08!J12)+SUMIF(PACKT09!$R12,\"TRUE\",PACKT09!J12)+SUMIF(PACKT10!$R12,\"TRUE\",PACKT10!J12)+SUMIF(PACKT11!$R12,\"TRUE\",PACKT11!J12)","v":0},{"$f":"SUMIF(PACKT01!$R12,\"TRUE\",PACKT01!K12)+SUMIF(PACKT02!$R12,\"TRUE\",PACKT02!K12)+SUMIF(PACKT03!$R12,\"TRUE\",PACKT03!K12)+SUMIF(PACKT04!$R12,\"TRUE\",PACKT04!K12)+SUMIF(PACKT05!$R12,\"TRUE\",PACKT05!K12)+SUMIF(PACKT06!$R13,\"TRUE\",PACKT06!K13)+SUMIF(PACKT07!$R12,\"TRUE\",PACKT07!K12)+SUMIF(PACKT08!$R12,\"TRUE\",PACKT08!K12)+SUMIF(PACKT09!$R12,\"TRUE\",PACKT09!K12)+SUMIF(PACKT10!$R12,\"TRUE\",PACKT10!K12)+SUMIF(PACKT11!$R12,\"TRUE\",PACKT11!K12)","v":0},{"$f":"SUMIF(PACKT01!$R12,\"TRUE\",PACKT01!L12)+SUMIF(PACKT02!$R12,\"TRUE\",PACKT02!L12)+SUMIF(PACKT03!$R12,\"TRUE\",PACKT03!L12)+SUMIF(PACKT04!$R12,\"TRUE\",PACKT04!L12)+SUMIF(PACKT05!$R12,\"TRUE\",PACKT05!L12)+SUMIF(PACKT06!$R13,\"TRUE\",PACKT06!L13)+SUMIF(PACKT07!$R12,\"TRUE\",PACKT07!L12)+SUMIF(PACKT08!$R12,\"TRUE\",PACKT08!L12)+SUMIF(PACKT09!$R12,\"TRUE\",PACKT09!L12)+SUMIF(PACKT10!$R12,\"TRUE\",PACKT10!L12)+SUMIF(PACKT11!$R12,\"TRUE\",PACKT11!L12)","v":0},{"$f":"SUMIF(PACKT01!$R12,\"TRUE\",PACKT01!M12)+SUMIF(PACKT02!$R12,\"TRUE\",PACKT02!M12)+SUMIF(PACKT03!$R12,\"TRUE\",PACKT03!M12)+SUMIF(PACKT04!$R12,\"TRUE\",PACKT04!M12)+SUMIF(PACKT05!$R12,\"TRUE\",PACKT05!M12)+SUMIF(PACKT06!$R13,\"TRUE\",PACKT06!M13)+SUMIF(PACKT07!$R12,\"TRUE\",PACKT07!M12)+SUMIF(PACKT08!$R12,\"TRUE\",PACKT08!M12)+SUMIF(PACKT09!$R12,\"TRUE\",PACKT09!M12)+SUMIF(PACKT10!$R12,\"TRUE\",PACKT10!M12)+SUMIF(PACKT11!$R12,\"TRUE\",PACKT11!M12)","v":0},{"$f":"SUMIF(PACKT01!$R12,\"TRUE\",PACKT01!N12)+SUMIF(PACKT02!$R12,\"TRUE\",PACKT02!N12)+SUMIF(PACKT03!$R12,\"TRUE\",PACKT03!N12)+SUMIF(PACKT04!$R12,\"TRUE\",PACKT04!N12)+SUMIF(PACKT05!$R12,\"TRUE\",PACKT05!N12)+SUMIF(PACKT06!$R13,\"TRUE\",PACKT06!N13)+SUMIF(PACKT07!$R12,\"TRUE\",PACKT07!N12)+SUMIF(PACKT08!$R12,\"TRUE\",PACKT08!N12)+SUMIF(PACKT09!$R12,\"TRUE\",PACKT09!N12)+SUMIF(PACKT10!$R12,\"TRUE\",PACKT10!N12)+SUMIF(PACKT11!$R12,\"TRUE\",PACKT11!N12)","v":0},{"$f":"SUMIF(PACKT01!$R12,\"TRUE\",PACKT01!O12)+SUMIF(PACKT02!$R12,\"TRUE\",PACKT02!O12)+SUMIF(PACKT03!$R12,\"TRUE\",PACKT03!O12)+SUMIF(PACKT04!$R12,\"TRUE\",PACKT04!O12)+SUMIF(PACKT05!$R12,\"TRUE\",PACKT05!O12)+SUMIF(PACKT06!$R13,\"TRUE\",PACKT06!O13)+SUMIF(PACKT07!$R12,\"TRUE\",PACKT07!O12)+SUMIF(PACKT08!$R12,\"TRUE\",PACKT08!O12)+SUMIF(PACKT09!$R12,\"TRUE\",PACKT09!O12)+SUMIF(PACKT10!$R12,\"TRUE\",PACKT10!O12)+SUMIF(PACKT11!$R12,\"TRUE\",PACKT11!O12)","v":0},{"$f":"SUMIF(PACKT01!$R12,\"TRUE\",PACKT01!P12)+SUMIF(PACKT02!$R12,\"TRUE\",PACKT02!P12)+SUMIF(PACKT03!$R12,\"TRUE\",PACKT03!P12)+SUMIF(PACKT04!$R12,\"TRUE\",PACKT04!P12)+SUMIF(PACKT05!$R12,\"TRUE\",PACKT05!P12)+SUMIF(PACKT06!$R13,\"TRUE\",PACKT06!P13)+SUMIF(PACKT07!$R12,\"TRUE\",PACKT07!P12)+SUMIF(PACKT08!$R12,\"TRUE\",PACKT08!P12)+SUMIF(PACKT09!$R12,\"TRUE\",PACKT09!P12)+SUMIF(PACKT10!$R12,\"TRUE\",PACKT10!P12)+SUMIF(PACKT11!$R12,\"TRUE\",PACKT11!P12)","v":0},{"$f":"SUMIF(PACKT01!$R12,\"TRUE\",PACKT01!Q12)+SUMIF(PACKT02!$R12,\"TRUE\",PACKT02!Q12)+SUMIF(PACKT03!$R12,\"TRUE\",PACKT03!Q12)+SUMIF(PACKT04!$R12,\"TRUE\",PACKT04!Q12)+SUMIF(PACKT05!$R12,\"TRUE\",PACKT05!Q12)+SUMIF(PACKT06!$R13,\"TRUE\",PACKT06!Q13)+SUMIF(PACKT07!$R12,\"TRUE\",PACKT07!Q12)+SUMIF(PACKT08!$R12,\"TRUE\",PACKT08!Q12)+SUMIF(PACKT09!$R12,\"TRUE\",PACKT09!Q12)+SUMIF(PACKT10!$R12,\"TRUE\",PACKT10!Q12)+SUMIF(PACKT11!$R12,\"TRUE\",PACKT11!Q12)","v":0},{"$f":"SUM(HRSummarylTable[[#This Row],[1]:[12]])","v":0}]
[null,"EMP0002",{"$f":"VLOOKUP(HRSummarylTable[[#This Row],[EmployeeID]],EmployeeListLookupTable[],2,FALSE)","v":"EMPN002"},{"$f":"VLOOKUP(HRSummarylTable[[#This Row],[EmployeeID]],EmployeeListLookupTable[],3,FALSE)","v":"Employee Name 2"},{"$f":"VLOOKUP(HRSummarylTable[[#This Row],[EmployeeID]],EmployeeListLookupTable[],4,FALSE)","v":"Employee Job Title 2"},"TCTC001 - Total Cost to Company",{"$f":"LEFT(HRSummarylTable[[#This Row],[PackageItemCode]],7)","v":"TCTC001"},{"$f":"VLOOKUP(HRSummarylTable[[#This Row],[PackageItem]],PackageItemListLookup[],2,FALSE)","v":"Total Cost to Company"},null,{"$f":"SUMIF(PACKT01!$R13,\"TRUE\",PACKT01!F13)+SUMIF(PACKT02!$R13,\"TRUE\",PACKT02!F13)+SUMIF(PACKT03!$R13,\"TRUE\",PACKT03!F13)+SUMIF(PACKT04!$R13,\"TRUE\",PACKT04!F13)+SUMIF(PACKT05!$R13,\"TRUE\",PACKT05!F13)+SUMIF(PACKT06!$R14,\"TRUE\",PACKT06!F14)+SUMIF(PACKT07!$R13,\"TRUE\",PACKT07!F13)+SUMIF(PACKT08!$R13,\"TRUE\",PACKT08!F13)+SUMIF(PACKT09!$R13,\"TRUE\",PACKT09!F13)+SUMIF(PACKT10!$R13,\"TRUE\",PACKT10!F13)+SUMIF(PACKT11!$R13,\"TRUE\",PACKT11!F13)","v":0},{"$f":"SUMIF(PACKT01!$R13,\"TRUE\",PACKT01!G13)+SUMIF(PACKT02!$R13,\"TRUE\",PACKT02!G13)+SUMIF(PACKT03!$R13,\"TRUE\",PACKT03!G13)+SUMIF(PACKT04!$R13,\"TRUE\",PACKT04!G13)+SUMIF(PACKT05!$R13,\"TRUE\",PACKT05!G13)+SUMIF(PACKT06!$R14,\"TRUE\",PACKT06!G14)+SUMIF(PACKT07!$R13,\"TRUE\",PACKT07!G13)+SUMIF(PACKT08!$R13,\"TRUE\",PACKT08!G13)+SUMIF(PACKT09!$R13,\"TRUE\",PACKT09!G13)+SUMIF(PACKT10!$R13,\"TRUE\",PACKT10!G13)+SUMIF(PACKT11!$R13,\"TRUE\",PACKT11!G13)","v":0},{"$f":"SUMIF(PACKT01!$R13,\"TRUE\",PACKT01!H13)+SUMIF(PACKT02!$R13,\"TRUE\",PACKT02!H13)+SUMIF(PACKT03!$R13,\"TRUE\",PACKT03!H13)+SUMIF(PACKT04!$R13,\"TRUE\",PACKT04!H13)+SUMIF(PACKT05!$R13,\"TRUE\",PACKT05!H13)+SUMIF(PACKT06!$R14,\"TRUE\",PACKT06!H14)+SUMIF(PACKT07!$R13,\"TRUE\",PACKT07!H13)+SUMIF(PACKT08!$R13,\"TRUE\",PACKT08!H13)+SUMIF(PACKT09!$R13,\"TRUE\",PACKT09!H13)+SUMIF(PACKT10!$R13,\"TRUE\",PACKT10!H13)+SUMIF(PACKT11!$R13,\"TRUE\",PACKT11!H13)","v":0},{"$f":"SUMIF(PACKT01!$R13,\"TRUE\",PACKT01!I13)+SUMIF(PACKT02!$R13,\"TRUE\",PACKT02!I13)+SUMIF(PACKT03!$R13,\"TRUE\",PACKT03!I13)+SUMIF(PACKT04!$R13,\"TRUE\",PACKT04!I13)+SUMIF(PACKT05!$R13,\"TRUE\",PACKT05!I13)+SUMIF(PACKT06!$R14,\"TRUE\",PACKT06!I14)+SUMIF(PACKT07!$R13,\"TRUE\",PACKT07!I13)+SUMIF(PACKT08!$R13,\"TRUE\",PACKT08!I13)+SUMIF(PACKT09!$R13,\"TRUE\",PACKT09!I13)+SUMIF(PACKT10!$R13,\"TRUE\",PACKT10!I13)+SUMIF(PACKT11!$R13,\"TRUE\",PACKT11!I13)","v":0},{"$f":"SUMIF(PACKT01!$R13,\"TRUE\",PACKT01!J13)+SUMIF(PACKT02!$R13,\"TRUE\",PACKT02!J13)+SUMIF(PACKT03!$R13,\"TRUE\",PACKT03!J13)+SUMIF(PACKT04!$R13,\"TRUE\",PACKT04!J13)+SUMIF(PACKT05!$R13,\"TRUE\",PACKT05!J13)+SUMIF(PACKT06!$R14,\"TRUE\",PACKT06!J14)+SUMIF(PACKT07!$R13,\"TRUE\",PACKT07!J13)+SUMIF(PACKT08!$R13,\"TRUE\",PACKT08!J13)+SUMIF(PACKT09!$R13,\"TRUE\",PACKT09!J13)+SUMIF(PACKT10!$R13,\"TRUE\",PACKT10!J13)+SUMIF(PACKT11!$R13,\"TRUE\",PACKT11!J13)","v":0},{"$f":"SUMIF(PACKT01!$R13,\"TRUE\",PACKT01!K13)+SUMIF(PACKT02!$R13,\"TRUE\",PACKT02!K13)+SUMIF(PACKT03!$R13,\"TRUE\",PACKT03!K13)+SUMIF(PACKT04!$R13,\"TRUE\",PACKT04!K13)+SUMIF(PACKT05!$R13,\"TRUE\",PACKT05!K13)+SUMIF(PACKT06!$R14,\"TRUE\",PACKT06!K14)+SUMIF(PACKT07!$R13,\"TRUE\",PACKT07!K13)+SUMIF(PACKT08!$R13,\"TRUE\",PACKT08!K13)+SUMIF(PACKT09!$R13,\"TRUE\",PACKT09!K13)+SUMIF(PACKT10!$R13,\"TRUE\",PACKT10!K13)+SUMIF(PACKT11!$R13,\"TRUE\",PACKT11!K13)","v":0},{"$f":"SUMIF(PACKT01!$R13,\"TRUE\",PACKT01!L13)+SUMIF(PACKT02!$R13,\"TRUE\",PACKT02!L13)+SUMIF(PACKT03!$R13,\"TRUE\",PACKT03!L13)+SUMIF(PACKT04!$R13,\"TRUE\",PACKT04!L13)+SUMIF(PACKT05!$R13,\"TRUE\",PACKT05!L13)+SUMIF(PACKT06!$R14,\"TRUE\",PACKT06!L14)+SUMIF(PACKT07!$R13,\"TRUE\",PACKT07!L13)+SUMIF(PACKT08!$R13,\"TRUE\",PACKT08!L13)+SUMIF(PACKT09!$R13,\"TRUE\",PACKT09!L13)+SUMIF(PACKT10!$R13,\"TRUE\",PACKT10!L13)+SUMIF(PACKT11!$R13,\"TRUE\",PACKT11!L13)","v":0},{"$f":"SUMIF(PACKT01!$R13,\"TRUE\",PACKT01!M13)+SUMIF(PACKT02!$R13,\"TRUE\",PACKT02!M13)+SUMIF(PACKT03!$R13,\"TRUE\",PACKT03!M13)+SUMIF(PACKT04!$R13,\"TRUE\",PACKT04!M13)+SUMIF(PACKT05!$R13,\"TRUE\",PACKT05!M13)+SUMIF(PACKT06!$R14,\"TRUE\",PACKT06!M14)+SUMIF(PACKT07!$R13,\"TRUE\",PACKT07!M13)+SUMIF(PACKT08!$R13,\"TRUE\",PACKT08!M13)+SUMIF(PACKT09!$R13,\"TRUE\",PACKT09!M13)+SUMIF(PACKT10!$R13,\"TRUE\",PACKT10!M13)+SUMIF(PACKT11!$R13,\"TRUE\",PACKT11!M13)","v":0},{"$f":"SUMIF(PACKT01!$R13,\"TRUE\",PACKT01!N13)+SUMIF(PACKT02!$R13,\"TRUE\",PACKT02!N13)+SUMIF(PACKT03!$R13,\"TRUE\",PACKT03!N13)+SUMIF(PACKT04!$R13,\"TRUE\",PACKT04!N13)+SUMIF(PACKT05!$R13,\"TRUE\",PACKT05!N13)+SUMIF(PACKT06!$R14,\"TRUE\",PACKT06!N14)+SUMIF(PACKT07!$R13,\"TRUE\",PACKT07!N13)+SUMIF(PACKT08!$R13,\"TRUE\",PACKT08!N13)+SUMIF(PACKT09!$R13,\"TRUE\",PACKT09!N13)+SUMIF(PACKT10!$R13,\"TRUE\",PACKT10!N13)+SUMIF(PACKT11!$R13,\"TRUE\",PACKT11!N13)","v":0},{"$f":"SUMIF(PACKT01!$R13,\"TRUE\",PACKT01!O13)+SUMIF(PACKT02!$R13,\"TRUE\",PACKT02!O13)+SUMIF(PACKT03!$R13,\"TRUE\",PACKT03!O13)+SUMIF(PACKT04!$R13,\"TRUE\",PACKT04!O13)+SUMIF(PACKT05!$R13,\"TRUE\",PACKT05!O13)+SUMIF(PACKT06!$R14,\"TRUE\",PACKT06!O14)+SUMIF(PACKT07!$R13,\"TRUE\",PACKT07!O13)+SUMIF(PACKT08!$R13,\"TRUE\",PACKT08!O13)+SUMIF(PACKT09!$R13,\"TRUE\",PACKT09!O13)+SUMIF(PACKT10!$R13,\"TRUE\",PACKT10!O13)+SUMIF(PACKT11!$R13,\"TRUE\",PACKT11!O13)","v":0},{"$f":"SUMIF(PACKT01!$R13,\"TRUE\",PACKT01!P13)+SUMIF(PACKT02!$R13,\"TRUE\",PACKT02!P13)+SUMIF(PACKT03!$R13,\"TRUE\",PACKT03!P13)+SUMIF(PACKT04!$R13,\"TRUE\",PACKT04!P13)+SUMIF(PACKT05!$R13,\"TRUE\",PACKT05!P13)+SUMIF(PACKT06!$R14,\"TRUE\",PACKT06!P14)+SUMIF(PACKT07!$R13,\"TRUE\",PACKT07!P13)+SUMIF(PACKT08!$R13,\"TRUE\",PACKT08!P13)+SUMIF(PACKT09!$R13,\"TRUE\",PACKT09!P13)+SUMIF(PACKT10!$R13,\"TRUE\",PACKT10!P13)+SUMIF(PACKT11!$R13,\"TRUE\",PACKT11!P13)","v":0},{"$f":"SUMIF(PACKT01!$R13,\"TRUE\",PACKT01!Q13)+SUMIF(PACKT02!$R13,\"TRUE\",PACKT02!Q13)+SUMIF(PACKT03!$R13,\"TRUE\",PACKT03!Q13)+SUMIF(PACKT04!$R13,\"TRUE\",PACKT04!Q13)+SUMIF(PACKT05!$R13,\"TRUE\",PACKT05!Q13)+SUMIF(PACKT06!$R14,\"TRUE\",PACKT06!Q14)+SUMIF(PACKT07!$R13,\"TRUE\",PACKT07!Q13)+SUMIF(PACKT08!$R13,\"TRUE\",PACKT08!Q13)+SUMIF(PACKT09!$R13,\"TRUE\",PACKT09!Q13)+SUMIF(PACKT10!$R13,\"TRUE\",PACKT10!Q13)+SUMIF(PACKT11!$R13,\"TRUE\",PACKT11!Q13)","v":0},{"$f":"SUM(J12:U12)","v":0}]
[null,"EMP0003",{"$f":"VLOOKUP(HRSummarylTable[[#This Row],[EmployeeID]],EmployeeListLookupTable[],2,FALSE)","v":"EMPN003"},{"$f":"VLOOKUP(HRSummarylTable[[#This Row],[EmployeeID]],EmployeeListLookupTable[],3,FALSE)","v":"Employee Name 3"},{"$f":"VLOOKUP(HRSummarylTable[[#This Row],[EmployeeID]],EmployeeListLookupTable[],4,FALSE)","v":"Employee Job Title 3"},"TCTC001 - Total Cost to Company",{"$f":"LEFT(HRSummarylTable[[#This Row],[PackageItemCode]],7)","v":"TCTC001"},{"$f":"VLOOKUP(HRSummarylTable[[#This Row],[PackageItem]],PackageItemListLookup[],2,FALSE)","v":"Total Cost to Company"},null,{"$f":"SUMIF(PACKT01!$R14,\"TRUE\",PACKT01!F14)+SUMIF(PACKT02!$R14,\"TRUE\",PACKT02!F14)+SUMIF(PACKT03!$R14,\"TRUE\",PACKT03!F14)+SUMIF(PACKT04!$R14,\"TRUE\",PACKT04!F14)+SUMIF(PACKT05!$R14,\"TRUE\",PACKT05!F14)+SUMIF(PACKT06!$R15,\"TRUE\",PACKT06!F15)+SUMIF(PACKT07!$R14,\"TRUE\",PACKT07!F14)+SUMIF(PACKT08!$R14,\"TRUE\",PACKT08!F14)+SUMIF(PACKT09!$R14,\"TRUE\",PACKT09!F14)+SUMIF(PACKT10!$R14,\"TRUE\",PACKT10!F14)+SUMIF(PACKT11!$R14,\"TRUE\",PACKT11!F14)","v":0},{"$f":"SUMIF(PACKT01!$R14,\"TRUE\",PACKT01!G14)+SUMIF(PACKT02!$R14,\"TRUE\",PACKT02!G14)+SUMIF(PACKT03!$R14,\"TRUE\",PACKT03!G14)+SUMIF(PACKT04!$R14,\"TRUE\",PACKT04!G14)+SUMIF(PACKT05!$R14,\"TRUE\",PACKT05!G14)+SUMIF(PACKT06!$R15,\"TRUE\",PACKT06!G15)+SUMIF(PACKT07!$R14,\"TRUE\",PACKT07!G14)+SUMIF(PACKT08!$R14,\"TRUE\",PACKT08!G14)+SUMIF(PACKT09!$R14,\"TRUE\",PACKT09!G14)+SUMIF(PACKT10!$R14,\"TRUE\",PACKT10!G14)+SUMIF(PACKT11!$R14,\"TRUE\",PACKT11!G14)","v":0},{"$f":"SUMIF(PACKT01!$R14,\"TRUE\",PACKT01!H14)+SUMIF(PACKT02!$R14,\"TRUE\",PACKT02!H14)+SUMIF(PACKT03!$R14,\"TRUE\",PACKT03!H14)+SUMIF(PACKT04!$R14,\"TRUE\",PACKT04!H14)+SUMIF(PACKT05!$R14,\"TRUE\",PACKT05!H14)+SUMIF(PACKT06!$R15,\"TRUE\",PACKT06!H15)+SUMIF(PACKT07!$R14,\"TRUE\",PACKT07!H14)+SUMIF(PACKT08!$R14,\"TRUE\",PACKT08!H14)+SUMIF(PACKT09!$R14,\"TRUE\",PACKT09!H14)+SUMIF(PACKT10!$R14,\"TRUE\",PACKT10!H14)+SUMIF(PACKT11!$R14,\"TRUE\",PACKT11!H14)","v":0},{"$f":"SUMIF(PACKT01!$R14,\"TRUE\",PACKT01!I14)+SUMIF(PACKT02!$R14,\"TRUE\",PACKT02!I14)+SUMIF(PACKT03!$R14,\"TRUE\",PACKT03!I14)+SUMIF(PACKT04!$R14,\"TRUE\",PACKT04!I14)+SUMIF(PACKT05!$R14,\"TRUE\",PACKT05!I14)+SUMIF(PACKT06!$R15,\"TRUE\",PACKT06!I15)+SUMIF(PACKT07!$R14,\"TRUE\",PACKT07!I14)+SUMIF(PACKT08!$R14,\"TRUE\",PACKT08!I14)+SUMIF(PACKT09!$R14,\"TRUE\",PACKT09!I14)+SUMIF(PACKT10!$R14,\"TRUE\",PACKT10!I14)+SUMIF(PACKT11!$R14,\"TRUE\",PACKT11!I14)","v":0},{"$f":"SUMIF(PACKT01!$R14,\"TRUE\",PACKT01!J14)+SUMIF(PACKT02!$R14,\"TRUE\",PACKT02!J14)+SUMIF(PACKT03!$R14,\"TRUE\",PACKT03!J14)+SUMIF(PACKT04!$R14,\"TRUE\",PACKT04!J14)+SUMIF(PACKT05!$R14,\"TRUE\",PACKT05!J14)+SUMIF(PACKT06!$R15,\"TRUE\",PACKT06!J15)+SUMIF(PACKT07!$R14,\"TRUE\",PACKT07!J14)+SUMIF(PACKT08!$R14,\"TRUE\",PACKT08!J14)+SUMIF(PACKT09!$R14,\"TRUE\",PACKT09!J14)+SUMIF(PACKT10!$R14,\"TRUE\",PACKT10!J14)+SUMIF(PACKT11!$R14,\"TRUE\",PACKT11!J14)","v":0},{"$f":"SUMIF(PACKT01!$R14,\"TRUE\",PACKT01!K14)+SUMIF(PACKT02!$R14,\"TRUE\",PACKT02!K14)+SUMIF(PACKT03!$R14,\"TRUE\",PACKT03!K14)+SUMIF(PACKT04!$R14,\"TRUE\",PACKT04!K14)+SUMIF(PACKT05!$R14,\"TRUE\",PACKT05!K14)+SUMIF(PACKT06!$R15,\"TRUE\",PACKT06!K15)+SUMIF(PACKT07!$R14,\"TRUE\",PACKT07!K14)+SUMIF(PACKT08!$R14,\"TRUE\",PACKT08!K14)+SUMIF(PACKT09!$R14,\"TRUE\",PACKT09!K14)+SUMIF(PACKT10!$R14,\"TRUE\",PACKT10!K14)+SUMIF(PACKT11!$R14,\"TRUE\",PACKT11!K14)","v":0},{"$f":"SUMIF(PACKT01!$R14,\"TRUE\",PACKT01!L14)+SUMIF(PACKT02!$R14,\"TRUE\",PACKT02!L14)+SUMIF(PACKT03!$R14,\"TRUE\",PACKT03!L14)+SUMIF(PACKT04!$R14,\"TRUE\",PACKT04!L14)+SUMIF(PACKT05!$R14,\"TRUE\",PACKT05!L14)+SUMIF(PACKT06!$R15,\"TRUE\",PACKT06!L15)+SUMIF(PACKT07!$R14,\"TRUE\",PACKT07!L14)+SUMIF(PACKT08!$R14,\"TRUE\",PACKT08!L14)+SUMIF(PACKT09!$R14,\"TRUE\",PACKT09!L14)+SUMIF(PACKT10!$R14,\"TRUE\",PACKT10!L14)+SUMIF(PACKT11!$R14,\"TRUE\",PACKT11!L14)","v":0},{"$f":"SUMIF(PACKT01!$R14,\"TRUE\",PACKT01!M14)+SUMIF(PACKT02!$R14,\"TRUE\",PACKT02!M14)+SUMIF(PACKT03!$R14,\"TRUE\",PACKT03!M14)+SUMIF(PACKT04!$R14,\"TRUE\",PACKT04!M14)+SUMIF(PACKT05!$R14,\"TRUE\",PACKT05!M14)+SUMIF(PACKT06!$R15,\"TRUE\",PACKT06!M15)+SUMIF(PACKT07!$R14,\"TRUE\",PACKT07!M14)+SUMIF(PACKT08!$R14,\"TRUE\",PACKT08!M14)+SUMIF(PACKT09!$R14,\"TRUE\",PACKT09!M14)+SUMIF(PACKT10!$R14,\"TRUE\",PACKT10!M14)+SUMIF(PACKT11!$R14,\"TRUE\",PACKT11!M14)","v":0},{"$f":"SUMIF(PACKT01!$R14,\"TRUE\",PACKT01!N14)+SUMIF(PACKT02!$R14,\"TRUE\",PACKT02!N14)+SUMIF(PACKT03!$R14,\"TRUE\",PACKT03!N14)+SUMIF(PACKT04!$R14,\"TRUE\",PACKT04!N14)+SUMIF(PACKT05!$R14,\"TRUE\",PACKT05!N14)+SUMIF(PACKT06!$R15,\"TRUE\",PACKT06!N15)+SUMIF(PACKT07!$R14,\"TRUE\",PACKT07!N14)+SUMIF(PACKT08!$R14,\"TRUE\",PACKT08!N14)+SUMIF(PACKT09!$R14,\"TRUE\",PACKT09!N14)+SUMIF(PACKT10!$R14,\"TRUE\",PACKT10!N14)+SUMIF(PACKT11!$R14,\"TRUE\",PACKT11!N14)","v":0},{"$f":"SUMIF(PACKT01!$R14,\"TRUE\",PACKT01!O14)+SUMIF(PACKT02!$R14,\"TRUE\",PACKT02!O14)+SUMIF(PACKT03!$R14,\"TRUE\",PACKT03!O14)+SUMIF(PACKT04!$R14,\"TRUE\",PACKT04!O14)+SUMIF(PACKT05!$R14,\"TRUE\",PACKT05!O14)+SUMIF(PACKT06!$R15,\"TRUE\",PACKT06!O15)+SUMIF(PACKT07!$R14,\"TRUE\",PACKT07!O14)+SUMIF(PACKT08!$R14,\"TRUE\",PACKT08!O14)+SUMIF(PACKT09!$R14,\"TRUE\",PACKT09!O14)+SUMIF(PACKT10!$R14,\"TRUE\",PACKT10!O14)+SUMIF(PACKT11!$R14,\"TRUE\",PACKT11!O14)","v":0},{"$f":"SUMIF(PACKT01!$R14,\"TRUE\",PACKT01!P14)+SUMIF(PACKT02!$R14,\"TRUE\",PACKT02!P14)+SUMIF(PACKT03!$R14,\"TRUE\",PACKT03!P14)+SUMIF(PACKT04!$R14,\"TRUE\",PACKT04!P14)+SUMIF(PACKT05!$R14,\"TRUE\",PACKT05!P14)+SUMIF(PACKT06!$R15,\"TRUE\",PACKT06!P15)+SUMIF(PACKT07!$R14,\"TRUE\",PACKT07!P14)+SUMIF(PACKT08!$R14,\"TRUE\",PACKT08!P14)+SUMIF(PACKT09!$R14,\"TRUE\",PACKT09!P14)+SUMIF(PACKT10!$R14,\"TRUE\",PACKT10!P14)+SUMIF(PACKT11!$R14,\"TRUE\",PACKT11!P14)","v":0},{"$f":"SUMIF(PACKT01!$R14,\"TRUE\",PACKT01!Q14)+SUMIF(PACKT02!$R14,\"TRUE\",PACKT02!Q14)+SUMIF(PACKT03!$R14,\"TRUE\",PACKT03!Q14)+SUMIF(PACKT04!$R14,\"TRUE\",PACKT04!Q14)+SUMIF(PACKT05!$R14,\"TRUE\",PACKT05!Q14)+SUMIF(PACKT06!$R15,\"TRUE\",PACKT06!Q15)+SUMIF(PACKT07!$R14,\"TRUE\",PACKT07!Q14)+SUMIF(PACKT08!$R14,\"TRUE\",PACKT08!Q14)+SUMIF(PACKT09!$R14,\"TRUE\",PACKT09!Q14)+SUMIF(PACKT10!$R14,\"TRUE\",PACKT10!Q14)+SUMIF(PACKT11!$R14,\"TRUE\",PACKT11!Q14)","v":0},0]
[null,"EMP0004",{"$f":"VLOOKUP(HRSummarylTable[[#This Row],[EmployeeID]],EmployeeListLookupTable[],2,FALSE)","v":"EMPN004"},{"$f":"VLOOKUP(HRSummarylTable[[#This Row],[EmployeeID]],EmployeeListLookupTable[],3,FALSE)","v":"Employee Name 4"},{"$f":"VLOOKUP(HRSummarylTable[[#This Row],[EmployeeID]],EmployeeListLookupTable[],4,FALSE)","v":"Employee Job Title 4"},"TCTC001 - Total Cost to Company",{"$f":"LEFT(HRSummarylTable[[#This Row],[PackageItemCode]],7)","v":"TCTC001"},{"$f":"VLOOKUP(HRSummarylTable[[#This Row],[PackageItem]],PackageItemListLookup[],2,FALSE)","v":"Total Cost to Company"},null,{"$f":"SUMIF(PACKT01!$R15,\"TRUE\",PACKT01!F15)+SUMIF(PACKT02!$R15,\"TRUE\",PACKT02!F15)+SUMIF(PACKT03!$R15,\"TRUE\",PACKT03!F15)+SUMIF(PACKT04!$R15,\"TRUE\",PACKT04!F15)+SUMIF(PACKT05!$R15,\"TRUE\",PACKT05!F15)+SUMIF(PACKT06!$R16,\"TRUE\",PACKT06!F16)+SUMIF(PACKT07!$R15,\"TRUE\",PACKT07!F15)+SUMIF(PACKT08!$R15,\"TRUE\",PACKT08!F15)+SUMIF(PACKT09!$R15,\"TRUE\",PACKT09!F15)+SUMIF(PACKT10!$R15,\"TRUE\",PACKT10!F15)+SUMIF(PACKT11!$R15,\"TRUE\",PACKT11!F15)","v":0},{"$f":"SUMIF(PACKT01!$R15,\"TRUE\",PACKT01!G15)+SUMIF(PACKT02!$R15,\"TRUE\",PACKT02!G15)+SUMIF(PACKT03!$R15,\"TRUE\",PACKT03!G15)+SUMIF(PACKT04!$R15,\"TRUE\",PACKT04!G15)+SUMIF(PACKT05!$R15,\"TRUE\",PACKT05!G15)+SUMIF(PACKT06!$R16,\"TRUE\",PACKT06!G16)+SUMIF(PACKT07!$R15,\"TRUE\",PACKT07!G15)+SUMIF(PACKT08!$R15,\"TRUE\",PACKT08!G15)+SUMIF(PACKT09!$R15,\"TRUE\",PACKT09!G15)+SUMIF(PACKT10!$R15,\"TRUE\",PACKT10!G15)+SUMIF(PACKT11!$R15,\"TRUE\",PACKT11!G15)","v":0},{"$f":"SUMIF(PACKT01!$R15,\"TRUE\",PACKT01!H15)+SUMIF(PACKT02!$R15,\"TRUE\",PACKT02!H15)+SUMIF(PACKT03!$R15,\"TRUE\",PACKT03!H15)+SUMIF(PACKT04!$R15,\"TRUE\",PACKT04!H15)+SUMIF(PACKT05!$R15,\"TRUE\",PACKT05!H15)+SUMIF(PACKT06!$R16,\"TRUE\",PACKT06!H16)+SUMIF(PACKT07!$R15,\"TRUE\",PACKT07!H15)+SUMIF(PACKT08!$R15,\"TRUE\",PACKT08!H15)+SUMIF(PACKT09!$R15,\"TRUE\",PACKT09!H15)+SUMIF(PACKT10!$R15,\"TRUE\",PACKT10!H15)+SUMIF(PACKT11!$R15,\"TRUE\",PACKT11!H15)","v":0},{"$f":"SUMIF(PACKT01!$R15,\"TRUE\",PACKT01!I15)+SUMIF(PACKT02!$R15,\"TRUE\",PACKT02!I15)+SUMIF(PACKT03!$R15,\"TRUE\",PACKT03!I15)+SUMIF(PACKT04!$R15,\"TRUE\",PACKT04!I15)+SUMIF(PACKT05!$R15,\"TRUE\",PACKT05!I15)+SUMIF(PACKT06!$R16,\"TRUE\",PACKT06!I16)+SUMIF(PACKT07!$R15,\"TRUE\",PACKT07!I15)+SUMIF(PACKT08!$R15,\"TRUE\",PACKT08!I15)+SUMIF(PACKT09!$R15,\"TRUE\",PACKT09!I15)+SUMIF(PACKT10!$R15,\"TRUE\",PACKT10!I15)+SUMIF(PACKT11!$R15,\"TRUE\",PACKT11!I15)","v":0},{"$f":"SUMIF(PACKT01!$R15,\"TRUE\",PACKT01!J15)+SUMIF(PACKT02!$R15,\"TRUE\",PACKT02!J15)+SUMIF(PACKT03!$R15,\"TRUE\",PACKT03!J15)+SUMIF(PACKT04!$R15,\"TRUE\",PACKT04!J15)+SUMIF(PACKT05!$R15,\"TRUE\",PACKT05!J15)+SUMIF(PACKT06!$R16,\"TRUE\",PACKT06!J16)+SUMIF(PACKT07!$R15,\"TRUE\",PACKT07!J15)+SUMIF(PACKT08!$R15,\"TRUE\",PACKT08!J15)+SUMIF(PACKT09!$R15,\"TRUE\",PACKT09!J15)+SUMIF(PACKT10!$R15,\"TRUE\",PACKT10!J15)+SUMIF(PACKT11!$R15,\"TRUE\",PACKT11!J15)","v":0},{"$f":"SUMIF(PACKT01!$R15,\"TRUE\",PACKT01!K15)+SUMIF(PACKT02!$R15,\"TRUE\",PACKT02!K15)+SUMIF(PACKT03!$R15,\"TRUE\",PACKT03!K15)+SUMIF(PACKT04!$R15,\"TRUE\",PACKT04!K15)+SUMIF(PACKT05!$R15,\"TRUE\",PACKT05!K15)+SUMIF(PACKT06!$R16,\"TRUE\",PACKT06!K16)+SUMIF(PACKT07!$R15,\"TRUE\",PACKT07!K15)+SUMIF(PACKT08!$R15,\"TRUE\",PACKT08!K15)+SUMIF(PACKT09!$R15,\"TRUE\",PACKT09!K15)+SUMIF(PACKT10!$R15,\"TRUE\",PACKT10!K15)+SUMIF(PACKT11!$R15,\"TRUE\",PACKT11!K15)","v":0},{"$f":"SUMIF(PACKT01!$R15,\"TRUE\",PACKT01!L15)+SUMIF(PACKT02!$R15,\"TRUE\",PACKT02!L15)+SUMIF(PACKT03!$R15,\"TRUE\",PACKT03!L15)+SUMIF(PACKT04!$R15,\"TRUE\",PACKT04!L15)+SUMIF(PACKT05!$R15,\"TRUE\",PACKT05!L15)+SUMIF(PACKT06!$R16,\"TRUE\",PACKT06!L16)+SUMIF(PACKT07!$R15,\"TRUE\",PACKT07!L15)+SUMIF(PACKT08!$R15,\"TRUE\",PACKT08!L15)+SUMIF(PACKT09!$R15,\"TRUE\",PACKT09!L15)+SUMIF(PACKT10!$R15,\"TRUE\",PACKT10!L15)+SUMIF(PACKT11!$R15,\"TRUE\",PACKT11!L15)","v":0},{"$f":"SUMIF(PACKT01!$R15,\"TRUE\",PACKT01!M15)+SUMIF(PACKT02!$R15,\"TRUE\",PACKT02!M15)+SUMIF(PACKT03!$R15,\"TRUE\",PACKT03!M15)+SUMIF(PACKT04!$R15,\"TRUE\",PACKT04!M15)+SUMIF(PACKT05!$R15,\"TRUE\",PACKT05!M15)+SUMIF(PACKT06!$R16,\"TRUE\",PACKT06!M16)+SUMIF(PACKT07!$R15,\"TRUE\",PACKT07!M15)+SUMIF(PACKT08!$R15,\"TRUE\",PACKT08!M15)+SUMIF(PACKT09!$R15,\"TRUE\",PACKT09!M15)+SUMIF(PACKT10!$R15,\"TRUE\",PACKT10!M15)+SUMIF(PACKT11!$R15,\"TRUE\",PACKT11!M15)","v":0},{"$f":"SUMIF(PACKT01!$R15,\"TRUE\",PACKT01!N15)+SUMIF(PACKT02!$R15,\"TRUE\",PACKT02!N15)+SUMIF(PACKT03!$R15,\"TRUE\",PACKT03!N15)+SUMIF(PACKT04!$R15,\"TRUE\",PACKT04!N15)+SUMIF(PACKT05!$R15,\"TRUE\",PACKT05!N15)+SUMIF(PACKT06!$R16,\"TRUE\",PACKT06!N16)+SUMIF(PACKT07!$R15,\"TRUE\",PACKT07!N15)+SUMIF(PACKT08!$R15,\"TRUE\",PACKT08!N15)+SUMIF(PACKT09!$R15,\"TRUE\",PACKT09!N15)+SUMIF(PACKT10!$R15,\"TRUE\",PACKT10!N15)+SUMIF(PACKT11!$R15,\"TRUE\",PACKT11!N15)","v":0},{"$f":"SUMIF(PACKT01!$R15,\"TRUE\",PACKT01!O15)+SUMIF(PACKT02!$R15,\"TRUE\",PACKT02!O15)+SUMIF(PACKT03!$R15,\"TRUE\",PACKT03!O15)+SUMIF(PACKT04!$R15,\"TRUE\",PACKT04!O15)+SUMIF(PACKT05!$R15,\"TRUE\",PACKT05!O15)+SUMIF(PACKT06!$R16,\"TRUE\",PACKT06!O16)+SUMIF(PACKT07!$R15,\"TRUE\",PACKT07!O15)+SUMIF(PACKT08!$R15,\"TRUE\",PACKT08!O15)+SUMIF(PACKT09!$R15,\"TRUE\",PACKT09!O15)+SUMIF(PACKT10!$R15,\"TRUE\",PACKT10!O15)+SUMIF(PACKT11!$R15,\"TRUE\",PACKT11!O15)","v":0},{"$f":"SUMIF(PACKT01!$R15,\"TRUE\",PACKT01!P15)+SUMIF(PACKT02!$R15,\"TRUE\",PACKT02!P15)+SUMIF(PACKT03!$R15,\"TRUE\",PACKT03!P15)+SUMIF(PACKT04!$R15,\"TRUE\",PACKT04!P15)+SUMIF(PACKT05!$R15,\"TRUE\",PACKT05!P15)+SUMIF(PACKT06!$R16,\"TRUE\",PACKT06!P16)+SUMIF(PACKT07!$R15,\"TRUE\",PACKT07!P15)+SUMIF(PACKT08!$R15,\"TRUE\",PACKT08!P15)+SUMIF(PACKT09!$R15,\"TRUE\",PACKT09!P15)+SUMIF(PACKT10!$R15,\"TRUE\",PACKT10!P15)+SUMIF(PACKT11!$R15,\"TRUE\",PACKT11!P15)","v":0},{"$f":"SUMIF(PACKT01!$R15,\"TRUE\",PACKT01!Q15)+SUMIF(PACKT02!$R15,\"TRUE\",PACKT02!Q15)+SUMIF(PACKT03!$R15,\"TRUE\",PACKT03!Q15)+SUMIF(PACKT04!$R15,\"TRUE\",PACKT04!Q15)+SUMIF(PACKT05!$R15,\"TRUE\",PACKT05!Q15)+SUMIF(PACKT06!$R16,\"TRUE\",PACKT06!Q16)+SUMIF(PACKT07!$R15,\"TRUE\",PACKT07!Q15)+SUMIF(PACKT08!$R15,\"TRUE\",PACKT08!Q15)+SUMIF(PACKT09!$R15,\"TRUE\",PACKT09!Q15)+SUMIF(PACKT10!$R15,\"TRUE\",PACKT10!Q15)+SUMIF(PACKT11!$R15,\"TRUE\",PACKT11!Q15)","v":0},0]
[null,"EMP0005",{"$f":"VLOOKUP(HRSummarylTable[[#This Row],[EmployeeID]],EmployeeListLookupTable[],2,FALSE)","v":"EMPN005"},{"$f":"VLOOKUP(HRSummarylTable[[#This Row],[EmployeeID]],EmployeeListLookupTable[],3,FALSE)","v":"Employee Name 5"},{"$f":"VLOOKUP(HRSummarylTable[[#This Row],[EmployeeID]],EmployeeListLookupTable[],4,FALSE)","v":"Employee Job Title 5"},"TCTC001 - Total Cost to Company",{"$f":"LEFT(HRSummarylTable[[#This Row],[PackageItemCode]],7)","v":"TCTC001"},{"$f":"VLOOKUP(HRSummarylTable[[#This Row],[PackageItem]],PackageItemListLookup[],2,FALSE)","v":"Total Cost to Company"},null,{"$f":"SUMIF(PACKT01!$R16,\"TRUE\",PACKT01!F16)+SUMIF(PACKT02!$R16,\"TRUE\",PACKT02!F16)+SUMIF(PACKT03!$R16,\"TRUE\",PACKT03!F16)+SUMIF(PACKT04!$R16,\"TRUE\",PACKT04!F16)+SUMIF(PACKT05!$R16,\"TRUE\",PACKT05!F16)+SUMIF(PACKT06!$R17,\"TRUE\",PACKT06!F17)+SUMIF(PACKT07!$R16,\"TRUE\",PACKT07!F16)+SUMIF(PACKT08!$R16,\"TRUE\",PACKT08!F16)+SUMIF(PACKT09!$R16,\"TRUE\",PACKT09!F16)+SUMIF(PACKT10!$R16,\"TRUE\",PACKT10!F16)+SUMIF(PACKT11!$R16,\"TRUE\",PACKT11!F16)","v":0},{"$f":"SUMIF(PACKT01!$R16,\"TRUE\",PACKT01!G16)+SUMIF(PACKT02!$R16,\"TRUE\",PACKT02!G16)+SUMIF(PACKT03!$R16,\"TRUE\",PACKT03!G16)+SUMIF(PACKT04!$R16,\"TRUE\",PACKT04!G16)+SUMIF(PACKT05!$R16,\"TRUE\",PACKT05!G16)+SUMIF(PACKT06!$R17,\"TRUE\",PACKT06!G17)+SUMIF(PACKT07!$R16,\"TRUE\",PACKT07!G16)+SUMIF(PACKT08!$R16,\"TRUE\",PACKT08!G16)+SUMIF(PACKT09!$R16,\"TRUE\",PACKT09!G16)+SUMIF(PACKT10!$R16,\"TRUE\",PACKT10!G16)+SUMIF(PACKT11!$R16,\"TRUE\",PACKT11!G16)","v":0},{"$f":"SUMIF(PACKT01!$R16,\"TRUE\",PACKT01!H16)+SUMIF(PACKT02!$R16,\"TRUE\",PACKT02!H16)+SUMIF(PACKT03!$R16,\"TRUE\",PACKT03!H16)+SUMIF(PACKT04!$R16,\"TRUE\",PACKT04!H16)+SUMIF(PACKT05!$R16,\"TRUE\",PACKT05!H16)+SUMIF(PACKT06!$R17,\"TRUE\",PACKT06!H17)+SUMIF(PACKT07!$R16,\"TRUE\",PACKT07!H16)+SUMIF(PACKT08!$R16,\"TRUE\",PACKT08!H16)+SUMIF(PACKT09!$R16,\"TRUE\",PACKT09!H16)+SUMIF(PACKT10!$R16,\"TRUE\",PACKT10!H16)+SUMIF(PACKT11!$R16,\"TRUE\",PACKT11!H16)","v":0},{"$f":"SUMIF(PACKT01!$R16,\"TRUE\",PACKT01!I16)+SUMIF(PACKT02!$R16,\"TRUE\",PACKT02!I16)+SUMIF(PACKT03!$R16,\"TRUE\",PACKT03!I16)+SUMIF(PACKT04!$R16,\"TRUE\",PACKT04!I16)+SUMIF(PACKT05!$R16,\"TRUE\",PACKT05!I16)+SUMIF(PACKT06!$R17,\"TRUE\",PACKT06!I17)+SUMIF(PACKT07!$R16,\"TRUE\",PACKT07!I16)+SUMIF(PACKT08!$R16,\"TRUE\",PACKT08!I16)+SUMIF(PACKT09!$R16,\"TRUE\",PACKT09!I16)+SUMIF(PACKT10!$R16,\"TRUE\",PACKT10!I16)+SUMIF(PACKT11!$R16,\"TRUE\",PACKT11!I16)","v":0},{"$f":"SUMIF(PACKT01!$R16,\"TRUE\",PACKT01!J16)+SUMIF(PACKT02!$R16,\"TRUE\",PACKT02!J16)+SUMIF(PACKT03!$R16,\"TRUE\",PACKT03!J16)+SUMIF(PACKT04!$R16,\"TRUE\",PACKT04!J16)+SUMIF(PACKT05!$R16,\"TRUE\",PACKT05!J16)+SUMIF(PACKT06!$R17,\"TRUE\",PACKT06!J17)+SUMIF(PACKT07!$R16,\"TRUE\",PACKT07!J16)+SUMIF(PACKT08!$R16,\"TRUE\",PACKT08!J16)+SUMIF(PACKT09!$R16,\"TRUE\",PACKT09!J16)+SUMIF(PACKT10!$R16,\"TRUE\",PACKT10!J16)+SUMIF(PACKT11!$R16,\"TRUE\",PACKT11!J16)","v":0},{"$f":"SUMIF(PACKT01!$R16,\"TRUE\",PACKT01!K16)+SUMIF(PACKT02!$R16,\"TRUE\",PACKT02!K16)+SUMIF(PACKT03!$R16,\"TRUE\",PACKT03!K16)+SUMIF(PACKT04!$R16,\"TRUE\",PACKT04!K16)+SUMIF(PACKT05!$R16,\"TRUE\",PACKT05!K16)+SUMIF(PACKT06!$R17,\"TRUE\",PACKT06!K17)+SUMIF(PACKT07!$R16,\"TRUE\",PACKT07!K16)+SUMIF(PACKT08!$R16,\"TRUE\",PACKT08!K16)+SUMIF(PACKT09!$R16,\"TRUE\",PACKT09!K16)+SUMIF(PACKT10!$R16,\"TRUE\",PACKT10!K16)+SUMIF(PACKT11!$R16,\"TRUE\",PACKT11!K16)","v":0},{"$f":"SUMIF(PACKT01!$R16,\"TRUE\",PACKT01!L16)+SUMIF(PACKT02!$R16,\"TRUE\",PACKT02!L16)+SUMIF(PACKT03!$R16,\"TRUE\",PACKT03!L16)+SUMIF(PACKT04!$R16,\"TRUE\",PACKT04!L16)+SUMIF(PACKT05!$R16,\"TRUE\",PACKT05!L16)+SUMIF(PACKT06!$R17,\"TRUE\",PACKT06!L17)+SUMIF(PACKT07!$R16,\"TRUE\",PACKT07!L16)+SUMIF(PACKT08!$R16,\"TRUE\",PACKT08!L16)+SUMIF(PACKT09!$R16,\"TRUE\",PACKT09!L16)+SUMIF(PACKT10!$R16,\"TRUE\",PACKT10!L16)+SUMIF(PACKT11!$R16,\"TRUE\",PACKT11!L16)","v":0},{"$f":"SUMIF(PACKT01!$R16,\"TRUE\",PACKT01!M16)+SUMIF(PACKT02!$R16,\"TRUE\",PACKT02!M16)+SUMIF(PACKT03!$R16,\"TRUE\",PACKT03!M16)+SUMIF(PACKT04!$R16,\"TRUE\",PACKT04!M16)+SUMIF(PACKT05!$R16,\"TRUE\",PACKT05!M16)+SUMIF(PACKT06!$R17,\"TRUE\",PACKT06!M17)+SUMIF(PACKT07!$R16,\"TRUE\",PACKT07!M16)+SUMIF(PACKT08!$R16,\"TRUE\",PACKT08!M16)+SUMIF(PACKT09!$R16,\"TRUE\",PACKT09!M16)+SUMIF(PACKT10!$R16,\"TRUE\",PACKT10!M16)+SUMIF(PACKT11!$R16,\"TRUE\",PACKT11!M16)","v":0},{"$f":"SUMIF(PACKT01!$R16,\"TRUE\",PACKT01!N16)+SUMIF(PACKT02!$R16,\"TRUE\",PACKT02!N16)+SUMIF(PACKT03!$R16,\"TRUE\",PACKT03!N16)+SUMIF(PACKT04!$R16,\"TRUE\",PACKT04!N16)+SUMIF(PACKT05!$R16,\"TRUE\",PACKT05!N16)+SUMIF(PACKT06!$R17,\"TRUE\",PACKT06!N17)+SUMIF(PACKT07!$R16,\"TRUE\",PACKT07!N16)+SUMIF(PACKT08!$R16,\"TRUE\",PACKT08!N16)+SUMIF(PACKT09!$R16,\"TRUE\",PACKT09!N16)+SUMIF(PACKT10!$R16,\"TRUE\",PACKT10!N16)+SUMIF(PACKT11!$R16,\"TRUE\",PACKT11!N16)","v":0},{"$f":"SUMIF(PACKT01!$R16,\"TRUE\",PACKT01!O16)+SUMIF(PACKT02!$R16,\"TRUE\",PACKT02!O16)+SUMIF(PACKT03!$R16,\"TRUE\",PACKT03!O16)+SUMIF(PACKT04!$R16,\"TRUE\",PACKT04!O16)+SUMIF(PACKT05!$R16,\"TRUE\",PACKT05!O16)+SUMIF(PACKT06!$R17,\"TRUE\",PACKT06!O17)+SUMIF(PACKT07!$R16,\"TRUE\",PACKT07!O16)+SUMIF(PACKT08!$R16,\"TRUE\",PACKT08!O16)+SUMIF(PACKT09!$R16,\"TRUE\",PACKT09!O16)+SUMIF(PACKT10!$R16,\"TRUE\",PACKT10!O16)+SUMIF(PACKT11!$R16,\"TRUE\",PACKT11!O16)","v":0},{"$f":"SUMIF(PACKT01!$R16,\"TRUE\",PACKT01!P16)+SUMIF(PACKT02!$R16,\"TRUE\",PACKT02!P16)+SUMIF(PACKT03!$R16,\"TRUE\",PACKT03!P16)+SUMIF(PACKT04!$R16,\"TRUE\",PACKT04!P16)+SUMIF(PACKT05!$R16,\"TRUE\",PACKT05!P16)+SUMIF(PACKT06!$R17,\"TRUE\",PACKT06!P17)+SUMIF(PACKT07!$R16,\"TRUE\",PACKT07!P16)+SUMIF(PACKT08!$R16,\"TRUE\",PACKT08!P16)+SUMIF(PACKT09!$R16,\"TRUE\",PACKT09!P16)+SUMIF(PACKT10!$R16,\"TRUE\",PACKT10!P16)+SUMIF(PACKT11!$R16,\"TRUE\",PACKT11!P16)","v":0},{"$f":"SUMIF(PACKT01!$R16,\"TRUE\",PACKT01!Q16)+SUMIF(PACKT02!$R16,\"TRUE\",PACKT02!Q16)+SUMIF(PACKT03!$R16,\"TRUE\",PACKT03!Q16)+SUMIF(PACKT04!$R16,\"TRUE\",PACKT04!Q16)+SUMIF(PACKT05!$R16,\"TRUE\",PACKT05!Q16)+SUMIF(PACKT06!$R17,\"TRUE\",PACKT06!Q17)+SUMIF(PACKT07!$R16,\"TRUE\",PACKT07!Q16)+SUMIF(PACKT08!$R16,\"TRUE\",PACKT08!Q16)+SUMIF(PACKT09!$R16,\"TRUE\",PACKT09!Q16)+SUMIF(PACKT10!$R16,\"TRUE\",PACKT10!Q16)+SUMIF(PACKT11!$R16,\"TRUE\",PACKT11!Q16)","v":0},0]
[null,"EMP0006",{"$f":"VLOOKUP(HRSummarylTable[[#This Row],[EmployeeID]],EmployeeListLookupTable[],2,FALSE)","v":"EMPN006"},{"$f":"VLOOKUP(HRSummarylTable[[#This Row],[EmployeeID]],EmployeeListLookupTable[],3,FALSE)","v":"Employee Name 6"},{"$f":"VLOOKUP(HRSummarylTable[[#This Row],[EmployeeID]],EmployeeListLookupTable[],4,FALSE)","v":"Employee Job Title 6"},"TCTC001 - Total Cost to Company",{"$f":"LEFT(HRSummarylTable[[#This Row],[PackageItemCode]],7)","v":"TCTC001"},{"$f":"VLOOKUP(HRSummarylTable[[#This Row],[PackageItem]],PackageItemListLookup[],2,FALSE)","v":"Total Cost to Company"},null,{"$f":"SUMIF(PACKT01!$R17,\"TRUE\",PACKT01!F17)+SUMIF(PACKT02!$R17,\"TRUE\",PACKT02!F17)+SUMIF(PACKT03!$R17,\"TRUE\",PACKT03!F17)+SUMIF(PACKT04!$R17,\"TRUE\",PACKT04!F17)+SUMIF(PACKT05!$R17,\"TRUE\",PACKT05!F17)+SUMIF(PACKT06!$R18,\"TRUE\",PACKT06!F18)+SUMIF(PACKT07!$R17,\"TRUE\",PACKT07!F17)+SUMIF(PACKT08!$R17,\"TRUE\",PACKT08!F17)+SUMIF(PACKT09!$R17,\"TRUE\",PACKT09!F17)+SUMIF(PACKT10!$R17,\"TRUE\",PACKT10!F17)+SUMIF(PACKT11!$R17,\"TRUE\",PACKT11!F17)","v":0},{"$f":"SUMIF(PACKT01!$R17,\"TRUE\",PACKT01!G17)+SUMIF(PACKT02!$R17,\"TRUE\",PACKT02!G17)+SUMIF(PACKT03!$R17,\"TRUE\",PACKT03!G17)+SUMIF(PACKT04!$R17,\"TRUE\",PACKT04!G17)+SUMIF(PACKT05!$R17,\"TRUE\",PACKT05!G17)+SUMIF(PACKT06!$R18,\"TRUE\",PACKT06!G18)+SUMIF(PACKT07!$R17,\"TRUE\",PACKT07!G17)+SUMIF(PACKT08!$R17,\"TRUE\",PACKT08!G17)+SUMIF(PACKT09!$R17,\"TRUE\",PACKT09!G17)+SUMIF(PACKT10!$R17,\"TRUE\",PACKT10!G17)+SUMIF(PACKT11!$R17,\"TRUE\",PACKT11!G17)","v":0},{"$f":"SUMIF(PACKT01!$R17,\"TRUE\",PACKT01!H17)+SUMIF(PACKT02!$R17,\"TRUE\",PACKT02!H17)+SUMIF(PACKT03!$R17,\"TRUE\",PACKT03!H17)+SUMIF(PACKT04!$R17,\"TRUE\",PACKT04!H17)+SUMIF(PACKT05!$R17,\"TRUE\",PACKT05!H17)+SUMIF(PACKT06!$R18,\"TRUE\",PACKT06!H18)+SUMIF(PACKT07!$R17,\"TRUE\",PACKT07!H17)+SUMIF(PACKT08!$R17,\"TRUE\",PACKT08!H17)+SUMIF(PACKT09!$R17,\"TRUE\",PACKT09!H17)+SUMIF(PACKT10!$R17,\"TRUE\",PACKT10!H17)+SUMIF(PACKT11!$R17,\"TRUE\",PACKT11!H17)","v":0},{"$f":"SUMIF(PACKT01!$R17,\"TRUE\",PACKT01!I17)+SUMIF(PACKT02!$R17,\"TRUE\",PACKT02!I17)+SUMIF(PACKT03!$R17,\"TRUE\",PACKT03!I17)+SUMIF(PACKT04!$R17,\"TRUE\",PACKT04!I17)+SUMIF(PACKT05!$R17,\"TRUE\",PACKT05!I17)+SUMIF(PACKT06!$R18,\"TRUE\",PACKT06!I18)+SUMIF(PACKT07!$R17,\"TRUE\",PACKT07!I17)+SUMIF(PACKT08!$R17,\"TRUE\",PACKT08!I17)+SUMIF(PACKT09!$R17,\"TRUE\",PACKT09!I17)+SUMIF(PACKT10!$R17,\"TRUE\",PACKT10!I17)+SUMIF(PACKT11!$R17,\"TRUE\",PACKT11!I17)","v":0},{"$f":"SUMIF(PACKT01!$R17,\"TRUE\",PACKT01!J17)+SUMIF(PACKT02!$R17,\"TRUE\",PACKT02!J17)+SUMIF(PACKT03!$R17,\"TRUE\",PACKT03!J17)+SUMIF(PACKT04!$R17,\"TRUE\",PACKT04!J17)+SUMIF(PACKT05!$R17,\"TRUE\",PACKT05!J17)+SUMIF(PACKT06!$R18,\"TRUE\",PACKT06!J18)+SUMIF(PACKT07!$R17,\"TRUE\",PACKT07!J17)+SUMIF(PACKT08!$R17,\"TRUE\",PACKT08!J17)+SUMIF(PACKT09!$R17,\"TRUE\",PACKT09!J17)+SUMIF(PACKT10!$R17,\"TRUE\",PACKT10!J17)+SUMIF(PACKT11!$R17,\"TRUE\",PACKT11!J17)","v":0},{"$f":"SUMIF(PACKT01!$R17,\"TRUE\",PACKT01!K17)+SUMIF(PACKT02!$R17,\"TRUE\",PACKT02!K17)+SUMIF(PACKT03!$R17,\"TRUE\",PACKT03!K17)+SUMIF(PACKT04!$R17,\"TRUE\",PACKT04!K17)+SUMIF(PACKT05!$R17,\"TRUE\",PACKT05!K17)+SUMIF(PACKT06!$R18,\"TRUE\",PACKT06!K18)+SUMIF(PACKT07!$R17,\"TRUE\",PACKT07!K17)+SUMIF(PACKT08!$R17,\"TRUE\",PACKT08!K17)+SUMIF(PACKT09!$R17,\"TRUE\",PACKT09!K17)+SUMIF(PACKT10!$R17,\"TRUE\",PACKT10!K17)+SUMIF(PACKT11!$R17,\"TRUE\",PACKT11!K17)","v":0},{"$f":"SUMIF(PACKT01!$R17,\"TRUE\",PACKT01!L17)+SUMIF(PACKT02!$R17,\"TRUE\",PACKT02!L17)+SUMIF(PACKT03!$R17,\"TRUE\",PACKT03!L17)+SUMIF(PACKT04!$R17,\"TRUE\",PACKT04!L17)+SUMIF(PACKT05!$R17,\"TRUE\",PACKT05!L17)+SUMIF(PACKT06!$R18,\"TRUE\",PACKT06!L18)+SUMIF(PACKT07!$R17,\"TRUE\",PACKT07!L17)+SUMIF(PACKT08!$R17,\"TRUE\",PACKT08!L17)+SUMIF(PACKT09!$R17,\"TRUE\",PACKT09!L17)+SUMIF(PACKT10!$R17,\"TRUE\",PACKT10!L17)+SUMIF(PACKT11!$R17,\"TRUE\",PACKT11!L17)","v":0},{"$f":"SUMIF(PACKT01!$R17,\"TRUE\",PACKT01!M17)+SUMIF(PACKT02!$R17,\"TRUE\",PACKT02!M17)+SUMIF(PACKT03!$R17,\"TRUE\",PACKT03!M17)+SUMIF(PACKT04!$R17,\"TRUE\",PACKT04!M17)+SUMIF(PACKT05!$R17,\"TRUE\",PACKT05!M17)+SUMIF(PACKT06!$R18,\"TRUE\",PACKT06!M18)+SUMIF(PACKT07!$R17,\"TRUE\",PACKT07!M17)+SUMIF(PACKT08!$R17,\"TRUE\",PACKT08!M17)+SUMIF(PACKT09!$R17,\"TRUE\",PACKT09!M17)+SUMIF(PACKT10!$R17,\"TRUE\",PACKT10!M17)+SUMIF(PACKT11!$R17,\"TRUE\",PACKT11!M17)","v":0},{"$f":"SUMIF(PACKT01!$R17,\"TRUE\",PACKT01!N17)+SUMIF(PACKT02!$R17,\"TRUE\",PACKT02!N17)+SUMIF(PACKT03!$R17,\"TRUE\",PACKT03!N17)+SUMIF(PACKT04!$R17,\"TRUE\",PACKT04!N17)+SUMIF(PACKT05!$R17,\"TRUE\",PACKT05!N17)+SUMIF(PACKT06!$R18,\"TRUE\",PACKT06!N18)+SUMIF(PACKT07!$R17,\"TRUE\",PACKT07!N17)+SUMIF(PACKT08!$R17,\"TRUE\",PACKT08!N17)+SUMIF(PACKT09!$R17,\"TRUE\",PACKT09!N17)+SUMIF(PACKT10!$R17,\"TRUE\",PACKT10!N17)+SUMIF(PACKT11!$R17,\"TRUE\",PACKT11!N17)","v":0},{"$f":"SUMIF(PACKT01!$R17,\"TRUE\",PACKT01!O17)+SUMIF(PACKT02!$R17,\"TRUE\",PACKT02!O17)+SUMIF(PACKT03!$R17,\"TRUE\",PACKT03!O17)+SUMIF(PACKT04!$R17,\"TRUE\",PACKT04!O17)+SUMIF(PACKT05!$R17,\"TRUE\",PACKT05!O17)+SUMIF(PACKT06!$R18,\"TRUE\",PACKT06!O18)+SUMIF(PACKT07!$R17,\"TRUE\",PACKT07!O17)+SUMIF(PACKT08!$R17,\"TRUE\",PACKT08!O17)+SUMIF(PACKT09!$R17,\"TRUE\",PACKT09!O17)+SUMIF(PACKT10!$R17,\"TRUE\",PACKT10!O17)+SUMIF(PACKT11!$R17,\"TRUE\",PACKT11!O17)","v":0},{"$f":"SUMIF(PACKT01!$R17,\"TRUE\",PACKT01!P17)+SUMIF(PACKT02!$R17,\"TRUE\",PACKT02!P17)+SUMIF(PACKT03!$R17,\"TRUE\",PACKT03!P17)+SUMIF(PACKT04!$R17,\"TRUE\",PACKT04!P17)+SUMIF(PACKT05!$R17,\"TRUE\",PACKT05!P17)+SUMIF(PACKT06!$R18,\"TRUE\",PACKT06!P18)+SUMIF(PACKT07!$R17,\"TRUE\",PACKT07!P17)+SUMIF(PACKT08!$R17,\"TRUE\",PACKT08!P17)+SUMIF(PACKT09!$R17,\"TRUE\",PACKT09!P17)+SUMIF(PACKT10!$R17,\"TRUE\",PACKT10!P17)+SUMIF(PACKT11!$R17,\"TRUE\",PACKT11!P17)","v":0},{"$f":"SUMIF(PACKT01!$R17,\"TRUE\",PACKT01!Q17)+SUMIF(PACKT02!$R17,\"TRUE\",PACKT02!Q17)+SUMIF(PACKT03!$R17,\"TRUE\",PACKT03!Q17)+SUMIF(PACKT04!$R17,\"TRUE\",PACKT04!Q17)+SUMIF(PACKT05!$R17,\"TRUE\",PACKT05!Q17)+SUMIF(PACKT06!$R18,\"TRUE\",PACKT06!Q18)+SUMIF(PACKT07!$R17,\"TRUE\",PACKT07!Q17)+SUMIF(PACKT08!$R17,\"TRUE\",PACKT08!Q17)+SUMIF(PACKT09!$R17,\"TRUE\",PACKT09!Q17)+SUMIF(PACKT10!$R17,\"TRUE\",PACKT10!Q17)+SUMIF(PACKT11!$R17,\"TRUE\",PACKT11!Q17)","v":0},0]
[null,"EMP0007",{"$f":"VLOOKUP(HRSummarylTable[[#This Row],[EmployeeID]],EmployeeListLookupTable[],2,FALSE)","v":"EMPN007"},{"$f":"VLOOKUP(HRSummarylTable[[#This Row],[EmployeeID]],EmployeeListLookupTable[],3,FALSE)","v":"Employee Name 7"},{"$f":"VLOOKUP(HRSummarylTable[[#This Row],[EmployeeID]],EmployeeListLookupTable[],4,FALSE)","v":"Employee Job Title 7"},"TCTC001 - Total Cost to Company",{"$f":"LEFT(HRSummarylTable[[#This Row],[PackageItemCode]],7)","v":"TCTC001"},{"$f":"VLOOKUP(HRSummarylTable[[#This Row],[PackageItem]],PackageItemListLookup[],2,FALSE)","v":"Total Cost to Company"},null,{"$f":"SUMIF(PACKT01!$R18,\"TRUE\",PACKT01!F18)+SUMIF(PACKT02!$R18,\"TRUE\",PACKT02!F18)+SUMIF(PACKT03!$R18,\"TRUE\",PACKT03!F18)+SUMIF(PACKT04!$R18,\"TRUE\",PACKT04!F18)+SUMIF(PACKT05!$R18,\"TRUE\",PACKT05!F18)+SUMIF(PACKT06!$R19,\"TRUE\",PACKT06!F19)+SUMIF(PACKT07!$R18,\"TRUE\",PACKT07!F18)+SUMIF(PACKT08!$R18,\"TRUE\",PACKT08!F18)+SUMIF(PACKT09!$R18,\"TRUE\",PACKT09!F18)+SUMIF(PACKT10!$R18,\"TRUE\",PACKT10!F18)+SUMIF(PACKT11!$R18,\"TRUE\",PACKT11!F18)","v":0},{"$f":"SUMIF(PACKT01!$R18,\"TRUE\",PACKT01!G18)+SUMIF(PACKT02!$R18,\"TRUE\",PACKT02!G18)+SUMIF(PACKT03!$R18,\"TRUE\",PACKT03!G18)+SUMIF(PACKT04!$R18,\"TRUE\",PACKT04!G18)+SUMIF(PACKT05!$R18,\"TRUE\",PACKT05!G18)+SUMIF(PACKT06!$R19,\"TRUE\",PACKT06!G19)+SUMIF(PACKT07!$R18,\"TRUE\",PACKT07!G18)+SUMIF(PACKT08!$R18,\"TRUE\",PACKT08!G18)+SUMIF(PACKT09!$R18,\"TRUE\",PACKT09!G18)+SUMIF(PACKT10!$R18,\"TRUE\",PACKT10!G18)+SUMIF(PACKT11!$R18,\"TRUE\",PACKT11!G18)","v":0},{"$f":"SUMIF(PACKT01!$R18,\"TRUE\",PACKT01!H18)+SUMIF(PACKT02!$R18,\"TRUE\",PACKT02!H18)+SUMIF(PACKT03!$R18,\"TRUE\",PACKT03!H18)+SUMIF(PACKT04!$R18,\"TRUE\",PACKT04!H18)+SUMIF(PACKT05!$R18,\"TRUE\",PACKT05!H18)+SUMIF(PACKT06!$R19,\"TRUE\",PACKT06!H19)+SUMIF(PACKT07!$R18,\"TRUE\",PACKT07!H18)+SUMIF(PACKT08!$R18,\"TRUE\",PACKT08!H18)+SUMIF(PACKT09!$R18,\"TRUE\",PACKT09!H18)+SUMIF(PACKT10!$R18,\"TRUE\",PACKT10!H18)+SUMIF(PACKT11!$R18,\"TRUE\",PACKT11!H18)","v":0},{"$f":"SUMIF(PACKT01!$R18,\"TRUE\",PACKT01!I18)+SUMIF(PACKT02!$R18,\"TRUE\",PACKT02!I18)+SUMIF(PACKT03!$R18,\"TRUE\",PACKT03!I18)+SUMIF(PACKT04!$R18,\"TRUE\",PACKT04!I18)+SUMIF(PACKT05!$R18,\"TRUE\",PACKT05!I18)+SUMIF(PACKT06!$R19,\"TRUE\",PACKT06!I19)+SUMIF(PACKT07!$R18,\"TRUE\",PACKT07!I18)+SUMIF(PACKT08!$R18,\"TRUE\",PACKT08!I18)+SUMIF(PACKT09!$R18,\"TRUE\",PACKT09!I18)+SUMIF(PACKT10!$R18,\"TRUE\",PACKT10!I18)+SUMIF(PACKT11!$R18,\"TRUE\",PACKT11!I18)","v":0},{"$f":"SUMIF(PACKT01!$R18,\"TRUE\",PACKT01!J18)+SUMIF(PACKT02!$R18,\"TRUE\",PACKT02!J18)+SUMIF(PACKT03!$R18,\"TRUE\",PACKT03!J18)+SUMIF(PACKT04!$R18,\"TRUE\",PACKT04!J18)+SUMIF(PACKT05!$R18,\"TRUE\",PACKT05!J18)+SUMIF(PACKT06!$R19,\"TRUE\",PACKT06!J19)+SUMIF(PACKT07!$R18,\"TRUE\",PACKT07!J18)+SUMIF(PACKT08!$R18,\"TRUE\",PACKT08!J18)+SUMIF(PACKT09!$R18,\"TRUE\",PACKT09!J18)+SUMIF(PACKT10!$R18,\"TRUE\",PACKT10!J18)+SUMIF(PACKT11!$R18,\"TRUE\",PACKT11!J18)","v":0},{"$f":"SUMIF(PACKT01!$R18,\"TRUE\",PACKT01!K18)+SUMIF(PACKT02!$R18,\"TRUE\",PACKT02!K18)+SUMIF(PACKT03!$R18,\"TRUE\",PACKT03!K18)+SUMIF(PACKT04!$R18,\"TRUE\",PACKT04!K18)+SUMIF(PACKT05!$R18,\"TRUE\",PACKT05!K18)+SUMIF(PACKT06!$R19,\"TRUE\",PACKT06!K19)+SUMIF(PACKT07!$R18,\"TRUE\",PACKT07!K18)+SUMIF(PACKT08!$R18,\"TRUE\",PACKT08!K18)+SUMIF(PACKT09!$R18,\"TRUE\",PACKT09!K18)+SUMIF(PACKT10!$R18,\"TRUE\",PACKT10!K18)+SUMIF(PACKT11!$R18,\"TRUE\",PACKT11!K18)","v":0},{"$f":"SUMIF(PACKT01!$R18,\"TRUE\",PACKT01!L18)+SUMIF(PACKT02!$R18,\"TRUE\",PACKT02!L18)+SUMIF(PACKT03!$R18,\"TRUE\",PACKT03!L18)+SUMIF(PACKT04!$R18,\"TRUE\",PACKT04!L18)+SUMIF(PACKT05!$R18,\"TRUE\",PACKT05!L18)+SUMIF(PACKT06!$R19,\"TRUE\",PACKT06!L19)+SUMIF(PACKT07!$R18,\"TRUE\",PACKT07!L18)+SUMIF(PACKT08!$R18,\"TRUE\",PACKT08!L18)+SUMIF(PACKT09!$R18,\"TRUE\",PACKT09!L18)+SUMIF(PACKT10!$R18,\"TRUE\",PACKT10!L18)+SUMIF(PACKT11!$R18,\"TRUE\",PACKT11!L18)","v":0},{"$f":"SUMIF(PACKT01!$R18,\"TRUE\",PACKT01!M18)+SUMIF(PACKT02!$R18,\"TRUE\",PACKT02!M18)+SUMIF(PACKT03!$R18,\"TRUE\",PACKT03!M18)+SUMIF(PACKT04!$R18,\"TRUE\",PACKT04!M18)+SUMIF(PACKT05!$R18,\"TRUE\",PACKT05!M18)+SUMIF(PACKT06!$R19,\"TRUE\",PACKT06!M19)+SUMIF(PACKT07!$R18,\"TRUE\",PACKT07!M18)+SUMIF(PACKT08!$R18,\"TRUE\",PACKT08!M18)+SUMIF(PACKT09!$R18,\"TRUE\",PACKT09!M18)+SUMIF(PACKT10!$R18,\"TRUE\",PACKT10!M18)+SUMIF(PACKT11!$R18,\"TRUE\",PACKT11!M18)","v":0},{"$f":"SUMIF(PACKT01!$R18,\"TRUE\",PACKT01!N18)+SUMIF(PACKT02!$R18,\"TRUE\",PACKT02!N18)+SUMIF(PACKT03!$R18,\"TRUE\",PACKT03!N18)+SUMIF(PACKT04!$R18,\"TRUE\",PACKT04!N18)+SUMIF(PACKT05!$R18,\"TRUE\",PACKT05!N18)+SUMIF(PACKT06!$R19,\"TRUE\",PACKT06!N19)+SUMIF(PACKT07!$R18,\"TRUE\",PACKT07!N18)+SUMIF(PACKT08!$R18,\"TRUE\",PACKT08!N18)+SUMIF(PACKT09!$R18,\"TRUE\",PACKT09!N18)+SUMIF(PACKT10!$R18,\"TRUE\",PACKT10!N18)+SUMIF(PACKT11!$R18,\"TRUE\",PACKT11!N18)","v":0},{"$f":"SUMIF(PACKT01!$R18,\"TRUE\",PACKT01!O18)+SUMIF(PACKT02!$R18,\"TRUE\",PACKT02!O18)+SUMIF(PACKT03!$R18,\"TRUE\",PACKT03!O18)+SUMIF(PACKT04!$R18,\"TRUE\",PACKT04!O18)+SUMIF(PACKT05!$R18,\"TRUE\",PACKT05!O18)+SUMIF(PACKT06!$R19,\"TRUE\",PACKT06!O19)+SUMIF(PACKT07!$R18,\"TRUE\",PACKT07!O18)+SUMIF(PACKT08!$R18,\"TRUE\",PACKT08!O18)+SUMIF(PACKT09!$R18,\"TRUE\",PACKT09!O18)+SUMIF(PACKT10!$R18,\"TRUE\",PACKT10!O18)+SUMIF(PACKT11!$R18,\"TRUE\",PACKT11!O18)","v":0},{"$f":"SUMIF(PACKT01!$R18,\"TRUE\",PACKT01!P18)+SUMIF(PACKT02!$R18,\"TRUE\",PACKT02!P18)+SUMIF(PACKT03!$R18,\"TRUE\",PACKT03!P18)+SUMIF(PACKT04!$R18,\"TRUE\",PACKT04!P18)+SUMIF(PACKT05!$R18,\"TRUE\",PACKT05!P18)+SUMIF(PACKT06!$R19,\"TRUE\",PACKT06!P19)+SUMIF(PACKT07!$R18,\"TRUE\",PACKT07!P18)+SUMIF(PACKT08!$R18,\"TRUE\",PACKT08!P18)+SUMIF(PACKT09!$R18,\"TRUE\",PACKT09!P18)+SUMIF(PACKT10!$R18,\"TRUE\",PACKT10!P18)+SUMIF(PACKT11!$R18,\"TRUE\",PACKT11!P18)","v":0},{"$f":"SUMIF(PACKT01!$R18,\"TRUE\",PACKT01!Q18)+SUMIF(PACKT02!$R18,\"TRUE\",PACKT02!Q18)+SUMIF(PACKT03!$R18,\"TRUE\",PACKT03!Q18)+SUMIF(PACKT04!$R18,\"TRUE\",PACKT04!Q18)+SUMIF(PACKT05!$R18,\"TRUE\",PACKT05!Q18)+SUMIF(PACKT06!$R19,\"TRUE\",PACKT06!Q19)+SUMIF(PACKT07!$R18,\"TRUE\",PACKT07!Q18)+SUMIF(PACKT08!$R18,\"TRUE\",PACKT08!Q18)+SUMIF(PACKT09!$R18,\"TRUE\",PACKT09!Q18)+SUMIF(PACKT10!$R18,\"TRUE\",PACKT10!Q18)+SUMIF(PACKT11!$R18,\"TRUE\",PACKT11!Q18)","v":0},0]
[null,"EMP0008",{"$f":"VLOOKUP(HRSummarylTable[[#This Row],[EmployeeID]],EmployeeListLookupTable[],2,FALSE)","v":"EMPN008"},{"$f":"VLOOKUP(HRSummarylTable[[#This Row],[EmployeeID]],EmployeeListLookupTable[],3,FALSE)","v":"Employee Name 8"},{"$f":"VLOOKUP(HRSummarylTable[[#This Row],[EmployeeID]],EmployeeListLookupTable[],4,FALSE)","v":"Employee Job Title 8"},"TCTC001 - Total Cost to Company",{"$f":"LEFT(HRSummarylTable[[#This Row],[PackageItemCode]],7)","v":"TCTC001"},{"$f":"VLOOKUP(HRSummarylTable[[#This Row],[PackageItem]],PackageItemListLookup[],2,FALSE)","v":"Total Cost to Company"},null,{"$f":"SUMIF(PACKT01!$R19,\"TRUE\",PACKT01!F19)+SUMIF(PACKT02!$R19,\"TRUE\",PACKT02!F19)+SUMIF(PACKT03!$R19,\"TRUE\",PACKT03!F19)+SUMIF(PACKT04!$R19,\"TRUE\",PACKT04!F19)+SUMIF(PACKT05!$R19,\"TRUE\",PACKT05!F19)+SUMIF(PACKT06!$R20,\"TRUE\",PACKT06!F20)+SUMIF(PACKT07!$R19,\"TRUE\",PACKT07!F19)+SUMIF(PACKT08!$R19,\"TRUE\",PACKT08!F19)+SUMIF(PACKT09!$R19,\"TRUE\",PACKT09!F19)+SUMIF(PACKT10!$R19,\"TRUE\",PACKT10!F19)+SUMIF(PACKT11!$R19,\"TRUE\",PACKT11!F19)","v":0},{"$f":"SUMIF(PACKT01!$R19,\"TRUE\",PACKT01!G19)+SUMIF(PACKT02!$R19,\"TRUE\",PACKT02!G19)+SUMIF(PACKT03!$R19,\"TRUE\",PACKT03!G19)+SUMIF(PACKT04!$R19,\"TRUE\",PACKT04!G19)+SUMIF(PACKT05!$R19,\"TRUE\",PACKT05!G19)+SUMIF(PACKT06!$R20,\"TRUE\",PACKT06!G20)+SUMIF(PACKT07!$R19,\"TRUE\",PACKT07!G19)+SUMIF(PACKT08!$R19,\"TRUE\",PACKT08!G19)+SUMIF(PACKT09!$R19,\"TRUE\",PACKT09!G19)+SUMIF(PACKT10!$R19,\"TRUE\",PACKT10!G19)+SUMIF(PACKT11!$R19,\"TRUE\",PACKT11!G19)","v":0},{"$f":"SUMIF(PACKT01!$R19,\"TRUE\",PACKT01!H19)+SUMIF(PACKT02!$R19,\"TRUE\",PACKT02!H19)+SUMIF(PACKT03!$R19,\"TRUE\",PACKT03!H19)+SUMIF(PACKT04!$R19,\"TRUE\",PACKT04!H19)+SUMIF(PACKT05!$R19,\"TRUE\",PACKT05!H19)+SUMIF(PACKT06!$R20,\"TRUE\",PACKT06!H20)+SUMIF(PACKT07!$R19,\"TRUE\",PACKT07!H19)+SUMIF(PACKT08!$R19,\"TRUE\",PACKT08!H19)+SUMIF(PACKT09!$R19,\"TRUE\",PACKT09!H19)+SUMIF(PACKT10!$R19,\"TRUE\",PACKT10!H19)+SUMIF(PACKT11!$R19,\"TRUE\",PACKT11!H19)","v":0},{"$f":"SUMIF(PACKT01!$R19,\"TRUE\",PACKT01!I19)+SUMIF(PACKT02!$R19,\"TRUE\",PACKT02!I19)+SUMIF(PACKT03!$R19,\"TRUE\",PACKT03!I19)+SUMIF(PACKT04!$R19,\"TRUE\",PACKT04!I19)+SUMIF(PACKT05!$R19,\"TRUE\",PACKT05!I19)+SUMIF(PACKT06!$R20,\"TRUE\",PACKT06!I20)+SUMIF(PACKT07!$R19,\"TRUE\",PACKT07!I19)+SUMIF(PACKT08!$R19,\"TRUE\",PACKT08!I19)+SUMIF(PACKT09!$R19,\"TRUE\",PACKT09!I19)+SUMIF(PACKT10!$R19,\"TRUE\",PACKT10!I19)+SUMIF(PACKT11!$R19,\"TRUE\",PACKT11!I19)","v":0},{"$f":"SUMIF(PACKT01!$R19,\"TRUE\",PACKT01!J19)+SUMIF(PACKT02!$R19,\"TRUE\",PACKT02!J19)+SUMIF(PACKT03!$R19,\"TRUE\",PACKT03!J19)+SUMIF(PACKT04!$R19,\"TRUE\",PACKT04!J19)+SUMIF(PACKT05!$R19,\"TRUE\",PACKT05!J19)+SUMIF(PACKT06!$R20,\"TRUE\",PACKT06!J20)+SUMIF(PACKT07!$R19,\"TRUE\",PACKT07!J19)+SUMIF(PACKT08!$R19,\"TRUE\",PACKT08!J19)+SUMIF(PACKT09!$R19,\"TRUE\",PACKT09!J19)+SUMIF(PACKT10!$R19,\"TRUE\",PACKT10!J19)+SUMIF(PACKT11!$R19,\"TRUE\",PACKT11!J19)","v":0},{"$f":"SUMIF(PACKT01!$R19,\"TRUE\",PACKT01!K19)+SUMIF(PACKT02!$R19,\"TRUE\",PACKT02!K19)+SUMIF(PACKT03!$R19,\"TRUE\",PACKT03!K19)+SUMIF(PACKT04!$R19,\"TRUE\",PACKT04!K19)+SUMIF(PACKT05!$R19,\"TRUE\",PACKT05!K19)+SUMIF(PACKT06!$R20,\"TRUE\",PACKT06!K20)+SUMIF(PACKT07!$R19,\"TRUE\",PACKT07!K19)+SUMIF(PACKT08!$R19,\"TRUE\",PACKT08!K19)+SUMIF(PACKT09!$R19,\"TRUE\",PACKT09!K19)+SUMIF(PACKT10!$R19,\"TRUE\",PACKT10!K19)+SUMIF(PACKT11!$R19,\"TRUE\",PACKT11!K19)","v":0},{"$f":"SUMIF(PACKT01!$R19,\"TRUE\",PACKT01!L19)+SUMIF(PACKT02!$R19,\"TRUE\",PACKT02!L19)+SUMIF(PACKT03!$R19,\"TRUE\",PACKT03!L19)+SUMIF(PACKT04!$R19,\"TRUE\",PACKT04!L19)+SUMIF(PACKT05!$R19,\"TRUE\",PACKT05!L19)+SUMIF(PACKT06!$R20,\"TRUE\",PACKT06!L20)+SUMIF(PACKT07!$R19,\"TRUE\",PACKT07!L19)+SUMIF(PACKT08!$R19,\"TRUE\",PACKT08!L19)+SUMIF(PACKT09!$R19,\"TRUE\",PACKT09!L19)+SUMIF(PACKT10!$R19,\"TRUE\",PACKT10!L19)+SUMIF(PACKT11!$R19,\"TRUE\",PACKT11!L19)","v":0},{"$f":"SUMIF(PACKT01!$R19,\"TRUE\",PACKT01!M19)+SUMIF(PACKT02!$R19,\"TRUE\",PACKT02!M19)+SUMIF(PACKT03!$R19,\"TRUE\",PACKT03!M19)+SUMIF(PACKT04!$R19,\"TRUE\",PACKT04!M19)+SUMIF(PACKT05!$R19,\"TRUE\",PACKT05!M19)+SUMIF(PACKT06!$R20,\"TRUE\",PACKT06!M20)+SUMIF(PACKT07!$R19,\"TRUE\",PACKT07!M19)+SUMIF(PACKT08!$R19,\"TRUE\",PACKT08!M19)+SUMIF(PACKT09!$R19,\"TRUE\",PACKT09!M19)+SUMIF(PACKT10!$R19,\"TRUE\",PACKT10!M19)+SUMIF(PACKT11!$R19,\"TRUE\",PACKT11!M19)","v":0},{"$f":"SUMIF(PACKT01!$R19,\"TRUE\",PACKT01!N19)+SUMIF(PACKT02!$R19,\"TRUE\",PACKT02!N19)+SUMIF(PACKT03!$R19,\"TRUE\",PACKT03!N19)+SUMIF(PACKT04!$R19,\"TRUE\",PACKT04!N19)+SUMIF(PACKT05!$R19,\"TRUE\",PACKT05!N19)+SUMIF(PACKT06!$R20,\"TRUE\",PACKT06!N20)+SUMIF(PACKT07!$R19,\"TRUE\",PACKT07!N19)+SUMIF(PACKT08!$R19,\"TRUE\",PACKT08!N19)+SUMIF(PACKT09!$R19,\"TRUE\",PACKT09!N19)+SUMIF(PACKT10!$R19,\"TRUE\",PACKT10!N19)+SUMIF(PACKT11!$R19,\"TRUE\",PACKT11!N19)","v":0},{"$f":"SUMIF(PACKT01!$R19,\"TRUE\",PACKT01!O19)+SUMIF(PACKT02!$R19,\"TRUE\",PACKT02!O19)+SUMIF(PACKT03!$R19,\"TRUE\",PACKT03!O19)+SUMIF(PACKT04!$R19,\"TRUE\",PACKT04!O19)+SUMIF(PACKT05!$R19,\"TRUE\",PACKT05!O19)+SUMIF(PACKT06!$R20,\"TRUE\",PACKT06!O20)+SUMIF(PACKT07!$R19,\"TRUE\",PACKT07!O19)+SUMIF(PACKT08!$R19,\"TRUE\",PACKT08!O19)+SUMIF(PACKT09!$R19,\"TRUE\",PACKT09!O19)+SUMIF(PACKT10!$R19,\"TRUE\",PACKT10!O19)+SUMIF(PACKT11!$R19,\"TRUE\",PACKT11!O19)","v":0},{"$f":"SUMIF(PACKT01!$R19,\"TRUE\",PACKT01!P19)+SUMIF(PACKT02!$R19,\"TRUE\",PACKT02!P19)+SUMIF(PACKT03!$R19,\"TRUE\",PACKT03!P19)+SUMIF(PACKT04!$R19,\"TRUE\",PACKT04!P19)+SUMIF(PACKT05!$R19,\"TRUE\",PACKT05!P19)+SUMIF(PACKT06!$R20,\"TRUE\",PACKT06!P20)+SUMIF(PACKT07!$R19,\"TRUE\",PACKT07!P19)+SUMIF(PACKT08!$R19,\"TRUE\",PACKT08!P19)+SUMIF(PACKT09!$R19,\"TRUE\",PACKT09!P19)+SUMIF(PACKT10!$R19,\"TRUE\",PACKT10!P19)+SUMIF(PACKT11!$R19,\"TRUE\",PACKT11!P19)","v":0},{"$f":"SUMIF(PACKT01!$R19,\"TRUE\",PACKT01!Q19)+SUMIF(PACKT02!$R19,\"TRUE\",PACKT02!Q19)+SUMIF(PACKT03!$R19,\"TRUE\",PACKT03!Q19)+SUMIF(PACKT04!$R19,\"TRUE\",PACKT04!Q19)+SUMIF(PACKT05!$R19,\"TRUE\",PACKT05!Q19)+SUMIF(PACKT06!$R20,\"TRUE\",PACKT06!Q20)+SUMIF(PACKT07!$R19,\"TRUE\",PACKT07!Q19)+SUMIF(PACKT08!$R19,\"TRUE\",PACKT08!Q19)+SUMIF(PACKT09!$R19,\"TRUE\",PACKT09!Q19)+SUMIF(PACKT10!$R19,\"TRUE\",PACKT10!Q19)+SUMIF(PACKT11!$R19,\"TRUE\",PACKT11!Q19)","v":0},0]
[null,"EMP0009",{"$f":"VLOOKUP(HRSummarylTable[[#This Row],[EmployeeID]],EmployeeListLookupTable[],2,FALSE)","v":"EMPN009"},{"$f":"VLOOKUP(HRSummarylTable[[#This Row],[EmployeeID]],EmployeeListLookupTable[],3,FALSE)","v":"Employee Name 9"},{"$f":"VLOOKUP(HRSummarylTable[[#This Row],[EmployeeID]],EmployeeListLookupTable[],4,FALSE)","v":"Employee Job Title 9"},"TCTC001 - Total Cost to Company",{"$f":"LEFT(HRSummarylTable[[#This Row],[PackageItemCode]],7)","v":"TCTC001"},{"$f":"VLOOKUP(HRSummarylTable[[#This Row],[PackageItem]],PackageItemListLookup[],2,FALSE)","v":"Total Cost to Company"},null,{"$f":"SUMIF(PACKT01!$R20,\"TRUE\",PACKT01!F20)+SUMIF(PACKT02!$R20,\"TRUE\",PACKT02!F20)+SUMIF(PACKT03!$R20,\"TRUE\",PACKT03!F20)+SUMIF(PACKT04!$R20,\"TRUE\",PACKT04!F20)+SUMIF(PACKT05!$R20,\"TRUE\",PACKT05!F20)+SUMIF(PACKT06!$R21,\"TRUE\",PACKT06!F21)+SUMIF(PACKT07!$R20,\"TRUE\",PACKT07!F20)+SUMIF(PACKT08!$R20,\"TRUE\",PACKT08!F20)+SUMIF(PACKT09!$R20,\"TRUE\",PACKT09!F20)+SUMIF(PACKT10!$R20,\"TRUE\",PACKT10!F20)+SUMIF(PACKT11!$R20,\"TRUE\",PACKT11!F20)","v":0},{"$f":"SUMIF(PACKT01!$R20,\"TRUE\",PACKT01!G20)+SUMIF(PACKT02!$R20,\"TRUE\",PACKT02!G20)+SUMIF(PACKT03!$R20,\"TRUE\",PACKT03!G20)+SUMIF(PACKT04!$R20,\"TRUE\",PACKT04!G20)+SUMIF(PACKT05!$R20,\"TRUE\",PACKT05!G20)+SUMIF(PACKT06!$R21,\"TRUE\",PACKT06!G21)+SUMIF(PACKT07!$R20,\"TRUE\",PACKT07!G20)+SUMIF(PACKT08!$R20,\"TRUE\",PACKT08!G20)+SUMIF(PACKT09!$R20,\"TRUE\",PACKT09!G20)+SUMIF(PACKT10!$R20,\"TRUE\",PACKT10!G20)+SUMIF(PACKT11!$R20,\"TRUE\",PACKT11!G20)","v":0},{"$f":"SUMIF(PACKT01!$R20,\"TRUE\",PACKT01!H20)+SUMIF(PACKT02!$R20,\"TRUE\",PACKT02!H20)+SUMIF(PACKT03!$R20,\"TRUE\",PACKT03!H20)+SUMIF(PACKT04!$R20,\"TRUE\",PACKT04!H20)+SUMIF(PACKT05!$R20,\"TRUE\",PACKT05!H20)+SUMIF(PACKT06!$R21,\"TRUE\",PACKT06!H21)+SUMIF(PACKT07!$R20,\"TRUE\",PACKT07!H20)+SUMIF(PACKT08!$R20,\"TRUE\",PACKT08!H20)+SUMIF(PACKT09!$R20,\"TRUE\",PACKT09!H20)+SUMIF(PACKT10!$R20,\"TRUE\",PACKT10!H20)+SUMIF(PACKT11!$R20,\"TRUE\",PACKT11!H20)","v":0},{"$f":"SUMIF(PACKT01!$R20,\"TRUE\",PACKT01!I20)+SUMIF(PACKT02!$R20,\"TRUE\",PACKT02!I20)+SUMIF(PACKT03!$R20,\"TRUE\",PACKT03!I20)+SUMIF(PACKT04!$R20,\"TRUE\",PACKT04!I20)+SUMIF(PACKT05!$R20,\"TRUE\",PACKT05!I20)+SUMIF(PACKT06!$R21,\"TRUE\",PACKT06!I21)+SUMIF(PACKT07!$R20,\"TRUE\",PACKT07!I20)+SUMIF(PACKT08!$R20,\"TRUE\",PACKT08!I20)+SUMIF(PACKT09!$R20,\"TRUE\",PACKT09!I20)+SUMIF(PACKT10!$R20,\"TRUE\",PACKT10!I20)+SUMIF(PACKT11!$R20,\"TRUE\",PACKT11!I20)","v":0},{"$f":"SUMIF(PACKT01!$R20,\"TRUE\",PACKT01!J20)+SUMIF(PACKT02!$R20,\"TRUE\",PACKT02!J20)+SUMIF(PACKT03!$R20,\"TRUE\",PACKT03!J20)+SUMIF(PACKT04!$R20,\"TRUE\",PACKT04!J20)+SUMIF(PACKT05!$R20,\"TRUE\",PACKT05!J20)+SUMIF(PACKT06!$R21,\"TRUE\",PACKT06!J21)+SUMIF(PACKT07!$R20,\"TRUE\",PACKT07!J20)+SUMIF(PACKT08!$R20,\"TRUE\",PACKT08!J20)+SUMIF(PACKT09!$R20,\"TRUE\",PACKT09!J20)+SUMIF(PACKT10!$R20,\"TRUE\",PACKT10!J20)+SUMIF(PACKT11!$R20,\"TRUE\",PACKT11!J20)","v":0},{"$f":"SUMIF(PACKT01!$R20,\"TRUE\",PACKT01!K20)+SUMIF(PACKT02!$R20,\"TRUE\",PACKT02!K20)+SUMIF(PACKT03!$R20,\"TRUE\",PACKT03!K20)+SUMIF(PACKT04!$R20,\"TRUE\",PACKT04!K20)+SUMIF(PACKT05!$R20,\"TRUE\",PACKT05!K20)+SUMIF(PACKT06!$R21,\"TRUE\",PACKT06!K21)+SUMIF(PACKT07!$R20,\"TRUE\",PACKT07!K20)+SUMIF(PACKT08!$R20,\"TRUE\",PACKT08!K20)+SUMIF(PACKT09!$R20,\"TRUE\",PACKT09!K20)+SUMIF(PACKT10!$R20,\"TRUE\",PACKT10!K20)+SUMIF(PACKT11!$R20,\"TRUE\",PACKT11!K20)","v":0},{"$f":"SUMIF(PACKT01!$R20,\"TRUE\",PACKT01!L20)+SUMIF(PACKT02!$R20,\"TRUE\",PACKT02!L20)+SUMIF(PACKT03!$R20,\"TRUE\",PACKT03!L20)+SUMIF(PACKT04!$R20,\"TRUE\",PACKT04!L20)+SUMIF(PACKT05!$R20,\"TRUE\",PACKT05!L20)+SUMIF(PACKT06!$R21,\"TRUE\",PACKT06!L21)+SUMIF(PACKT07!$R20,\"TRUE\",PACKT07!L20)+SUMIF(PACKT08!$R20,\"TRUE\",PACKT08!L20)+SUMIF(PACKT09!$R20,\"TRUE\",PACKT09!L20)+SUMIF(PACKT10!$R20,\"TRUE\",PACKT10!L20)+SUMIF(PACKT11!$R20,\"TRUE\",PACKT11!L20)","v":0},{"$f":"SUMIF(PACKT01!$R20,\"TRUE\",PACKT01!M20)+SUMIF(PACKT02!$R20,\"TRUE\",PACKT02!M20)+SUMIF(PACKT03!$R20,\"TRUE\",PACKT03!M20)+SUMIF(PACKT04!$R20,\"TRUE\",PACKT04!M20)+SUMIF(PACKT05!$R20,\"TRUE\",PACKT05!M20)+SUMIF(PACKT06!$R21,\"TRUE\",PACKT06!M21)+SUMIF(PACKT07!$R20,\"TRUE\",PACKT07!M20)+SUMIF(PACKT08!$R20,\"TRUE\",PACKT08!M20)+SUMIF(PACKT09!$R20,\"TRUE\",PACKT09!M20)+SUMIF(PACKT10!$R20,\"TRUE\",PACKT10!M20)+SUMIF(PACKT11!$R20,\"TRUE\",PACKT11!M20)","v":0},{"$f":"SUMIF(PACKT01!$R20,\"TRUE\",PACKT01!N20)+SUMIF(PACKT02!$R20,\"TRUE\",PACKT02!N20)+SUMIF(PACKT03!$R20,\"TRUE\",PACKT03!N20)+SUMIF(PACKT04!$R20,\"TRUE\",PACKT04!N20)+SUMIF(PACKT05!$R20,\"TRUE\",PACKT05!N20)+SUMIF(PACKT06!$R21,\"TRUE\",PACKT06!N21)+SUMIF(PACKT07!$R20,\"TRUE\",PACKT07!N20)+SUMIF(PACKT08!$R20,\"TRUE\",PACKT08!N20)+SUMIF(PACKT09!$R20,\"TRUE\",PACKT09!N20)+SUMIF(PACKT10!$R20,\"TRUE\",PACKT10!N20)+SUMIF(PACKT11!$R20,\"TRUE\",PACKT11!N20)","v":0},{"$f":"SUMIF(PACKT01!$R20,\"TRUE\",PACKT01!O20)+SUMIF(PACKT02!$R20,\"TRUE\",PACKT02!O20)+SUMIF(PACKT03!$R20,\"TRUE\",PACKT03!O20)+SUMIF(PACKT04!$R20,\"TRUE\",PACKT04!O20)+SUMIF(PACKT05!$R20,\"TRUE\",PACKT05!O20)+SUMIF(PACKT06!$R21,\"TRUE\",PACKT06!O21)+SUMIF(PACKT07!$R20,\"TRUE\",PACKT07!O20)+SUMIF(PACKT08!$R20,\"TRUE\",PACKT08!O20)+SUMIF(PACKT09!$R20,\"TRUE\",PACKT09!O20)+SUMIF(PACKT10!$R20,\"TRUE\",PACKT10!O20)+SUMIF(PACKT11!$R20,\"TRUE\",PACKT11!O20)","v":0},{"$f":"SUMIF(PACKT01!$R20,\"TRUE\",PACKT01!P20)+SUMIF(PACKT02!$R20,\"TRUE\",PACKT02!P20)+SUMIF(PACKT03!$R20,\"TRUE\",PACKT03!P20)+SUMIF(PACKT04!$R20,\"TRUE\",PACKT04!P20)+SUMIF(PACKT05!$R20,\"TRUE\",PACKT05!P20)+SUMIF(PACKT06!$R21,\"TRUE\",PACKT06!P21)+SUMIF(PACKT07!$R20,\"TRUE\",PACKT07!P20)+SUMIF(PACKT08!$R20,\"TRUE\",PACKT08!P20)+SUMIF(PACKT09!$R20,\"TRUE\",PACKT09!P20)+SUMIF(PACKT10!$R20,\"TRUE\",PACKT10!P20)+SUMIF(PACKT11!$R20,\"TRUE\",PACKT11!P20)","v":0},{"$f":"SUMIF(PACKT01!$R20,\"TRUE\",PACKT01!Q20)+SUMIF(PACKT02!$R20,\"TRUE\",PACKT02!Q20)+SUMIF(PACKT03!$R20,\"TRUE\",PACKT03!Q20)+SUMIF(PACKT04!$R20,\"TRUE\",PACKT04!Q20)+SUMIF(PACKT05!$R20,\"TRUE\",PACKT05!Q20)+SUMIF(PACKT06!$R21,\"TRUE\",PACKT06!Q21)+SUMIF(PACKT07!$R20,\"TRUE\",PACKT07!Q20)+SUMIF(PACKT08!$R20,\"TRUE\",PACKT08!Q20)+SUMIF(PACKT09!$R20,\"TRUE\",PACKT09!Q20)+SUMIF(PACKT10!$R20,\"TRUE\",PACKT10!Q20)+SUMIF(PACKT11!$R20,\"TRUE\",PACKT11!Q20)","v":0},0]
[null,"EMP0010",{"$f":"VLOOKUP(HRSummarylTable[[#This Row],[EmployeeID]],EmployeeListLookupTable[],2,FALSE)","v":"EMPN010"},{"$f":"VLOOKUP(HRSummarylTable[[#This Row],[EmployeeID]],EmployeeListLookupTable[],3,FALSE)","v":"Employee Name 10"},{"$f":"VLOOKUP(HRSummarylTable[[#This Row],[EmployeeID]],EmployeeListLookupTable[],4,FALSE)","v":"Employee Job Title 10"},"TCTC001 - Total Cost to Company",{"$f":"LEFT(HRSummarylTable[[#This Row],[PackageItemCode]],7)","v":"TCTC001"},{"$f":"VLOOKUP(HRSummarylTable[[#This Row],[PackageItem]],PackageItemListLookup[],2,FALSE)","v":"Total Cost to Company"},null,{"$f":"SUMIF(PACKT01!$R21,\"TRUE\",PACKT01!F21)+SUMIF(PACKT02!$R21,\"TRUE\",PACKT02!F21)+SUMIF(PACKT03!$R21,\"TRUE\",PACKT03!F21)+SUMIF(PACKT04!$R21,\"TRUE\",PACKT04!F21)+SUMIF(PACKT05!$R21,\"TRUE\",PACKT05!F21)+SUMIF(PACKT06!$R22,\"TRUE\",PACKT06!F22)+SUMIF(PACKT07!$R21,\"TRUE\",PACKT07!F21)+SUMIF(PACKT08!$R21,\"TRUE\",PACKT08!F21)+SUMIF(PACKT09!$R21,\"TRUE\",PACKT09!F21)+SUMIF(PACKT10!$R21,\"TRUE\",PACKT10!F21)+SUMIF(PACKT11!$R21,\"TRUE\",PACKT11!F21)","v":0},{"$f":"SUMIF(PACKT01!$R21,\"TRUE\",PACKT01!G21)+SUMIF(PACKT02!$R21,\"TRUE\",PACKT02!G21)+SUMIF(PACKT03!$R21,\"TRUE\",PACKT03!G21)+SUMIF(PACKT04!$R21,\"TRUE\",PACKT04!G21)+SUMIF(PACKT05!$R21,\"TRUE\",PACKT05!G21)+SUMIF(PACKT06!$R22,\"TRUE\",PACKT06!G22)+SUMIF(PACKT07!$R21,\"TRUE\",PACKT07!G21)+SUMIF(PACKT08!$R21,\"TRUE\",PACKT08!G21)+SUMIF(PACKT09!$R21,\"TRUE\",PACKT09!G21)+SUMIF(PACKT10!$R21,\"TRUE\",PACKT10!G21)+SUMIF(PACKT11!$R21,\"TRUE\",PACKT11!G21)","v":0},{"$f":"SUMIF(PACKT01!$R21,\"TRUE\",PACKT01!H21)+SUMIF(PACKT02!$R21,\"TRUE\",PACKT02!H21)+SUMIF(PACKT03!$R21,\"TRUE\",PACKT03!H21)+SUMIF(PACKT04!$R21,\"TRUE\",PACKT04!H21)+SUMIF(PACKT05!$R21,\"TRUE\",PACKT05!H21)+SUMIF(PACKT06!$R22,\"TRUE\",PACKT06!H22)+SUMIF(PACKT07!$R21,\"TRUE\",PACKT07!H21)+SUMIF(PACKT08!$R21,\"TRUE\",PACKT08!H21)+SUMIF(PACKT09!$R21,\"TRUE\",PACKT09!H21)+SUMIF(PACKT10!$R21,\"TRUE\",PACKT10!H21)+SUMIF(PACKT11!$R21,\"TRUE\",PACKT11!H21)","v":0},{"$f":"SUMIF(PACKT01!$R21,\"TRUE\",PACKT01!I21)+SUMIF(PACKT02!$R21,\"TRUE\",PACKT02!I21)+SUMIF(PACKT03!$R21,\"TRUE\",PACKT03!I21)+SUMIF(PACKT04!$R21,\"TRUE\",PACKT04!I21)+SUMIF(PACKT05!$R21,\"TRUE\",PACKT05!I21)+SUMIF(PACKT06!$R22,\"TRUE\",PACKT06!I22)+SUMIF(PACKT07!$R21,\"TRUE\",PACKT07!I21)+SUMIF(PACKT08!$R21,\"TRUE\",PACKT08!I21)+SUMIF(PACKT09!$R21,\"TRUE\",PACKT09!I21)+SUMIF(PACKT10!$R21,\"TRUE\",PACKT10!I21)+SUMIF(PACKT11!$R21,\"TRUE\",PACKT11!I21)","v":0},{"$f":"SUMIF(PACKT01!$R21,\"TRUE\",PACKT01!J21)+SUMIF(PACKT02!$R21,\"TRUE\",PACKT02!J21)+SUMIF(PACKT03!$R21,\"TRUE\",PACKT03!J21)+SUMIF(PACKT04!$R21,\"TRUE\",PACKT04!J21)+SUMIF(PACKT05!$R21,\"TRUE\",PACKT05!J21)+SUMIF(PACKT06!$R22,\"TRUE\",PACKT06!J22)+SUMIF(PACKT07!$R21,\"TRUE\",PACKT07!J21)+SUMIF(PACKT08!$R21,\"TRUE\",PACKT08!J21)+SUMIF(PACKT09!$R21,\"TRUE\",PACKT09!J21)+SUMIF(PACKT10!$R21,\"TRUE\",PACKT10!J21)+SUMIF(PACKT11!$R21,\"TRUE\",PACKT11!J21)","v":0},{"$f":"SUMIF(PACKT01!$R21,\"TRUE\",PACKT01!K21)+SUMIF(PACKT02!$R21,\"TRUE\",PACKT02!K21)+SUMIF(PACKT03!$R21,\"TRUE\",PACKT03!K21)+SUMIF(PACKT04!$R21,\"TRUE\",PACKT04!K21)+SUMIF(PACKT05!$R21,\"TRUE\",PACKT05!K21)+SUMIF(PACKT06!$R22,\"TRUE\",PACKT06!K22)+SUMIF(PACKT07!$R21,\"TRUE\",PACKT07!K21)+SUMIF(PACKT08!$R21,\"TRUE\",PACKT08!K21)+SUMIF(PACKT09!$R21,\"TRUE\",PACKT09!K21)+SUMIF(PACKT10!$R21,\"TRUE\",PACKT10!K21)+SUMIF(PACKT11!$R21,\"TRUE\",PACKT11!K21)","v":0},{"$f":"SUMIF(PACKT01!$R21,\"TRUE\",PACKT01!L21)+SUMIF(PACKT02!$R21,\"TRUE\",PACKT02!L21)+SUMIF(PACKT03!$R21,\"TRUE\",PACKT03!L21)+SUMIF(PACKT04!$R21,\"TRUE\",PACKT04!L21)+SUMIF(PACKT05!$R21,\"TRUE\",PACKT05!L21)+SUMIF(PACKT06!$R22,\"TRUE\",PACKT06!L22)+SUMIF(PACKT07!$R21,\"TRUE\",PACKT07!L21)+SUMIF(PACKT08!$R21,\"TRUE\",PACKT08!L21)+SUMIF(PACKT09!$R21,\"TRUE\",PACKT09!L21)+SUMIF(PACKT10!$R21,\"TRUE\",PACKT10!L21)+SUMIF(PACKT11!$R21,\"TRUE\",PACKT11!L21)","v":0},{"$f":"SUMIF(PACKT01!$R21,\"TRUE\",PACKT01!M21)+SUMIF(PACKT02!$R21,\"TRUE\",PACKT02!M21)+SUMIF(PACKT03!$R21,\"TRUE\",PACKT03!M21)+SUMIF(PACKT04!$R21,\"TRUE\",PACKT04!M21)+SUMIF(PACKT05!$R21,\"TRUE\",PACKT05!M21)+SUMIF(PACKT06!$R22,\"TRUE\",PACKT06!M22)+SUMIF(PACKT07!$R21,\"TRUE\",PACKT07!M21)+SUMIF(PACKT08!$R21,\"TRUE\",PACKT08!M21)+SUMIF(PACKT09!$R21,\"TRUE\",PACKT09!M21)+SUMIF(PACKT10!$R21,\"TRUE\",PACKT10!M21)+SUMIF(PACKT11!$R21,\"TRUE\",PACKT11!M21)","v":0},{"$f":"SUMIF(PACKT01!$R21,\"TRUE\",PACKT01!N21)+SUMIF(PACKT02!$R21,\"TRUE\",PACKT02!N21)+SUMIF(PACKT03!$R21,\"TRUE\",PACKT03!N21)+SUMIF(PACKT04!$R21,\"TRUE\",PACKT04!N21)+SUMIF(PACKT05!$R21,\"TRUE\",PACKT05!N21)+SUMIF(PACKT06!$R22,\"TRUE\",PACKT06!N22)+SUMIF(PACKT07!$R21,\"TRUE\",PACKT07!N21)+SUMIF(PACKT08!$R21,\"TRUE\",PACKT08!N21)+SUMIF(PACKT09!$R21,\"TRUE\",PACKT09!N21)+SUMIF(PACKT10!$R21,\"TRUE\",PACKT10!N21)+SUMIF(PACKT11!$R21,\"TRUE\",PACKT11!N21)","v":0},{"$f":"SUMIF(PACKT01!$R21,\"TRUE\",PACKT01!O21)+SUMIF(PACKT02!$R21,\"TRUE\",PACKT02!O21)+SUMIF(PACKT03!$R21,\"TRUE\",PACKT03!O21)+SUMIF(PACKT04!$R21,\"TRUE\",PACKT04!O21)+SUMIF(PACKT05!$R21,\"TRUE\",PACKT05!O21)+SUMIF(PACKT06!$R22,\"TRUE\",PACKT06!O22)+SUMIF(PACKT07!$R21,\"TRUE\",PACKT07!O21)+SUMIF(PACKT08!$R21,\"TRUE\",PACKT08!O21)+SUMIF(PACKT09!$R21,\"TRUE\",PACKT09!O21)+SUMIF(PACKT10!$R21,\"TRUE\",PACKT10!O21)+SUMIF(PACKT11!$R21,\"TRUE\",PACKT11!O21)","v":0},{"$f":"SUMIF(PACKT01!$R21,\"TRUE\",PACKT01!P21)+SUMIF(PACKT02!$R21,\"TRUE\",PACKT02!P21)+SUMIF(PACKT03!$R21,\"TRUE\",PACKT03!P21)+SUMIF(PACKT04!$R21,\"TRUE\",PACKT04!P21)+SUMIF(PACKT05!$R21,\"TRUE\",PACKT05!P21)+SUMIF(PACKT06!$R22,\"TRUE\",PACKT06!P22)+SUMIF(PACKT07!$R21,\"TRUE\",PACKT07!P21)+SUMIF(PACKT08!$R21,\"TRUE\",PACKT08!P21)+SUMIF(PACKT09!$R21,\"TRUE\",PACKT09!P21)+SUMIF(PACKT10!$R21,\"TRUE\",PACKT10!P21)+SUMIF(PACKT11!$R21,\"TRUE\",PACKT11!P21)","v":0},{"$f":"SUMIF(PACKT01!$R21,\"TRUE\",PACKT01!Q21)+SUMIF(PACKT02!$R21,\"TRUE\",PACKT02!Q21)+SUMIF(PACKT03!$R21,\"TRUE\",PACKT03!Q21)+SUMIF(PACKT04!$R21,\"TRUE\",PACKT04!Q21)+SUMIF(PACKT05!$R21,\"TRUE\",PACKT05!Q21)+SUMIF(PACKT06!$R22,\"TRUE\",PACKT06!Q22)+SUMIF(PACKT07!$R21,\"TRUE\",PACKT07!Q21)+SUMIF(PACKT08!$R21,\"TRUE\",PACKT08!Q21)+SUMIF(PACKT09!$R21,\"TRUE\",PACKT09!Q21)+SUMIF(PACKT10!$R21,\"TRUE\",PACKT10!Q21)+SUMIF(PACKT11!$R21,\"TRUE\",PACKT11!Q21)","v":0},0]
[null,"EMP0011",{"$f":"VLOOKUP(HRSummarylTable[[#This Row],[EmployeeID]],EmployeeListLookupTable[],2,FALSE)","v":"EMPN011"},{"$f":"VLOOKUP(HRSummarylTable[[#This Row],[EmployeeID]],EmployeeListLookupTable[],3,FALSE)","v":"Employee Name 11"},{"$f":"VLOOKUP(HRSummarylTable[[#This Row],[EmployeeID]],EmployeeListLookupTable[],4,FALSE)","v":"Employee Job Title 11"},"TCTC001 - Total Cost to Company",{"$f":"LEFT(HRSummarylTable[[#This Row],[PackageItemCode]],7)","v":"TCTC001"},{"$f":"VLOOKUP(HRSummarylTable[[#This Row],[PackageItem]],PackageItemListLookup[],2,FALSE)","v":"Total Cost to Company"},null,{"$f":"SUMIF(PACKT01!$R22,\"TRUE\",PACKT01!F22)+SUMIF(PACKT02!$R22,\"TRUE\",PACKT02!F22)+SUMIF(PACKT03!$R22,\"TRUE\",PACKT03!F22)+SUMIF(PACKT04!$R22,\"TRUE\",PACKT04!F22)+SUMIF(PACKT05!$R22,\"TRUE\",PACKT05!F22)+SUMIF(PACKT06!$R23,\"TRUE\",PACKT06!F23)+SUMIF(PACKT07!$R22,\"TRUE\",PACKT07!F22)+SUMIF(PACKT08!$R22,\"TRUE\",PACKT08!F22)+SUMIF(PACKT09!$R22,\"TRUE\",PACKT09!F22)+SUMIF(PACKT10!$R22,\"TRUE\",PACKT10!F22)+SUMIF(PACKT11!$R22,\"TRUE\",PACKT11!F22)","v":0},{"$f":"SUMIF(PACKT01!$R22,\"TRUE\",PACKT01!G22)+SUMIF(PACKT02!$R22,\"TRUE\",PACKT02!G22)+SUMIF(PACKT03!$R22,\"TRUE\",PACKT03!G22)+SUMIF(PACKT04!$R22,\"TRUE\",PACKT04!G22)+SUMIF(PACKT05!$R22,\"TRUE\",PACKT05!G22)+SUMIF(PACKT06!$R23,\"TRUE\",PACKT06!G23)+SUMIF(PACKT07!$R22,\"TRUE\",PACKT07!G22)+SUMIF(PACKT08!$R22,\"TRUE\",PACKT08!G22)+SUMIF(PACKT09!$R22,\"TRUE\",PACKT09!G22)+SUMIF(PACKT10!$R22,\"TRUE\",PACKT10!G22)+SUMIF(PACKT11!$R22,\"TRUE\",PACKT11!G22)","v":0},{"$f":"SUMIF(PACKT01!$R22,\"TRUE\",PACKT01!H22)+SUMIF(PACKT02!$R22,\"TRUE\",PACKT02!H22)+SUMIF(PACKT03!$R22,\"TRUE\",PACKT03!H22)+SUMIF(PACKT04!$R22,\"TRUE\",PACKT04!H22)+SUMIF(PACKT05!$R22,\"TRUE\",PACKT05!H22)+SUMIF(PACKT06!$R23,\"TRUE\",PACKT06!H23)+SUMIF(PACKT07!$R22,\"TRUE\",PACKT07!H22)+SUMIF(PACKT08!$R22,\"TRUE\",PACKT08!H22)+SUMIF(PACKT09!$R22,\"TRUE\",PACKT09!H22)+SUMIF(PACKT10!$R22,\"TRUE\",PACKT10!H22)+SUMIF(PACKT11!$R22,\"TRUE\",PACKT11!H22)","v":0},{"$f":"SUMIF(PACKT01!$R22,\"TRUE\",PACKT01!I22)+SUMIF(PACKT02!$R22,\"TRUE\",PACKT02!I22)+SUMIF(PACKT03!$R22,\"TRUE\",PACKT03!I22)+SUMIF(PACKT04!$R22,\"TRUE\",PACKT04!I22)+SUMIF(PACKT05!$R22,\"TRUE\",PACKT05!I22)+SUMIF(PACKT06!$R23,\"TRUE\",PACKT06!I23)+SUMIF(PACKT07!$R22,\"TRUE\",PACKT07!I22)+SUMIF(PACKT08!$R22,\"TRUE\",PACKT08!I22)+SUMIF(PACKT09!$R22,\"TRUE\",PACKT09!I22)+SUMIF(PACKT10!$R22,\"TRUE\",PACKT10!I22)+SUMIF(PACKT11!$R22,\"TRUE\",PACKT11!I22)","v":0},{"$f":"SUMIF(PACKT01!$R22,\"TRUE\",PACKT01!J22)+SUMIF(PACKT02!$R22,\"TRUE\",PACKT02!J22)+SUMIF(PACKT03!$R22,\"TRUE\",PACKT03!J22)+SUMIF(PACKT04!$R22,\"TRUE\",PACKT04!J22)+SUMIF(PACKT05!$R22,\"TRUE\",PACKT05!J22)+SUMIF(PACKT06!$R23,\"TRUE\",PACKT06!J23)+SUMIF(PACKT07!$R22,\"TRUE\",PACKT07!J22)+SUMIF(PACKT08!$R22,\"TRUE\",PACKT08!J22)+SUMIF(PACKT09!$R22,\"TRUE\",PACKT09!J22)+SUMIF(PACKT10!$R22,\"TRUE\",PACKT10!J22)+SUMIF(PACKT11!$R22,\"TRUE\",PACKT11!J22)","v":0},{"$f":"SUMIF(PACKT01!$R22,\"TRUE\",PACKT01!K22)+SUMIF(PACKT02!$R22,\"TRUE\",PACKT02!K22)+SUMIF(PACKT03!$R22,\"TRUE\",PACKT03!K22)+SUMIF(PACKT04!$R22,\"TRUE\",PACKT04!K22)+SUMIF(PACKT05!$R22,\"TRUE\",PACKT05!K22)+SUMIF(PACKT06!$R23,\"TRUE\",PACKT06!K23)+SUMIF(PACKT07!$R22,\"TRUE\",PACKT07!K22)+SUMIF(PACKT08!$R22,\"TRUE\",PACKT08!K22)+SUMIF(PACKT09!$R22,\"TRUE\",PACKT09!K22)+SUMIF(PACKT10!$R22,\"TRUE\",PACKT10!K22)+SUMIF(PACKT11!$R22,\"TRUE\",PACKT11!K22)","v":0},{"$f":"SUMIF(PACKT01!$R22,\"TRUE\",PACKT01!L22)+SUMIF(PACKT02!$R22,\"TRUE\",PACKT02!L22)+SUMIF(PACKT03!$R22,\"TRUE\",PACKT03!L22)+SUMIF(PACKT04!$R22,\"TRUE\",PACKT04!L22)+SUMIF(PACKT05!$R22,\"TRUE\",PACKT05!L22)+SUMIF(PACKT06!$R23,\"TRUE\",PACKT06!L23)+SUMIF(PACKT07!$R22,\"TRUE\",PACKT07!L22)+SUMIF(PACKT08!$R22,\"TRUE\",PACKT08!L22)+SUMIF(PACKT09!$R22,\"TRUE\",PACKT09!L22)+SUMIF(PACKT10!$R22,\"TRUE\",PACKT10!L22)+SUMIF(PACKT11!$R22,\"TRUE\",PACKT11!L22)","v":0},{"$f":"SUMIF(PACKT01!$R22,\"TRUE\",PACKT01!M22)+SUMIF(PACKT02!$R22,\"TRUE\",PACKT02!M22)+SUMIF(PACKT03!$R22,\"TRUE\",PACKT03!M22)+SUMIF(PACKT04!$R22,\"TRUE\",PACKT04!M22)+SUMIF(PACKT05!$R22,\"TRUE\",PACKT05!M22)+SUMIF(PACKT06!$R23,\"TRUE\",PACKT06!M23)+SUMIF(PACKT07!$R22,\"TRUE\",PACKT07!M22)+SUMIF(PACKT08!$R22,\"TRUE\",PACKT08!M22)+SUMIF(PACKT09!$R22,\"TRUE\",PACKT09!M22)+SUMIF(PACKT10!$R22,\"TRUE\",PACKT10!M22)+SUMIF(PACKT11!$R22,\"TRUE\",PACKT11!M22)","v":0},{"$f":"SUMIF(PACKT01!$R22,\"TRUE\",PACKT01!N22)+SUMIF(PACKT02!$R22,\"TRUE\",PACKT02!N22)+SUMIF(PACKT03!$R22,\"TRUE\",PACKT03!N22)+SUMIF(PACKT04!$R22,\"TRUE\",PACKT04!N22)+SUMIF(PACKT05!$R22,\"TRUE\",PACKT05!N22)+SUMIF(PACKT06!$R23,\"TRUE\",PACKT06!N23)+SUMIF(PACKT07!$R22,\"TRUE\",PACKT07!N22)+SUMIF(PACKT08!$R22,\"TRUE\",PACKT08!N22)+SUMIF(PACKT09!$R22,\"TRUE\",PACKT09!N22)+SUMIF(PACKT10!$R22,\"TRUE\",PACKT10!N22)+SUMIF(PACKT11!$R22,\"TRUE\",PACKT11!N22)","v":0},{"$f":"SUMIF(PACKT01!$R22,\"TRUE\",PACKT01!O22)+SUMIF(PACKT02!$R22,\"TRUE\",PACKT02!O22)+SUMIF(PACKT03!$R22,\"TRUE\",PACKT03!O22)+SUMIF(PACKT04!$R22,\"TRUE\",PACKT04!O22)+SUMIF(PACKT05!$R22,\"TRUE\",PACKT05!O22)+SUMIF(PACKT06!$R23,\"TRUE\",PACKT06!O23)+SUMIF(PACKT07!$R22,\"TRUE\",PACKT07!O22)+SUMIF(PACKT08!$R22,\"TRUE\",PACKT08!O22)+SUMIF(PACKT09!$R22,\"TRUE\",PACKT09!O22)+SUMIF(PACKT10!$R22,\"TRUE\",PACKT10!O22)+SUMIF(PACKT11!$R22,\"TRUE\",PACKT11!O22)","v":0},{"$f":"SUMIF(PACKT01!$R22,\"TRUE\",PACKT01!P22)+SUMIF(PACKT02!$R22,\"TRUE\",PACKT02!P22)+SUMIF(PACKT03!$R22,\"TRUE\",PACKT03!P22)+SUMIF(PACKT04!$R22,\"TRUE\",PACKT04!P22)+SUMIF(PACKT05!$R22,\"TRUE\",PACKT05!P22)+SUMIF(PACKT06!$R23,\"TRUE\",PACKT06!P23)+SUMIF(PACKT07!$R22,\"TRUE\",PACKT07!P22)+SUMIF(PACKT08!$R22,\"TRUE\",PACKT08!P22)+SUMIF(PACKT09!$R22,\"TRUE\",PACKT09!P22)+SUMIF(PACKT10!$R22,\"TRUE\",PACKT10!P22)+SUMIF(PACKT11!$R22,\"TRUE\",PACKT11!P22)","v":0},{"$f":"SUMIF(PACKT01!$R22,\"TRUE\",PACKT01!Q22)+SUMIF(PACKT02!$R22,\"TRUE\",PACKT02!Q22)+SUMIF(PACKT03!$R22,\"TRUE\",PACKT03!Q22)+SUMIF(PACKT04!$R22,\"TRUE\",PACKT04!Q22)+SUMIF(PACKT05!$R22,\"TRUE\",PACKT05!Q22)+SUMIF(PACKT06!$R23,\"TRUE\",PACKT06!Q23)+SUMIF(PACKT07!$R22,\"TRUE\",PACKT07!Q22)+SUMIF(PACKT08!$R22,\"TRUE\",PACKT08!Q22)+SUMIF(PACKT09!$R22,\"TRUE\",PACKT09!Q22)+SUMIF(PACKT10!$R22,\"TRUE\",PACKT10!Q22)+SUMIF(PACKT11!$R22,\"TRUE\",PACKT11!Q22)","v":0},0]
[null,"EMP0012",{"$f":"VLOOKUP(HRSummarylTable[[#This Row],[EmployeeID]],EmployeeListLookupTable[],2,FALSE)","v":"EMPN012"},{"$f":"VLOOKUP(HRSummarylTable[[#This Row],[EmployeeID]],EmployeeListLookupTable[],3,FALSE)","v":"Employee Name 12"},{"$f":"VLOOKUP(HRSummarylTable[[#This Row],[EmployeeID]],EmployeeListLookupTable[],4,FALSE)","v":"Employee Job Title 12"},"TCTC001 - Total Cost to Company",{"$f":"LEFT(HRSummarylTable[[#This Row],[PackageItemCode]],7)","v":"TCTC001"},{"$f":"VLOOKUP(HRSummarylTable[[#This Row],[PackageItem]],PackageItemListLookup[],2,FALSE)","v":"Total Cost to Company"},null,{"$f":"SUMIF(PACKT01!$R23,\"TRUE\",PACKT01!F23)+SUMIF(PACKT02!$R23,\"TRUE\",PACKT02!F23)+SUMIF(PACKT03!$R23,\"TRUE\",PACKT03!F23)+SUMIF(PACKT04!$R23,\"TRUE\",PACKT04!F23)+SUMIF(PACKT05!$R23,\"TRUE\",PACKT05!F23)+SUMIF(PACKT06!$R24,\"TRUE\",PACKT06!F24)+SUMIF(PACKT07!$R23,\"TRUE\",PACKT07!F23)+SUMIF(PACKT08!$R23,\"TRUE\",PACKT08!F23)+SUMIF(PACKT09!$R23,\"TRUE\",PACKT09!F23)+SUMIF(PACKT10!$R23,\"TRUE\",PACKT10!F23)+SUMIF(PACKT11!$R23,\"TRUE\",PACKT11!F23)","v":0},{"$f":"SUMIF(PACKT01!$R23,\"TRUE\",PACKT01!G23)+SUMIF(PACKT02!$R23,\"TRUE\",PACKT02!G23)+SUMIF(PACKT03!$R23,\"TRUE\",PACKT03!G23)+SUMIF(PACKT04!$R23,\"TRUE\",PACKT04!G23)+SUMIF(PACKT05!$R23,\"TRUE\",PACKT05!G23)+SUMIF(PACKT06!$R24,\"TRUE\",PACKT06!G24)+SUMIF(PACKT07!$R23,\"TRUE\",PACKT07!G23)+SUMIF(PACKT08!$R23,\"TRUE\",PACKT08!G23)+SUMIF(PACKT09!$R23,\"TRUE\",PACKT09!G23)+SUMIF(PACKT10!$R23,\"TRUE\",PACKT10!G23)+SUMIF(PACKT11!$R23,\"TRUE\",PACKT11!G23)","v":0},{"$f":"SUMIF(PACKT01!$R23,\"TRUE\",PACKT01!H23)+SUMIF(PACKT02!$R23,\"TRUE\",PACKT02!H23)+SUMIF(PACKT03!$R23,\"TRUE\",PACKT03!H23)+SUMIF(PACKT04!$R23,\"TRUE\",PACKT04!H23)+SUMIF(PACKT05!$R23,\"TRUE\",PACKT05!H23)+SUMIF(PACKT06!$R24,\"TRUE\",PACKT06!H24)+SUMIF(PACKT07!$R23,\"TRUE\",PACKT07!H23)+SUMIF(PACKT08!$R23,\"TRUE\",PACKT08!H23)+SUMIF(PACKT09!$R23,\"TRUE\",PACKT09!H23)+SUMIF(PACKT10!$R23,\"TRUE\",PACKT10!H23)+SUMIF(PACKT11!$R23,\"TRUE\",PACKT11!H23)","v":0},{"$f":"SUMIF(PACKT01!$R23,\"TRUE\",PACKT01!I23)+SUMIF(PACKT02!$R23,\"TRUE\",PACKT02!I23)+SUMIF(PACKT03!$R23,\"TRUE\",PACKT03!I23)+SUMIF(PACKT04!$R23,\"TRUE\",PACKT04!I23)+SUMIF(PACKT05!$R23,\"TRUE\",PACKT05!I23)+SUMIF(PACKT06!$R24,\"TRUE\",PACKT06!I24)+SUMIF(PACKT07!$R23,\"TRUE\",PACKT07!I23)+SUMIF(PACKT08!$R23,\"TRUE\",PACKT08!I23)+SUMIF(PACKT09!$R23,\"TRUE\",PACKT09!I23)+SUMIF(PACKT10!$R23,\"TRUE\",PACKT10!I23)+SUMIF(PACKT11!$R23,\"TRUE\",PACKT11!I23)","v":0},{"$f":"SUMIF(PACKT01!$R23,\"TRUE\",PACKT01!J23)+SUMIF(PACKT02!$R23,\"TRUE\",PACKT02!J23)+SUMIF(PACKT03!$R23,\"TRUE\",PACKT03!J23)+SUMIF(PACKT04!$R23,\"TRUE\",PACKT04!J23)+SUMIF(PACKT05!$R23,\"TRUE\",PACKT05!J23)+SUMIF(PACKT06!$R24,\"TRUE\",PACKT06!J24)+SUMIF(PACKT07!$R23,\"TRUE\",PACKT07!J23)+SUMIF(PACKT08!$R23,\"TRUE\",PACKT08!J23)+SUMIF(PACKT09!$R23,\"TRUE\",PACKT09!J23)+SUMIF(PACKT10!$R23,\"TRUE\",PACKT10!J23)+SUMIF(PACKT11!$R23,\"TRUE\",PACKT11!J23)","v":0},{"$f":"SUMIF(PACKT01!$R23,\"TRUE\",PACKT01!K23)+SUMIF(PACKT02!$R23,\"TRUE\",PACKT02!K23)+SUMIF(PACKT03!$R23,\"TRUE\",PACKT03!K23)+SUMIF(PACKT04!$R23,\"TRUE\",PACKT04!K23)+SUMIF(PACKT05!$R23,\"TRUE\",PACKT05!K23)+SUMIF(PACKT06!$R24,\"TRUE\",PACKT06!K24)+SUMIF(PACKT07!$R23,\"TRUE\",PACKT07!K23)+SUMIF(PACKT08!$R23,\"TRUE\",PACKT08!K23)+SUMIF(PACKT09!$R23,\"TRUE\",PACKT09!K23)+SUMIF(PACKT10!$R23,\"TRUE\",PACKT10!K23)+SUMIF(PACKT11!$R23,\"TRUE\",PACKT11!K23)","v":0},{"$f":"SUMIF(PACKT01!$R23,\"TRUE\",PACKT01!L23)+SUMIF(PACKT02!$R23,\"TRUE\",PACKT02!L23)+SUMIF(PACKT03!$R23,\"TRUE\",PACKT03!L23)+SUMIF(PACKT04!$R23,\"TRUE\",PACKT04!L23)+SUMIF(PACKT05!$R23,\"TRUE\",PACKT05!L23)+SUMIF(PACKT06!$R24,\"TRUE\",PACKT06!L24)+SUMIF(PACKT07!$R23,\"TRUE\",PACKT07!L23)+SUMIF(PACKT08!$R23,\"TRUE\",PACKT08!L23)+SUMIF(PACKT09!$R23,\"TRUE\",PACKT09!L23)+SUMIF(PACKT10!$R23,\"TRUE\",PACKT10!L23)+SUMIF(PACKT11!$R23,\"TRUE\",PACKT11!L23)","v":0},{"$f":"SUMIF(PACKT01!$R23,\"TRUE\",PACKT01!M23)+SUMIF(PACKT02!$R23,\"TRUE\",PACKT02!M23)+SUMIF(PACKT03!$R23,\"TRUE\",PACKT03!M23)+SUMIF(PACKT04!$R23,\"TRUE\",PACKT04!M23)+SUMIF(PACKT05!$R23,\"TRUE\",PACKT05!M23)+SUMIF(PACKT06!$R24,\"TRUE\",PACKT06!M24)+SUMIF(PACKT07!$R23,\"TRUE\",PACKT07!M23)+SUMIF(PACKT08!$R23,\"TRUE\",PACKT08!M23)+SUMIF(PACKT09!$R23,\"TRUE\",PACKT09!M23)+SUMIF(PACKT10!$R23,\"TRUE\",PACKT10!M23)+SUMIF(PACKT11!$R23,\"TRUE\",PACKT11!M23)","v":0},{"$f":"SUMIF(PACKT01!$R23,\"TRUE\",PACKT01!N23)+SUMIF(PACKT02!$R23,\"TRUE\",PACKT02!N23)+SUMIF(PACKT03!$R23,\"TRUE\",PACKT03!N23)+SUMIF(PACKT04!$R23,\"TRUE\",PACKT04!N23)+SUMIF(PACKT05!$R23,\"TRUE\",PACKT05!N23)+SUMIF(PACKT06!$R24,\"TRUE\",PACKT06!N24)+SUMIF(PACKT07!$R23,\"TRUE\",PACKT07!N23)+SUMIF(PACKT08!$R23,\"TRUE\",PACKT08!N23)+SUMIF(PACKT09!$R23,\"TRUE\",PACKT09!N23)+SUMIF(PACKT10!$R23,\"TRUE\",PACKT10!N23)+SUMIF(PACKT11!$R23,\"TRUE\",PACKT11!N23)","v":0},{"$f":"SUMIF(PACKT01!$R23,\"TRUE\",PACKT01!O23)+SUMIF(PACKT02!$R23,\"TRUE\",PACKT02!O23)+SUMIF(PACKT03!$R23,\"TRUE\",PACKT03!O23)+SUMIF(PACKT04!$R23,\"TRUE\",PACKT04!O23)+SUMIF(PACKT05!$R23,\"TRUE\",PACKT05!O23)+SUMIF(PACKT06!$R24,\"TRUE\",PACKT06!O24)+SUMIF(PACKT07!$R23,\"TRUE\",PACKT07!O23)+SUMIF(PACKT08!$R23,\"TRUE\",PACKT08!O23)+SUMIF(PACKT09!$R23,\"TRUE\",PACKT09!O23)+SUMIF(PACKT10!$R23,\"TRUE\",PACKT10!O23)+SUMIF(PACKT11!$R23,\"TRUE\",PACKT11!O23)","v":0},{"$f":"SUMIF(PACKT01!$R23,\"TRUE\",PACKT01!P23)+SUMIF(PACKT02!$R23,\"TRUE\",PACKT02!P23)+SUMIF(PACKT03!$R23,\"TRUE\",PACKT03!P23)+SUMIF(PACKT04!$R23,\"TRUE\",PACKT04!P23)+SUMIF(PACKT05!$R23,\"TRUE\",PACKT05!P23)+SUMIF(PACKT06!$R24,\"TRUE\",PACKT06!P24)+SUMIF(PACKT07!$R23,\"TRUE\",PACKT07!P23)+SUMIF(PACKT08!$R23,\"TRUE\",PACKT08!P23)+SUMIF(PACKT09!$R23,\"TRUE\",PACKT09!P23)+SUMIF(PACKT10!$R23,\"TRUE\",PACKT10!P23)+SUMIF(PACKT11!$R23,\"TRUE\",PACKT11!P23)","v":0},{"$f":"SUMIF(PACKT01!$R23,\"TRUE\",PACKT01!Q23)+SUMIF(PACKT02!$R23,\"TRUE\",PACKT02!Q23)+SUMIF(PACKT03!$R23,\"TRUE\",PACKT03!Q23)+SUMIF(PACKT04!$R23,\"TRUE\",PACKT04!Q23)+SUMIF(PACKT05!$R23,\"TRUE\",PACKT05!Q23)+SUMIF(PACKT06!$R24,\"TRUE\",PACKT06!Q24)+SUMIF(PACKT07!$R23,\"TRUE\",PACKT07!Q23)+SUMIF(PACKT08!$R23,\"TRUE\",PACKT08!Q23)+SUMIF(PACKT09!$R23,\"TRUE\",PACKT09!Q23)+SUMIF(PACKT10!$R23,\"TRUE\",PACKT10!Q23)+SUMIF(PACKT11!$R23,\"TRUE\",PACKT11!Q23)","v":0},0]
[null,"EMP0013",{"$f":"VLOOKUP(HRSummarylTable[[#This Row],[EmployeeID]],EmployeeListLookupTable[],2,FALSE)","v":"EMPN013"},{"$f":"VLOOKUP(HRSummarylTable[[#This Row],[EmployeeID]],EmployeeListLookupTable[],3,FALSE)","v":"Employee Name 13"},{"$f":"VLOOKUP(HRSummarylTable[[#This Row],[EmployeeID]],EmployeeListLookupTable[],4,FALSE)","v":"Employee Job Title 13"},"TCTC001 - Total Cost to Company",{"$f":"LEFT(HRSummarylTable[[#This Row],[PackageItemCode]],7)","v":"TCTC001"},{"$f":"VLOOKUP(HRSummarylTable[[#This Row],[PackageItem]],PackageItemListLookup[],2,FALSE)","v":"Total Cost to Company"},null,{"$f":"SUMIF(PACKT01!$R24,\"TRUE\",PACKT01!F24)+SUMIF(PACKT02!$R24,\"TRUE\",PACKT02!F24)+SUMIF(PACKT03!$R24,\"TRUE\",PACKT03!F24)+SUMIF(PACKT04!$R24,\"TRUE\",PACKT04!F24)+SUMIF(PACKT05!$R24,\"TRUE\",PACKT05!F24)+SUMIF(PACKT06!$R25,\"TRUE\",PACKT06!F25)+SUMIF(PACKT07!$R24,\"TRUE\",PACKT07!F24)+SUMIF(PACKT08!$R24,\"TRUE\",PACKT08!F24)+SUMIF(PACKT09!$R24,\"TRUE\",PACKT09!F24)+SUMIF(PACKT10!$R24,\"TRUE\",PACKT10!F24)+SUMIF(PACKT11!$R24,\"TRUE\",PACKT11!F24)","v":0},{"$f":"SUMIF(PACKT01!$R24,\"TRUE\",PACKT01!G24)+SUMIF(PACKT02!$R24,\"TRUE\",PACKT02!G24)+SUMIF(PACKT03!$R24,\"TRUE\",PACKT03!G24)+SUMIF(PACKT04!$R24,\"TRUE\",PACKT04!G24)+SUMIF(PACKT05!$R24,\"TRUE\",PACKT05!G24)+SUMIF(PACKT06!$R25,\"TRUE\",PACKT06!G25)+SUMIF(PACKT07!$R24,\"TRUE\",PACKT07!G24)+SUMIF(PACKT08!$R24,\"TRUE\",PACKT08!G24)+SUMIF(PACKT09!$R24,\"TRUE\",PACKT09!G24)+SUMIF(PACKT10!$R24,\"TRUE\",PACKT10!G24)+SUMIF(PACKT11!$R24,\"TRUE\",PACKT11!G24)","v":0},{"$f":"SUMIF(PACKT01!$R24,\"TRUE\",PACKT01!H24)+SUMIF(PACKT02!$R24,\"TRUE\",PACKT02!H24)+SUMIF(PACKT03!$R24,\"TRUE\",PACKT03!H24)+SUMIF(PACKT04!$R24,\"TRUE\",PACKT04!H24)+SUMIF(PACKT05!$R24,\"TRUE\",PACKT05!H24)+SUMIF(PACKT06!$R25,\"TRUE\",PACKT06!H25)+SUMIF(PACKT07!$R24,\"TRUE\",PACKT07!H24)+SUMIF(PACKT08!$R24,\"TRUE\",PACKT08!H24)+SUMIF(PACKT09!$R24,\"TRUE\",PACKT09!H24)+SUMIF(PACKT10!$R24,\"TRUE\",PACKT10!H24)+SUMIF(PACKT11!$R24,\"TRUE\",PACKT11!H24)","v":0},{"$f":"SUMIF(PACKT01!$R24,\"TRUE\",PACKT01!I24)+SUMIF(PACKT02!$R24,\"TRUE\",PACKT02!I24)+SUMIF(PACKT03!$R24,\"TRUE\",PACKT03!I24)+SUMIF(PACKT04!$R24,\"TRUE\",PACKT04!I24)+SUMIF(PACKT05!$R24,\"TRUE\",PACKT05!I24)+SUMIF(PACKT06!$R25,\"TRUE\",PACKT06!I25)+SUMIF(PACKT07!$R24,\"TRUE\",PACKT07!I24)+SUMIF(PACKT08!$R24,\"TRUE\",PACKT08!I24)+SUMIF(PACKT09!$R24,\"TRUE\",PACKT09!I24)+SUMIF(PACKT10!$R24,\"TRUE\",PACKT10!I24)+SUMIF(PACKT11!$R24,\"TRUE\",PACKT11!I24)","v":0},{"$f":"SUMIF(PACKT01!$R24,\"TRUE\",PACKT01!J24)+SUMIF(PACKT02!$R24,\"TRUE\",PACKT02!J24)+SUMIF(PACKT03!$R24,\"TRUE\",PACKT03!J24)+SUMIF(PACKT04!$R24,\"TRUE\",PACKT04!J24)+SUMIF(PACKT05!$R24,\"TRUE\",PACKT05!J24)+SUMIF(PACKT06!$R25,\"TRUE\",PACKT06!J25)+SUMIF(PACKT07!$R24,\"TRUE\",PACKT07!J24)+SUMIF(PACKT08!$R24,\"TRUE\",PACKT08!J24)+SUMIF(PACKT09!$R24,\"TRUE\",PACKT09!J24)+SUMIF(PACKT10!$R24,\"TRUE\",PACKT10!J24)+SUMIF(PACKT11!$R24,\"TRUE\",PACKT11!J24)","v":0},{"$f":"SUMIF(PACKT01!$R24,\"TRUE\",PACKT01!K24)+SUMIF(PACKT02!$R24,\"TRUE\",PACKT02!K24)+SUMIF(PACKT03!$R24,\"TRUE\",PACKT03!K24)+SUMIF(PACKT04!$R24,\"TRUE\",PACKT04!K24)+SUMIF(PACKT05!$R24,\"TRUE\",PACKT05!K24)+SUMIF(PACKT06!$R25,\"TRUE\",PACKT06!K25)+SUMIF(PACKT07!$R24,\"TRUE\",PACKT07!K24)+SUMIF(PACKT08!$R24,\"TRUE\",PACKT08!K24)+SUMIF(PACKT09!$R24,\"TRUE\",PACKT09!K24)+SUMIF(PACKT10!$R24,\"TRUE\",PACKT10!K24)+SUMIF(PACKT11!$R24,\"TRUE\",PACKT11!K24)","v":0},{"$f":"SUMIF(PACKT01!$R24,\"TRUE\",PACKT01!L24)+SUMIF(PACKT02!$R24,\"TRUE\",PACKT02!L24)+SUMIF(PACKT03!$R24,\"TRUE\",PACKT03!L24)+SUMIF(PACKT04!$R24,\"TRUE\",PACKT04!L24)+SUMIF(PACKT05!$R24,\"TRUE\",PACKT05!L24)+SUMIF(PACKT06!$R25,\"TRUE\",PACKT06!L25)+SUMIF(PACKT07!$R24,\"TRUE\",PACKT07!L24)+SUMIF(PACKT08!$R24,\"TRUE\",PACKT08!L24)+SUMIF(PACKT09!$R24,\"TRUE\",PACKT09!L24)+SUMIF(PACKT10!$R24,\"TRUE\",PACKT10!L24)+SUMIF(PACKT11!$R24,\"TRUE\",PACKT11!L24)","v":0},{"$f":"SUMIF(PACKT01!$R24,\"TRUE\",PACKT01!M24)+SUMIF(PACKT02!$R24,\"TRUE\",PACKT02!M24)+SUMIF(PACKT03!$R24,\"TRUE\",PACKT03!M24)+SUMIF(PACKT04!$R24,\"TRUE\",PACKT04!M24)+SUMIF(PACKT05!$R24,\"TRUE\",PACKT05!M24)+SUMIF(PACKT06!$R25,\"TRUE\",PACKT06!M25)+SUMIF(PACKT07!$R24,\"TRUE\",PACKT07!M24)+SUMIF(PACKT08!$R24,\"TRUE\",PACKT08!M24)+SUMIF(PACKT09!$R24,\"TRUE\",PACKT09!M24)+SUMIF(PACKT10!$R24,\"TRUE\",PACKT10!M24)+SUMIF(PACKT11!$R24,\"TRUE\",PACKT11!M24)","v":0},{"$f":"SUMIF(PACKT01!$R24,\"TRUE\",PACKT01!N24)+SUMIF(PACKT02!$R24,\"TRUE\",PACKT02!N24)+SUMIF(PACKT03!$R24,\"TRUE\",PACKT03!N24)+SUMIF(PACKT04!$R24,\"TRUE\",PACKT04!N24)+SUMIF(PACKT05!$R24,\"TRUE\",PACKT05!N24)+SUMIF(PACKT06!$R25,\"TRUE\",PACKT06!N25)+SUMIF(PACKT07!$R24,\"TRUE\",PACKT07!N24)+SUMIF(PACKT08!$R24,\"TRUE\",PACKT08!N24)+SUMIF(PACKT09!$R24,\"TRUE\",PACKT09!N24)+SUMIF(PACKT10!$R24,\"TRUE\",PACKT10!N24)+SUMIF(PACKT11!$R24,\"TRUE\",PACKT11!N24)","v":0},{"$f":"SUMIF(PACKT01!$R24,\"TRUE\",PACKT01!O24)+SUMIF(PACKT02!$R24,\"TRUE\",PACKT02!O24)+SUMIF(PACKT03!$R24,\"TRUE\",PACKT03!O24)+SUMIF(PACKT04!$R24,\"TRUE\",PACKT04!O24)+SUMIF(PACKT05!$R24,\"TRUE\",PACKT05!O24)+SUMIF(PACKT06!$R25,\"TRUE\",PACKT06!O25)+SUMIF(PACKT07!$R24,\"TRUE\",PACKT07!O24)+SUMIF(PACKT08!$R24,\"TRUE\",PACKT08!O24)+SUMIF(PACKT09!$R24,\"TRUE\",PACKT09!O24)+SUMIF(PACKT10!$R24,\"TRUE\",PACKT10!O24)+SUMIF(PACKT11!$R24,\"TRUE\",PACKT11!O24)","v":0},{"$f":"SUMIF(PACKT01!$R24,\"TRUE\",PACKT01!P24)+SUMIF(PACKT02!$R24,\"TRUE\",PACKT02!P24)+SUMIF(PACKT03!$R24,\"TRUE\",PACKT03!P24)+SUMIF(PACKT04!$R24,\"TRUE\",PACKT04!P24)+SUMIF(PACKT05!$R24,\"TRUE\",PACKT05!P24)+SUMIF(PACKT06!$R25,\"TRUE\",PACKT06!P25)+SUMIF(PACKT07!$R24,\"TRUE\",PACKT07!P24)+SUMIF(PACKT08!$R24,\"TRUE\",PACKT08!P24)+SUMIF(PACKT09!$R24,\"TRUE\",PACKT09!P24)+SUMIF(PACKT10!$R24,\"TRUE\",PACKT10!P24)+SUMIF(PACKT11!$R24,\"TRUE\",PACKT11!P24)","v":0},{"$f":"SUMIF(PACKT01!$R24,\"TRUE\",PACKT01!Q24)+SUMIF(PACKT02!$R24,\"TRUE\",PACKT02!Q24)+SUMIF(PACKT03!$R24,\"TRUE\",PACKT03!Q24)+SUMIF(PACKT04!$R24,\"TRUE\",PACKT04!Q24)+SUMIF(PACKT05!$R24,\"TRUE\",PACKT05!Q24)+SUMIF(PACKT06!$R25,\"TRUE\",PACKT06!Q25)+SUMIF(PACKT07!$R24,\"TRUE\",PACKT07!Q24)+SUMIF(PACKT08!$R24,\"TRUE\",PACKT08!Q24)+SUMIF(PACKT09!$R24,\"TRUE\",PACKT09!Q24)+SUMIF(PACKT10!$R24,\"TRUE\",PACKT10!Q24)+SUMIF(PACKT11!$R24,\"TRUE\",PACKT11!Q24)","v":0},0]
[null,"EMP0014",{"$f":"VLOOKUP(HRSummarylTable[[#This Row],[EmployeeID]],EmployeeListLookupTable[],2,FALSE)","v":"EMPN014"},{"$f":"VLOOKUP(HRSummarylTable[[#This Row],[EmployeeID]],EmployeeListLookupTable[],3,FALSE)","v":"Employee Name 14"},{"$f":"VLOOKUP(HRSummarylTable[[#This Row],[EmployeeID]],EmployeeListLookupTable[],4,FALSE)","v":"Employee Job Title 14"},"TCTC001 - Total Cost to Company",{"$f":"LEFT(HRSummarylTable[[#This Row],[PackageItemCode]],7)","v":"TCTC001"},{"$f":"VLOOKUP(HRSummarylTable[[#This Row],[PackageItem]],PackageItemListLookup[],2,FALSE)","v":"Total Cost to Company"},null,{"$f":"SUMIF(PACKT01!$R25,\"TRUE\",PACKT01!F25)+SUMIF(PACKT02!$R25,\"TRUE\",PACKT02!F25)+SUMIF(PACKT03!$R25,\"TRUE\",PACKT03!F25)+SUMIF(PACKT04!$R25,\"TRUE\",PACKT04!F25)+SUMIF(PACKT05!$R25,\"TRUE\",PACKT05!F25)+SUMIF(PACKT06!$R26,\"TRUE\",PACKT06!F26)+SUMIF(PACKT07!$R25,\"TRUE\",PACKT07!F25)+SUMIF(PACKT08!$R25,\"TRUE\",PACKT08!F25)+SUMIF(PACKT09!$R25,\"TRUE\",PACKT09!F25)+SUMIF(PACKT10!$R25,\"TRUE\",PACKT10!F25)+SUMIF(PACKT11!$R25,\"TRUE\",PACKT11!F25)","v":0},{"$f":"SUMIF(PACKT01!$R25,\"TRUE\",PACKT01!G25)+SUMIF(PACKT02!$R25,\"TRUE\",PACKT02!G25)+SUMIF(PACKT03!$R25,\"TRUE\",PACKT03!G25)+SUMIF(PACKT04!$R25,\"TRUE\",PACKT04!G25)+SUMIF(PACKT05!$R25,\"TRUE\",PACKT05!G25)+SUMIF(PACKT06!$R26,\"TRUE\",PACKT06!G26)+SUMIF(PACKT07!$R25,\"TRUE\",PACKT07!G25)+SUMIF(PACKT08!$R25,\"TRUE\",PACKT08!G25)+SUMIF(PACKT09!$R25,\"TRUE\",PACKT09!G25)+SUMIF(PACKT10!$R25,\"TRUE\",PACKT10!G25)+SUMIF(PACKT11!$R25,\"TRUE\",PACKT11!G25)","v":0},{"$f":"SUMIF(PACKT01!$R25,\"TRUE\",PACKT01!H25)+SUMIF(PACKT02!$R25,\"TRUE\",PACKT02!H25)+SUMIF(PACKT03!$R25,\"TRUE\",PACKT03!H25)+SUMIF(PACKT04!$R25,\"TRUE\",PACKT04!H25)+SUMIF(PACKT05!$R25,\"TRUE\",PACKT05!H25)+SUMIF(PACKT06!$R26,\"TRUE\",PACKT06!H26)+SUMIF(PACKT07!$R25,\"TRUE\",PACKT07!H25)+SUMIF(PACKT08!$R25,\"TRUE\",PACKT08!H25)+SUMIF(PACKT09!$R25,\"TRUE\",PACKT09!H25)+SUMIF(PACKT10!$R25,\"TRUE\",PACKT10!H25)+SUMIF(PACKT11!$R25,\"TRUE\",PACKT11!H25)","v":0},{"$f":"SUMIF(PACKT01!$R25,\"TRUE\",PACKT01!I25)+SUMIF(PACKT02!$R25,\"TRUE\",PACKT02!I25)+SUMIF(PACKT03!$R25,\"TRUE\",PACKT03!I25)+SUMIF(PACKT04!$R25,\"TRUE\",PACKT04!I25)+SUMIF(PACKT05!$R25,\"TRUE\",PACKT05!I25)+SUMIF(PACKT06!$R26,\"TRUE\",PACKT06!I26)+SUMIF(PACKT07!$R25,\"TRUE\",PACKT07!I25)+SUMIF(PACKT08!$R25,\"TRUE\",PACKT08!I25)+SUMIF(PACKT09!$R25,\"TRUE\",PACKT09!I25)+SUMIF(PACKT10!$R25,\"TRUE\",PACKT10!I25)+SUMIF(PACKT11!$R25,\"TRUE\",PACKT11!I25)","v":0},{"$f":"SUMIF(PACKT01!$R25,\"TRUE\",PACKT01!J25)+SUMIF(PACKT02!$R25,\"TRUE\",PACKT02!J25)+SUMIF(PACKT03!$R25,\"TRUE\",PACKT03!J25)+SUMIF(PACKT04!$R25,\"TRUE\",PACKT04!J25)+SUMIF(PACKT05!$R25,\"TRUE\",PACKT05!J25)+SUMIF(PACKT06!$R26,\"TRUE\",PACKT06!J26)+SUMIF(PACKT07!$R25,\"TRUE\",PACKT07!J25)+SUMIF(PACKT08!$R25,\"TRUE\",PACKT08!J25)+SUMIF(PACKT09!$R25,\"TRUE\",PACKT09!J25)+SUMIF(PACKT10!$R25,\"TRUE\",PACKT10!J25)+SUMIF(PACKT11!$R25,\"TRUE\",PACKT11!J25)","v":0},{"$f":"SUMIF(PACKT01!$R25,\"TRUE\",PACKT01!K25)+SUMIF(PACKT02!$R25,\"TRUE\",PACKT02!K25)+SUMIF(PACKT03!$R25,\"TRUE\",PACKT03!K25)+SUMIF(PACKT04!$R25,\"TRUE\",PACKT04!K25)+SUMIF(PACKT05!$R25,\"TRUE\",PACKT05!K25)+SUMIF(PACKT06!$R26,\"TRUE\",PACKT06!K26)+SUMIF(PACKT07!$R25,\"TRUE\",PACKT07!K25)+SUMIF(PACKT08!$R25,\"TRUE\",PACKT08!K25)+SUMIF(PACKT09!$R25,\"TRUE\",PACKT09!K25)+SUMIF(PACKT10!$R25,\"TRUE\",PACKT10!K25)+SUMIF(PACKT11!$R25,\"TRUE\",PACKT11!K25)","v":0},{"$f":"SUMIF(PACKT01!$R25,\"TRUE\",PACKT01!L25)+SUMIF(PACKT02!$R25,\"TRUE\",PACKT02!L25)+SUMIF(PACKT03!$R25,\"TRUE\",PACKT03!L25)+SUMIF(PACKT04!$R25,\"TRUE\",PACKT04!L25)+SUMIF(PACKT05!$R25,\"TRUE\",PACKT05!L25)+SUMIF(PACKT06!$R26,\"TRUE\",PACKT06!L26)+SUMIF(PACKT07!$R25,\"TRUE\",PACKT07!L25)+SUMIF(PACKT08!$R25,\"TRUE\",PACKT08!L25)+SUMIF(PACKT09!$R25,\"TRUE\",PACKT09!L25)+SUMIF(PACKT10!$R25,\"TRUE\",PACKT10!L25)+SUMIF(PACKT11!$R25,\"TRUE\",PACKT11!L25)","v":0},{"$f":"SUMIF(PACKT01!$R25,\"TRUE\",PACKT01!M25)+SUMIF(PACKT02!$R25,\"TRUE\",PACKT02!M25)+SUMIF(PACKT03!$R25,\"TRUE\",PACKT03!M25)+SUMIF(PACKT04!$R25,\"TRUE\",PACKT04!M25)+SUMIF(PACKT05!$R25,\"TRUE\",PACKT05!M25)+SUMIF(PACKT06!$R26,\"TRUE\",PACKT06!M26)+SUMIF(PACKT07!$R25,\"TRUE\",PACKT07!M25)+SUMIF(PACKT08!$R25,\"TRUE\",PACKT08!M25)+SUMIF(PACKT09!$R25,\"TRUE\",PACKT09!M25)+SUMIF(PACKT10!$R25,\"TRUE\",PACKT10!M25)+SUMIF(PACKT11!$R25,\"TRUE\",PACKT11!M25)","v":0},{"$f":"SUMIF(PACKT01!$R25,\"TRUE\",PACKT01!N25)+SUMIF(PACKT02!$R25,\"TRUE\",PACKT02!N25)+SUMIF(PACKT03!$R25,\"TRUE\",PACKT03!N25)+SUMIF(PACKT04!$R25,\"TRUE\",PACKT04!N25)+SUMIF(PACKT05!$R25,\"TRUE\",PACKT05!N25)+SUMIF(PACKT06!$R26,\"TRUE\",PACKT06!N26)+SUMIF(PACKT07!$R25,\"TRUE\",PACKT07!N25)+SUMIF(PACKT08!$R25,\"TRUE\",PACKT08!N25)+SUMIF(PACKT09!$R25,\"TRUE\",PACKT09!N25)+SUMIF(PACKT10!$R25,\"TRUE\",PACKT10!N25)+SUMIF(PACKT11!$R25,\"TRUE\",PACKT11!N25)","v":0},{"$f":"SUMIF(PACKT01!$R25,\"TRUE\",PACKT01!O25)+SUMIF(PACKT02!$R25,\"TRUE\",PACKT02!O25)+SUMIF(PACKT03!$R25,\"TRUE\",PACKT03!O25)+SUMIF(PACKT04!$R25,\"TRUE\",PACKT04!O25)+SUMIF(PACKT05!$R25,\"TRUE\",PACKT05!O25)+SUMIF(PACKT06!$R26,\"TRUE\",PACKT06!O26)+SUMIF(PACKT07!$R25,\"TRUE\",PACKT07!O25)+SUMIF(PACKT08!$R25,\"TRUE\",PACKT08!O25)+SUMIF(PACKT09!$R25,\"TRUE\",PACKT09!O25)+SUMIF(PACKT10!$R25,\"TRUE\",PACKT10!O25)+SUMIF(PACKT11!$R25,\"TRUE\",PACKT11!O25)","v":0},{"$f":"SUMIF(PACKT01!$R25,\"TRUE\",PACKT01!P25)+SUMIF(PACKT02!$R25,\"TRUE\",PACKT02!P25)+SUMIF(PACKT03!$R25,\"TRUE\",PACKT03!P25)+SUMIF(PACKT04!$R25,\"TRUE\",PACKT04!P25)+SUMIF(PACKT05!$R25,\"TRUE\",PACKT05!P25)+SUMIF(PACKT06!$R26,\"TRUE\",PACKT06!P26)+SUMIF(PACKT07!$R25,\"TRUE\",PACKT07!P25)+SUMIF(PACKT08!$R25,\"TRUE\",PACKT08!P25)+SUMIF(PACKT09!$R25,\"TRUE\",PACKT09!P25)+SUMIF(PACKT10!$R25,\"TRUE\",PACKT10!P25)+SUMIF(PACKT11!$R25,\"TRUE\",PACKT11!P25)","v":0},{"$f":"SUMIF(PACKT01!$R25,\"TRUE\",PACKT01!Q25)+SUMIF(PACKT02!$R25,\"TRUE\",PACKT02!Q25)+SUMIF(PACKT03!$R25,\"TRUE\",PACKT03!Q25)+SUMIF(PACKT04!$R25,\"TRUE\",PACKT04!Q25)+SUMIF(PACKT05!$R25,\"TRUE\",PACKT05!Q25)+SUMIF(PACKT06!$R26,\"TRUE\",PACKT06!Q26)+SUMIF(PACKT07!$R25,\"TRUE\",PACKT07!Q25)+SUMIF(PACKT08!$R25,\"TRUE\",PACKT08!Q25)+SUMIF(PACKT09!$R25,\"TRUE\",PACKT09!Q25)+SUMIF(PACKT10!$R25,\"TRUE\",PACKT10!Q25)+SUMIF(PACKT11!$R25,\"TRUE\",PACKT11!Q25)","v":0},0]
[null,"EMP0015",{"$f":"VLOOKUP(HRSummarylTable[[#This Row],[EmployeeID]],EmployeeListLookupTable[],2,FALSE)","v":"EMPN015"},{"$f":"VLOOKUP(HRSummarylTable[[#This Row],[EmployeeID]],EmployeeListLookupTable[],3,FALSE)","v":"Employee Name 15"},{"$f":"VLOOKUP(HRSummarylTable[[#This Row],[EmployeeID]],EmployeeListLookupTable[],4,FALSE)","v":"Employee Job Title 15"},"TCTC001 - Total Cost to Company",{"$f":"LEFT(HRSummarylTable[[#This Row],[PackageItemCode]],7)","v":"TCTC001"},{"$f":"VLOOKUP(HRSummarylTable[[#This Row],[PackageItem]],PackageItemListLookup[],2,FALSE)","v":"Total Cost to Company"},null,{"$f":"SUMIF(PACKT01!$R26,\"TRUE\",PACKT01!F26)+SUMIF(PACKT02!$R26,\"TRUE\",PACKT02!F26)+SUMIF(PACKT03!$R26,\"TRUE\",PACKT03!F26)+SUMIF(PACKT04!$R26,\"TRUE\",PACKT04!F26)+SUMIF(PACKT05!$R26,\"TRUE\",PACKT05!F26)+SUMIF(PACKT06!$R27,\"TRUE\",PACKT06!F27)+SUMIF(PACKT07!$R26,\"TRUE\",PACKT07!F26)+SUMIF(PACKT08!$R26,\"TRUE\",PACKT08!F26)+SUMIF(PACKT09!$R26,\"TRUE\",PACKT09!F26)+SUMIF(PACKT10!$R26,\"TRUE\",PACKT10!F26)+SUMIF(PACKT11!$R26,\"TRUE\",PACKT11!F26)","v":0},{"$f":"SUMIF(PACKT01!$R26,\"TRUE\",PACKT01!G26)+SUMIF(PACKT02!$R26,\"TRUE\",PACKT02!G26)+SUMIF(PACKT03!$R26,\"TRUE\",PACKT03!G26)+SUMIF(PACKT04!$R26,\"TRUE\",PACKT04!G26)+SUMIF(PACKT05!$R26,\"TRUE\",PACKT05!G26)+SUMIF(PACKT06!$R27,\"TRUE\",PACKT06!G27)+SUMIF(PACKT07!$R26,\"TRUE\",PACKT07!G26)+SUMIF(PACKT08!$R26,\"TRUE\",PACKT08!G26)+SUMIF(PACKT09!$R26,\"TRUE\",PACKT09!G26)+SUMIF(PACKT10!$R26,\"TRUE\",PACKT10!G26)+SUMIF(PACKT11!$R26,\"TRUE\",PACKT11!G26)","v":0},{"$f":"SUMIF(PACKT01!$R26,\"TRUE\",PACKT01!H26)+SUMIF(PACKT02!$R26,\"TRUE\",PACKT02!H26)+SUMIF(PACKT03!$R26,\"TRUE\",PACKT03!H26)+SUMIF(PACKT04!$R26,\"TRUE\",PACKT04!H26)+SUMIF(PACKT05!$R26,\"TRUE\",PACKT05!H26)+SUMIF(PACKT06!$R27,\"TRUE\",PACKT06!H27)+SUMIF(PACKT07!$R26,\"TRUE\",PACKT07!H26)+SUMIF(PACKT08!$R26,\"TRUE\",PACKT08!H26)+SUMIF(PACKT09!$R26,\"TRUE\",PACKT09!H26)+SUMIF(PACKT10!$R26,\"TRUE\",PACKT10!H26)+SUMIF(PACKT11!$R26,\"TRUE\",PACKT11!H26)","v":0},{"$f":"SUMIF(PACKT01!$R26,\"TRUE\",PACKT01!I26)+SUMIF(PACKT02!$R26,\"TRUE\",PACKT02!I26)+SUMIF(PACKT03!$R26,\"TRUE\",PACKT03!I26)+SUMIF(PACKT04!$R26,\"TRUE\",PACKT04!I26)+SUMIF(PACKT05!$R26,\"TRUE\",PACKT05!I26)+SUMIF(PACKT06!$R27,\"TRUE\",PACKT06!I27)+SUMIF(PACKT07!$R26,\"TRUE\",PACKT07!I26)+SUMIF(PACKT08!$R26,\"TRUE\",PACKT08!I26)+SUMIF(PACKT09!$R26,\"TRUE\",PACKT09!I26)+SUMIF(PACKT10!$R26,\"TRUE\",PACKT10!I26)+SUMIF(PACKT11!$R26,\"TRUE\",PACKT11!I26)","v":0},{"$f":"SUMIF(PACKT01!$R26,\"TRUE\",PACKT01!J26)+SUMIF(PACKT02!$R26,\"TRUE\",PACKT02!J26)+SUMIF(PACKT03!$R26,\"TRUE\",PACKT03!J26)+SUMIF(PACKT04!$R26,\"TRUE\",PACKT04!J26)+SUMIF(PACKT05!$R26,\"TRUE\",PACKT05!J26)+SUMIF(PACKT06!$R27,\"TRUE\",PACKT06!J27)+SUMIF(PACKT07!$R26,\"TRUE\",PACKT07!J26)+SUMIF(PACKT08!$R26,\"TRUE\",PACKT08!J26)+SUMIF(PACKT09!$R26,\"TRUE\",PACKT09!J26)+SUMIF(PACKT10!$R26,\"TRUE\",PACKT10!J26)+SUMIF(PACKT11!$R26,\"TRUE\",PACKT11!J26)","v":0},{"$f":"SUMIF(PACKT01!$R26,\"TRUE\",PACKT01!K26)+SUMIF(PACKT02!$R26,\"TRUE\",PACKT02!K26)+SUMIF(PACKT03!$R26,\"TRUE\",PACKT03!K26)+SUMIF(PACKT04!$R26,\"TRUE\",PACKT04!K26)+SUMIF(PACKT05!$R26,\"TRUE\",PACKT05!K26)+SUMIF(PACKT06!$R27,\"TRUE\",PACKT06!K27)+SUMIF(PACKT07!$R26,\"TRUE\",PACKT07!K26)+SUMIF(PACKT08!$R26,\"TRUE\",PACKT08!K26)+SUMIF(PACKT09!$R26,\"TRUE\",PACKT09!K26)+SUMIF(PACKT10!$R26,\"TRUE\",PACKT10!K26)+SUMIF(PACKT11!$R26,\"TRUE\",PACKT11!K26)","v":0},{"$f":"SUMIF(PACKT01!$R26,\"TRUE\",PACKT01!L26)+SUMIF(PACKT02!$R26,\"TRUE\",PACKT02!L26)+SUMIF(PACKT03!$R26,\"TRUE\",PACKT03!L26)+SUMIF(PACKT04!$R26,\"TRUE\",PACKT04!L26)+SUMIF(PACKT05!$R26,\"TRUE\",PACKT05!L26)+SUMIF(PACKT06!$R27,\"TRUE\",PACKT06!L27)+SUMIF(PACKT07!$R26,\"TRUE\",PACKT07!L26)+SUMIF(PACKT08!$R26,\"TRUE\",PACKT08!L26)+SUMIF(PACKT09!$R26,\"TRUE\",PACKT09!L26)+SUMIF(PACKT10!$R26,\"TRUE\",PACKT10!L26)+SUMIF(PACKT11!$R26,\"TRUE\",PACKT11!L26)","v":0},{"$f":"SUMIF(PACKT01!$R26,\"TRUE\",PACKT01!M26)+SUMIF(PACKT02!$R26,\"TRUE\",PACKT02!M26)+SUMIF(PACKT03!$R26,\"TRUE\",PACKT03!M26)+SUMIF(PACKT04!$R26,\"TRUE\",PACKT04!M26)+SUMIF(PACKT05!$R26,\"TRUE\",PACKT05!M26)+SUMIF(PACKT06!$R27,\"TRUE\",PACKT06!M27)+SUMIF(PACKT07!$R26,\"TRUE\",PACKT07!M26)+SUMIF(PACKT08!$R26,\"TRUE\",PACKT08!M26)+SUMIF(PACKT09!$R26,\"TRUE\",PACKT09!M26)+SUMIF(PACKT10!$R26,\"TRUE\",PACKT10!M26)+SUMIF(PACKT11!$R26,\"TRUE\",PACKT11!M26)","v":0},{"$f":"SUMIF(PACKT01!$R26,\"TRUE\",PACKT01!N26)+SUMIF(PACKT02!$R26,\"TRUE\",PACKT02!N26)+SUMIF(PACKT03!$R26,\"TRUE\",PACKT03!N26)+SUMIF(PACKT04!$R26,\"TRUE\",PACKT04!N26)+SUMIF(PACKT05!$R26,\"TRUE\",PACKT05!N26)+SUMIF(PACKT06!$R27,\"TRUE\",PACKT06!N27)+SUMIF(PACKT07!$R26,\"TRUE\",PACKT07!N26)+SUMIF(PACKT08!$R26,\"TRUE\",PACKT08!N26)+SUMIF(PACKT09!$R26,\"TRUE\",PACKT09!N26)+SUMIF(PACKT10!$R26,\"TRUE\",PACKT10!N26)+SUMIF(PACKT11!$R26,\"TRUE\",PACKT11!N26)","v":0},{"$f":"SUMIF(PACKT01!$R26,\"TRUE\",PACKT01!O26)+SUMIF(PACKT02!$R26,\"TRUE\",PACKT02!O26)+SUMIF(PACKT03!$R26,\"TRUE\",PACKT03!O26)+SUMIF(PACKT04!$R26,\"TRUE\",PACKT04!O26)+SUMIF(PACKT05!$R26,\"TRUE\",PACKT05!O26)+SUMIF(PACKT06!$R27,\"TRUE\",PACKT06!O27)+SUMIF(PACKT07!$R26,\"TRUE\",PACKT07!O26)+SUMIF(PACKT08!$R26,\"TRUE\",PACKT08!O26)+SUMIF(PACKT09!$R26,\"TRUE\",PACKT09!O26)+SUMIF(PACKT10!$R26,\"TRUE\",PACKT10!O26)+SUMIF(PACKT11!$R26,\"TRUE\",PACKT11!O26)","v":0},{"$f":"SUMIF(PACKT01!$R26,\"TRUE\",PACKT01!P26)+SUMIF(PACKT02!$R26,\"TRUE\",PACKT02!P26)+SUMIF(PACKT03!$R26,\"TRUE\",PACKT03!P26)+SUMIF(PACKT04!$R26,\"TRUE\",PACKT04!P26)+SUMIF(PACKT05!$R26,\"TRUE\",PACKT05!P26)+SUMIF(PACKT06!$R27,\"TRUE\",PACKT06!P27)+SUMIF(PACKT07!$R26,\"TRUE\",PACKT07!P26)+SUMIF(PACKT08!$R26,\"TRUE\",PACKT08!P26)+SUMIF(PACKT09!$R26,\"TRUE\",PACKT09!P26)+SUMIF(PACKT10!$R26,\"TRUE\",PACKT10!P26)+SUMIF(PACKT11!$R26,\"TRUE\",PACKT11!P26)","v":0},{"$f":"SUMIF(PACKT01!$R26,\"TRUE\",PACKT01!Q26)+SUMIF(PACKT02!$R26,\"TRUE\",PACKT02!Q26)+SUMIF(PACKT03!$R26,\"TRUE\",PACKT03!Q26)+SUMIF(PACKT04!$R26,\"TRUE\",PACKT04!Q26)+SUMIF(PACKT05!$R26,\"TRUE\",PACKT05!Q26)+SUMIF(PACKT06!$R27,\"TRUE\",PACKT06!Q27)+SUMIF(PACKT07!$R26,\"TRUE\",PACKT07!Q26)+SUMIF(PACKT08!$R26,\"TRUE\",PACKT08!Q26)+SUMIF(PACKT09!$R26,\"TRUE\",PACKT09!Q26)+SUMIF(PACKT10!$R26,\"TRUE\",PACKT10!Q26)+SUMIF(PACKT11!$R26,\"TRUE\",PACKT11!Q26)","v":0},0]
[null,"EMP0016",{"$f":"VLOOKUP(HRSummarylTable[[#This Row],[EmployeeID]],EmployeeListLookupTable[],2,FALSE)","v":"EMPN016"},{"$f":"VLOOKUP(HRSummarylTable[[#This Row],[EmployeeID]],EmployeeListLookupTable[],3,FALSE)","v":"Employee Name 16"},{"$f":"VLOOKUP(HRSummarylTable[[#This Row],[EmployeeID]],EmployeeListLookupTable[],4,FALSE)","v":"Employee Job Title 16"},"TCTC001 - Total Cost to Company",{"$f":"LEFT(HRSummarylTable[[#This Row],[PackageItemCode]],7)","v":"TCTC001"},{"$f":"VLOOKUP(HRSummarylTable[[#This Row],[PackageItem]],PackageItemListLookup[],2,FALSE)","v":"Total Cost to Company"},null,{"$f":"SUMIF(PACKT01!$R27,\"TRUE\",PACKT01!F27)+SUMIF(PACKT02!$R27,\"TRUE\",PACKT02!F27)+SUMIF(PACKT03!$R27,\"TRUE\",PACKT03!F27)+SUMIF(PACKT04!$R27,\"TRUE\",PACKT04!F27)+SUMIF(PACKT05!$R27,\"TRUE\",PACKT05!F27)+SUMIF(PACKT06!$R28,\"TRUE\",PACKT06!F28)+SUMIF(PACKT07!$R27,\"TRUE\",PACKT07!F27)+SUMIF(PACKT08!$R27,\"TRUE\",PACKT08!F27)+SUMIF(PACKT09!$R27,\"TRUE\",PACKT09!F27)+SUMIF(PACKT10!$R27,\"TRUE\",PACKT10!F27)+SUMIF(PACKT11!$R27,\"TRUE\",PACKT11!F27)","v":0},{"$f":"SUMIF(PACKT01!$R27,\"TRUE\",PACKT01!G27)+SUMIF(PACKT02!$R27,\"TRUE\",PACKT02!G27)+SUMIF(PACKT03!$R27,\"TRUE\",PACKT03!G27)+SUMIF(PACKT04!$R27,\"TRUE\",PACKT04!G27)+SUMIF(PACKT05!$R27,\"TRUE\",PACKT05!G27)+SUMIF(PACKT06!$R28,\"TRUE\",PACKT06!G28)+SUMIF(PACKT07!$R27,\"TRUE\",PACKT07!G27)+SUMIF(PACKT08!$R27,\"TRUE\",PACKT08!G27)+SUMIF(PACKT09!$R27,\"TRUE\",PACKT09!G27)+SUMIF(PACKT10!$R27,\"TRUE\",PACKT10!G27)+SUMIF(PACKT11!$R27,\"TRUE\",PACKT11!G27)","v":0},{"$f":"SUMIF(PACKT01!$R27,\"TRUE\",PACKT01!H27)+SUMIF(PACKT02!$R27,\"TRUE\",PACKT02!H27)+SUMIF(PACKT03!$R27,\"TRUE\",PACKT03!H27)+SUMIF(PACKT04!$R27,\"TRUE\",PACKT04!H27)+SUMIF(PACKT05!$R27,\"TRUE\",PACKT05!H27)+SUMIF(PACKT06!$R28,\"TRUE\",PACKT06!H28)+SUMIF(PACKT07!$R27,\"TRUE\",PACKT07!H27)+SUMIF(PACKT08!$R27,\"TRUE\",PACKT08!H27)+SUMIF(PACKT09!$R27,\"TRUE\",PACKT09!H27)+SUMIF(PACKT10!$R27,\"TRUE\",PACKT10!H27)+SUMIF(PACKT11!$R27,\"TRUE\",PACKT11!H27)","v":0},{"$f":"SUMIF(PACKT01!$R27,\"TRUE\",PACKT01!I27)+SUMIF(PACKT02!$R27,\"TRUE\",PACKT02!I27)+SUMIF(PACKT03!$R27,\"TRUE\",PACKT03!I27)+SUMIF(PACKT04!$R27,\"TRUE\",PACKT04!I27)+SUMIF(PACKT05!$R27,\"TRUE\",PACKT05!I27)+SUMIF(PACKT06!$R28,\"TRUE\",PACKT06!I28)+SUMIF(PACKT07!$R27,\"TRUE\",PACKT07!I27)+SUMIF(PACKT08!$R27,\"TRUE\",PACKT08!I27)+SUMIF(PACKT09!$R27,\"TRUE\",PACKT09!I27)+SUMIF(PACKT10!$R27,\"TRUE\",PACKT10!I27)+SUMIF(PACKT11!$R27,\"TRUE\",PACKT11!I27)","v":0},{"$f":"SUMIF(PACKT01!$R27,\"TRUE\",PACKT01!J27)+SUMIF(PACKT02!$R27,\"TRUE\",PACKT02!J27)+SUMIF(PACKT03!$R27,\"TRUE\",PACKT03!J27)+SUMIF(PACKT04!$R27,\"TRUE\",PACKT04!J27)+SUMIF(PACKT05!$R27,\"TRUE\",PACKT05!J27)+SUMIF(PACKT06!$R28,\"TRUE\",PACKT06!J28)+SUMIF(PACKT07!$R27,\"TRUE\",PACKT07!J27)+SUMIF(PACKT08!$R27,\"TRUE\",PACKT08!J27)+SUMIF(PACKT09!$R27,\"TRUE\",PACKT09!J27)+SUMIF(PACKT10!$R27,\"TRUE\",PACKT10!J27)+SUMIF(PACKT11!$R27,\"TRUE\",PACKT11!J27)","v":0},{"$f":"SUMIF(PACKT01!$R27,\"TRUE\",PACKT01!K27)+SUMIF(PACKT02!$R27,\"TRUE\",PACKT02!K27)+SUMIF(PACKT03!$R27,\"TRUE\",PACKT03!K27)+SUMIF(PACKT04!$R27,\"TRUE\",PACKT04!K27)+SUMIF(PACKT05!$R27,\"TRUE\",PACKT05!K27)+SUMIF(PACKT06!$R28,\"TRUE\",PACKT06!K28)+SUMIF(PACKT07!$R27,\"TRUE\",PACKT07!K27)+SUMIF(PACKT08!$R27,\"TRUE\",PACKT08!K27)+SUMIF(PACKT09!$R27,\"TRUE\",PACKT09!K27)+SUMIF(PACKT10!$R27,\"TRUE\",PACKT10!K27)+SUMIF(PACKT11!$R27,\"TRUE\",PACKT11!K27)","v":0},{"$f":"SUMIF(PACKT01!$R27,\"TRUE\",PACKT01!L27)+SUMIF(PACKT02!$R27,\"TRUE\",PACKT02!L27)+SUMIF(PACKT03!$R27,\"TRUE\",PACKT03!L27)+SUMIF(PACKT04!$R27,\"TRUE\",PACKT04!L27)+SUMIF(PACKT05!$R27,\"TRUE\",PACKT05!L27)+SUMIF(PACKT06!$R28,\"TRUE\",PACKT06!L28)+SUMIF(PACKT07!$R27,\"TRUE\",PACKT07!L27)+SUMIF(PACKT08!$R27,\"TRUE\",PACKT08!L27)+SUMIF(PACKT09!$R27,\"TRUE\",PACKT09!L27)+SUMIF(PACKT10!$R27,\"TRUE\",PACKT10!L27)+SUMIF(PACKT11!$R27,\"TRUE\",PACKT11!L27)","v":0},{"$f":"SUMIF(PACKT01!$R27,\"TRUE\",PACKT01!M27)+SUMIF(PACKT02!$R27,\"TRUE\",PACKT02!M27)+SUMIF(PACKT03!$R27,\"TRUE\",PACKT03!M27)+SUMIF(PACKT04!$R27,\"TRUE\",PACKT04!M27)+SUMIF(PACKT05!$R27,\"TRUE\",PACKT05!M27)+SUMIF(PACKT06!$R28,\"TRUE\",PACKT06!M28)+SUMIF(PACKT07!$R27,\"TRUE\",PACKT07!M27)+SUMIF(PACKT08!$R27,\"TRUE\",PACKT08!M27)+SUMIF(PACKT09!$R27,\"TRUE\",PACKT09!M27)+SUMIF(PACKT10!$R27,\"TRUE\",PACKT10!M27)+SUMIF(PACKT11!$R27,\"TRUE\",PACKT11!M27)","v":0},{"$f":"SUMIF(PACKT01!$R27,\"TRUE\",PACKT01!N27)+SUMIF(PACKT02!$R27,\"TRUE\",PACKT02!N27)+SUMIF(PACKT03!$R27,\"TRUE\",PACKT03!N27)+SUMIF(PACKT04!$R27,\"TRUE\",PACKT04!N27)+SUMIF(PACKT05!$R27,\"TRUE\",PACKT05!N27)+SUMIF(PACKT06!$R28,\"TRUE\",PACKT06!N28)+SUMIF(PACKT07!$R27,\"TRUE\",PACKT07!N27)+SUMIF(PACKT08!$R27,\"TRUE\",PACKT08!N27)+SUMIF(PACKT09!$R27,\"TRUE\",PACKT09!N27)+SUMIF(PACKT10!$R27,\"TRUE\",PACKT10!N27)+SUMIF(PACKT11!$R27,\"TRUE\",PACKT11!N27)","v":0},{"$f":"SUMIF(PACKT01!$R27,\"TRUE\",PACKT01!O27)+SUMIF(PACKT02!$R27,\"TRUE\",PACKT02!O27)+SUMIF(PACKT03!$R27,\"TRUE\",PACKT03!O27)+SUMIF(PACKT04!$R27,\"TRUE\",PACKT04!O27)+SUMIF(PACKT05!$R27,\"TRUE\",PACKT05!O27)+SUMIF(PACKT06!$R28,\"TRUE\",PACKT06!O28)+SUMIF(PACKT07!$R27,\"TRUE\",PACKT07!O27)+SUMIF(PACKT08!$R27,\"TRUE\",PACKT08!O27)+SUMIF(PACKT09!$R27,\"TRUE\",PACKT09!O27)+SUMIF(PACKT10!$R27,\"TRUE\",PACKT10!O27)+SUMIF(PACKT11!$R27,\"TRUE\",PACKT11!O27)","v":0},{"$f":"SUMIF(PACKT01!$R27,\"TRUE\",PACKT01!P27)+SUMIF(PACKT02!$R27,\"TRUE\",PACKT02!P27)+SUMIF(PACKT03!$R27,\"TRUE\",PACKT03!P27)+SUMIF(PACKT04!$R27,\"TRUE\",PACKT04!P27)+SUMIF(PACKT05!$R27,\"TRUE\",PACKT05!P27)+SUMIF(PACKT06!$R28,\"TRUE\",PACKT06!P28)+SUMIF(PACKT07!$R27,\"TRUE\",PACKT07!P27)+SUMIF(PACKT08!$R27,\"TRUE\",PACKT08!P27)+SUMIF(PACKT09!$R27,\"TRUE\",PACKT09!P27)+SUMIF(PACKT10!$R27,\"TRUE\",PACKT10!P27)+SUMIF(PACKT11!$R27,\"TRUE\",PACKT11!P27)","v":0},{"$f":"SUMIF(PACKT01!$R27,\"TRUE\",PACKT01!Q27)+SUMIF(PACKT02!$R27,\"TRUE\",PACKT02!Q27)+SUMIF(PACKT03!$R27,\"TRUE\",PACKT03!Q27)+SUMIF(PACKT04!$R27,\"TRUE\",PACKT04!Q27)+SUMIF(PACKT05!$R27,\"TRUE\",PACKT05!Q27)+SUMIF(PACKT06!$R28,\"TRUE\",PACKT06!Q28)+SUMIF(PACKT07!$R27,\"TRUE\",PACKT07!Q27)+SUMIF(PACKT08!$R27,\"TRUE\",PACKT08!Q27)+SUMIF(PACKT09!$R27,\"TRUE\",PACKT09!Q27)+SUMIF(PACKT10!$R27,\"TRUE\",PACKT10!Q27)+SUMIF(PACKT11!$R27,\"TRUE\",PACKT11!Q27)","v":0},0]
[null,"EMP0017",{"$f":"VLOOKUP(HRSummarylTable[[#This Row],[EmployeeID]],EmployeeListLookupTable[],2,FALSE)","v":"EMPN017"},{"$f":"VLOOKUP(HRSummarylTable[[#This Row],[EmployeeID]],EmployeeListLookupTable[],3,FALSE)","v":"Employee Name 17"},{"$f":"VLOOKUP(HRSummarylTable[[#This Row],[EmployeeID]],EmployeeListLookupTable[],4,FALSE)","v":"Employee Job Title 17"},"TCTC001 - Total Cost to Company",{"$f":"LEFT(HRSummarylTable[[#This Row],[PackageItemCode]],7)","v":"TCTC001"},{"$f":"VLOOKUP(HRSummarylTable[[#This Row],[PackageItem]],PackageItemListLookup[],2,FALSE)","v":"Total Cost to Company"},null,{"$f":"SUMIF(PACKT01!$R28,\"TRUE\",PACKT01!F28)+SUMIF(PACKT02!$R28,\"TRUE\",PACKT02!F28)+SUMIF(PACKT03!$R28,\"TRUE\",PACKT03!F28)+SUMIF(PACKT04!$R28,\"TRUE\",PACKT04!F28)+SUMIF(PACKT05!$R28,\"TRUE\",PACKT05!F28)+SUMIF(PACKT06!$R29,\"TRUE\",PACKT06!F29)+SUMIF(PACKT07!$R28,\"TRUE\",PACKT07!F28)+SUMIF(PACKT08!$R28,\"TRUE\",PACKT08!F28)+SUMIF(PACKT09!$R28,\"TRUE\",PACKT09!F28)+SUMIF(PACKT10!$R28,\"TRUE\",PACKT10!F28)+SUMIF(PACKT11!$R28,\"TRUE\",PACKT11!F28)","v":0},{"$f":"SUMIF(PACKT01!$R28,\"TRUE\",PACKT01!G28)+SUMIF(PACKT02!$R28,\"TRUE\",PACKT02!G28)+SUMIF(PACKT03!$R28,\"TRUE\",PACKT03!G28)+SUMIF(PACKT04!$R28,\"TRUE\",PACKT04!G28)+SUMIF(PACKT05!$R28,\"TRUE\",PACKT05!G28)+SUMIF(PACKT06!$R29,\"TRUE\",PACKT06!G29)+SUMIF(PACKT07!$R28,\"TRUE\",PACKT07!G28)+SUMIF(PACKT08!$R28,\"TRUE\",PACKT08!G28)+SUMIF(PACKT09!$R28,\"TRUE\",PACKT09!G28)+SUMIF(PACKT10!$R28,\"TRUE\",PACKT10!G28)+SUMIF(PACKT11!$R28,\"TRUE\",PACKT11!G28)","v":0},{"$f":"SUMIF(PACKT01!$R28,\"TRUE\",PACKT01!H28)+SUMIF(PACKT02!$R28,\"TRUE\",PACKT02!H28)+SUMIF(PACKT03!$R28,\"TRUE\",PACKT03!H28)+SUMIF(PACKT04!$R28,\"TRUE\",PACKT04!H28)+SUMIF(PACKT05!$R28,\"TRUE\",PACKT05!H28)+SUMIF(PACKT06!$R29,\"TRUE\",PACKT06!H29)+SUMIF(PACKT07!$R28,\"TRUE\",PACKT07!H28)+SUMIF(PACKT08!$R28,\"TRUE\",PACKT08!H28)+SUMIF(PACKT09!$R28,\"TRUE\",PACKT09!H28)+SUMIF(PACKT10!$R28,\"TRUE\",PACKT10!H28)+SUMIF(PACKT11!$R28,\"TRUE\",PACKT11!H28)","v":0},{"$f":"SUMIF(PACKT01!$R28,\"TRUE\",PACKT01!I28)+SUMIF(PACKT02!$R28,\"TRUE\",PACKT02!I28)+SUMIF(PACKT03!$R28,\"TRUE\",PACKT03!I28)+SUMIF(PACKT04!$R28,\"TRUE\",PACKT04!I28)+SUMIF(PACKT05!$R28,\"TRUE\",PACKT05!I28)+SUMIF(PACKT06!$R29,\"TRUE\",PACKT06!I29)+SUMIF(PACKT07!$R28,\"TRUE\",PACKT07!I28)+SUMIF(PACKT08!$R28,\"TRUE\",PACKT08!I28)+SUMIF(PACKT09!$R28,\"TRUE\",PACKT09!I28)+SUMIF(PACKT10!$R28,\"TRUE\",PACKT10!I28)+SUMIF(PACKT11!$R28,\"TRUE\",PACKT11!I28)","v":0},{"$f":"SUMIF(PACKT01!$R28,\"TRUE\",PACKT01!J28)+SUMIF(PACKT02!$R28,\"TRUE\",PACKT02!J28)+SUMIF(PACKT03!$R28,\"TRUE\",PACKT03!J28)+SUMIF(PACKT04!$R28,\"TRUE\",PACKT04!J28)+SUMIF(PACKT05!$R28,\"TRUE\",PACKT05!J28)+SUMIF(PACKT06!$R29,\"TRUE\",PACKT06!J29)+SUMIF(PACKT07!$R28,\"TRUE\",PACKT07!J28)+SUMIF(PACKT08!$R28,\"TRUE\",PACKT08!J28)+SUMIF(PACKT09!$R28,\"TRUE\",PACKT09!J28)+SUMIF(PACKT10!$R28,\"TRUE\",PACKT10!J28)+SUMIF(PACKT11!$R28,\"TRUE\",PACKT11!J28)","v":0},{"$f":"SUMIF(PACKT01!$R28,\"TRUE\",PACKT01!K28)+SUMIF(PACKT02!$R28,\"TRUE\",PACKT02!K28)+SUMIF(PACKT03!$R28,\"TRUE\",PACKT03!K28)+SUMIF(PACKT04!$R28,\"TRUE\",PACKT04!K28)+SUMIF(PACKT05!$R28,\"TRUE\",PACKT05!K28)+SUMIF(PACKT06!$R29,\"TRUE\",PACKT06!K29)+SUMIF(PACKT07!$R28,\"TRUE\",PACKT07!K28)+SUMIF(PACKT08!$R28,\"TRUE\",PACKT08!K28)+SUMIF(PACKT09!$R28,\"TRUE\",PACKT09!K28)+SUMIF(PACKT10!$R28,\"TRUE\",PACKT10!K28)+SUMIF(PACKT11!$R28,\"TRUE\",PACKT11!K28)","v":0},{"$f":"SUMIF(PACKT01!$R28,\"TRUE\",PACKT01!L28)+SUMIF(PACKT02!$R28,\"TRUE\",PACKT02!L28)+SUMIF(PACKT03!$R28,\"TRUE\",PACKT03!L28)+SUMIF(PACKT04!$R28,\"TRUE\",PACKT04!L28)+SUMIF(PACKT05!$R28,\"TRUE\",PACKT05!L28)+SUMIF(PACKT06!$R29,\"TRUE\",PACKT06!L29)+SUMIF(PACKT07!$R28,\"TRUE\",PACKT07!L28)+SUMIF(PACKT08!$R28,\"TRUE\",PACKT08!L28)+SUMIF(PACKT09!$R28,\"TRUE\",PACKT09!L28)+SUMIF(PACKT10!$R28,\"TRUE\",PACKT10!L28)+SUMIF(PACKT11!$R28,\"TRUE\",PACKT11!L28)","v":0},{"$f":"SUMIF(PACKT01!$R28,\"TRUE\",PACKT01!M28)+SUMIF(PACKT02!$R28,\"TRUE\",PACKT02!M28)+SUMIF(PACKT03!$R28,\"TRUE\",PACKT03!M28)+SUMIF(PACKT04!$R28,\"TRUE\",PACKT04!M28)+SUMIF(PACKT05!$R28,\"TRUE\",PACKT05!M28)+SUMIF(PACKT06!$R29,\"TRUE\",PACKT06!M29)+SUMIF(PACKT07!$R28,\"TRUE\",PACKT07!M28)+SUMIF(PACKT08!$R28,\"TRUE\",PACKT08!M28)+SUMIF(PACKT09!$R28,\"TRUE\",PACKT09!M28)+SUMIF(PACKT10!$R28,\"TRUE\",PACKT10!M28)+SUMIF(PACKT11!$R28,\"TRUE\",PACKT11!M28)","v":0},{"$f":"SUMIF(PACKT01!$R28,\"TRUE\",PACKT01!N28)+SUMIF(PACKT02!$R28,\"TRUE\",PACKT02!N28)+SUMIF(PACKT03!$R28,\"TRUE\",PACKT03!N28)+SUMIF(PACKT04!$R28,\"TRUE\",PACKT04!N28)+SUMIF(PACKT05!$R28,\"TRUE\",PACKT05!N28)+SUMIF(PACKT06!$R29,\"TRUE\",PACKT06!N29)+SUMIF(PACKT07!$R28,\"TRUE\",PACKT07!N28)+SUMIF(PACKT08!$R28,\"TRUE\",PACKT08!N28)+SUMIF(PACKT09!$R28,\"TRUE\",PACKT09!N28)+SUMIF(PACKT10!$R28,\"TRUE\",PACKT10!N28)+SUMIF(PACKT11!$R28,\"TRUE\",PACKT11!N28)","v":0},{"$f":"SUMIF(PACKT01!$R28,\"TRUE\",PACKT01!O28)+SUMIF(PACKT02!$R28,\"TRUE\",PACKT02!O28)+SUMIF(PACKT03!$R28,\"TRUE\",PACKT03!O28)+SUMIF(PACKT04!$R28,\"TRUE\",PACKT04!O28)+SUMIF(PACKT05!$R28,\"TRUE\",PACKT05!O28)+SUMIF(PACKT06!$R29,\"TRUE\",PACKT06!O29)+SUMIF(PACKT07!$R28,\"TRUE\",PACKT07!O28)+SUMIF(PACKT08!$R28,\"TRUE\",PACKT08!O28)+SUMIF(PACKT09!$R28,\"TRUE\",PACKT09!O28)+SUMIF(PACKT10!$R28,\"TRUE\",PACKT10!O28)+SUMIF(PACKT11!$R28,\"TRUE\",PACKT11!O28)","v":0},{"$f":"SUMIF(PACKT01!$R28,\"TRUE\",PACKT01!P28)+SUMIF(PACKT02!$R28,\"TRUE\",PACKT02!P28)+SUMIF(PACKT03!$R28,\"TRUE\",PACKT03!P28)+SUMIF(PACKT04!$R28,\"TRUE\",PACKT04!P28)+SUMIF(PACKT05!$R28,\"TRUE\",PACKT05!P28)+SUMIF(PACKT06!$R29,\"TRUE\",PACKT06!P29)+SUMIF(PACKT07!$R28,\"TRUE\",PACKT07!P28)+SUMIF(PACKT08!$R28,\"TRUE\",PACKT08!P28)+SUMIF(PACKT09!$R28,\"TRUE\",PACKT09!P28)+SUMIF(PACKT10!$R28,\"TRUE\",PACKT10!P28)+SUMIF(PACKT11!$R28,\"TRUE\",PACKT11!P28)","v":0},{"$f":"SUMIF(PACKT01!$R28,\"TRUE\",PACKT01!Q28)+SUMIF(PACKT02!$R28,\"TRUE\",PACKT02!Q28)+SUMIF(PACKT03!$R28,\"TRUE\",PACKT03!Q28)+SUMIF(PACKT04!$R28,\"TRUE\",PACKT04!Q28)+SUMIF(PACKT05!$R28,\"TRUE\",PACKT05!Q28)+SUMIF(PACKT06!$R29,\"TRUE\",PACKT06!Q29)+SUMIF(PACKT07!$R28,\"TRUE\",PACKT07!Q28)+SUMIF(PACKT08!$R28,\"TRUE\",PACKT08!Q28)+SUMIF(PACKT09!$R28,\"TRUE\",PACKT09!Q28)+SUMIF(PACKT10!$R28,\"TRUE\",PACKT10!Q28)+SUMIF(PACKT11!$R28,\"TRUE\",PACKT11!Q28)","v":0},0]
[null,"EMP0018",{"$f":"VLOOKUP(HRSummarylTable[[#This Row],[EmployeeID]],EmployeeListLookupTable[],2,FALSE)","v":"EMPN018"},{"$f":"VLOOKUP(HRSummarylTable[[#This Row],[EmployeeID]],EmployeeListLookupTable[],3,FALSE)","v":"Employee Name 18"},{"$f":"VLOOKUP(HRSummarylTable[[#This Row],[EmployeeID]],EmployeeListLookupTable[],4,FALSE)","v":"Employee Job Title 18"},"TCTC001 - Total Cost to Company",{"$f":"LEFT(HRSummarylTable[[#This Row],[PackageItemCode]],7)","v":"TCTC001"},{"$f":"VLOOKUP(HRSummarylTable[[#This Row],[PackageItem]],PackageItemListLookup[],2,FALSE)","v":"Total Cost to Company"},null,{"$f":"SUMIF(PACKT01!$R29,\"TRUE\",PACKT01!F29)+SUMIF(PACKT02!$R29,\"TRUE\",PACKT02!F29)+SUMIF(PACKT03!$R29,\"TRUE\",PACKT03!F29)+SUMIF(PACKT04!$R29,\"TRUE\",PACKT04!F29)+SUMIF(PACKT05!$R29,\"TRUE\",PACKT05!F29)+SUMIF(PACKT06!$R30,\"TRUE\",PACKT06!F30)+SUMIF(PACKT07!$R29,\"TRUE\",PACKT07!F29)+SUMIF(PACKT08!$R29,\"TRUE\",PACKT08!F29)+SUMIF(PACKT09!$R29,\"TRUE\",PACKT09!F29)+SUMIF(PACKT10!$R29,\"TRUE\",PACKT10!F29)+SUMIF(PACKT11!$R29,\"TRUE\",PACKT11!F29)","v":0},{"$f":"SUMIF(PACKT01!$R29,\"TRUE\",PACKT01!G29)+SUMIF(PACKT02!$R29,\"TRUE\",PACKT02!G29)+SUMIF(PACKT03!$R29,\"TRUE\",PACKT03!G29)+SUMIF(PACKT04!$R29,\"TRUE\",PACKT04!G29)+SUMIF(PACKT05!$R29,\"TRUE\",PACKT05!G29)+SUMIF(PACKT06!$R30,\"TRUE\",PACKT06!G30)+SUMIF(PACKT07!$R29,\"TRUE\",PACKT07!G29)+SUMIF(PACKT08!$R29,\"TRUE\",PACKT08!G29)+SUMIF(PACKT09!$R29,\"TRUE\",PACKT09!G29)+SUMIF(PACKT10!$R29,\"TRUE\",PACKT10!G29)+SUMIF(PACKT11!$R29,\"TRUE\",PACKT11!G29)","v":0},{"$f":"SUMIF(PACKT01!$R29,\"TRUE\",PACKT01!H29)+SUMIF(PACKT02!$R29,\"TRUE\",PACKT02!H29)+SUMIF(PACKT03!$R29,\"TRUE\",PACKT03!H29)+SUMIF(PACKT04!$R29,\"TRUE\",PACKT04!H29)+SUMIF(PACKT05!$R29,\"TRUE\",PACKT05!H29)+SUMIF(PACKT06!$R30,\"TRUE\",PACKT06!H30)+SUMIF(PACKT07!$R29,\"TRUE\",PACKT07!H29)+SUMIF(PACKT08!$R29,\"TRUE\",PACKT08!H29)+SUMIF(PACKT09!$R29,\"TRUE\",PACKT09!H29)+SUMIF(PACKT10!$R29,\"TRUE\",PACKT10!H29)+SUMIF(PACKT11!$R29,\"TRUE\",PACKT11!H29)","v":0},{"$f":"SUMIF(PACKT01!$R29,\"TRUE\",PACKT01!I29)+SUMIF(PACKT02!$R29,\"TRUE\",PACKT02!I29)+SUMIF(PACKT03!$R29,\"TRUE\",PACKT03!I29)+SUMIF(PACKT04!$R29,\"TRUE\",PACKT04!I29)+SUMIF(PACKT05!$R29,\"TRUE\",PACKT05!I29)+SUMIF(PACKT06!$R30,\"TRUE\",PACKT06!I30)+SUMIF(PACKT07!$R29,\"TRUE\",PACKT07!I29)+SUMIF(PACKT08!$R29,\"TRUE\",PACKT08!I29)+SUMIF(PACKT09!$R29,\"TRUE\",PACKT09!I29)+SUMIF(PACKT10!$R29,\"TRUE\",PACKT10!I29)+SUMIF(PACKT11!$R29,\"TRUE\",PACKT11!I29)","v":0},{"$f":"SUMIF(PACKT01!$R29,\"TRUE\",PACKT01!J29)+SUMIF(PACKT02!$R29,\"TRUE\",PACKT02!J29)+SUMIF(PACKT03!$R29,\"TRUE\",PACKT03!J29)+SUMIF(PACKT04!$R29,\"TRUE\",PACKT04!J29)+SUMIF(PACKT05!$R29,\"TRUE\",PACKT05!J29)+SUMIF(PACKT06!$R30,\"TRUE\",PACKT06!J30)+SUMIF(PACKT07!$R29,\"TRUE\",PACKT07!J29)+SUMIF(PACKT08!$R29,\"TRUE\",PACKT08!J29)+SUMIF(PACKT09!$R29,\"TRUE\",PACKT09!J29)+SUMIF(PACKT10!$R29,\"TRUE\",PACKT10!J29)+SUMIF(PACKT11!$R29,\"TRUE\",PACKT11!J29)","v":0},{"$f":"SUMIF(PACKT01!$R29,\"TRUE\",PACKT01!K29)+SUMIF(PACKT02!$R29,\"TRUE\",PACKT02!K29)+SUMIF(PACKT03!$R29,\"TRUE\",PACKT03!K29)+SUMIF(PACKT04!$R29,\"TRUE\",PACKT04!K29)+SUMIF(PACKT05!$R29,\"TRUE\",PACKT05!K29)+SUMIF(PACKT06!$R30,\"TRUE\",PACKT06!K30)+SUMIF(PACKT07!$R29,\"TRUE\",PACKT07!K29)+SUMIF(PACKT08!$R29,\"TRUE\",PACKT08!K29)+SUMIF(PACKT09!$R29,\"TRUE\",PACKT09!K29)+SUMIF(PACKT10!$R29,\"TRUE\",PACKT10!K29)+SUMIF(PACKT11!$R29,\"TRUE\",PACKT11!K29)","v":0},{"$f":"SUMIF(PACKT01!$R29,\"TRUE\",PACKT01!L29)+SUMIF(PACKT02!$R29,\"TRUE\",PACKT02!L29)+SUMIF(PACKT03!$R29,\"TRUE\",PACKT03!L29)+SUMIF(PACKT04!$R29,\"TRUE\",PACKT04!L29)+SUMIF(PACKT05!$R29,\"TRUE\",PACKT05!L29)+SUMIF(PACKT06!$R30,\"TRUE\",PACKT06!L30)+SUMIF(PACKT07!$R29,\"TRUE\",PACKT07!L29)+SUMIF(PACKT08!$R29,\"TRUE\",PACKT08!L29)+SUMIF(PACKT09!$R29,\"TRUE\",PACKT09!L29)+SUMIF(PACKT10!$R29,\"TRUE\",PACKT10!L29)+SUMIF(PACKT11!$R29,\"TRUE\",PACKT11!L29)","v":0},{"$f":"SUMIF(PACKT01!$R29,\"TRUE\",PACKT01!M29)+SUMIF(PACKT02!$R29,\"TRUE\",PACKT02!M29)+SUMIF(PACKT03!$R29,\"TRUE\",PACKT03!M29)+SUMIF(PACKT04!$R29,\"TRUE\",PACKT04!M29)+SUMIF(PACKT05!$R29,\"TRUE\",PACKT05!M29)+SUMIF(PACKT06!$R30,\"TRUE\",PACKT06!M30)+SUMIF(PACKT07!$R29,\"TRUE\",PACKT07!M29)+SUMIF(PACKT08!$R29,\"TRUE\",PACKT08!M29)+SUMIF(PACKT09!$R29,\"TRUE\",PACKT09!M29)+SUMIF(PACKT10!$R29,\"TRUE\",PACKT10!M29)+SUMIF(PACKT11!$R29,\"TRUE\",PACKT11!M29)","v":0},{"$f":"SUMIF(PACKT01!$R29,\"TRUE\",PACKT01!N29)+SUMIF(PACKT02!$R29,\"TRUE\",PACKT02!N29)+SUMIF(PACKT03!$R29,\"TRUE\",PACKT03!N29)+SUMIF(PACKT04!$R29,\"TRUE\",PACKT04!N29)+SUMIF(PACKT05!$R29,\"TRUE\",PACKT05!N29)+SUMIF(PACKT06!$R30,\"TRUE\",PACKT06!N30)+SUMIF(PACKT07!$R29,\"TRUE\",PACKT07!N29)+SUMIF(PACKT08!$R29,\"TRUE\",PACKT08!N29)+SUMIF(PACKT09!$R29,\"TRUE\",PACKT09!N29)+SUMIF(PACKT10!$R29,\"TRUE\",PACKT10!N29)+SUMIF(PACKT11!$R29,\"TRUE\",PACKT11!N29)","v":0},{"$f":"SUMIF(PACKT01!$R29,\"TRUE\",PACKT01!O29)+SUMIF(PACKT02!$R29,\"TRUE\",PACKT02!O29)+SUMIF(PACKT03!$R29,\"TRUE\",PACKT03!O29)+SUMIF(PACKT04!$R29,\"TRUE\",PACKT04!O29)+SUMIF(PACKT05!$R29,\"TRUE\",PACKT05!O29)+SUMIF(PACKT06!$R30,\"TRUE\",PACKT06!O30)+SUMIF(PACKT07!$R29,\"TRUE\",PACKT07!O29)+SUMIF(PACKT08!$R29,\"TRUE\",PACKT08!O29)+SUMIF(PACKT09!$R29,\"TRUE\",PACKT09!O29)+SUMIF(PACKT10!$R29,\"TRUE\",PACKT10!O29)+SUMIF(PACKT11!$R29,\"TRUE\",PACKT11!O29)","v":0},{"$f":"SUMIF(PACKT01!$R29,\"TRUE\",PACKT01!P29)+SUMIF(PACKT02!$R29,\"TRUE\",PACKT02!P29)+SUMIF(PACKT03!$R29,\"TRUE\",PACKT03!P29)+SUMIF(PACKT04!$R29,\"TRUE\",PACKT04!P29)+SUMIF(PACKT05!$R29,\"TRUE\",PACKT05!P29)+SUMIF(PACKT06!$R30,\"TRUE\",PACKT06!P30)+SUMIF(PACKT07!$R29,\"TRUE\",PACKT07!P29)+SUMIF(PACKT08!$R29,\"TRUE\",PACKT08!P29)+SUMIF(PACKT09!$R29,\"TRUE\",PACKT09!P29)+SUMIF(PACKT10!$R29,\"TRUE\",PACKT10!P29)+SUMIF(PACKT11!$R29,\"TRUE\",PACKT11!P29)","v":0},{"$f":"SUMIF(PACKT01!$R29,\"TRUE\",PACKT01!Q29)+SUMIF(PACKT02!$R29,\"TRUE\",PACKT02!Q29)+SUMIF(PACKT03!$R29,\"TRUE\",PACKT03!Q29)+SUMIF(PACKT04!$R29,\"TRUE\",PACKT04!Q29)+SUMIF(PACKT05!$R29,\"TRUE\",PACKT05!Q29)+SUMIF(PACKT06!$R30,\"TRUE\",PACKT06!Q30)+SUMIF(PACKT07!$R29,\"TRUE\",PACKT07!Q29)+SUMIF(PACKT08!$R29,\"TRUE\",PACKT08!Q29)+SUMIF(PACKT09!$R29,\"TRUE\",PACKT09!Q29)+SUMIF(PACKT10!$R29,\"TRUE\",PACKT10!Q29)+SUMIF(PACKT11!$R29,\"TRUE\",PACKT11!Q29)","v":0},0]
[null,"EMP0019",{"$f":"VLOOKUP(HRSummarylTable[[#This Row],[EmployeeID]],EmployeeListLookupTable[],2,FALSE)","v":"EMPN019"},{"$f":"VLOOKUP(HRSummarylTable[[#This Row],[EmployeeID]],EmployeeListLookupTable[],3,FALSE)","v":"Employee Name 19"},{"$f":"VLOOKUP(HRSummarylTable[[#This Row],[EmployeeID]],EmployeeListLookupTable[],4,FALSE)","v":"Employee Job Title 19"},"TCTC001 - Total Cost to Company",{"$f":"LEFT(HRSummarylTable[[#This Row],[PackageItemCode]],7)","v":"TCTC001"},{"$f":"VLOOKUP(HRSummarylTable[[#This Row],[PackageItem]],PackageItemListLookup[],2,FALSE)","v":"Total Cost to Company"},null,{"$f":"SUMIF(PACKT01!$R30,\"TRUE\",PACKT01!F30)+SUMIF(PACKT02!$R30,\"TRUE\",PACKT02!F30)+SUMIF(PACKT03!$R30,\"TRUE\",PACKT03!F30)+SUMIF(PACKT04!$R30,\"TRUE\",PACKT04!F30)+SUMIF(PACKT05!$R30,\"TRUE\",PACKT05!F30)+SUMIF(PACKT06!$R31,\"TRUE\",PACKT06!F31)+SUMIF(PACKT07!$R30,\"TRUE\",PACKT07!F30)+SUMIF(PACKT08!$R30,\"TRUE\",PACKT08!F30)+SUMIF(PACKT09!$R30,\"TRUE\",PACKT09!F30)+SUMIF(PACKT10!$R30,\"TRUE\",PACKT10!F30)+SUMIF(PACKT11!$R30,\"TRUE\",PACKT11!F30)","v":0},{"$f":"SUMIF(PACKT01!$R30,\"TRUE\",PACKT01!G30)+SUMIF(PACKT02!$R30,\"TRUE\",PACKT02!G30)+SUMIF(PACKT03!$R30,\"TRUE\",PACKT03!G30)+SUMIF(PACKT04!$R30,\"TRUE\",PACKT04!G30)+SUMIF(PACKT05!$R30,\"TRUE\",PACKT05!G30)+SUMIF(PACKT06!$R31,\"TRUE\",PACKT06!G31)+SUMIF(PACKT07!$R30,\"TRUE\",PACKT07!G30)+SUMIF(PACKT08!$R30,\"TRUE\",PACKT08!G30)+SUMIF(PACKT09!$R30,\"TRUE\",PACKT09!G30)+SUMIF(PACKT10!$R30,\"TRUE\",PACKT10!G30)+SUMIF(PACKT11!$R30,\"TRUE\",PACKT11!G30)","v":0},{"$f":"SUMIF(PACKT01!$R30,\"TRUE\",PACKT01!H30)+SUMIF(PACKT02!$R30,\"TRUE\",PACKT02!H30)+SUMIF(PACKT03!$R30,\"TRUE\",PACKT03!H30)+SUMIF(PACKT04!$R30,\"TRUE\",PACKT04!H30)+SUMIF(PACKT05!$R30,\"TRUE\",PACKT05!H30)+SUMIF(PACKT06!$R31,\"TRUE\",PACKT06!H31)+SUMIF(PACKT07!$R30,\"TRUE\",PACKT07!H30)+SUMIF(PACKT08!$R30,\"TRUE\",PACKT08!H30)+SUMIF(PACKT09!$R30,\"TRUE\",PACKT09!H30)+SUMIF(PACKT10!$R30,\"TRUE\",PACKT10!H30)+SUMIF(PACKT11!$R30,\"TRUE\",PACKT11!H30)","v":0},{"$f":"SUMIF(PACKT01!$R30,\"TRUE\",PACKT01!I30)+SUMIF(PACKT02!$R30,\"TRUE\",PACKT02!I30)+SUMIF(PACKT03!$R30,\"TRUE\",PACKT03!I30)+SUMIF(PACKT04!$R30,\"TRUE\",PACKT04!I30)+SUMIF(PACKT05!$R30,\"TRUE\",PACKT05!I30)+SUMIF(PACKT06!$R31,\"TRUE\",PACKT06!I31)+SUMIF(PACKT07!$R30,\"TRUE\",PACKT07!I30)+SUMIF(PACKT08!$R30,\"TRUE\",PACKT08!I30)+SUMIF(PACKT09!$R30,\"TRUE\",PACKT09!I30)+SUMIF(PACKT10!$R30,\"TRUE\",PACKT10!I30)+SUMIF(PACKT11!$R30,\"TRUE\",PACKT11!I30)","v":0},{"$f":"SUMIF(PACKT01!$R30,\"TRUE\",PACKT01!J30)+SUMIF(PACKT02!$R30,\"TRUE\",PACKT02!J30)+SUMIF(PACKT03!$R30,\"TRUE\",PACKT03!J30)+SUMIF(PACKT04!$R30,\"TRUE\",PACKT04!J30)+SUMIF(PACKT05!$R30,\"TRUE\",PACKT05!J30)+SUMIF(PACKT06!$R31,\"TRUE\",PACKT06!J31)+SUMIF(PACKT07!$R30,\"TRUE\",PACKT07!J30)+SUMIF(PACKT08!$R30,\"TRUE\",PACKT08!J30)+SUMIF(PACKT09!$R30,\"TRUE\",PACKT09!J30)+SUMIF(PACKT10!$R30,\"TRUE\",PACKT10!J30)+SUMIF(PACKT11!$R30,\"TRUE\",PACKT11!J30)","v":0},{"$f":"SUMIF(PACKT01!$R30,\"TRUE\",PACKT01!K30)+SUMIF(PACKT02!$R30,\"TRUE\",PACKT02!K30)+SUMIF(PACKT03!$R30,\"TRUE\",PACKT03!K30)+SUMIF(PACKT04!$R30,\"TRUE\",PACKT04!K30)+SUMIF(PACKT05!$R30,\"TRUE\",PACKT05!K30)+SUMIF(PACKT06!$R31,\"TRUE\",PACKT06!K31)+SUMIF(PACKT07!$R30,\"TRUE\",PACKT07!K30)+SUMIF(PACKT08!$R30,\"TRUE\",PACKT08!K30)+SUMIF(PACKT09!$R30,\"TRUE\",PACKT09!K30)+SUMIF(PACKT10!$R30,\"TRUE\",PACKT10!K30)+SUMIF(PACKT11!$R30,\"TRUE\",PACKT11!K30)","v":0},{"$f":"SUMIF(PACKT01!$R30,\"TRUE\",PACKT01!L30)+SUMIF(PACKT02!$R30,\"TRUE\",PACKT02!L30)+SUMIF(PACKT03!$R30,\"TRUE\",PACKT03!L30)+SUMIF(PACKT04!$R30,\"TRUE\",PACKT04!L30)+SUMIF(PACKT05!$R30,\"TRUE\",PACKT05!L30)+SUMIF(PACKT06!$R31,\"TRUE\",PACKT06!L31)+SUMIF(PACKT07!$R30,\"TRUE\",PACKT07!L30)+SUMIF(PACKT08!$R30,\"TRUE\",PACKT08!L30)+SUMIF(PACKT09!$R30,\"TRUE\",PACKT09!L30)+SUMIF(PACKT10!$R30,\"TRUE\",PACKT10!L30)+SUMIF(PACKT11!$R30,\"TRUE\",PACKT11!L30)","v":0},{"$f":"SUMIF(PACKT01!$R30,\"TRUE\",PACKT01!M30)+SUMIF(PACKT02!$R30,\"TRUE\",PACKT02!M30)+SUMIF(PACKT03!$R30,\"TRUE\",PACKT03!M30)+SUMIF(PACKT04!$R30,\"TRUE\",PACKT04!M30)+SUMIF(PACKT05!$R30,\"TRUE\",PACKT05!M30)+SUMIF(PACKT06!$R31,\"TRUE\",PACKT06!M31)+SUMIF(PACKT07!$R30,\"TRUE\",PACKT07!M30)+SUMIF(PACKT08!$R30,\"TRUE\",PACKT08!M30)+SUMIF(PACKT09!$R30,\"TRUE\",PACKT09!M30)+SUMIF(PACKT10!$R30,\"TRUE\",PACKT10!M30)+SUMIF(PACKT11!$R30,\"TRUE\",PACKT11!M30)","v":0},{"$f":"SUMIF(PACKT01!$R30,\"TRUE\",PACKT01!N30)+SUMIF(PACKT02!$R30,\"TRUE\",PACKT02!N30)+SUMIF(PACKT03!$R30,\"TRUE\",PACKT03!N30)+SUMIF(PACKT04!$R30,\"TRUE\",PACKT04!N30)+SUMIF(PACKT05!$R30,\"TRUE\",PACKT05!N30)+SUMIF(PACKT06!$R31,\"TRUE\",PACKT06!N31)+SUMIF(PACKT07!$R30,\"TRUE\",PACKT07!N30)+SUMIF(PACKT08!$R30,\"TRUE\",PACKT08!N30)+SUMIF(PACKT09!$R30,\"TRUE\",PACKT09!N30)+SUMIF(PACKT10!$R30,\"TRUE\",PACKT10!N30)+SUMIF(PACKT11!$R30,\"TRUE\",PACKT11!N30)","v":0},{"$f":"SUMIF(PACKT01!$R30,\"TRUE\",PACKT01!O30)+SUMIF(PACKT02!$R30,\"TRUE\",PACKT02!O30)+SUMIF(PACKT03!$R30,\"TRUE\",PACKT03!O30)+SUMIF(PACKT04!$R30,\"TRUE\",PACKT04!O30)+SUMIF(PACKT05!$R30,\"TRUE\",PACKT05!O30)+SUMIF(PACKT06!$R31,\"TRUE\",PACKT06!O31)+SUMIF(PACKT07!$R30,\"TRUE\",PACKT07!O30)+SUMIF(PACKT08!$R30,\"TRUE\",PACKT08!O30)+SUMIF(PACKT09!$R30,\"TRUE\",PACKT09!O30)+SUMIF(PACKT10!$R30,\"TRUE\",PACKT10!O30)+SUMIF(PACKT11!$R30,\"TRUE\",PACKT11!O30)","v":0},{"$f":"SUMIF(PACKT01!$R30,\"TRUE\",PACKT01!P30)+SUMIF(PACKT02!$R30,\"TRUE\",PACKT02!P30)+SUMIF(PACKT03!$R30,\"TRUE\",PACKT03!P30)+SUMIF(PACKT04!$R30,\"TRUE\",PACKT04!P30)+SUMIF(PACKT05!$R30,\"TRUE\",PACKT05!P30)+SUMIF(PACKT06!$R31,\"TRUE\",PACKT06!P31)+SUMIF(PACKT07!$R30,\"TRUE\",PACKT07!P30)+SUMIF(PACKT08!$R30,\"TRUE\",PACKT08!P30)+SUMIF(PACKT09!$R30,\"TRUE\",PACKT09!P30)+SUMIF(PACKT10!$R30,\"TRUE\",PACKT10!P30)+SUMIF(PACKT11!$R30,\"TRUE\",PACKT11!P30)","v":0},{"$f":"SUMIF(PACKT01!$R30,\"TRUE\",PACKT01!Q30)+SUMIF(PACKT02!$R30,\"TRUE\",PACKT02!Q30)+SUMIF(PACKT03!$R30,\"TRUE\",PACKT03!Q30)+SUMIF(PACKT04!$R30,\"TRUE\",PACKT04!Q30)+SUMIF(PACKT05!$R30,\"TRUE\",PACKT05!Q30)+SUMIF(PACKT06!$R31,\"TRUE\",PACKT06!Q31)+SUMIF(PACKT07!$R30,\"TRUE\",PACKT07!Q30)+SUMIF(PACKT08!$R30,\"TRUE\",PACKT08!Q30)+SUMIF(PACKT09!$R30,\"TRUE\",PACKT09!Q30)+SUMIF(PACKT10!$R30,\"TRUE\",PACKT10!Q30)+SUMIF(PACKT11!$R30,\"TRUE\",PACKT11!Q30)","v":0},0]
[null,"EMP0020",{"$f":"VLOOKUP(HRSummarylTable[[#This Row],[EmployeeID]],EmployeeListLookupTable[],2,FALSE)","v":"EMPN020"},{"$f":"VLOOKUP(HRSummarylTable[[#This Row],[EmployeeID]],EmployeeListLookupTable[],3,FALSE)","v":"Employee Name 20"},{"$f":"VLOOKUP(HRSummarylTable[[#This Row],[EmployeeID]],EmployeeListLookupTable[],4,FALSE)","v":"Employee Job Title 20"},"TCTC001 - Total Cost to Company",{"$f":"LEFT(HRSummarylTable[[#This Row],[PackageItemCode]],7)","v":"TCTC001"},{"$f":"VLOOKUP(HRSummarylTable[[#This Row],[PackageItem]],PackageItemListLookup[],2,FALSE)","v":"Total Cost to Company"},null,{"$f":"SUMIF(PACKT01!$R31,\"TRUE\",PACKT01!F31)+SUMIF(PACKT02!$R31,\"TRUE\",PACKT02!F31)+SUMIF(PACKT03!$R31,\"TRUE\",PACKT03!F31)+SUMIF(PACKT04!$R31,\"TRUE\",PACKT04!F31)+SUMIF(PACKT05!$R31,\"TRUE\",PACKT05!F31)+SUMIF(PACKT06!$R32,\"TRUE\",PACKT06!F32)+SUMIF(PACKT07!$R31,\"TRUE\",PACKT07!F31)+SUMIF(PACKT08!$R31,\"TRUE\",PACKT08!F31)+SUMIF(PACKT09!$R31,\"TRUE\",PACKT09!F31)+SUMIF(PACKT10!$R31,\"TRUE\",PACKT10!F31)+SUMIF(PACKT11!$R31,\"TRUE\",PACKT11!F31)","v":0},{"$f":"SUMIF(PACKT01!$R31,\"TRUE\",PACKT01!G31)+SUMIF(PACKT02!$R31,\"TRUE\",PACKT02!G31)+SUMIF(PACKT03!$R31,\"TRUE\",PACKT03!G31)+SUMIF(PACKT04!$R31,\"TRUE\",PACKT04!G31)+SUMIF(PACKT05!$R31,\"TRUE\",PACKT05!G31)+SUMIF(PACKT06!$R32,\"TRUE\",PACKT06!G32)+SUMIF(PACKT07!$R31,\"TRUE\",PACKT07!G31)+SUMIF(PACKT08!$R31,\"TRUE\",PACKT08!G31)+SUMIF(PACKT09!$R31,\"TRUE\",PACKT09!G31)+SUMIF(PACKT10!$R31,\"TRUE\",PACKT10!G31)+SUMIF(PACKT11!$R31,\"TRUE\",PACKT11!G31)","v":0},{"$f":"SUMIF(PACKT01!$R31,\"TRUE\",PACKT01!H31)+SUMIF(PACKT02!$R31,\"TRUE\",PACKT02!H31)+SUMIF(PACKT03!$R31,\"TRUE\",PACKT03!H31)+SUMIF(PACKT04!$R31,\"TRUE\",PACKT04!H31)+SUMIF(PACKT05!$R31,\"TRUE\",PACKT05!H31)+SUMIF(PACKT06!$R32,\"TRUE\",PACKT06!H32)+SUMIF(PACKT07!$R31,\"TRUE\",PACKT07!H31)+SUMIF(PACKT08!$R31,\"TRUE\",PACKT08!H31)+SUMIF(PACKT09!$R31,\"TRUE\",PACKT09!H31)+SUMIF(PACKT10!$R31,\"TRUE\",PACKT10!H31)+SUMIF(PACKT11!$R31,\"TRUE\",PACKT11!H31)","v":0},{"$f":"SUMIF(PACKT01!$R31,\"TRUE\",PACKT01!I31)+SUMIF(PACKT02!$R31,\"TRUE\",PACKT02!I31)+SUMIF(PACKT03!$R31,\"TRUE\",PACKT03!I31)+SUMIF(PACKT04!$R31,\"TRUE\",PACKT04!I31)+SUMIF(PACKT05!$R31,\"TRUE\",PACKT05!I31)+SUMIF(PACKT06!$R32,\"TRUE\",PACKT06!I32)+SUMIF(PACKT07!$R31,\"TRUE\",PACKT07!I31)+SUMIF(PACKT08!$R31,\"TRUE\",PACKT08!I31)+SUMIF(PACKT09!$R31,\"TRUE\",PACKT09!I31)+SUMIF(PACKT10!$R31,\"TRUE\",PACKT10!I31)+SUMIF(PACKT11!$R31,\"TRUE\",PACKT11!I31)","v":0},{"$f":"SUMIF(PACKT01!$R31,\"TRUE\",PACKT01!J31)+SUMIF(PACKT02!$R31,\"TRUE\",PACKT02!J31)+SUMIF(PACKT03!$R31,\"TRUE\",PACKT03!J31)+SUMIF(PACKT04!$R31,\"TRUE\",PACKT04!J31)+SUMIF(PACKT05!$R31,\"TRUE\",PACKT05!J31)+SUMIF(PACKT06!$R32,\"TRUE\",PACKT06!J32)+SUMIF(PACKT07!$R31,\"TRUE\",PACKT07!J31)+SUMIF(PACKT08!$R31,\"TRUE\",PACKT08!J31)+SUMIF(PACKT09!$R31,\"TRUE\",PACKT09!J31)+SUMIF(PACKT10!$R31,\"TRUE\",PACKT10!J31)+SUMIF(PACKT11!$R31,\"TRUE\",PACKT11!J31)","v":0},{"$f":"SUMIF(PACKT01!$R31,\"TRUE\",PACKT01!K31)+SUMIF(PACKT02!$R31,\"TRUE\",PACKT02!K31)+SUMIF(PACKT03!$R31,\"TRUE\",PACKT03!K31)+SUMIF(PACKT04!$R31,\"TRUE\",PACKT04!K31)+SUMIF(PACKT05!$R31,\"TRUE\",PACKT05!K31)+SUMIF(PACKT06!$R32,\"TRUE\",PACKT06!K32)+SUMIF(PACKT07!$R31,\"TRUE\",PACKT07!K31)+SUMIF(PACKT08!$R31,\"TRUE\",PACKT08!K31)+SUMIF(PACKT09!$R31,\"TRUE\",PACKT09!K31)+SUMIF(PACKT10!$R31,\"TRUE\",PACKT10!K31)+SUMIF(PACKT11!$R31,\"TRUE\",PACKT11!K31)","v":0},{"$f":"SUMIF(PACKT01!$R31,\"TRUE\",PACKT01!L31)+SUMIF(PACKT02!$R31,\"TRUE\",PACKT02!L31)+SUMIF(PACKT03!$R31,\"TRUE\",PACKT03!L31)+SUMIF(PACKT04!$R31,\"TRUE\",PACKT04!L31)+SUMIF(PACKT05!$R31,\"TRUE\",PACKT05!L31)+SUMIF(PACKT06!$R32,\"TRUE\",PACKT06!L32)+SUMIF(PACKT07!$R31,\"TRUE\",PACKT07!L31)+SUMIF(PACKT08!$R31,\"TRUE\",PACKT08!L31)+SUMIF(PACKT09!$R31,\"TRUE\",PACKT09!L31)+SUMIF(PACKT10!$R31,\"TRUE\",PACKT10!L31)+SUMIF(PACKT11!$R31,\"TRUE\",PACKT11!L31)","v":0},{"$f":"SUMIF(PACKT01!$R31,\"TRUE\",PACKT01!M31)+SUMIF(PACKT02!$R31,\"TRUE\",PACKT02!M31)+SUMIF(PACKT03!$R31,\"TRUE\",PACKT03!M31)+SUMIF(PACKT04!$R31,\"TRUE\",PACKT04!M31)+SUMIF(PACKT05!$R31,\"TRUE\",PACKT05!M31)+SUMIF(PACKT06!$R32,\"TRUE\",PACKT06!M32)+SUMIF(PACKT07!$R31,\"TRUE\",PACKT07!M31)+SUMIF(PACKT08!$R31,\"TRUE\",PACKT08!M31)+SUMIF(PACKT09!$R31,\"TRUE\",PACKT09!M31)+SUMIF(PACKT10!$R31,\"TRUE\",PACKT10!M31)+SUMIF(PACKT11!$R31,\"TRUE\",PACKT11!M31)","v":0},{"$f":"SUMIF(PACKT01!$R31,\"TRUE\",PACKT01!N31)+SUMIF(PACKT02!$R31,\"TRUE\",PACKT02!N31)+SUMIF(PACKT03!$R31,\"TRUE\",PACKT03!N31)+SUMIF(PACKT04!$R31,\"TRUE\",PACKT04!N31)+SUMIF(PACKT05!$R31,\"TRUE\",PACKT05!N31)+SUMIF(PACKT06!$R32,\"TRUE\",PACKT06!N32)+SUMIF(PACKT07!$R31,\"TRUE\",PACKT07!N31)+SUMIF(PACKT08!$R31,\"TRUE\",PACKT08!N31)+SUMIF(PACKT09!$R31,\"TRUE\",PACKT09!N31)+SUMIF(PACKT10!$R31,\"TRUE\",PACKT10!N31)+SUMIF(PACKT11!$R31,\"TRUE\",PACKT11!N31)","v":0},{"$f":"SUMIF(PACKT01!$R31,\"TRUE\",PACKT01!O31)+SUMIF(PACKT02!$R31,\"TRUE\",PACKT02!O31)+SUMIF(PACKT03!$R31,\"TRUE\",PACKT03!O31)+SUMIF(PACKT04!$R31,\"TRUE\",PACKT04!O31)+SUMIF(PACKT05!$R31,\"TRUE\",PACKT05!O31)+SUMIF(PACKT06!$R32,\"TRUE\",PACKT06!O32)+SUMIF(PACKT07!$R31,\"TRUE\",PACKT07!O31)+SUMIF(PACKT08!$R31,\"TRUE\",PACKT08!O31)+SUMIF(PACKT09!$R31,\"TRUE\",PACKT09!O31)+SUMIF(PACKT10!$R31,\"TRUE\",PACKT10!O31)+SUMIF(PACKT11!$R31,\"TRUE\",PACKT11!O31)","v":0},{"$f":"SUMIF(PACKT01!$R31,\"TRUE\",PACKT01!P31)+SUMIF(PACKT02!$R31,\"TRUE\",PACKT02!P31)+SUMIF(PACKT03!$R31,\"TRUE\",PACKT03!P31)+SUMIF(PACKT04!$R31,\"TRUE\",PACKT04!P31)+SUMIF(PACKT05!$R31,\"TRUE\",PACKT05!P31)+SUMIF(PACKT06!$R32,\"TRUE\",PACKT06!P32)+SUMIF(PACKT07!$R31,\"TRUE\",PACKT07!P31)+SUMIF(PACKT08!$R31,\"TRUE\",PACKT08!P31)+SUMIF(PACKT09!$R31,\"TRUE\",PACKT09!P31)+SUMIF(PACKT10!$R31,\"TRUE\",PACKT10!P31)+SUMIF(PACKT11!$R31,\"TRUE\",PACKT11!P31)","v":0},{"$f":"SUMIF(PACKT01!$R31,\"TRUE\",PACKT01!Q31)+SUMIF(PACKT02!$R31,\"TRUE\",PACKT02!Q31)+SUMIF(PACKT03!$R31,\"TRUE\",PACKT03!Q31)+SUMIF(PACKT04!$R31,\"TRUE\",PACKT04!Q31)+SUMIF(PACKT05!$R31,\"TRUE\",PACKT05!Q31)+SUMIF(PACKT06!$R32,\"TRUE\",PACKT06!Q32)+SUMIF(PACKT07!$R31,\"TRUE\",PACKT07!Q31)+SUMIF(PACKT08!$R31,\"TRUE\",PACKT08!Q31)+SUMIF(PACKT09!$R31,\"TRUE\",PACKT09!Q31)+SUMIF(PACKT10!$R31,\"TRUE\",PACKT10!Q31)+SUMIF(PACKT11!$R31,\"TRUE\",PACKT11!Q31)","v":0},0]
[null,"EMP0021",{"$f":"VLOOKUP(HRSummarylTable[[#This Row],[EmployeeID]],EmployeeListLookupTable[],2,FALSE)","v":"EMPN021"},{"$f":"VLOOKUP(HRSummarylTable[[#This Row],[EmployeeID]],EmployeeListLookupTable[],3,FALSE)","v":"Employee Name 21"},{"$f":"VLOOKUP(HRSummarylTable[[#This Row],[EmployeeID]],EmployeeListLookupTable[],4,FALSE)","v":"Employee Job Title 21"},"TCTC001 - Total Cost to Company",{"$f":"LEFT(HRSummarylTable[[#This Row],[PackageItemCode]],7)","v":"TCTC001"},{"$f":"VLOOKUP(HRSummarylTable[[#This Row],[PackageItem]],PackageItemListLookup[],2,FALSE)","v":"Total Cost to Company"},null,{"$f":"SUMIF(PACKT01!$R32,\"TRUE\",PACKT01!F32)+SUMIF(PACKT02!$R32,\"TRUE\",PACKT02!F32)+SUMIF(PACKT03!$R32,\"TRUE\",PACKT03!F32)+SUMIF(PACKT04!$R32,\"TRUE\",PACKT04!F32)+SUMIF(PACKT05!$R32,\"TRUE\",PACKT05!F32)+SUMIF(PACKT06!$R33,\"TRUE\",PACKT06!F33)+SUMIF(PACKT07!$R32,\"TRUE\",PACKT07!F32)+SUMIF(PACKT08!$R32,\"TRUE\",PACKT08!F32)+SUMIF(PACKT09!$R32,\"TRUE\",PACKT09!F32)+SUMIF(PACKT10!$R32,\"TRUE\",PACKT10!F32)+SUMIF(PACKT11!$R32,\"TRUE\",PACKT11!F32)","v":0},{"$f":"SUMIF(PACKT01!$R32,\"TRUE\",PACKT01!G32)+SUMIF(PACKT02!$R32,\"TRUE\",PACKT02!G32)+SUMIF(PACKT03!$R32,\"TRUE\",PACKT03!G32)+SUMIF(PACKT04!$R32,\"TRUE\",PACKT04!G32)+SUMIF(PACKT05!$R32,\"TRUE\",PACKT05!G32)+SUMIF(PACKT06!$R33,\"TRUE\",PACKT06!G33)+SUMIF(PACKT07!$R32,\"TRUE\",PACKT07!G32)+SUMIF(PACKT08!$R32,\"TRUE\",PACKT08!G32)+SUMIF(PACKT09!$R32,\"TRUE\",PACKT09!G32)+SUMIF(PACKT10!$R32,\"TRUE\",PACKT10!G32)+SUMIF(PACKT11!$R32,\"TRUE\",PACKT11!G32)","v":0},{"$f":"SUMIF(PACKT01!$R32,\"TRUE\",PACKT01!H32)+SUMIF(PACKT02!$R32,\"TRUE\",PACKT02!H32)+SUMIF(PACKT03!$R32,\"TRUE\",PACKT03!H32)+SUMIF(PACKT04!$R32,\"TRUE\",PACKT04!H32)+SUMIF(PACKT05!$R32,\"TRUE\",PACKT05!H32)+SUMIF(PACKT06!$R33,\"TRUE\",PACKT06!H33)+SUMIF(PACKT07!$R32,\"TRUE\",PACKT07!H32)+SUMIF(PACKT08!$R32,\"TRUE\",PACKT08!H32)+SUMIF(PACKT09!$R32,\"TRUE\",PACKT09!H32)+SUMIF(PACKT10!$R32,\"TRUE\",PACKT10!H32)+SUMIF(PACKT11!$R32,\"TRUE\",PACKT11!H32)","v":0},{"$f":"SUMIF(PACKT01!$R32,\"TRUE\",PACKT01!I32)+SUMIF(PACKT02!$R32,\"TRUE\",PACKT02!I32)+SUMIF(PACKT03!$R32,\"TRUE\",PACKT03!I32)+SUMIF(PACKT04!$R32,\"TRUE\",PACKT04!I32)+SUMIF(PACKT05!$R32,\"TRUE\",PACKT05!I32)+SUMIF(PACKT06!$R33,\"TRUE\",PACKT06!I33)+SUMIF(PACKT07!$R32,\"TRUE\",PACKT07!I32)+SUMIF(PACKT08!$R32,\"TRUE\",PACKT08!I32)+SUMIF(PACKT09!$R32,\"TRUE\",PACKT09!I32)+SUMIF(PACKT10!$R32,\"TRUE\",PACKT10!I32)+SUMIF(PACKT11!$R32,\"TRUE\",PACKT11!I32)","v":0},{"$f":"SUMIF(PACKT01!$R32,\"TRUE\",PACKT01!J32)+SUMIF(PACKT02!$R32,\"TRUE\",PACKT02!J32)+SUMIF(PACKT03!$R32,\"TRUE\",PACKT03!J32)+SUMIF(PACKT04!$R32,\"TRUE\",PACKT04!J32)+SUMIF(PACKT05!$R32,\"TRUE\",PACKT05!J32)+SUMIF(PACKT06!$R33,\"TRUE\",PACKT06!J33)+SUMIF(PACKT07!$R32,\"TRUE\",PACKT07!J32)+SUMIF(PACKT08!$R32,\"TRUE\",PACKT08!J32)+SUMIF(PACKT09!$R32,\"TRUE\",PACKT09!J32)+SUMIF(PACKT10!$R32,\"TRUE\",PACKT10!J32)+SUMIF(PACKT11!$R32,\"TRUE\",PACKT11!J32)","v":0},{"$f":"SUMIF(PACKT01!$R32,\"TRUE\",PACKT01!K32)+SUMIF(PACKT02!$R32,\"TRUE\",PACKT02!K32)+SUMIF(PACKT03!$R32,\"TRUE\",PACKT03!K32)+SUMIF(PACKT04!$R32,\"TRUE\",PACKT04!K32)+SUMIF(PACKT05!$R32,\"TRUE\",PACKT05!K32)+SUMIF(PACKT06!$R33,\"TRUE\",PACKT06!K33)+SUMIF(PACKT07!$R32,\"TRUE\",PACKT07!K32)+SUMIF(PACKT08!$R32,\"TRUE\",PACKT08!K32)+SUMIF(PACKT09!$R32,\"TRUE\",PACKT09!K32)+SUMIF(PACKT10!$R32,\"TRUE\",PACKT10!K32)+SUMIF(PACKT11!$R32,\"TRUE\",PACKT11!K32)","v":0},{"$f":"SUMIF(PACKT01!$R32,\"TRUE\",PACKT01!L32)+SUMIF(PACKT02!$R32,\"TRUE\",PACKT02!L32)+SUMIF(PACKT03!$R32,\"TRUE\",PACKT03!L32)+SUMIF(PACKT04!$R32,\"TRUE\",PACKT04!L32)+SUMIF(PACKT05!$R32,\"TRUE\",PACKT05!L32)+SUMIF(PACKT06!$R33,\"TRUE\",PACKT06!L33)+SUMIF(PACKT07!$R32,\"TRUE\",PACKT07!L32)+SUMIF(PACKT08!$R32,\"TRUE\",PACKT08!L32)+SUMIF(PACKT09!$R32,\"TRUE\",PACKT09!L32)+SUMIF(PACKT10!$R32,\"TRUE\",PACKT10!L32)+SUMIF(PACKT11!$R32,\"TRUE\",PACKT11!L32)","v":0},{"$f":"SUMIF(PACKT01!$R32,\"TRUE\",PACKT01!M32)+SUMIF(PACKT02!$R32,\"TRUE\",PACKT02!M32)+SUMIF(PACKT03!$R32,\"TRUE\",PACKT03!M32)+SUMIF(PACKT04!$R32,\"TRUE\",PACKT04!M32)+SUMIF(PACKT05!$R32,\"TRUE\",PACKT05!M32)+SUMIF(PACKT06!$R33,\"TRUE\",PACKT06!M33)+SUMIF(PACKT07!$R32,\"TRUE\",PACKT07!M32)+SUMIF(PACKT08!$R32,\"TRUE\",PACKT08!M32)+SUMIF(PACKT09!$R32,\"TRUE\",PACKT09!M32)+SUMIF(PACKT10!$R32,\"TRUE\",PACKT10!M32)+SUMIF(PACKT11!$R32,\"TRUE\",PACKT11!M32)","v":0},{"$f":"SUMIF(PACKT01!$R32,\"TRUE\",PACKT01!N32)+SUMIF(PACKT02!$R32,\"TRUE\",PACKT02!N32)+SUMIF(PACKT03!$R32,\"TRUE\",PACKT03!N32)+SUMIF(PACKT04!$R32,\"TRUE\",PACKT04!N32)+SUMIF(PACKT05!$R32,\"TRUE\",PACKT05!N32)+SUMIF(PACKT06!$R33,\"TRUE\",PACKT06!N33)+SUMIF(PACKT07!$R32,\"TRUE\",PACKT07!N32)+SUMIF(PACKT08!$R32,\"TRUE\",PACKT08!N32)+SUMIF(PACKT09!$R32,\"TRUE\",PACKT09!N32)+SUMIF(PACKT10!$R32,\"TRUE\",PACKT10!N32)+SUMIF(PACKT11!$R32,\"TRUE\",PACKT11!N32)","v":0},{"$f":"SUMIF(PACKT01!$R32,\"TRUE\",PACKT01!O32)+SUMIF(PACKT02!$R32,\"TRUE\",PACKT02!O32)+SUMIF(PACKT03!$R32,\"TRUE\",PACKT03!O32)+SUMIF(PACKT04!$R32,\"TRUE\",PACKT04!O32)+SUMIF(PACKT05!$R32,\"TRUE\",PACKT05!O32)+SUMIF(PACKT06!$R33,\"TRUE\",PACKT06!O33)+SUMIF(PACKT07!$R32,\"TRUE\",PACKT07!O32)+SUMIF(PACKT08!$R32,\"TRUE\",PACKT08!O32)+SUMIF(PACKT09!$R32,\"TRUE\",PACKT09!O32)+SUMIF(PACKT10!$R32,\"TRUE\",PACKT10!O32)+SUMIF(PACKT11!$R32,\"TRUE\",PACKT11!O32)","v":0},{"$f":"SUMIF(PACKT01!$R32,\"TRUE\",PACKT01!P32)+SUMIF(PACKT02!$R32,\"TRUE\",PACKT02!P32)+SUMIF(PACKT03!$R32,\"TRUE\",PACKT03!P32)+SUMIF(PACKT04!$R32,\"TRUE\",PACKT04!P32)+SUMIF(PACKT05!$R32,\"TRUE\",PACKT05!P32)+SUMIF(PACKT06!$R33,\"TRUE\",PACKT06!P33)+SUMIF(PACKT07!$R32,\"TRUE\",PACKT07!P32)+SUMIF(PACKT08!$R32,\"TRUE\",PACKT08!P32)+SUMIF(PACKT09!$R32,\"TRUE\",PACKT09!P32)+SUMIF(PACKT10!$R32,\"TRUE\",PACKT10!P32)+SUMIF(PACKT11!$R32,\"TRUE\",PACKT11!P32)","v":0},{"$f":"SUMIF(PACKT01!$R32,\"TRUE\",PACKT01!Q32)+SUMIF(PACKT02!$R32,\"TRUE\",PACKT02!Q32)+SUMIF(PACKT03!$R32,\"TRUE\",PACKT03!Q32)+SUMIF(PACKT04!$R32,\"TRUE\",PACKT04!Q32)+SUMIF(PACKT05!$R32,\"TRUE\",PACKT05!Q32)+SUMIF(PACKT06!$R33,\"TRUE\",PACKT06!Q33)+SUMIF(PACKT07!$R32,\"TRUE\",PACKT07!Q32)+SUMIF(PACKT08!$R32,\"TRUE\",PACKT08!Q32)+SUMIF(PACKT09!$R32,\"TRUE\",PACKT09!Q32)+SUMIF(PACKT10!$R32,\"TRUE\",PACKT10!Q32)+SUMIF(PACKT11!$R32,\"TRUE\",PACKT11!Q32)","v":0},0]
[null,"EMP0022",{"$f":"VLOOKUP(HRSummarylTable[[#This Row],[EmployeeID]],EmployeeListLookupTable[],2,FALSE)","v":"EMPN022"},{"$f":"VLOOKUP(HRSummarylTable[[#This Row],[EmployeeID]],EmployeeListLookupTable[],3,FALSE)","v":"Employee Name 22"},{"$f":"VLOOKUP(HRSummarylTable[[#This Row],[EmployeeID]],EmployeeListLookupTable[],4,FALSE)","v":"Employee Job Title 22"},"TCTC001 - Total Cost to Company",{"$f":"LEFT(HRSummarylTable[[#This Row],[PackageItemCode]],7)","v":"TCTC001"},{"$f":"VLOOKUP(HRSummarylTable[[#This Row],[PackageItem]],PackageItemListLookup[],2,FALSE)","v":"Total Cost to Company"},null,{"$f":"SUMIF(PACKT01!$R33,\"TRUE\",PACKT01!F33)+SUMIF(PACKT02!$R33,\"TRUE\",PACKT02!F33)+SUMIF(PACKT03!$R33,\"TRUE\",PACKT03!F33)+SUMIF(PACKT04!$R33,\"TRUE\",PACKT04!F33)+SUMIF(PACKT05!$R33,\"TRUE\",PACKT05!F33)+SUMIF(PACKT06!$R34,\"TRUE\",PACKT06!F34)+SUMIF(PACKT07!$R33,\"TRUE\",PACKT07!F33)+SUMIF(PACKT08!$R33,\"TRUE\",PACKT08!F33)+SUMIF(PACKT09!$R33,\"TRUE\",PACKT09!F33)+SUMIF(PACKT10!$R33,\"TRUE\",PACKT10!F33)+SUMIF(PACKT11!$R33,\"TRUE\",PACKT11!F33)","v":0},{"$f":"SUMIF(PACKT01!$R33,\"TRUE\",PACKT01!G33)+SUMIF(PACKT02!$R33,\"TRUE\",PACKT02!G33)+SUMIF(PACKT03!$R33,\"TRUE\",PACKT03!G33)+SUMIF(PACKT04!$R33,\"TRUE\",PACKT04!G33)+SUMIF(PACKT05!$R33,\"TRUE\",PACKT05!G33)+SUMIF(PACKT06!$R34,\"TRUE\",PACKT06!G34)+SUMIF(PACKT07!$R33,\"TRUE\",PACKT07!G33)+SUMIF(PACKT08!$R33,\"TRUE\",PACKT08!G33)+SUMIF(PACKT09!$R33,\"TRUE\",PACKT09!G33)+SUMIF(PACKT10!$R33,\"TRUE\",PACKT10!G33)+SUMIF(PACKT11!$R33,\"TRUE\",PACKT11!G33)","v":0},{"$f":"SUMIF(PACKT01!$R33,\"TRUE\",PACKT01!H33)+SUMIF(PACKT02!$R33,\"TRUE\",PACKT02!H33)+SUMIF(PACKT03!$R33,\"TRUE\",PACKT03!H33)+SUMIF(PACKT04!$R33,\"TRUE\",PACKT04!H33)+SUMIF(PACKT05!$R33,\"TRUE\",PACKT05!H33)+SUMIF(PACKT06!$R34,\"TRUE\",PACKT06!H34)+SUMIF(PACKT07!$R33,\"TRUE\",PACKT07!H33)+SUMIF(PACKT08!$R33,\"TRUE\",PACKT08!H33)+SUMIF(PACKT09!$R33,\"TRUE\",PACKT09!H33)+SUMIF(PACKT10!$R33,\"TRUE\",PACKT10!H33)+SUMIF(PACKT11!$R33,\"TRUE\",PACKT11!H33)","v":0},{"$f":"SUMIF(PACKT01!$R33,\"TRUE\",PACKT01!I33)+SUMIF(PACKT02!$R33,\"TRUE\",PACKT02!I33)+SUMIF(PACKT03!$R33,\"TRUE\",PACKT03!I33)+SUMIF(PACKT04!$R33,\"TRUE\",PACKT04!I33)+SUMIF(PACKT05!$R33,\"TRUE\",PACKT05!I33)+SUMIF(PACKT06!$R34,\"TRUE\",PACKT06!I34)+SUMIF(PACKT07!$R33,\"TRUE\",PACKT07!I33)+SUMIF(PACKT08!$R33,\"TRUE\",PACKT08!I33)+SUMIF(PACKT09!$R33,\"TRUE\",PACKT09!I33)+SUMIF(PACKT10!$R33,\"TRUE\",PACKT10!I33)+SUMIF(PACKT11!$R33,\"TRUE\",PACKT11!I33)","v":0},{"$f":"SUMIF(PACKT01!$R33,\"TRUE\",PACKT01!J33)+SUMIF(PACKT02!$R33,\"TRUE\",PACKT02!J33)+SUMIF(PACKT03!$R33,\"TRUE\",PACKT03!J33)+SUMIF(PACKT04!$R33,\"TRUE\",PACKT04!J33)+SUMIF(PACKT05!$R33,\"TRUE\",PACKT05!J33)+SUMIF(PACKT06!$R34,\"TRUE\",PACKT06!J34)+SUMIF(PACKT07!$R33,\"TRUE\",PACKT07!J33)+SUMIF(PACKT08!$R33,\"TRUE\",PACKT08!J33)+SUMIF(PACKT09!$R33,\"TRUE\",PACKT09!J33)+SUMIF(PACKT10!$R33,\"TRUE\",PACKT10!J33)+SUMIF(PACKT11!$R33,\"TRUE\",PACKT11!J33)","v":0},{"$f":"SUMIF(PACKT01!$R33,\"TRUE\",PACKT01!K33)+SUMIF(PACKT02!$R33,\"TRUE\",PACKT02!K33)+SUMIF(PACKT03!$R33,\"TRUE\",PACKT03!K33)+SUMIF(PACKT04!$R33,\"TRUE\",PACKT04!K33)+SUMIF(PACKT05!$R33,\"TRUE\",PACKT05!K33)+SUMIF(PACKT06!$R34,\"TRUE\",PACKT06!K34)+SUMIF(PACKT07!$R33,\"TRUE\",PACKT07!K33)+SUMIF(PACKT08!$R33,\"TRUE\",PACKT08!K33)+SUMIF(PACKT09!$R33,\"TRUE\",PACKT09!K33)+SUMIF(PACKT10!$R33,\"TRUE\",PACKT10!K33)+SUMIF(PACKT11!$R33,\"TRUE\",PACKT11!K33)","v":0},{"$f":"SUMIF(PACKT01!$R33,\"TRUE\",PACKT01!L33)+SUMIF(PACKT02!$R33,\"TRUE\",PACKT02!L33)+SUMIF(PACKT03!$R33,\"TRUE\",PACKT03!L33)+SUMIF(PACKT04!$R33,\"TRUE\",PACKT04!L33)+SUMIF(PACKT05!$R33,\"TRUE\",PACKT05!L33)+SUMIF(PACKT06!$R34,\"TRUE\",PACKT06!L34)+SUMIF(PACKT07!$R33,\"TRUE\",PACKT07!L33)+SUMIF(PACKT08!$R33,\"TRUE\",PACKT08!L33)+SUMIF(PACKT09!$R33,\"TRUE\",PACKT09!L33)+SUMIF(PACKT10!$R33,\"TRUE\",PACKT10!L33)+SUMIF(PACKT11!$R33,\"TRUE\",PACKT11!L33)","v":0},{"$f":"SUMIF(PACKT01!$R33,\"TRUE\",PACKT01!M33)+SUMIF(PACKT02!$R33,\"TRUE\",PACKT02!M33)+SUMIF(PACKT03!$R33,\"TRUE\",PACKT03!M33)+SUMIF(PACKT04!$R33,\"TRUE\",PACKT04!M33)+SUMIF(PACKT05!$R33,\"TRUE\",PACKT05!M33)+SUMIF(PACKT06!$R34,\"TRUE\",PACKT06!M34)+SUMIF(PACKT07!$R33,\"TRUE\",PACKT07!M33)+SUMIF(PACKT08!$R33,\"TRUE\",PACKT08!M33)+SUMIF(PACKT09!$R33,\"TRUE\",PACKT09!M33)+SUMIF(PACKT10!$R33,\"TRUE\",PACKT10!M33)+SUMIF(PACKT11!$R33,\"TRUE\",PACKT11!M33)","v":0},{"$f":"SUMIF(PACKT01!$R33,\"TRUE\",PACKT01!N33)+SUMIF(PACKT02!$R33,\"TRUE\",PACKT02!N33)+SUMIF(PACKT03!$R33,\"TRUE\",PACKT03!N33)+SUMIF(PACKT04!$R33,\"TRUE\",PACKT04!N33)+SUMIF(PACKT05!$R33,\"TRUE\",PACKT05!N33)+SUMIF(PACKT06!$R34,\"TRUE\",PACKT06!N34)+SUMIF(PACKT07!$R33,\"TRUE\",PACKT07!N33)+SUMIF(PACKT08!$R33,\"TRUE\",PACKT08!N33)+SUMIF(PACKT09!$R33,\"TRUE\",PACKT09!N33)+SUMIF(PACKT10!$R33,\"TRUE\",PACKT10!N33)+SUMIF(PACKT11!$R33,\"TRUE\",PACKT11!N33)","v":0},{"$f":"SUMIF(PACKT01!$R33,\"TRUE\",PACKT01!O33)+SUMIF(PACKT02!$R33,\"TRUE\",PACKT02!O33)+SUMIF(PACKT03!$R33,\"TRUE\",PACKT03!O33)+SUMIF(PACKT04!$R33,\"TRUE\",PACKT04!O33)+SUMIF(PACKT05!$R33,\"TRUE\",PACKT05!O33)+SUMIF(PACKT06!$R34,\"TRUE\",PACKT06!O34)+SUMIF(PACKT07!$R33,\"TRUE\",PACKT07!O33)+SUMIF(PACKT08!$R33,\"TRUE\",PACKT08!O33)+SUMIF(PACKT09!$R33,\"TRUE\",PACKT09!O33)+SUMIF(PACKT10!$R33,\"TRUE\",PACKT10!O33)+SUMIF(PACKT11!$R33,\"TRUE\",PACKT11!O33)","v":0},{"$f":"SUMIF(PACKT01!$R33,\"TRUE\",PACKT01!P33)+SUMIF(PACKT02!$R33,\"TRUE\",PACKT02!P33)+SUMIF(PACKT03!$R33,\"TRUE\",PACKT03!P33)+SUMIF(PACKT04!$R33,\"TRUE\",PACKT04!P33)+SUMIF(PACKT05!$R33,\"TRUE\",PACKT05!P33)+SUMIF(PACKT06!$R34,\"TRUE\",PACKT06!P34)+SUMIF(PACKT07!$R33,\"TRUE\",PACKT07!P33)+SUMIF(PACKT08!$R33,\"TRUE\",PACKT08!P33)+SUMIF(PACKT09!$R33,\"TRUE\",PACKT09!P33)+SUMIF(PACKT10!$R33,\"TRUE\",PACKT10!P33)+SUMIF(PACKT11!$R33,\"TRUE\",PACKT11!P33)","v":0},{"$f":"SUMIF(PACKT01!$R33,\"TRUE\",PACKT01!Q33)+SUMIF(PACKT02!$R33,\"TRUE\",PACKT02!Q33)+SUMIF(PACKT03!$R33,\"TRUE\",PACKT03!Q33)+SUMIF(PACKT04!$R33,\"TRUE\",PACKT04!Q33)+SUMIF(PACKT05!$R33,\"TRUE\",PACKT05!Q33)+SUMIF(PACKT06!$R34,\"TRUE\",PACKT06!Q34)+SUMIF(PACKT07!$R33,\"TRUE\",PACKT07!Q33)+SUMIF(PACKT08!$R33,\"TRUE\",PACKT08!Q33)+SUMIF(PACKT09!$R33,\"TRUE\",PACKT09!Q33)+SUMIF(PACKT10!$R33,\"TRUE\",PACKT10!Q33)+SUMIF(PACKT11!$R33,\"TRUE\",PACKT11!Q33)","v":0},0]
[null,"EMP0023",{"$f":"VLOOKUP(HRSummarylTable[[#This Row],[EmployeeID]],EmployeeListLookupTable[],2,FALSE)","v":"EMPN023"},{"$f":"VLOOKUP(HRSummarylTable[[#This Row],[EmployeeID]],EmployeeListLookupTable[],3,FALSE)","v":"Employee Name 23"},{"$f":"VLOOKUP(HRSummarylTable[[#This Row],[EmployeeID]],EmployeeListLookupTable[],4,FALSE)","v":"Employee Job Title 23"},"TCTC001 - Total Cost to Company",{"$f":"LEFT(HRSummarylTable[[#This Row],[PackageItemCode]],7)","v":"TCTC001"},{"$f":"VLOOKUP(HRSummarylTable[[#This Row],[PackageItem]],PackageItemListLookup[],2,FALSE)","v":"Total Cost to Company"},null,{"$f":"SUMIF(PACKT01!$R34,\"TRUE\",PACKT01!F34)+SUMIF(PACKT02!$R34,\"TRUE\",PACKT02!F34)+SUMIF(PACKT03!$R34,\"TRUE\",PACKT03!F34)+SUMIF(PACKT04!$R34,\"TRUE\",PACKT04!F34)+SUMIF(PACKT05!$R34,\"TRUE\",PACKT05!F34)+SUMIF(PACKT06!$R35,\"TRUE\",PACKT06!F35)+SUMIF(PACKT07!$R34,\"TRUE\",PACKT07!F34)+SUMIF(PACKT08!$R34,\"TRUE\",PACKT08!F34)+SUMIF(PACKT09!$R34,\"TRUE\",PACKT09!F34)+SUMIF(PACKT10!$R34,\"TRUE\",PACKT10!F34)+SUMIF(PACKT11!$R34,\"TRUE\",PACKT11!F34)","v":0},{"$f":"SUMIF(PACKT01!$R34,\"TRUE\",PACKT01!G34)+SUMIF(PACKT02!$R34,\"TRUE\",PACKT02!G34)+SUMIF(PACKT03!$R34,\"TRUE\",PACKT03!G34)+SUMIF(PACKT04!$R34,\"TRUE\",PACKT04!G34)+SUMIF(PACKT05!$R34,\"TRUE\",PACKT05!G34)+SUMIF(PACKT06!$R35,\"TRUE\",PACKT06!G35)+SUMIF(PACKT07!$R34,\"TRUE\",PACKT07!G34)+SUMIF(PACKT08!$R34,\"TRUE\",PACKT08!G34)+SUMIF(PACKT09!$R34,\"TRUE\",PACKT09!G34)+SUMIF(PACKT10!$R34,\"TRUE\",PACKT10!G34)+SUMIF(PACKT11!$R34,\"TRUE\",PACKT11!G34)","v":0},{"$f":"SUMIF(PACKT01!$R34,\"TRUE\",PACKT01!H34)+SUMIF(PACKT02!$R34,\"TRUE\",PACKT02!H34)+SUMIF(PACKT03!$R34,\"TRUE\",PACKT03!H34)+SUMIF(PACKT04!$R34,\"TRUE\",PACKT04!H34)+SUMIF(PACKT05!$R34,\"TRUE\",PACKT05!H34)+SUMIF(PACKT06!$R35,\"TRUE\",PACKT06!H35)+SUMIF(PACKT07!$R34,\"TRUE\",PACKT07!H34)+SUMIF(PACKT08!$R34,\"TRUE\",PACKT08!H34)+SUMIF(PACKT09!$R34,\"TRUE\",PACKT09!H34)+SUMIF(PACKT10!$R34,\"TRUE\",PACKT10!H34)+SUMIF(PACKT11!$R34,\"TRUE\",PACKT11!H34)","v":0},{"$f":"SUMIF(PACKT01!$R34,\"TRUE\",PACKT01!I34)+SUMIF(PACKT02!$R34,\"TRUE\",PACKT02!I34)+SUMIF(PACKT03!$R34,\"TRUE\",PACKT03!I34)+SUMIF(PACKT04!$R34,\"TRUE\",PACKT04!I34)+SUMIF(PACKT05!$R34,\"TRUE\",PACKT05!I34)+SUMIF(PACKT06!$R35,\"TRUE\",PACKT06!I35)+SUMIF(PACKT07!$R34,\"TRUE\",PACKT07!I34)+SUMIF(PACKT08!$R34,\"TRUE\",PACKT08!I34)+SUMIF(PACKT09!$R34,\"TRUE\",PACKT09!I34)+SUMIF(PACKT10!$R34,\"TRUE\",PACKT10!I34)+SUMIF(PACKT11!$R34,\"TRUE\",PACKT11!I34)","v":0},{"$f":"SUMIF(PACKT01!$R34,\"TRUE\",PACKT01!J34)+SUMIF(PACKT02!$R34,\"TRUE\",PACKT02!J34)+SUMIF(PACKT03!$R34,\"TRUE\",PACKT03!J34)+SUMIF(PACKT04!$R34,\"TRUE\",PACKT04!J34)+SUMIF(PACKT05!$R34,\"TRUE\",PACKT05!J34)+SUMIF(PACKT06!$R35,\"TRUE\",PACKT06!J35)+SUMIF(PACKT07!$R34,\"TRUE\",PACKT07!J34)+SUMIF(PACKT08!$R34,\"TRUE\",PACKT08!J34)+SUMIF(PACKT09!$R34,\"TRUE\",PACKT09!J34)+SUMIF(PACKT10!$R34,\"TRUE\",PACKT10!J34)+SUMIF(PACKT11!$R34,\"TRUE\",PACKT11!J34)","v":0},{"$f":"SUMIF(PACKT01!$R34,\"TRUE\",PACKT01!K34)+SUMIF(PACKT02!$R34,\"TRUE\",PACKT02!K34)+SUMIF(PACKT03!$R34,\"TRUE\",PACKT03!K34)+SUMIF(PACKT04!$R34,\"TRUE\",PACKT04!K34)+SUMIF(PACKT05!$R34,\"TRUE\",PACKT05!K34)+SUMIF(PACKT06!$R35,\"TRUE\",PACKT06!K35)+SUMIF(PACKT07!$R34,\"TRUE\",PACKT07!K34)+SUMIF(PACKT08!$R34,\"TRUE\",PACKT08!K34)+SUMIF(PACKT09!$R34,\"TRUE\",PACKT09!K34)+SUMIF(PACKT10!$R34,\"TRUE\",PACKT10!K34)+SUMIF(PACKT11!$R34,\"TRUE\",PACKT11!K34)","v":0},{"$f":"SUMIF(PACKT01!$R34,\"TRUE\",PACKT01!L34)+SUMIF(PACKT02!$R34,\"TRUE\",PACKT02!L34)+SUMIF(PACKT03!$R34,\"TRUE\",PACKT03!L34)+SUMIF(PACKT04!$R34,\"TRUE\",PACKT04!L34)+SUMIF(PACKT05!$R34,\"TRUE\",PACKT05!L34)+SUMIF(PACKT06!$R35,\"TRUE\",PACKT06!L35)+SUMIF(PACKT07!$R34,\"TRUE\",PACKT07!L34)+SUMIF(PACKT08!$R34,\"TRUE\",PACKT08!L34)+SUMIF(PACKT09!$R34,\"TRUE\",PACKT09!L34)+SUMIF(PACKT10!$R34,\"TRUE\",PACKT10!L34)+SUMIF(PACKT11!$R34,\"TRUE\",PACKT11!L34)","v":0},{"$f":"SUMIF(PACKT01!$R34,\"TRUE\",PACKT01!M34)+SUMIF(PACKT02!$R34,\"TRUE\",PACKT02!M34)+SUMIF(PACKT03!$R34,\"TRUE\",PACKT03!M34)+SUMIF(PACKT04!$R34,\"TRUE\",PACKT04!M34)+SUMIF(PACKT05!$R34,\"TRUE\",PACKT05!M34)+SUMIF(PACKT06!$R35,\"TRUE\",PACKT06!M35)+SUMIF(PACKT07!$R34,\"TRUE\",PACKT07!M34)+SUMIF(PACKT08!$R34,\"TRUE\",PACKT08!M34)+SUMIF(PACKT09!$R34,\"TRUE\",PACKT09!M34)+SUMIF(PACKT10!$R34,\"TRUE\",PACKT10!M34)+SUMIF(PACKT11!$R34,\"TRUE\",PACKT11!M34)","v":0},{"$f":"SUMIF(PACKT01!$R34,\"TRUE\",PACKT01!N34)+SUMIF(PACKT02!$R34,\"TRUE\",PACKT02!N34)+SUMIF(PACKT03!$R34,\"TRUE\",PACKT03!N34)+SUMIF(PACKT04!$R34,\"TRUE\",PACKT04!N34)+SUMIF(PACKT05!$R34,\"TRUE\",PACKT05!N34)+SUMIF(PACKT06!$R35,\"TRUE\",PACKT06!N35)+SUMIF(PACKT07!$R34,\"TRUE\",PACKT07!N34)+SUMIF(PACKT08!$R34,\"TRUE\",PACKT08!N34)+SUMIF(PACKT09!$R34,\"TRUE\",PACKT09!N34)+SUMIF(PACKT10!$R34,\"TRUE\",PACKT10!N34)+SUMIF(PACKT11!$R34,\"TRUE\",PACKT11!N34)","v":0},{"$f":"SUMIF(PACKT01!$R34,\"TRUE\",PACKT01!O34)+SUMIF(PACKT02!$R34,\"TRUE\",PACKT02!O34)+SUMIF(PACKT03!$R34,\"TRUE\",PACKT03!O34)+SUMIF(PACKT04!$R34,\"TRUE\",PACKT04!O34)+SUMIF(PACKT05!$R34,\"TRUE\",PACKT05!O34)+SUMIF(PACKT06!$R35,\"TRUE\",PACKT06!O35)+SUMIF(PACKT07!$R34,\"TRUE\",PACKT07!O34)+SUMIF(PACKT08!$R34,\"TRUE\",PACKT08!O34)+SUMIF(PACKT09!$R34,\"TRUE\",PACKT09!O34)+SUMIF(PACKT10!$R34,\"TRUE\",PACKT10!O34)+SUMIF(PACKT11!$R34,\"TRUE\",PACKT11!O34)","v":0},{"$f":"SUMIF(PACKT01!$R34,\"TRUE\",PACKT01!P34)+SUMIF(PACKT02!$R34,\"TRUE\",PACKT02!P34)+SUMIF(PACKT03!$R34,\"TRUE\",PACKT03!P34)+SUMIF(PACKT04!$R34,\"TRUE\",PACKT04!P34)+SUMIF(PACKT05!$R34,\"TRUE\",PACKT05!P34)+SUMIF(PACKT06!$R35,\"TRUE\",PACKT06!P35)+SUMIF(PACKT07!$R34,\"TRUE\",PACKT07!P34)+SUMIF(PACKT08!$R34,\"TRUE\",PACKT08!P34)+SUMIF(PACKT09!$R34,\"TRUE\",PACKT09!P34)+SUMIF(PACKT10!$R34,\"TRUE\",PACKT10!P34)+SUMIF(PACKT11!$R34,\"TRUE\",PACKT11!P34)","v":0},{"$f":"SUMIF(PACKT01!$R34,\"TRUE\",PACKT01!Q34)+SUMIF(PACKT02!$R34,\"TRUE\",PACKT02!Q34)+SUMIF(PACKT03!$R34,\"TRUE\",PACKT03!Q34)+SUMIF(PACKT04!$R34,\"TRUE\",PACKT04!Q34)+SUMIF(PACKT05!$R34,\"TRUE\",PACKT05!Q34)+SUMIF(PACKT06!$R35,\"TRUE\",PACKT06!Q35)+SUMIF(PACKT07!$R34,\"TRUE\",PACKT07!Q34)+SUMIF(PACKT08!$R34,\"TRUE\",PACKT08!Q34)+SUMIF(PACKT09!$R34,\"TRUE\",PACKT09!Q34)+SUMIF(PACKT10!$R34,\"TRUE\",PACKT10!Q34)+SUMIF(PACKT11!$R34,\"TRUE\",PACKT11!Q34)","v":0},0]
[null,"EMP0024",{"$f":"VLOOKUP(HRSummarylTable[[#This Row],[EmployeeID]],EmployeeListLookupTable[],2,FALSE)","v":"EMPN024"},{"$f":"VLOOKUP(HRSummarylTable[[#This Row],[EmployeeID]],EmployeeListLookupTable[],3,FALSE)","v":"Employee Name 24"},{"$f":"VLOOKUP(HRSummarylTable[[#This Row],[EmployeeID]],EmployeeListLookupTable[],4,FALSE)","v":"Employee Job Title 24"},"TCTC001 - Total Cost to Company",{"$f":"LEFT(HRSummarylTable[[#This Row],[PackageItemCode]],7)","v":"TCTC001"},{"$f":"VLOOKUP(HRSummarylTable[[#This Row],[PackageItem]],PackageItemListLookup[],2,FALSE)","v":"Total Cost to Company"},null,{"$f":"SUMIF(PACKT01!$R35,\"TRUE\",PACKT01!F35)+SUMIF(PACKT02!$R35,\"TRUE\",PACKT02!F35)+SUMIF(PACKT03!$R35,\"TRUE\",PACKT03!F35)+SUMIF(PACKT04!$R35,\"TRUE\",PACKT04!F35)+SUMIF(PACKT05!$R35,\"TRUE\",PACKT05!F35)+SUMIF(PACKT06!$R36,\"TRUE\",PACKT06!F36)+SUMIF(PACKT07!$R35,\"TRUE\",PACKT07!F35)+SUMIF(PACKT08!$R35,\"TRUE\",PACKT08!F35)+SUMIF(PACKT09!$R35,\"TRUE\",PACKT09!F35)+SUMIF(PACKT10!$R35,\"TRUE\",PACKT10!F35)+SUMIF(PACKT11!$R35,\"TRUE\",PACKT11!F35)","v":0},{"$f":"SUMIF(PACKT01!$R35,\"TRUE\",PACKT01!G35)+SUMIF(PACKT02!$R35,\"TRUE\",PACKT02!G35)+SUMIF(PACKT03!$R35,\"TRUE\",PACKT03!G35)+SUMIF(PACKT04!$R35,\"TRUE\",PACKT04!G35)+SUMIF(PACKT05!$R35,\"TRUE\",PACKT05!G35)+SUMIF(PACKT06!$R36,\"TRUE\",PACKT06!G36)+SUMIF(PACKT07!$R35,\"TRUE\",PACKT07!G35)+SUMIF(PACKT08!$R35,\"TRUE\",PACKT08!G35)+SUMIF(PACKT09!$R35,\"TRUE\",PACKT09!G35)+SUMIF(PACKT10!$R35,\"TRUE\",PACKT10!G35)+SUMIF(PACKT11!$R35,\"TRUE\",PACKT11!G35)","v":0},{"$f":"SUMIF(PACKT01!$R35,\"TRUE\",PACKT01!H35)+SUMIF(PACKT02!$R35,\"TRUE\",PACKT02!H35)+SUMIF(PACKT03!$R35,\"TRUE\",PACKT03!H35)+SUMIF(PACKT04!$R35,\"TRUE\",PACKT04!H35)+SUMIF(PACKT05!$R35,\"TRUE\",PACKT05!H35)+SUMIF(PACKT06!$R36,\"TRUE\",PACKT06!H36)+SUMIF(PACKT07!$R35,\"TRUE\",PACKT07!H35)+SUMIF(PACKT08!$R35,\"TRUE\",PACKT08!H35)+SUMIF(PACKT09!$R35,\"TRUE\",PACKT09!H35)+SUMIF(PACKT10!$R35,\"TRUE\",PACKT10!H35)+SUMIF(PACKT11!$R35,\"TRUE\",PACKT11!H35)","v":0},{"$f":"SUMIF(PACKT01!$R35,\"TRUE\",PACKT01!I35)+SUMIF(PACKT02!$R35,\"TRUE\",PACKT02!I35)+SUMIF(PACKT03!$R35,\"TRUE\",PACKT03!I35)+SUMIF(PACKT04!$R35,\"TRUE\",PACKT04!I35)+SUMIF(PACKT05!$R35,\"TRUE\",PACKT05!I35)+SUMIF(PACKT06!$R36,\"TRUE\",PACKT06!I36)+SUMIF(PACKT07!$R35,\"TRUE\",PACKT07!I35)+SUMIF(PACKT08!$R35,\"TRUE\",PACKT08!I35)+SUMIF(PACKT09!$R35,\"TRUE\",PACKT09!I35)+SUMIF(PACKT10!$R35,\"TRUE\",PACKT10!I35)+SUMIF(PACKT11!$R35,\"TRUE\",PACKT11!I35)","v":0},{"$f":"SUMIF(PACKT01!$R35,\"TRUE\",PACKT01!J35)+SUMIF(PACKT02!$R35,\"TRUE\",PACKT02!J35)+SUMIF(PACKT03!$R35,\"TRUE\",PACKT03!J35)+SUMIF(PACKT04!$R35,\"TRUE\",PACKT04!J35)+SUMIF(PACKT05!$R35,\"TRUE\",PACKT05!J35)+SUMIF(PACKT06!$R36,\"TRUE\",PACKT06!J36)+SUMIF(PACKT07!$R35,\"TRUE\",PACKT07!J35)+SUMIF(PACKT08!$R35,\"TRUE\",PACKT08!J35)+SUMIF(PACKT09!$R35,\"TRUE\",PACKT09!J35)+SUMIF(PACKT10!$R35,\"TRUE\",PACKT10!J35)+SUMIF(PACKT11!$R35,\"TRUE\",PACKT11!J35)","v":0},{"$f":"SUMIF(PACKT01!$R35,\"TRUE\",PACKT01!K35)+SUMIF(PACKT02!$R35,\"TRUE\",PACKT02!K35)+SUMIF(PACKT03!$R35,\"TRUE\",PACKT03!K35)+SUMIF(PACKT04!$R35,\"TRUE\",PACKT04!K35)+SUMIF(PACKT05!$R35,\"TRUE\",PACKT05!K35)+SUMIF(PACKT06!$R36,\"TRUE\",PACKT06!K36)+SUMIF(PACKT07!$R35,\"TRUE\",PACKT07!K35)+SUMIF(PACKT08!$R35,\"TRUE\",PACKT08!K35)+SUMIF(PACKT09!$R35,\"TRUE\",PACKT09!K35)+SUMIF(PACKT10!$R35,\"TRUE\",PACKT10!K35)+SUMIF(PACKT11!$R35,\"TRUE\",PACKT11!K35)","v":0},{"$f":"SUMIF(PACKT01!$R35,\"TRUE\",PACKT01!L35)+SUMIF(PACKT02!$R35,\"TRUE\",PACKT02!L35)+SUMIF(PACKT03!$R35,\"TRUE\",PACKT03!L35)+SUMIF(PACKT04!$R35,\"TRUE\",PACKT04!L35)+SUMIF(PACKT05!$R35,\"TRUE\",PACKT05!L35)+SUMIF(PACKT06!$R36,\"TRUE\",PACKT06!L36)+SUMIF(PACKT07!$R35,\"TRUE\",PACKT07!L35)+SUMIF(PACKT08!$R35,\"TRUE\",PACKT08!L35)+SUMIF(PACKT09!$R35,\"TRUE\",PACKT09!L35)+SUMIF(PACKT10!$R35,\"TRUE\",PACKT10!L35)+SUMIF(PACKT11!$R35,\"TRUE\",PACKT11!L35)","v":0},{"$f":"SUMIF(PACKT01!$R35,\"TRUE\",PACKT01!M35)+SUMIF(PACKT02!$R35,\"TRUE\",PACKT02!M35)+SUMIF(PACKT03!$R35,\"TRUE\",PACKT03!M35)+SUMIF(PACKT04!$R35,\"TRUE\",PACKT04!M35)+SUMIF(PACKT05!$R35,\"TRUE\",PACKT05!M35)+SUMIF(PACKT06!$R36,\"TRUE\",PACKT06!M36)+SUMIF(PACKT07!$R35,\"TRUE\",PACKT07!M35)+SUMIF(PACKT08!$R35,\"TRUE\",PACKT08!M35)+SUMIF(PACKT09!$R35,\"TRUE\",PACKT09!M35)+SUMIF(PACKT10!$R35,\"TRUE\",PACKT10!M35)+SUMIF(PACKT11!$R35,\"TRUE\",PACKT11!M35)","v":0},{"$f":"SUMIF(PACKT01!$R35,\"TRUE\",PACKT01!N35)+SUMIF(PACKT02!$R35,\"TRUE\",PACKT02!N35)+SUMIF(PACKT03!$R35,\"TRUE\",PACKT03!N35)+SUMIF(PACKT04!$R35,\"TRUE\",PACKT04!N35)+SUMIF(PACKT05!$R35,\"TRUE\",PACKT05!N35)+SUMIF(PACKT06!$R36,\"TRUE\",PACKT06!N36)+SUMIF(PACKT07!$R35,\"TRUE\",PACKT07!N35)+SUMIF(PACKT08!$R35,\"TRUE\",PACKT08!N35)+SUMIF(PACKT09!$R35,\"TRUE\",PACKT09!N35)+SUMIF(PACKT10!$R35,\"TRUE\",PACKT10!N35)+SUMIF(PACKT11!$R35,\"TRUE\",PACKT11!N35)","v":0},{"$f":"SUMIF(PACKT01!$R35,\"TRUE\",PACKT01!O35)+SUMIF(PACKT02!$R35,\"TRUE\",PACKT02!O35)+SUMIF(PACKT03!$R35,\"TRUE\",PACKT03!O35)+SUMIF(PACKT04!$R35,\"TRUE\",PACKT04!O35)+SUMIF(PACKT05!$R35,\"TRUE\",PACKT05!O35)+SUMIF(PACKT06!$R36,\"TRUE\",PACKT06!O36)+SUMIF(PACKT07!$R35,\"TRUE\",PACKT07!O35)+SUMIF(PACKT08!$R35,\"TRUE\",PACKT08!O35)+SUMIF(PACKT09!$R35,\"TRUE\",PACKT09!O35)+SUMIF(PACKT10!$R35,\"TRUE\",PACKT10!O35)+SUMIF(PACKT11!$R35,\"TRUE\",PACKT11!O35)","v":0},{"$f":"SUMIF(PACKT01!$R35,\"TRUE\",PACKT01!P35)+SUMIF(PACKT02!$R35,\"TRUE\",PACKT02!P35)+SUMIF(PACKT03!$R35,\"TRUE\",PACKT03!P35)+SUMIF(PACKT04!$R35,\"TRUE\",PACKT04!P35)+SUMIF(PACKT05!$R35,\"TRUE\",PACKT05!P35)+SUMIF(PACKT06!$R36,\"TRUE\",PACKT06!P36)+SUMIF(PACKT07!$R35,\"TRUE\",PACKT07!P35)+SUMIF(PACKT08!$R35,\"TRUE\",PACKT08!P35)+SUMIF(PACKT09!$R35,\"TRUE\",PACKT09!P35)+SUMIF(PACKT10!$R35,\"TRUE\",PACKT10!P35)+SUMIF(PACKT11!$R35,\"TRUE\",PACKT11!P35)","v":0},{"$f":"SUMIF(PACKT01!$R35,\"TRUE\",PACKT01!Q35)+SUMIF(PACKT02!$R35,\"TRUE\",PACKT02!Q35)+SUMIF(PACKT03!$R35,\"TRUE\",PACKT03!Q35)+SUMIF(PACKT04!$R35,\"TRUE\",PACKT04!Q35)+SUMIF(PACKT05!$R35,\"TRUE\",PACKT05!Q35)+SUMIF(PACKT06!$R36,\"TRUE\",PACKT06!Q36)+SUMIF(PACKT07!$R35,\"TRUE\",PACKT07!Q35)+SUMIF(PACKT08!$R35,\"TRUE\",PACKT08!Q35)+SUMIF(PACKT09!$R35,\"TRUE\",PACKT09!Q35)+SUMIF(PACKT10!$R35,\"TRUE\",PACKT10!Q35)+SUMIF(PACKT11!$R35,\"TRUE\",PACKT11!Q35)","v":0},0]
[null,"EMP0025",{"$f":"VLOOKUP(HRSummarylTable[[#This Row],[EmployeeID]],EmployeeListLookupTable[],2,FALSE)","v":"EMPN025"},{"$f":"VLOOKUP(HRSummarylTable[[#This Row],[EmployeeID]],EmployeeListLookupTable[],3,FALSE)","v":"Employee Name 25"},{"$f":"VLOOKUP(HRSummarylTable[[#This Row],[EmployeeID]],EmployeeListLookupTable[],4,FALSE)","v":"Employee Job Title 25"},"TCTC001 - Total Cost to Company",{"$f":"LEFT(HRSummarylTable[[#This Row],[PackageItemCode]],7)","v":"TCTC001"},{"$f":"VLOOKUP(HRSummarylTable[[#This Row],[PackageItem]],PackageItemListLookup[],2,FALSE)","v":"Total Cost to Company"},null,{"$f":"SUMIF(PACKT01!$R36,\"TRUE\",PACKT01!F36)+SUMIF(PACKT02!$R36,\"TRUE\",PACKT02!F36)+SUMIF(PACKT03!$R36,\"TRUE\",PACKT03!F36)+SUMIF(PACKT04!$R36,\"TRUE\",PACKT04!F36)+SUMIF(PACKT05!$R36,\"TRUE\",PACKT05!F36)+SUMIF(PACKT06!$R37,\"TRUE\",PACKT06!F37)+SUMIF(PACKT07!$R36,\"TRUE\",PACKT07!F36)+SUMIF(PACKT08!$R36,\"TRUE\",PACKT08!F36)+SUMIF(PACKT09!$R36,\"TRUE\",PACKT09!F36)+SUMIF(PACKT10!$R36,\"TRUE\",PACKT10!F36)+SUMIF(PACKT11!$R36,\"TRUE\",PACKT11!F36)","v":0},{"$f":"SUMIF(PACKT01!$R36,\"TRUE\",PACKT01!G36)+SUMIF(PACKT02!$R36,\"TRUE\",PACKT02!G36)+SUMIF(PACKT03!$R36,\"TRUE\",PACKT03!G36)+SUMIF(PACKT04!$R36,\"TRUE\",PACKT04!G36)+SUMIF(PACKT05!$R36,\"TRUE\",PACKT05!G36)+SUMIF(PACKT06!$R37,\"TRUE\",PACKT06!G37)+SUMIF(PACKT07!$R36,\"TRUE\",PACKT07!G36)+SUMIF(PACKT08!$R36,\"TRUE\",PACKT08!G36)+SUMIF(PACKT09!$R36,\"TRUE\",PACKT09!G36)+SUMIF(PACKT10!$R36,\"TRUE\",PACKT10!G36)+SUMIF(PACKT11!$R36,\"TRUE\",PACKT11!G36)","v":0},{"$f":"SUMIF(PACKT01!$R36,\"TRUE\",PACKT01!H36)+SUMIF(PACKT02!$R36,\"TRUE\",PACKT02!H36)+SUMIF(PACKT03!$R36,\"TRUE\",PACKT03!H36)+SUMIF(PACKT04!$R36,\"TRUE\",PACKT04!H36)+SUMIF(PACKT05!$R36,\"TRUE\",PACKT05!H36)+SUMIF(PACKT06!$R37,\"TRUE\",PACKT06!H37)+SUMIF(PACKT07!$R36,\"TRUE\",PACKT07!H36)+SUMIF(PACKT08!$R36,\"TRUE\",PACKT08!H36)+SUMIF(PACKT09!$R36,\"TRUE\",PACKT09!H36)+SUMIF(PACKT10!$R36,\"TRUE\",PACKT10!H36)+SUMIF(PACKT11!$R36,\"TRUE\",PACKT11!H36)","v":0},{"$f":"SUMIF(PACKT01!$R36,\"TRUE\",PACKT01!I36)+SUMIF(PACKT02!$R36,\"TRUE\",PACKT02!I36)+SUMIF(PACKT03!$R36,\"TRUE\",PACKT03!I36)+SUMIF(PACKT04!$R36,\"TRUE\",PACKT04!I36)+SUMIF(PACKT05!$R36,\"TRUE\",PACKT05!I36)+SUMIF(PACKT06!$R37,\"TRUE\",PACKT06!I37)+SUMIF(PACKT07!$R36,\"TRUE\",PACKT07!I36)+SUMIF(PACKT08!$R36,\"TRUE\",PACKT08!I36)+SUMIF(PACKT09!$R36,\"TRUE\",PACKT09!I36)+SUMIF(PACKT10!$R36,\"TRUE\",PACKT10!I36)+SUMIF(PACKT11!$R36,\"TRUE\",PACKT11!I36)","v":0},{"$f":"SUMIF(PACKT01!$R36,\"TRUE\",PACKT01!J36)+SUMIF(PACKT02!$R36,\"TRUE\",PACKT02!J36)+SUMIF(PACKT03!$R36,\"TRUE\",PACKT03!J36)+SUMIF(PACKT04!$R36,\"TRUE\",PACKT04!J36)+SUMIF(PACKT05!$R36,\"TRUE\",PACKT05!J36)+SUMIF(PACKT06!$R37,\"TRUE\",PACKT06!J37)+SUMIF(PACKT07!$R36,\"TRUE\",PACKT07!J36)+SUMIF(PACKT08!$R36,\"TRUE\",PACKT08!J36)+SUMIF(PACKT09!$R36,\"TRUE\",PACKT09!J36)+SUMIF(PACKT10!$R36,\"TRUE\",PACKT10!J36)+SUMIF(PACKT11!$R36,\"TRUE\",PACKT11!J36)","v":0},{"$f":"SUMIF(PACKT01!$R36,\"TRUE\",PACKT01!K36)+SUMIF(PACKT02!$R36,\"TRUE\",PACKT02!K36)+SUMIF(PACKT03!$R36,\"TRUE\",PACKT03!K36)+SUMIF(PACKT04!$R36,\"TRUE\",PACKT04!K36)+SUMIF(PACKT05!$R36,\"TRUE\",PACKT05!K36)+SUMIF(PACKT06!$R37,\"TRUE\",PACKT06!K37)+SUMIF(PACKT07!$R36,\"TRUE\",PACKT07!K36)+SUMIF(PACKT08!$R36,\"TRUE\",PACKT08!K36)+SUMIF(PACKT09!$R36,\"TRUE\",PACKT09!K36)+SUMIF(PACKT10!$R36,\"TRUE\",PACKT10!K36)+SUMIF(PACKT11!$R36,\"TRUE\",PACKT11!K36)","v":0},{"$f":"SUMIF(PACKT01!$R36,\"TRUE\",PACKT01!L36)+SUMIF(PACKT02!$R36,\"TRUE\",PACKT02!L36)+SUMIF(PACKT03!$R36,\"TRUE\",PACKT03!L36)+SUMIF(PACKT04!$R36,\"TRUE\",PACKT04!L36)+SUMIF(PACKT05!$R36,\"TRUE\",PACKT05!L36)+SUMIF(PACKT06!$R37,\"TRUE\",PACKT06!L37)+SUMIF(PACKT07!$R36,\"TRUE\",PACKT07!L36)+SUMIF(PACKT08!$R36,\"TRUE\",PACKT08!L36)+SUMIF(PACKT09!$R36,\"TRUE\",PACKT09!L36)+SUMIF(PACKT10!$R36,\"TRUE\",PACKT10!L36)+SUMIF(PACKT11!$R36,\"TRUE\",PACKT11!L36)","v":0},{"$f":"SUMIF(PACKT01!$R36,\"TRUE\",PACKT01!M36)+SUMIF(PACKT02!$R36,\"TRUE\",PACKT02!M36)+SUMIF(PACKT03!$R36,\"TRUE\",PACKT03!M36)+SUMIF(PACKT04!$R36,\"TRUE\",PACKT04!M36)+SUMIF(PACKT05!$R36,\"TRUE\",PACKT05!M36)+SUMIF(PACKT06!$R37,\"TRUE\",PACKT06!M37)+SUMIF(PACKT07!$R36,\"TRUE\",PACKT07!M36)+SUMIF(PACKT08!$R36,\"TRUE\",PACKT08!M36)+SUMIF(PACKT09!$R36,\"TRUE\",PACKT09!M36)+SUMIF(PACKT10!$R36,\"TRUE\",PACKT10!M36)+SUMIF(PACKT11!$R36,\"TRUE\",PACKT11!M36)","v":0},{"$f":"SUMIF(PACKT01!$R36,\"TRUE\",PACKT01!N36)+SUMIF(PACKT02!$R36,\"TRUE\",PACKT02!N36)+SUMIF(PACKT03!$R36,\"TRUE\",PACKT03!N36)+SUMIF(PACKT04!$R36,\"TRUE\",PACKT04!N36)+SUMIF(PACKT05!$R36,\"TRUE\",PACKT05!N36)+SUMIF(PACKT06!$R37,\"TRUE\",PACKT06!N37)+SUMIF(PACKT07!$R36,\"TRUE\",PACKT07!N36)+SUMIF(PACKT08!$R36,\"TRUE\",PACKT08!N36)+SUMIF(PACKT09!$R36,\"TRUE\",PACKT09!N36)+SUMIF(PACKT10!$R36,\"TRUE\",PACKT10!N36)+SUMIF(PACKT11!$R36,\"TRUE\",PACKT11!N36)","v":0},{"$f":"SUMIF(PACKT01!$R36,\"TRUE\",PACKT01!O36)+SUMIF(PACKT02!$R36,\"TRUE\",PACKT02!O36)+SUMIF(PACKT03!$R36,\"TRUE\",PACKT03!O36)+SUMIF(PACKT04!$R36,\"TRUE\",PACKT04!O36)+SUMIF(PACKT05!$R36,\"TRUE\",PACKT05!O36)+SUMIF(PACKT06!$R37,\"TRUE\",PACKT06!O37)+SUMIF(PACKT07!$R36,\"TRUE\",PACKT07!O36)+SUMIF(PACKT08!$R36,\"TRUE\",PACKT08!O36)+SUMIF(PACKT09!$R36,\"TRUE\",PACKT09!O36)+SUMIF(PACKT10!$R36,\"TRUE\",PACKT10!O36)+SUMIF(PACKT11!$R36,\"TRUE\",PACKT11!O36)","v":0},{"$f":"SUMIF(PACKT01!$R36,\"TRUE\",PACKT01!P36)+SUMIF(PACKT02!$R36,\"TRUE\",PACKT02!P36)+SUMIF(PACKT03!$R36,\"TRUE\",PACKT03!P36)+SUMIF(PACKT04!$R36,\"TRUE\",PACKT04!P36)+SUMIF(PACKT05!$R36,\"TRUE\",PACKT05!P36)+SUMIF(PACKT06!$R37,\"TRUE\",PACKT06!P37)+SUMIF(PACKT07!$R36,\"TRUE\",PACKT07!P36)+SUMIF(PACKT08!$R36,\"TRUE\",PACKT08!P36)+SUMIF(PACKT09!$R36,\"TRUE\",PACKT09!P36)+SUMIF(PACKT10!$R36,\"TRUE\",PACKT10!P36)+SUMIF(PACKT11!$R36,\"TRUE\",PACKT11!P36)","v":0},{"$f":"SUMIF(PACKT01!$R36,\"TRUE\",PACKT01!Q36)+SUMIF(PACKT02!$R36,\"TRUE\",PACKT02!Q36)+SUMIF(PACKT03!$R36,\"TRUE\",PACKT03!Q36)+SUMIF(PACKT04!$R36,\"TRUE\",PACKT04!Q36)+SUMIF(PACKT05!$R36,\"TRUE\",PACKT05!Q36)+SUMIF(PACKT06!$R37,\"TRUE\",PACKT06!Q37)+SUMIF(PACKT07!$R36,\"TRUE\",PACKT07!Q36)+SUMIF(PACKT08!$R36,\"TRUE\",PACKT08!Q36)+SUMIF(PACKT09!$R36,\"TRUE\",PACKT09!Q36)+SUMIF(PACKT10!$R36,\"TRUE\",PACKT10!Q36)+SUMIF(PACKT11!$R36,\"TRUE\",PACKT11!Q36)","v":0},0]
[null,"EMP0026",{"$f":"VLOOKUP(HRSummarylTable[[#This Row],[EmployeeID]],EmployeeListLookupTable[],2,FALSE)","v":"EMPN026"},{"$f":"VLOOKUP(HRSummarylTable[[#This Row],[EmployeeID]],EmployeeListLookupTable[],3,FALSE)","v":"Employee Name 26"},{"$f":"VLOOKUP(HRSummarylTable[[#This Row],[EmployeeID]],EmployeeListLookupTable[],4,FALSE)","v":"Employee Job Title 26"},"TCTC001 - Total Cost to Company",{"$f":"LEFT(HRSummarylTable[[#This Row],[PackageItemCode]],7)","v":"TCTC001"},{"$f":"VLOOKUP(HRSummarylTable[[#This Row],[PackageItem]],PackageItemListLookup[],2,FALSE)","v":"Total Cost to Company"},null,{"$f":"SUMIF(PACKT01!$R37,\"TRUE\",PACKT01!F37)+SUMIF(PACKT02!$R37,\"TRUE\",PACKT02!F37)+SUMIF(PACKT03!$R37,\"TRUE\",PACKT03!F37)+SUMIF(PACKT04!$R37,\"TRUE\",PACKT04!F37)+SUMIF(PACKT05!$R37,\"TRUE\",PACKT05!F37)+SUMIF(PACKT06!$R38,\"TRUE\",PACKT06!F38)+SUMIF(PACKT07!$R37,\"TRUE\",PACKT07!F37)+SUMIF(PACKT08!$R37,\"TRUE\",PACKT08!F37)+SUMIF(PACKT09!$R37,\"TRUE\",PACKT09!F37)+SUMIF(PACKT10!$R37,\"TRUE\",PACKT10!F37)+SUMIF(PACKT11!$R37,\"TRUE\",PACKT11!F37)","v":0},{"$f":"SUMIF(PACKT01!$R37,\"TRUE\",PACKT01!G37)+SUMIF(PACKT02!$R37,\"TRUE\",PACKT02!G37)+SUMIF(PACKT03!$R37,\"TRUE\",PACKT03!G37)+SUMIF(PACKT04!$R37,\"TRUE\",PACKT04!G37)+SUMIF(PACKT05!$R37,\"TRUE\",PACKT05!G37)+SUMIF(PACKT06!$R38,\"TRUE\",PACKT06!G38)+SUMIF(PACKT07!$R37,\"TRUE\",PACKT07!G37)+SUMIF(PACKT08!$R37,\"TRUE\",PACKT08!G37)+SUMIF(PACKT09!$R37,\"TRUE\",PACKT09!G37)+SUMIF(PACKT10!$R37,\"TRUE\",PACKT10!G37)+SUMIF(PACKT11!$R37,\"TRUE\",PACKT11!G37)","v":0},{"$f":"SUMIF(PACKT01!$R37,\"TRUE\",PACKT01!H37)+SUMIF(PACKT02!$R37,\"TRUE\",PACKT02!H37)+SUMIF(PACKT03!$R37,\"TRUE\",PACKT03!H37)+SUMIF(PACKT04!$R37,\"TRUE\",PACKT04!H37)+SUMIF(PACKT05!$R37,\"TRUE\",PACKT05!H37)+SUMIF(PACKT06!$R38,\"TRUE\",PACKT06!H38)+SUMIF(PACKT07!$R37,\"TRUE\",PACKT07!H37)+SUMIF(PACKT08!$R37,\"TRUE\",PACKT08!H37)+SUMIF(PACKT09!$R37,\"TRUE\",PACKT09!H37)+SUMIF(PACKT10!$R37,\"TRUE\",PACKT10!H37)+SUMIF(PACKT11!$R37,\"TRUE\",PACKT11!H37)","v":0},{"$f":"SUMIF(PACKT01!$R37,\"TRUE\",PACKT01!I37)+SUMIF(PACKT02!$R37,\"TRUE\",PACKT02!I37)+SUMIF(PACKT03!$R37,\"TRUE\",PACKT03!I37)+SUMIF(PACKT04!$R37,\"TRUE\",PACKT04!I37)+SUMIF(PACKT05!$R37,\"TRUE\",PACKT05!I37)+SUMIF(PACKT06!$R38,\"TRUE\",PACKT06!I38)+SUMIF(PACKT07!$R37,\"TRUE\",PACKT07!I37)+SUMIF(PACKT08!$R37,\"TRUE\",PACKT08!I37)+SUMIF(PACKT09!$R37,\"TRUE\",PACKT09!I37)+SUMIF(PACKT10!$R37,\"TRUE\",PACKT10!I37)+SUMIF(PACKT11!$R37,\"TRUE\",PACKT11!I37)","v":0},{"$f":"SUMIF(PACKT01!$R37,\"TRUE\",PACKT01!J37)+SUMIF(PACKT02!$R37,\"TRUE\",PACKT02!J37)+SUMIF(PACKT03!$R37,\"TRUE\",PACKT03!J37)+SUMIF(PACKT04!$R37,\"TRUE\",PACKT04!J37)+SUMIF(PACKT05!$R37,\"TRUE\",PACKT05!J37)+SUMIF(PACKT06!$R38,\"TRUE\",PACKT06!J38)+SUMIF(PACKT07!$R37,\"TRUE\",PACKT07!J37)+SUMIF(PACKT08!$R37,\"TRUE\",PACKT08!J37)+SUMIF(PACKT09!$R37,\"TRUE\",PACKT09!J37)+SUMIF(PACKT10!$R37,\"TRUE\",PACKT10!J37)+SUMIF(PACKT11!$R37,\"TRUE\",PACKT11!J37)","v":0},{"$f":"SUMIF(PACKT01!$R37,\"TRUE\",PACKT01!K37)+SUMIF(PACKT02!$R37,\"TRUE\",PACKT02!K37)+SUMIF(PACKT03!$R37,\"TRUE\",PACKT03!K37)+SUMIF(PACKT04!$R37,\"TRUE\",PACKT04!K37)+SUMIF(PACKT05!$R37,\"TRUE\",PACKT05!K37)+SUMIF(PACKT06!$R38,\"TRUE\",PACKT06!K38)+SUMIF(PACKT07!$R37,\"TRUE\",PACKT07!K37)+SUMIF(PACKT08!$R37,\"TRUE\",PACKT08!K37)+SUMIF(PACKT09!$R37,\"TRUE\",PACKT09!K37)+SUMIF(PACKT10!$R37,\"TRUE\",PACKT10!K37)+SUMIF(PACKT11!$R37,\"TRUE\",PACKT11!K37)","v":0},{"$f":"SUMIF(PACKT01!$R37,\"TRUE\",PACKT01!L37)+SUMIF(PACKT02!$R37,\"TRUE\",PACKT02!L37)+SUMIF(PACKT03!$R37,\"TRUE\",PACKT03!L37)+SUMIF(PACKT04!$R37,\"TRUE\",PACKT04!L37)+SUMIF(PACKT05!$R37,\"TRUE\",PACKT05!L37)+SUMIF(PACKT06!$R38,\"TRUE\",PACKT06!L38)+SUMIF(PACKT07!$R37,\"TRUE\",PACKT07!L37)+SUMIF(PACKT08!$R37,\"TRUE\",PACKT08!L37)+SUMIF(PACKT09!$R37,\"TRUE\",PACKT09!L37)+SUMIF(PACKT10!$R37,\"TRUE\",PACKT10!L37)+SUMIF(PACKT11!$R37,\"TRUE\",PACKT11!L37)","v":0},{"$f":"SUMIF(PACKT01!$R37,\"TRUE\",PACKT01!M37)+SUMIF(PACKT02!$R37,\"TRUE\",PACKT02!M37)+SUMIF(PACKT03!$R37,\"TRUE\",PACKT03!M37)+SUMIF(PACKT04!$R37,\"TRUE\",PACKT04!M37)+SUMIF(PACKT05!$R37,\"TRUE\",PACKT05!M37)+SUMIF(PACKT06!$R38,\"TRUE\",PACKT06!M38)+SUMIF(PACKT07!$R37,\"TRUE\",PACKT07!M37)+SUMIF(PACKT08!$R37,\"TRUE\",PACKT08!M37)+SUMIF(PACKT09!$R37,\"TRUE\",PACKT09!M37)+SUMIF(PACKT10!$R37,\"TRUE\",PACKT10!M37)+SUMIF(PACKT11!$R37,\"TRUE\",PACKT11!M37)","v":0},{"$f":"SUMIF(PACKT01!$R37,\"TRUE\",PACKT01!N37)+SUMIF(PACKT02!$R37,\"TRUE\",PACKT02!N37)+SUMIF(PACKT03!$R37,\"TRUE\",PACKT03!N37)+SUMIF(PACKT04!$R37,\"TRUE\",PACKT04!N37)+SUMIF(PACKT05!$R37,\"TRUE\",PACKT05!N37)+SUMIF(PACKT06!$R38,\"TRUE\",PACKT06!N38)+SUMIF(PACKT07!$R37,\"TRUE\",PACKT07!N37)+SUMIF(PACKT08!$R37,\"TRUE\",PACKT08!N37)+SUMIF(PACKT09!$R37,\"TRUE\",PACKT09!N37)+SUMIF(PACKT10!$R37,\"TRUE\",PACKT10!N37)+SUMIF(PACKT11!$R37,\"TRUE\",PACKT11!N37)","v":0},{"$f":"SUMIF(PACKT01!$R37,\"TRUE\",PACKT01!O37)+SUMIF(PACKT02!$R37,\"TRUE\",PACKT02!O37)+SUMIF(PACKT03!$R37,\"TRUE\",PACKT03!O37)+SUMIF(PACKT04!$R37,\"TRUE\",PACKT04!O37)+SUMIF(PACKT05!$R37,\"TRUE\",PACKT05!O37)+SUMIF(PACKT06!$R38,\"TRUE\",PACKT06!O38)+SUMIF(PACKT07!$R37,\"TRUE\",PACKT07!O37)+SUMIF(PACKT08!$R37,\"TRUE\",PACKT08!O37)+SUMIF(PACKT09!$R37,\"TRUE\",PACKT09!O37)+SUMIF(PACKT10!$R37,\"TRUE\",PACKT10!O37)+SUMIF(PACKT11!$R37,\"TRUE\",PACKT11!O37)","v":0},{"$f":"SUMIF(PACKT01!$R37,\"TRUE\",PACKT01!P37)+SUMIF(PACKT02!$R37,\"TRUE\",PACKT02!P37)+SUMIF(PACKT03!$R37,\"TRUE\",PACKT03!P37)+SUMIF(PACKT04!$R37,\"TRUE\",PACKT04!P37)+SUMIF(PACKT05!$R37,\"TRUE\",PACKT05!P37)+SUMIF(PACKT06!$R38,\"TRUE\",PACKT06!P38)+SUMIF(PACKT07!$R37,\"TRUE\",PACKT07!P37)+SUMIF(PACKT08!$R37,\"TRUE\",PACKT08!P37)+SUMIF(PACKT09!$R37,\"TRUE\",PACKT09!P37)+SUMIF(PACKT10!$R37,\"TRUE\",PACKT10!P37)+SUMIF(PACKT11!$R37,\"TRUE\",PACKT11!P37)","v":0},{"$f":"SUMIF(PACKT01!$R37,\"TRUE\",PACKT01!Q37)+SUMIF(PACKT02!$R37,\"TRUE\",PACKT02!Q37)+SUMIF(PACKT03!$R37,\"TRUE\",PACKT03!Q37)+SUMIF(PACKT04!$R37,\"TRUE\",PACKT04!Q37)+SUMIF(PACKT05!$R37,\"TRUE\",PACKT05!Q37)+SUMIF(PACKT06!$R38,\"TRUE\",PACKT06!Q38)+SUMIF(PACKT07!$R37,\"TRUE\",PACKT07!Q37)+SUMIF(PACKT08!$R37,\"TRUE\",PACKT08!Q37)+SUMIF(PACKT09!$R37,\"TRUE\",PACKT09!Q37)+SUMIF(PACKT10!$R37,\"TRUE\",PACKT10!Q37)+SUMIF(PACKT11!$R37,\"TRUE\",PACKT11!Q37)","v":0},0]
[null,"EMP0027",{"$f":"VLOOKUP(HRSummarylTable[[#This Row],[EmployeeID]],EmployeeListLookupTable[],2,FALSE)","v":"EMPN027"},{"$f":"VLOOKUP(HRSummarylTable[[#This Row],[EmployeeID]],EmployeeListLookupTable[],3,FALSE)","v":"Employee Name 27"},{"$f":"VLOOKUP(HRSummarylTable[[#This Row],[EmployeeID]],EmployeeListLookupTable[],4,FALSE)","v":"Employee Job Title 27"},"TCTC001 - Total Cost to Company",{"$f":"LEFT(HRSummarylTable[[#This Row],[PackageItemCode]],7)","v":"TCTC001"},{"$f":"VLOOKUP(HRSummarylTable[[#This Row],[PackageItem]],PackageItemListLookup[],2,FALSE)","v":"Total Cost to Company"},null,{"$f":"SUMIF(PACKT01!$R38,\"TRUE\",PACKT01!F38)+SUMIF(PACKT02!$R38,\"TRUE\",PACKT02!F38)+SUMIF(PACKT03!$R38,\"TRUE\",PACKT03!F38)+SUMIF(PACKT04!$R38,\"TRUE\",PACKT04!F38)+SUMIF(PACKT05!$R38,\"TRUE\",PACKT05!F38)+SUMIF(PACKT06!$R39,\"TRUE\",PACKT06!F39)+SUMIF(PACKT07!$R38,\"TRUE\",PACKT07!F38)+SUMIF(PACKT08!$R38,\"TRUE\",PACKT08!F38)+SUMIF(PACKT09!$R38,\"TRUE\",PACKT09!F38)+SUMIF(PACKT10!$R38,\"TRUE\",PACKT10!F38)+SUMIF(PACKT11!$R38,\"TRUE\",PACKT11!F38)","v":0},{"$f":"SUMIF(PACKT01!$R38,\"TRUE\",PACKT01!G38)+SUMIF(PACKT02!$R38,\"TRUE\",PACKT02!G38)+SUMIF(PACKT03!$R38,\"TRUE\",PACKT03!G38)+SUMIF(PACKT04!$R38,\"TRUE\",PACKT04!G38)+SUMIF(PACKT05!$R38,\"TRUE\",PACKT05!G38)+SUMIF(PACKT06!$R39,\"TRUE\",PACKT06!G39)+SUMIF(PACKT07!$R38,\"TRUE\",PACKT07!G38)+SUMIF(PACKT08!$R38,\"TRUE\",PACKT08!G38)+SUMIF(PACKT09!$R38,\"TRUE\",PACKT09!G38)+SUMIF(PACKT10!$R38,\"TRUE\",PACKT10!G38)+SUMIF(PACKT11!$R38,\"TRUE\",PACKT11!G38)","v":0},{"$f":"SUMIF(PACKT01!$R38,\"TRUE\",PACKT01!H38)+SUMIF(PACKT02!$R38,\"TRUE\",PACKT02!H38)+SUMIF(PACKT03!$R38,\"TRUE\",PACKT03!H38)+SUMIF(PACKT04!$R38,\"TRUE\",PACKT04!H38)+SUMIF(PACKT05!$R38,\"TRUE\",PACKT05!H38)+SUMIF(PACKT06!$R39,\"TRUE\",PACKT06!H39)+SUMIF(PACKT07!$R38,\"TRUE\",PACKT07!H38)+SUMIF(PACKT08!$R38,\"TRUE\",PACKT08!H38)+SUMIF(PACKT09!$R38,\"TRUE\",PACKT09!H38)+SUMIF(PACKT10!$R38,\"TRUE\",PACKT10!H38)+SUMIF(PACKT11!$R38,\"TRUE\",PACKT11!H38)","v":0},{"$f":"SUMIF(PACKT01!$R38,\"TRUE\",PACKT01!I38)+SUMIF(PACKT02!$R38,\"TRUE\",PACKT02!I38)+SUMIF(PACKT03!$R38,\"TRUE\",PACKT03!I38)+SUMIF(PACKT04!$R38,\"TRUE\",PACKT04!I38)+SUMIF(PACKT05!$R38,\"TRUE\",PACKT05!I38)+SUMIF(PACKT06!$R39,\"TRUE\",PACKT06!I39)+SUMIF(PACKT07!$R38,\"TRUE\",PACKT07!I38)+SUMIF(PACKT08!$R38,\"TRUE\",PACKT08!I38)+SUMIF(PACKT09!$R38,\"TRUE\",PACKT09!I38)+SUMIF(PACKT10!$R38,\"TRUE\",PACKT10!I38)+SUMIF(PACKT11!$R38,\"TRUE\",PACKT11!I38)","v":0},{"$f":"SUMIF(PACKT01!$R38,\"TRUE\",PACKT01!J38)+SUMIF(PACKT02!$R38,\"TRUE\",PACKT02!J38)+SUMIF(PACKT03!$R38,\"TRUE\",PACKT03!J38)+SUMIF(PACKT04!$R38,\"TRUE\",PACKT04!J38)+SUMIF(PACKT05!$R38,\"TRUE\",PACKT05!J38)+SUMIF(PACKT06!$R39,\"TRUE\",PACKT06!J39)+SUMIF(PACKT07!$R38,\"TRUE\",PACKT07!J38)+SUMIF(PACKT08!$R38,\"TRUE\",PACKT08!J38)+SUMIF(PACKT09!$R38,\"TRUE\",PACKT09!J38)+SUMIF(PACKT10!$R38,\"TRUE\",PACKT10!J38)+SUMIF(PACKT11!$R38,\"TRUE\",PACKT11!J38)","v":0},{"$f":"SUMIF(PACKT01!$R38,\"TRUE\",PACKT01!K38)+SUMIF(PACKT02!$R38,\"TRUE\",PACKT02!K38)+SUMIF(PACKT03!$R38,\"TRUE\",PACKT03!K38)+SUMIF(PACKT04!$R38,\"TRUE\",PACKT04!K38)+SUMIF(PACKT05!$R38,\"TRUE\",PACKT05!K38)+SUMIF(PACKT06!$R39,\"TRUE\",PACKT06!K39)+SUMIF(PACKT07!$R38,\"TRUE\",PACKT07!K38)+SUMIF(PACKT08!$R38,\"TRUE\",PACKT08!K38)+SUMIF(PACKT09!$R38,\"TRUE\",PACKT09!K38)+SUMIF(PACKT10!$R38,\"TRUE\",PACKT10!K38)+SUMIF(PACKT11!$R38,\"TRUE\",PACKT11!K38)","v":0},{"$f":"SUMIF(PACKT01!$R38,\"TRUE\",PACKT01!L38)+SUMIF(PACKT02!$R38,\"TRUE\",PACKT02!L38)+SUMIF(PACKT03!$R38,\"TRUE\",PACKT03!L38)+SUMIF(PACKT04!$R38,\"TRUE\",PACKT04!L38)+SUMIF(PACKT05!$R38,\"TRUE\",PACKT05!L38)+SUMIF(PACKT06!$R39,\"TRUE\",PACKT06!L39)+SUMIF(PACKT07!$R38,\"TRUE\",PACKT07!L38)+SUMIF(PACKT08!$R38,\"TRUE\",PACKT08!L38)+SUMIF(PACKT09!$R38,\"TRUE\",PACKT09!L38)+SUMIF(PACKT10!$R38,\"TRUE\",PACKT10!L38)+SUMIF(PACKT11!$R38,\"TRUE\",PACKT11!L38)","v":0},{"$f":"SUMIF(PACKT01!$R38,\"TRUE\",PACKT01!M38)+SUMIF(PACKT02!$R38,\"TRUE\",PACKT02!M38)+SUMIF(PACKT03!$R38,\"TRUE\",PACKT03!M38)+SUMIF(PACKT04!$R38,\"TRUE\",PACKT04!M38)+SUMIF(PACKT05!$R38,\"TRUE\",PACKT05!M38)+SUMIF(PACKT06!$R39,\"TRUE\",PACKT06!M39)+SUMIF(PACKT07!$R38,\"TRUE\",PACKT07!M38)+SUMIF(PACKT08!$R38,\"TRUE\",PACKT08!M38)+SUMIF(PACKT09!$R38,\"TRUE\",PACKT09!M38)+SUMIF(PACKT10!$R38,\"TRUE\",PACKT10!M38)+SUMIF(PACKT11!$R38,\"TRUE\",PACKT11!M38)","v":0},{"$f":"SUMIF(PACKT01!$R38,\"TRUE\",PACKT01!N38)+SUMIF(PACKT02!$R38,\"TRUE\",PACKT02!N38)+SUMIF(PACKT03!$R38,\"TRUE\",PACKT03!N38)+SUMIF(PACKT04!$R38,\"TRUE\",PACKT04!N38)+SUMIF(PACKT05!$R38,\"TRUE\",PACKT05!N38)+SUMIF(PACKT06!$R39,\"TRUE\",PACKT06!N39)+SUMIF(PACKT07!$R38,\"TRUE\",PACKT07!N38)+SUMIF(PACKT08!$R38,\"TRUE\",PACKT08!N38)+SUMIF(PACKT09!$R38,\"TRUE\",PACKT09!N38)+SUMIF(PACKT10!$R38,\"TRUE\",PACKT10!N38)+SUMIF(PACKT11!$R38,\"TRUE\",PACKT11!N38)","v":0},{"$f":"SUMIF(PACKT01!$R38,\"TRUE\",PACKT01!O38)+SUMIF(PACKT02!$R38,\"TRUE\",PACKT02!O38)+SUMIF(PACKT03!$R38,\"TRUE\",PACKT03!O38)+SUMIF(PACKT04!$R38,\"TRUE\",PACKT04!O38)+SUMIF(PACKT05!$R38,\"TRUE\",PACKT05!O38)+SUMIF(PACKT06!$R39,\"TRUE\",PACKT06!O39)+SUMIF(PACKT07!$R38,\"TRUE\",PACKT07!O38)+SUMIF(PACKT08!$R38,\"TRUE\",PACKT08!O38)+SUMIF(PACKT09!$R38,\"TRUE\",PACKT09!O38)+SUMIF(PACKT10!$R38,\"TRUE\",PACKT10!O38)+SUMIF(PACKT11!$R38,\"TRUE\",PACKT11!O38)","v":0},{"$f":"SUMIF(PACKT01!$R38,\"TRUE\",PACKT01!P38)+SUMIF(PACKT02!$R38,\"TRUE\",PACKT02!P38)+SUMIF(PACKT03!$R38,\"TRUE\",PACKT03!P38)+SUMIF(PACKT04!$R38,\"TRUE\",PACKT04!P38)+SUMIF(PACKT05!$R38,\"TRUE\",PACKT05!P38)+SUMIF(PACKT06!$R39,\"TRUE\",PACKT06!P39)+SUMIF(PACKT07!$R38,\"TRUE\",PACKT07!P38)+SUMIF(PACKT08!$R38,\"TRUE\",PACKT08!P38)+SUMIF(PACKT09!$R38,\"TRUE\",PACKT09!P38)+SUMIF(PACKT10!$R38,\"TRUE\",PACKT10!P38)+SUMIF(PACKT11!$R38,\"TRUE\",PACKT11!P38)","v":0},{"$f":"SUMIF(PACKT01!$R38,\"TRUE\",PACKT01!Q38)+SUMIF(PACKT02!$R38,\"TRUE\",PACKT02!Q38)+SUMIF(PACKT03!$R38,\"TRUE\",PACKT03!Q38)+SUMIF(PACKT04!$R38,\"TRUE\",PACKT04!Q38)+SUMIF(PACKT05!$R38,\"TRUE\",PACKT05!Q38)+SUMIF(PACKT06!$R39,\"TRUE\",PACKT06!Q39)+SUMIF(PACKT07!$R38,\"TRUE\",PACKT07!Q38)+SUMIF(PACKT08!$R38,\"TRUE\",PACKT08!Q38)+SUMIF(PACKT09!$R38,\"TRUE\",PACKT09!Q38)+SUMIF(PACKT10!$R38,\"TRUE\",PACKT10!Q38)+SUMIF(PACKT11!$R38,\"TRUE\",PACKT11!Q38)","v":0},0]
[null,"EMP0028",{"$f":"VLOOKUP(HRSummarylTable[[#This Row],[EmployeeID]],EmployeeListLookupTable[],2,FALSE)","v":"EMPN028"},{"$f":"VLOOKUP(HRSummarylTable[[#This Row],[EmployeeID]],EmployeeListLookupTable[],3,FALSE)","v":"Employee Name 28"},{"$f":"VLOOKUP(HRSummarylTable[[#This Row],[EmployeeID]],EmployeeListLookupTable[],4,FALSE)","v":"Employee Job Title 28"},"TCTC001 - Total Cost to Company",{"$f":"LEFT(HRSummarylTable[[#This Row],[PackageItemCode]],7)","v":"TCTC001"},{"$f":"VLOOKUP(HRSummarylTable[[#This Row],[PackageItem]],PackageItemListLookup[],2,FALSE)","v":"Total Cost to Company"},null,{"$f":"SUMIF(PACKT01!$R39,\"TRUE\",PACKT01!F39)+SUMIF(PACKT02!$R39,\"TRUE\",PACKT02!F39)+SUMIF(PACKT03!$R39,\"TRUE\",PACKT03!F39)+SUMIF(PACKT04!$R39,\"TRUE\",PACKT04!F39)+SUMIF(PACKT05!$R39,\"TRUE\",PACKT05!F39)+SUMIF(PACKT06!$R40,\"TRUE\",PACKT06!F40)+SUMIF(PACKT07!$R39,\"TRUE\",PACKT07!F39)+SUMIF(PACKT08!$R39,\"TRUE\",PACKT08!F39)+SUMIF(PACKT09!$R39,\"TRUE\",PACKT09!F39)+SUMIF(PACKT10!$R39,\"TRUE\",PACKT10!F39)+SUMIF(PACKT11!$R39,\"TRUE\",PACKT11!F39)","v":0},{"$f":"SUMIF(PACKT01!$R39,\"TRUE\",PACKT01!G39)+SUMIF(PACKT02!$R39,\"TRUE\",PACKT02!G39)+SUMIF(PACKT03!$R39,\"TRUE\",PACKT03!G39)+SUMIF(PACKT04!$R39,\"TRUE\",PACKT04!G39)+SUMIF(PACKT05!$R39,\"TRUE\",PACKT05!G39)+SUMIF(PACKT06!$R40,\"TRUE\",PACKT06!G40)+SUMIF(PACKT07!$R39,\"TRUE\",PACKT07!G39)+SUMIF(PACKT08!$R39,\"TRUE\",PACKT08!G39)+SUMIF(PACKT09!$R39,\"TRUE\",PACKT09!G39)+SUMIF(PACKT10!$R39,\"TRUE\",PACKT10!G39)+SUMIF(PACKT11!$R39,\"TRUE\",PACKT11!G39)","v":0},{"$f":"SUMIF(PACKT01!$R39,\"TRUE\",PACKT01!H39)+SUMIF(PACKT02!$R39,\"TRUE\",PACKT02!H39)+SUMIF(PACKT03!$R39,\"TRUE\",PACKT03!H39)+SUMIF(PACKT04!$R39,\"TRUE\",PACKT04!H39)+SUMIF(PACKT05!$R39,\"TRUE\",PACKT05!H39)+SUMIF(PACKT06!$R40,\"TRUE\",PACKT06!H40)+SUMIF(PACKT07!$R39,\"TRUE\",PACKT07!H39)+SUMIF(PACKT08!$R39,\"TRUE\",PACKT08!H39)+SUMIF(PACKT09!$R39,\"TRUE\",PACKT09!H39)+SUMIF(PACKT10!$R39,\"TRUE\",PACKT10!H39)+SUMIF(PACKT11!$R39,\"TRUE\",PACKT11!H39)","v":0},{"$f":"SUMIF(PACKT01!$R39,\"TRUE\",PACKT01!I39)+SUMIF(PACKT02!$R39,\"TRUE\",PACKT02!I39)+SUMIF(PACKT03!$R39,\"TRUE\",PACKT03!I39)+SUMIF(PACKT04!$R39,\"TRUE\",PACKT04!I39)+SUMIF(PACKT05!$R39,\"TRUE\",PACKT05!I39)+SUMIF(PACKT06!$R40,\"TRUE\",PACKT06!I40)+SUMIF(PACKT07!$R39,\"TRUE\",PACKT07!I39)+SUMIF(PACKT08!$R39,\"TRUE\",PACKT08!I39)+SUMIF(PACKT09!$R39,\"TRUE\",PACKT09!I39)+SUMIF(PACKT10!$R39,\"TRUE\",PACKT10!I39)+SUMIF(PACKT11!$R39,\"TRUE\",PACKT11!I39)","v":0},{"$f":"SUMIF(PACKT01!$R39,\"TRUE\",PACKT01!J39)+SUMIF(PACKT02!$R39,\"TRUE\",PACKT02!J39)+SUMIF(PACKT03!$R39,\"TRUE\",PACKT03!J39)+SUMIF(PACKT04!$R39,\"TRUE\",PACKT04!J39)+SUMIF(PACKT05!$R39,\"TRUE\",PACKT05!J39)+SUMIF(PACKT06!$R40,\"TRUE\",PACKT06!J40)+SUMIF(PACKT07!$R39,\"TRUE\",PACKT07!J39)+SUMIF(PACKT08!$R39,\"TRUE\",PACKT08!J39)+SUMIF(PACKT09!$R39,\"TRUE\",PACKT09!J39)+SUMIF(PACKT10!$R39,\"TRUE\",PACKT10!J39)+SUMIF(PACKT11!$R39,\"TRUE\",PACKT11!J39)","v":0},{"$f":"SUMIF(PACKT01!$R39,\"TRUE\",PACKT01!K39)+SUMIF(PACKT02!$R39,\"TRUE\",PACKT02!K39)+SUMIF(PACKT03!$R39,\"TRUE\",PACKT03!K39)+SUMIF(PACKT04!$R39,\"TRUE\",PACKT04!K39)+SUMIF(PACKT05!$R39,\"TRUE\",PACKT05!K39)+SUMIF(PACKT06!$R40,\"TRUE\",PACKT06!K40)+SUMIF(PACKT07!$R39,\"TRUE\",PACKT07!K39)+SUMIF(PACKT08!$R39,\"TRUE\",PACKT08!K39)+SUMIF(PACKT09!$R39,\"TRUE\",PACKT09!K39)+SUMIF(PACKT10!$R39,\"TRUE\",PACKT10!K39)+SUMIF(PACKT11!$R39,\"TRUE\",PACKT11!K39)","v":0},{"$f":"SUMIF(PACKT01!$R39,\"TRUE\",PACKT01!L39)+SUMIF(PACKT02!$R39,\"TRUE\",PACKT02!L39)+SUMIF(PACKT03!$R39,\"TRUE\",PACKT03!L39)+SUMIF(PACKT04!$R39,\"TRUE\",PACKT04!L39)+SUMIF(PACKT05!$R39,\"TRUE\",PACKT05!L39)+SUMIF(PACKT06!$R40,\"TRUE\",PACKT06!L40)+SUMIF(PACKT07!$R39,\"TRUE\",PACKT07!L39)+SUMIF(PACKT08!$R39,\"TRUE\",PACKT08!L39)+SUMIF(PACKT09!$R39,\"TRUE\",PACKT09!L39)+SUMIF(PACKT10!$R39,\"TRUE\",PACKT10!L39)+SUMIF(PACKT11!$R39,\"TRUE\",PACKT11!L39)","v":0},{"$f":"SUMIF(PACKT01!$R39,\"TRUE\",PACKT01!M39)+SUMIF(PACKT02!$R39,\"TRUE\",PACKT02!M39)+SUMIF(PACKT03!$R39,\"TRUE\",PACKT03!M39)+SUMIF(PACKT04!$R39,\"TRUE\",PACKT04!M39)+SUMIF(PACKT05!$R39,\"TRUE\",PACKT05!M39)+SUMIF(PACKT06!$R40,\"TRUE\",PACKT06!M40)+SUMIF(PACKT07!$R39,\"TRUE\",PACKT07!M39)+SUMIF(PACKT08!$R39,\"TRUE\",PACKT08!M39)+SUMIF(PACKT09!$R39,\"TRUE\",PACKT09!M39)+SUMIF(PACKT10!$R39,\"TRUE\",PACKT10!M39)+SUMIF(PACKT11!$R39,\"TRUE\",PACKT11!M39)","v":0},{"$f":"SUMIF(PACKT01!$R39,\"TRUE\",PACKT01!N39)+SUMIF(PACKT02!$R39,\"TRUE\",PACKT02!N39)+SUMIF(PACKT03!$R39,\"TRUE\",PACKT03!N39)+SUMIF(PACKT04!$R39,\"TRUE\",PACKT04!N39)+SUMIF(PACKT05!$R39,\"TRUE\",PACKT05!N39)+SUMIF(PACKT06!$R40,\"TRUE\",PACKT06!N40)+SUMIF(PACKT07!$R39,\"TRUE\",PACKT07!N39)+SUMIF(PACKT08!$R39,\"TRUE\",PACKT08!N39)+SUMIF(PACKT09!$R39,\"TRUE\",PACKT09!N39)+SUMIF(PACKT10!$R39,\"TRUE\",PACKT10!N39)+SUMIF(PACKT11!$R39,\"TRUE\",PACKT11!N39)","v":0},{"$f":"SUMIF(PACKT01!$R39,\"TRUE\",PACKT01!O39)+SUMIF(PACKT02!$R39,\"TRUE\",PACKT02!O39)+SUMIF(PACKT03!$R39,\"TRUE\",PACKT03!O39)+SUMIF(PACKT04!$R39,\"TRUE\",PACKT04!O39)+SUMIF(PACKT05!$R39,\"TRUE\",PACKT05!O39)+SUMIF(PACKT06!$R40,\"TRUE\",PACKT06!O40)+SUMIF(PACKT07!$R39,\"TRUE\",PACKT07!O39)+SUMIF(PACKT08!$R39,\"TRUE\",PACKT08!O39)+SUMIF(PACKT09!$R39,\"TRUE\",PACKT09!O39)+SUMIF(PACKT10!$R39,\"TRUE\",PACKT10!O39)+SUMIF(PACKT11!$R39,\"TRUE\",PACKT11!O39)","v":0},{"$f":"SUMIF(PACKT01!$R39,\"TRUE\",PACKT01!P39)+SUMIF(PACKT02!$R39,\"TRUE\",PACKT02!P39)+SUMIF(PACKT03!$R39,\"TRUE\",PACKT03!P39)+SUMIF(PACKT04!$R39,\"TRUE\",PACKT04!P39)+SUMIF(PACKT05!$R39,\"TRUE\",PACKT05!P39)+SUMIF(PACKT06!$R40,\"TRUE\",PACKT06!P40)+SUMIF(PACKT07!$R39,\"TRUE\",PACKT07!P39)+SUMIF(PACKT08!$R39,\"TRUE\",PACKT08!P39)+SUMIF(PACKT09!$R39,\"TRUE\",PACKT09!P39)+SUMIF(PACKT10!$R39,\"TRUE\",PACKT10!P39)+SUMIF(PACKT11!$R39,\"TRUE\",PACKT11!P39)","v":0},{"$f":"SUMIF(PACKT01!$R39,\"TRUE\",PACKT01!Q39)+SUMIF(PACKT02!$R39,\"TRUE\",PACKT02!Q39)+SUMIF(PACKT03!$R39,\"TRUE\",PACKT03!Q39)+SUMIF(PACKT04!$R39,\"TRUE\",PACKT04!Q39)+SUMIF(PACKT05!$R39,\"TRUE\",PACKT05!Q39)+SUMIF(PACKT06!$R40,\"TRUE\",PACKT06!Q40)+SUMIF(PACKT07!$R39,\"TRUE\",PACKT07!Q39)+SUMIF(PACKT08!$R39,\"TRUE\",PACKT08!Q39)+SUMIF(PACKT09!$R39,\"TRUE\",PACKT09!Q39)+SUMIF(PACKT10!$R39,\"TRUE\",PACKT10!Q39)+SUMIF(PACKT11!$R39,\"TRUE\",PACKT11!Q39)","v":0},0]
[null,"EMP0029",{"$f":"VLOOKUP(HRSummarylTable[[#This Row],[EmployeeID]],EmployeeListLookupTable[],2,FALSE)","v":"EMPN029"},{"$f":"VLOOKUP(HRSummarylTable[[#This Row],[EmployeeID]],EmployeeListLookupTable[],3,FALSE)","v":"Employee Name 29"},{"$f":"VLOOKUP(HRSummarylTable[[#This Row],[EmployeeID]],EmployeeListLookupTable[],4,FALSE)","v":"Employee Job Title 29"},"TCTC001 - Total Cost to Company",{"$f":"LEFT(HRSummarylTable[[#This Row],[PackageItemCode]],7)","v":"TCTC001"},{"$f":"VLOOKUP(HRSummarylTable[[#This Row],[PackageItem]],PackageItemListLookup[],2,FALSE)","v":"Total Cost to Company"},null,{"$f":"SUMIF(PACKT01!$R40,\"TRUE\",PACKT01!F40)+SUMIF(PACKT02!$R40,\"TRUE\",PACKT02!F40)+SUMIF(PACKT03!$R40,\"TRUE\",PACKT03!F40)+SUMIF(PACKT04!$R40,\"TRUE\",PACKT04!F40)+SUMIF(PACKT05!$R40,\"TRUE\",PACKT05!F40)+SUMIF(PACKT06!$R41,\"TRUE\",PACKT06!F41)+SUMIF(PACKT07!$R40,\"TRUE\",PACKT07!F40)+SUMIF(PACKT08!$R40,\"TRUE\",PACKT08!F40)+SUMIF(PACKT09!$R40,\"TRUE\",PACKT09!F40)+SUMIF(PACKT10!$R40,\"TRUE\",PACKT10!F40)+SUMIF(PACKT11!$R40,\"TRUE\",PACKT11!F40)","v":0},{"$f":"SUMIF(PACKT01!$R40,\"TRUE\",PACKT01!G40)+SUMIF(PACKT02!$R40,\"TRUE\",PACKT02!G40)+SUMIF(PACKT03!$R40,\"TRUE\",PACKT03!G40)+SUMIF(PACKT04!$R40,\"TRUE\",PACKT04!G40)+SUMIF(PACKT05!$R40,\"TRUE\",PACKT05!G40)+SUMIF(PACKT06!$R41,\"TRUE\",PACKT06!G41)+SUMIF(PACKT07!$R40,\"TRUE\",PACKT07!G40)+SUMIF(PACKT08!$R40,\"TRUE\",PACKT08!G40)+SUMIF(PACKT09!$R40,\"TRUE\",PACKT09!G40)+SUMIF(PACKT10!$R40,\"TRUE\",PACKT10!G40)+SUMIF(PACKT11!$R40,\"TRUE\",PACKT11!G40)","v":0},{"$f":"SUMIF(PACKT01!$R40,\"TRUE\",PACKT01!H40)+SUMIF(PACKT02!$R40,\"TRUE\",PACKT02!H40)+SUMIF(PACKT03!$R40,\"TRUE\",PACKT03!H40)+SUMIF(PACKT04!$R40,\"TRUE\",PACKT04!H40)+SUMIF(PACKT05!$R40,\"TRUE\",PACKT05!H40)+SUMIF(PACKT06!$R41,\"TRUE\",PACKT06!H41)+SUMIF(PACKT07!$R40,\"TRUE\",PACKT07!H40)+SUMIF(PACKT08!$R40,\"TRUE\",PACKT08!H40)+SUMIF(PACKT09!$R40,\"TRUE\",PACKT09!H40)+SUMIF(PACKT10!$R40,\"TRUE\",PACKT10!H40)+SUMIF(PACKT11!$R40,\"TRUE\",PACKT11!H40)","v":0},{"$f":"SUMIF(PACKT01!$R40,\"TRUE\",PACKT01!I40)+SUMIF(PACKT02!$R40,\"TRUE\",PACKT02!I40)+SUMIF(PACKT03!$R40,\"TRUE\",PACKT03!I40)+SUMIF(PACKT04!$R40,\"TRUE\",PACKT04!I40)+SUMIF(PACKT05!$R40,\"TRUE\",PACKT05!I40)+SUMIF(PACKT06!$R41,\"TRUE\",PACKT06!I41)+SUMIF(PACKT07!$R40,\"TRUE\",PACKT07!I40)+SUMIF(PACKT08!$R40,\"TRUE\",PACKT08!I40)+SUMIF(PACKT09!$R40,\"TRUE\",PACKT09!I40)+SUMIF(PACKT10!$R40,\"TRUE\",PACKT10!I40)+SUMIF(PACKT11!$R40,\"TRUE\",PACKT11!I40)","v":0},{"$f":"SUMIF(PACKT01!$R40,\"TRUE\",PACKT01!J40)+SUMIF(PACKT02!$R40,\"TRUE\",PACKT02!J40)+SUMIF(PACKT03!$R40,\"TRUE\",PACKT03!J40)+SUMIF(PACKT04!$R40,\"TRUE\",PACKT04!J40)+SUMIF(PACKT05!$R40,\"TRUE\",PACKT05!J40)+SUMIF(PACKT06!$R41,\"TRUE\",PACKT06!J41)+SUMIF(PACKT07!$R40,\"TRUE\",PACKT07!J40)+SUMIF(PACKT08!$R40,\"TRUE\",PACKT08!J40)+SUMIF(PACKT09!$R40,\"TRUE\",PACKT09!J40)+SUMIF(PACKT10!$R40,\"TRUE\",PACKT10!J40)+SUMIF(PACKT11!$R40,\"TRUE\",PACKT11!J40)","v":0},{"$f":"SUMIF(PACKT01!$R40,\"TRUE\",PACKT01!K40)+SUMIF(PACKT02!$R40,\"TRUE\",PACKT02!K40)+SUMIF(PACKT03!$R40,\"TRUE\",PACKT03!K40)+SUMIF(PACKT04!$R40,\"TRUE\",PACKT04!K40)+SUMIF(PACKT05!$R40,\"TRUE\",PACKT05!K40)+SUMIF(PACKT06!$R41,\"TRUE\",PACKT06!K41)+SUMIF(PACKT07!$R40,\"TRUE\",PACKT07!K40)+SUMIF(PACKT08!$R40,\"TRUE\",PACKT08!K40)+SUMIF(PACKT09!$R40,\"TRUE\",PACKT09!K40)+SUMIF(PACKT10!$R40,\"TRUE\",PACKT10!K40)+SUMIF(PACKT11!$R40,\"TRUE\",PACKT11!K40)","v":0},{"$f":"SUMIF(PACKT01!$R40,\"TRUE\",PACKT01!L40)+SUMIF(PACKT02!$R40,\"TRUE\",PACKT02!L40)+SUMIF(PACKT03!$R40,\"TRUE\",PACKT03!L40)+SUMIF(PACKT04!$R40,\"TRUE\",PACKT04!L40)+SUMIF(PACKT05!$R40,\"TRUE\",PACKT05!L40)+SUMIF(PACKT06!$R41,\"TRUE\",PACKT06!L41)+SUMIF(PACKT07!$R40,\"TRUE\",PACKT07!L40)+SUMIF(PACKT08!$R40,\"TRUE\",PACKT08!L40)+SUMIF(PACKT09!$R40,\"TRUE\",PACKT09!L40)+SUMIF(PACKT10!$R40,\"TRUE\",PACKT10!L40)+SUMIF(PACKT11!$R40,\"TRUE\",PACKT11!L40)","v":0},{"$f":"SUMIF(PACKT01!$R40,\"TRUE\",PACKT01!M40)+SUMIF(PACKT02!$R40,\"TRUE\",PACKT02!M40)+SUMIF(PACKT03!$R40,\"TRUE\",PACKT03!M40)+SUMIF(PACKT04!$R40,\"TRUE\",PACKT04!M40)+SUMIF(PACKT05!$R40,\"TRUE\",PACKT05!M40)+SUMIF(PACKT06!$R41,\"TRUE\",PACKT06!M41)+SUMIF(PACKT07!$R40,\"TRUE\",PACKT07!M40)+SUMIF(PACKT08!$R40,\"TRUE\",PACKT08!M40)+SUMIF(PACKT09!$R40,\"TRUE\",PACKT09!M40)+SUMIF(PACKT10!$R40,\"TRUE\",PACKT10!M40)+SUMIF(PACKT11!$R40,\"TRUE\",PACKT11!M40)","v":0},{"$f":"SUMIF(PACKT01!$R40,\"TRUE\",PACKT01!N40)+SUMIF(PACKT02!$R40,\"TRUE\",PACKT02!N40)+SUMIF(PACKT03!$R40,\"TRUE\",PACKT03!N40)+SUMIF(PACKT04!$R40,\"TRUE\",PACKT04!N40)+SUMIF(PACKT05!$R40,\"TRUE\",PACKT05!N40)+SUMIF(PACKT06!$R41,\"TRUE\",PACKT06!N41)+SUMIF(PACKT07!$R40,\"TRUE\",PACKT07!N40)+SUMIF(PACKT08!$R40,\"TRUE\",PACKT08!N40)+SUMIF(PACKT09!$R40,\"TRUE\",PACKT09!N40)+SUMIF(PACKT10!$R40,\"TRUE\",PACKT10!N40)+SUMIF(PACKT11!$R40,\"TRUE\",PACKT11!N40)","v":0},{"$f":"SUMIF(PACKT01!$R40,\"TRUE\",PACKT01!O40)+SUMIF(PACKT02!$R40,\"TRUE\",PACKT02!O40)+SUMIF(PACKT03!$R40,\"TRUE\",PACKT03!O40)+SUMIF(PACKT04!$R40,\"TRUE\",PACKT04!O40)+SUMIF(PACKT05!$R40,\"TRUE\",PACKT05!O40)+SUMIF(PACKT06!$R41,\"TRUE\",PACKT06!O41)+SUMIF(PACKT07!$R40,\"TRUE\",PACKT07!O40)+SUMIF(PACKT08!$R40,\"TRUE\",PACKT08!O40)+SUMIF(PACKT09!$R40,\"TRUE\",PACKT09!O40)+SUMIF(PACKT10!$R40,\"TRUE\",PACKT10!O40)+SUMIF(PACKT11!$R40,\"TRUE\",PACKT11!O40)","v":0},{"$f":"SUMIF(PACKT01!$R40,\"TRUE\",PACKT01!P40)+SUMIF(PACKT02!$R40,\"TRUE\",PACKT02!P40)+SUMIF(PACKT03!$R40,\"TRUE\",PACKT03!P40)+SUMIF(PACKT04!$R40,\"TRUE\",PACKT04!P40)+SUMIF(PACKT05!$R40,\"TRUE\",PACKT05!P40)+SUMIF(PACKT06!$R41,\"TRUE\",PACKT06!P41)+SUMIF(PACKT07!$R40,\"TRUE\",PACKT07!P40)+SUMIF(PACKT08!$R40,\"TRUE\",PACKT08!P40)+SUMIF(PACKT09!$R40,\"TRUE\",PACKT09!P40)+SUMIF(PACKT10!$R40,\"TRUE\",PACKT10!P40)+SUMIF(PACKT11!$R40,\"TRUE\",PACKT11!P40)","v":0},{"$f":"SUMIF(PACKT01!$R40,\"TRUE\",PACKT01!Q40)+SUMIF(PACKT02!$R40,\"TRUE\",PACKT02!Q40)+SUMIF(PACKT03!$R40,\"TRUE\",PACKT03!Q40)+SUMIF(PACKT04!$R40,\"TRUE\",PACKT04!Q40)+SUMIF(PACKT05!$R40,\"TRUE\",PACKT05!Q40)+SUMIF(PACKT06!$R41,\"TRUE\",PACKT06!Q41)+SUMIF(PACKT07!$R40,\"TRUE\",PACKT07!Q40)+SUMIF(PACKT08!$R40,\"TRUE\",PACKT08!Q40)+SUMIF(PACKT09!$R40,\"TRUE\",PACKT09!Q40)+SUMIF(PACKT10!$R40,\"TRUE\",PACKT10!Q40)+SUMIF(PACKT11!$R40,\"TRUE\",PACKT11!Q40)","v":0},0]
[null,"EMP0030",{"$f":"VLOOKUP(HRSummarylTable[[#This Row],[EmployeeID]],EmployeeListLookupTable[],2,FALSE)","v":"EMPN030"},{"$f":"VLOOKUP(HRSummarylTable[[#This Row],[EmployeeID]],EmployeeListLookupTable[],3,FALSE)","v":"Employee Name 30"},{"$f":"VLOOKUP(HRSummarylTable[[#This Row],[EmployeeID]],EmployeeListLookupTable[],4,FALSE)","v":"Employee Job Title 30"},"TCTC001 - Total Cost to Company",{"$f":"LEFT(HRSummarylTable[[#This Row],[PackageItemCode]],7)","v":"TCTC001"},{"$f":"VLOOKUP(HRSummarylTable[[#This Row],[PackageItem]],PackageItemListLookup[],2,FALSE)","v":"Total Cost to Company"},null,{"$f":"SUMIF(PACKT01!$R41,\"TRUE\",PACKT01!F41)+SUMIF(PACKT02!$R41,\"TRUE\",PACKT02!F41)+SUMIF(PACKT03!$R41,\"TRUE\",PACKT03!F41)+SUMIF(PACKT04!$R41,\"TRUE\",PACKT04!F41)+SUMIF(PACKT05!$R41,\"TRUE\",PACKT05!F41)+SUMIF(PACKT06!$R42,\"TRUE\",PACKT06!F42)+SUMIF(PACKT07!$R41,\"TRUE\",PACKT07!F41)+SUMIF(PACKT08!$R41,\"TRUE\",PACKT08!F41)+SUMIF(PACKT09!$R41,\"TRUE\",PACKT09!F41)+SUMIF(PACKT10!$R41,\"TRUE\",PACKT10!F41)+SUMIF(PACKT11!$R41,\"TRUE\",PACKT11!F41)","v":0},{"$f":"SUMIF(PACKT01!$R41,\"TRUE\",PACKT01!G41)+SUMIF(PACKT02!$R41,\"TRUE\",PACKT02!G41)+SUMIF(PACKT03!$R41,\"TRUE\",PACKT03!G41)+SUMIF(PACKT04!$R41,\"TRUE\",PACKT04!G41)+SUMIF(PACKT05!$R41,\"TRUE\",PACKT05!G41)+SUMIF(PACKT06!$R42,\"TRUE\",PACKT06!G42)+SUMIF(PACKT07!$R41,\"TRUE\",PACKT07!G41)+SUMIF(PACKT08!$R41,\"TRUE\",PACKT08!G41)+SUMIF(PACKT09!$R41,\"TRUE\",PACKT09!G41)+SUMIF(PACKT10!$R41,\"TRUE\",PACKT10!G41)+SUMIF(PACKT11!$R41,\"TRUE\",PACKT11!G41)","v":0},{"$f":"SUMIF(PACKT01!$R41,\"TRUE\",PACKT01!H41)+SUMIF(PACKT02!$R41,\"TRUE\",PACKT02!H41)+SUMIF(PACKT03!$R41,\"TRUE\",PACKT03!H41)+SUMIF(PACKT04!$R41,\"TRUE\",PACKT04!H41)+SUMIF(PACKT05!$R41,\"TRUE\",PACKT05!H41)+SUMIF(PACKT06!$R42,\"TRUE\",PACKT06!H42)+SUMIF(PACKT07!$R41,\"TRUE\",PACKT07!H41)+SUMIF(PACKT08!$R41,\"TRUE\",PACKT08!H41)+SUMIF(PACKT09!$R41,\"TRUE\",PACKT09!H41)+SUMIF(PACKT10!$R41,\"TRUE\",PACKT10!H41)+SUMIF(PACKT11!$R41,\"TRUE\",PACKT11!H41)","v":0},{"$f":"SUMIF(PACKT01!$R41,\"TRUE\",PACKT01!I41)+SUMIF(PACKT02!$R41,\"TRUE\",PACKT02!I41)+SUMIF(PACKT03!$R41,\"TRUE\",PACKT03!I41)+SUMIF(PACKT04!$R41,\"TRUE\",PACKT04!I41)+SUMIF(PACKT05!$R41,\"TRUE\",PACKT05!I41)+SUMIF(PACKT06!$R42,\"TRUE\",PACKT06!I42)+SUMIF(PACKT07!$R41,\"TRUE\",PACKT07!I41)+SUMIF(PACKT08!$R41,\"TRUE\",PACKT08!I41)+SUMIF(PACKT09!$R41,\"TRUE\",PACKT09!I41)+SUMIF(PACKT10!$R41,\"TRUE\",PACKT10!I41)+SUMIF(PACKT11!$R41,\"TRUE\",PACKT11!I41)","v":0},{"$f":"SUMIF(PACKT01!$R41,\"TRUE\",PACKT01!J41)+SUMIF(PACKT02!$R41,\"TRUE\",PACKT02!J41)+SUMIF(PACKT03!$R41,\"TRUE\",PACKT03!J41)+SUMIF(PACKT04!$R41,\"TRUE\",PACKT04!J41)+SUMIF(PACKT05!$R41,\"TRUE\",PACKT05!J41)+SUMIF(PACKT06!$R42,\"TRUE\",PACKT06!J42)+SUMIF(PACKT07!$R41,\"TRUE\",PACKT07!J41)+SUMIF(PACKT08!$R41,\"TRUE\",PACKT08!J41)+SUMIF(PACKT09!$R41,\"TRUE\",PACKT09!J41)+SUMIF(PACKT10!$R41,\"TRUE\",PACKT10!J41)+SUMIF(PACKT11!$R41,\"TRUE\",PACKT11!J41)","v":0},{"$f":"SUMIF(PACKT01!$R41,\"TRUE\",PACKT01!K41)+SUMIF(PACKT02!$R41,\"TRUE\",PACKT02!K41)+SUMIF(PACKT03!$R41,\"TRUE\",PACKT03!K41)+SUMIF(PACKT04!$R41,\"TRUE\",PACKT04!K41)+SUMIF(PACKT05!$R41,\"TRUE\",PACKT05!K41)+SUMIF(PACKT06!$R42,\"TRUE\",PACKT06!K42)+SUMIF(PACKT07!$R41,\"TRUE\",PACKT07!K41)+SUMIF(PACKT08!$R41,\"TRUE\",PACKT08!K41)+SUMIF(PACKT09!$R41,\"TRUE\",PACKT09!K41)+SUMIF(PACKT10!$R41,\"TRUE\",PACKT10!K41)+SUMIF(PACKT11!$R41,\"TRUE\",PACKT11!K41)","v":0},{"$f":"SUMIF(PACKT01!$R41,\"TRUE\",PACKT01!L41)+SUMIF(PACKT02!$R41,\"TRUE\",PACKT02!L41)+SUMIF(PACKT03!$R41,\"TRUE\",PACKT03!L41)+SUMIF(PACKT04!$R41,\"TRUE\",PACKT04!L41)+SUMIF(PACKT05!$R41,\"TRUE\",PACKT05!L41)+SUMIF(PACKT06!$R42,\"TRUE\",PACKT06!L42)+SUMIF(PACKT07!$R41,\"TRUE\",PACKT07!L41)+SUMIF(PACKT08!$R41,\"TRUE\",PACKT08!L41)+SUMIF(PACKT09!$R41,\"TRUE\",PACKT09!L41)+SUMIF(PACKT10!$R41,\"TRUE\",PACKT10!L41)+SUMIF(PACKT11!$R41,\"TRUE\",PACKT11!L41)","v":0},{"$f":"SUMIF(PACKT01!$R41,\"TRUE\",PACKT01!M41)+SUMIF(PACKT02!$R41,\"TRUE\",PACKT02!M41)+SUMIF(PACKT03!$R41,\"TRUE\",PACKT03!M41)+SUMIF(PACKT04!$R41,\"TRUE\",PACKT04!M41)+SUMIF(PACKT05!$R41,\"TRUE\",PACKT05!M41)+SUMIF(PACKT06!$R42,\"TRUE\",PACKT06!M42)+SUMIF(PACKT07!$R41,\"TRUE\",PACKT07!M41)+SUMIF(PACKT08!$R41,\"TRUE\",PACKT08!M41)+SUMIF(PACKT09!$R41,\"TRUE\",PACKT09!M41)+SUMIF(PACKT10!$R41,\"TRUE\",PACKT10!M41)+SUMIF(PACKT11!$R41,\"TRUE\",PACKT11!M41)","v":0},{"$f":"SUMIF(PACKT01!$R41,\"TRUE\",PACKT01!N41)+SUMIF(PACKT02!$R41,\"TRUE\",PACKT02!N41)+SUMIF(PACKT03!$R41,\"TRUE\",PACKT03!N41)+SUMIF(PACKT04!$R41,\"TRUE\",PACKT04!N41)+SUMIF(PACKT05!$R41,\"TRUE\",PACKT05!N41)+SUMIF(PACKT06!$R42,\"TRUE\",PACKT06!N42)+SUMIF(PACKT07!$R41,\"TRUE\",PACKT07!N41)+SUMIF(PACKT08!$R41,\"TRUE\",PACKT08!N41)+SUMIF(PACKT09!$R41,\"TRUE\",PACKT09!N41)+SUMIF(PACKT10!$R41,\"TRUE\",PACKT10!N41)+SUMIF(PACKT11!$R41,\"TRUE\",PACKT11!N41)","v":0},{"$f":"SUMIF(PACKT01!$R41,\"TRUE\",PACKT01!O41)+SUMIF(PACKT02!$R41,\"TRUE\",PACKT02!O41)+SUMIF(PACKT03!$R41,\"TRUE\",PACKT03!O41)+SUMIF(PACKT04!$R41,\"TRUE\",PACKT04!O41)+SUMIF(PACKT05!$R41,\"TRUE\",PACKT05!O41)+SUMIF(PACKT06!$R42,\"TRUE\",PACKT06!O42)+SUMIF(PACKT07!$R41,\"TRUE\",PACKT07!O41)+SUMIF(PACKT08!$R41,\"TRUE\",PACKT08!O41)+SUMIF(PACKT09!$R41,\"TRUE\",PACKT09!O41)+SUMIF(PACKT10!$R41,\"TRUE\",PACKT10!O41)+SUMIF(PACKT11!$R41,\"TRUE\",PACKT11!O41)","v":0},{"$f":"SUMIF(PACKT01!$R41,\"TRUE\",PACKT01!P41)+SUMIF(PACKT02!$R41,\"TRUE\",PACKT02!P41)+SUMIF(PACKT03!$R41,\"TRUE\",PACKT03!P41)+SUMIF(PACKT04!$R41,\"TRUE\",PACKT04!P41)+SUMIF(PACKT05!$R41,\"TRUE\",PACKT05!P41)+SUMIF(PACKT06!$R42,\"TRUE\",PACKT06!P42)+SUMIF(PACKT07!$R41,\"TRUE\",PACKT07!P41)+SUMIF(PACKT08!$R41,\"TRUE\",PACKT08!P41)+SUMIF(PACKT09!$R41,\"TRUE\",PACKT09!P41)+SUMIF(PACKT10!$R41,\"TRUE\",PACKT10!P41)+SUMIF(PACKT11!$R41,\"TRUE\",PACKT11!P41)","v":0},{"$f":"SUMIF(PACKT01!$R41,\"TRUE\",PACKT01!Q41)+SUMIF(PACKT02!$R41,\"TRUE\",PACKT02!Q41)+SUMIF(PACKT03!$R41,\"TRUE\",PACKT03!Q41)+SUMIF(PACKT04!$R41,\"TRUE\",PACKT04!Q41)+SUMIF(PACKT05!$R41,\"TRUE\",PACKT05!Q41)+SUMIF(PACKT06!$R42,\"TRUE\",PACKT06!Q42)+SUMIF(PACKT07!$R41,\"TRUE\",PACKT07!Q41)+SUMIF(PACKT08!$R41,\"TRUE\",PACKT08!Q41)+SUMIF(PACKT09!$R41,\"TRUE\",PACKT09!Q41)+SUMIF(PACKT10!$R41,\"TRUE\",PACKT10!Q41)+SUMIF(PACKT11!$R41,\"TRUE\",PACKT11!Q41)","v":0},0]
[null,"EMP0031",{"$f":"VLOOKUP(HRSummarylTable[[#This Row],[EmployeeID]],EmployeeListLookupTable[],2,FALSE)","v":"EMPN031"},{"$f":"VLOOKUP(HRSummarylTable[[#This Row],[EmployeeID]],EmployeeListLookupTable[],3,FALSE)","v":"Employee Name 31"},{"$f":"VLOOKUP(HRSummarylTable[[#This Row],[EmployeeID]],EmployeeListLookupTable[],4,FALSE)","v":"Employee Job Title 31"},"TCTC001 - Total Cost to Company",{"$f":"LEFT(HRSummarylTable[[#This Row],[PackageItemCode]],7)","v":"TCTC001"},{"$f":"VLOOKUP(HRSummarylTable[[#This Row],[PackageItem]],PackageItemListLookup[],2,FALSE)","v":"Total Cost to Company"},null,{"$f":"SUMIF(PACKT01!$R42,\"TRUE\",PACKT01!F42)+SUMIF(PACKT02!$R42,\"TRUE\",PACKT02!F42)+SUMIF(PACKT03!$R42,\"TRUE\",PACKT03!F42)+SUMIF(PACKT04!$R42,\"TRUE\",PACKT04!F42)+SUMIF(PACKT05!$R42,\"TRUE\",PACKT05!F42)+SUMIF(PACKT06!$R43,\"TRUE\",PACKT06!F43)+SUMIF(PACKT07!$R42,\"TRUE\",PACKT07!F42)+SUMIF(PACKT08!$R42,\"TRUE\",PACKT08!F42)+SUMIF(PACKT09!$R42,\"TRUE\",PACKT09!F42)+SUMIF(PACKT10!$R42,\"TRUE\",PACKT10!F42)+SUMIF(PACKT11!$R42,\"TRUE\",PACKT11!F42)","v":0},{"$f":"SUMIF(PACKT01!$R42,\"TRUE\",PACKT01!G42)+SUMIF(PACKT02!$R42,\"TRUE\",PACKT02!G42)+SUMIF(PACKT03!$R42,\"TRUE\",PACKT03!G42)+SUMIF(PACKT04!$R42,\"TRUE\",PACKT04!G42)+SUMIF(PACKT05!$R42,\"TRUE\",PACKT05!G42)+SUMIF(PACKT06!$R43,\"TRUE\",PACKT06!G43)+SUMIF(PACKT07!$R42,\"TRUE\",PACKT07!G42)+SUMIF(PACKT08!$R42,\"TRUE\",PACKT08!G42)+SUMIF(PACKT09!$R42,\"TRUE\",PACKT09!G42)+SUMIF(PACKT10!$R42,\"TRUE\",PACKT10!G42)+SUMIF(PACKT11!$R42,\"TRUE\",PACKT11!G42)","v":0},{"$f":"SUMIF(PACKT01!$R42,\"TRUE\",PACKT01!H42)+SUMIF(PACKT02!$R42,\"TRUE\",PACKT02!H42)+SUMIF(PACKT03!$R42,\"TRUE\",PACKT03!H42)+SUMIF(PACKT04!$R42,\"TRUE\",PACKT04!H42)+SUMIF(PACKT05!$R42,\"TRUE\",PACKT05!H42)+SUMIF(PACKT06!$R43,\"TRUE\",PACKT06!H43)+SUMIF(PACKT07!$R42,\"TRUE\",PACKT07!H42)+SUMIF(PACKT08!$R42,\"TRUE\",PACKT08!H42)+SUMIF(PACKT09!$R42,\"TRUE\",PACKT09!H42)+SUMIF(PACKT10!$R42,\"TRUE\",PACKT10!H42)+SUMIF(PACKT11!$R42,\"TRUE\",PACKT11!H42)","v":0},{"$f":"SUMIF(PACKT01!$R42,\"TRUE\",PACKT01!I42)+SUMIF(PACKT02!$R42,\"TRUE\",PACKT02!I42)+SUMIF(PACKT03!$R42,\"TRUE\",PACKT03!I42)+SUMIF(PACKT04!$R42,\"TRUE\",PACKT04!I42)+SUMIF(PACKT05!$R42,\"TRUE\",PACKT05!I42)+SUMIF(PACKT06!$R43,\"TRUE\",PACKT06!I43)+SUMIF(PACKT07!$R42,\"TRUE\",PACKT07!I42)+SUMIF(PACKT08!$R42,\"TRUE\",PACKT08!I42)+SUMIF(PACKT09!$R42,\"TRUE\",PACKT09!I42)+SUMIF(PACKT10!$R42,\"TRUE\",PACKT10!I42)+SUMIF(PACKT11!$R42,\"TRUE\",PACKT11!I42)","v":0},{"$f":"SUMIF(PACKT01!$R42,\"TRUE\",PACKT01!J42)+SUMIF(PACKT02!$R42,\"TRUE\",PACKT02!J42)+SUMIF(PACKT03!$R42,\"TRUE\",PACKT03!J42)+SUMIF(PACKT04!$R42,\"TRUE\",PACKT04!J42)+SUMIF(PACKT05!$R42,\"TRUE\",PACKT05!J42)+SUMIF(PACKT06!$R43,\"TRUE\",PACKT06!J43)+SUMIF(PACKT07!$R42,\"TRUE\",PACKT07!J42)+SUMIF(PACKT08!$R42,\"TRUE\",PACKT08!J42)+SUMIF(PACKT09!$R42,\"TRUE\",PACKT09!J42)+SUMIF(PACKT10!$R42,\"TRUE\",PACKT10!J42)+SUMIF(PACKT11!$R42,\"TRUE\",PACKT11!J42)","v":0},{"$f":"SUMIF(PACKT01!$R42,\"TRUE\",PACKT01!K42)+SUMIF(PACKT02!$R42,\"TRUE\",PACKT02!K42)+SUMIF(PACKT03!$R42,\"TRUE\",PACKT03!K42)+SUMIF(PACKT04!$R42,\"TRUE\",PACKT04!K42)+SUMIF(PACKT05!$R42,\"TRUE\",PACKT05!K42)+SUMIF(PACKT06!$R43,\"TRUE\",PACKT06!K43)+SUMIF(PACKT07!$R42,\"TRUE\",PACKT07!K42)+SUMIF(PACKT08!$R42,\"TRUE\",PACKT08!K42)+SUMIF(PACKT09!$R42,\"TRUE\",PACKT09!K42)+SUMIF(PACKT10!$R42,\"TRUE\",PACKT10!K42)+SUMIF(PACKT11!$R42,\"TRUE\",PACKT11!K42)","v":0},{"$f":"SUMIF(PACKT01!$R42,\"TRUE\",PACKT01!L42)+SUMIF(PACKT02!$R42,\"TRUE\",PACKT02!L42)+SUMIF(PACKT03!$R42,\"TRUE\",PACKT03!L42)+SUMIF(PACKT04!$R42,\"TRUE\",PACKT04!L42)+SUMIF(PACKT05!$R42,\"TRUE\",PACKT05!L42)+SUMIF(PACKT06!$R43,\"TRUE\",PACKT06!L43)+SUMIF(PACKT07!$R42,\"TRUE\",PACKT07!L42)+SUMIF(PACKT08!$R42,\"TRUE\",PACKT08!L42)+SUMIF(PACKT09!$R42,\"TRUE\",PACKT09!L42)+SUMIF(PACKT10!$R42,\"TRUE\",PACKT10!L42)+SUMIF(PACKT11!$R42,\"TRUE\",PACKT11!L42)","v":0},{"$f":"SUMIF(PACKT01!$R42,\"TRUE\",PACKT01!M42)+SUMIF(PACKT02!$R42,\"TRUE\",PACKT02!M42)+SUMIF(PACKT03!$R42,\"TRUE\",PACKT03!M42)+SUMIF(PACKT04!$R42,\"TRUE\",PACKT04!M42)+SUMIF(PACKT05!$R42,\"TRUE\",PACKT05!M42)+SUMIF(PACKT06!$R43,\"TRUE\",PACKT06!M43)+SUMIF(PACKT07!$R42,\"TRUE\",PACKT07!M42)+SUMIF(PACKT08!$R42,\"TRUE\",PACKT08!M42)+SUMIF(PACKT09!$R42,\"TRUE\",PACKT09!M42)+SUMIF(PACKT10!$R42,\"TRUE\",PACKT10!M42)+SUMIF(PACKT11!$R42,\"TRUE\",PACKT11!M42)","v":0},{"$f":"SUMIF(PACKT01!$R42,\"TRUE\",PACKT01!N42)+SUMIF(PACKT02!$R42,\"TRUE\",PACKT02!N42)+SUMIF(PACKT03!$R42,\"TRUE\",PACKT03!N42)+SUMIF(PACKT04!$R42,\"TRUE\",PACKT04!N42)+SUMIF(PACKT05!$R42,\"TRUE\",PACKT05!N42)+SUMIF(PACKT06!$R43,\"TRUE\",PACKT06!N43)+SUMIF(PACKT07!$R42,\"TRUE\",PACKT07!N42)+SUMIF(PACKT08!$R42,\"TRUE\",PACKT08!N42)+SUMIF(PACKT09!$R42,\"TRUE\",PACKT09!N42)+SUMIF(PACKT10!$R42,\"TRUE\",PACKT10!N42)+SUMIF(PACKT11!$R42,\"TRUE\",PACKT11!N42)","v":0},{"$f":"SUMIF(PACKT01!$R42,\"TRUE\",PACKT01!O42)+SUMIF(PACKT02!$R42,\"TRUE\",PACKT02!O42)+SUMIF(PACKT03!$R42,\"TRUE\",PACKT03!O42)+SUMIF(PACKT04!$R42,\"TRUE\",PACKT04!O42)+SUMIF(PACKT05!$R42,\"TRUE\",PACKT05!O42)+SUMIF(PACKT06!$R43,\"TRUE\",PACKT06!O43)+SUMIF(PACKT07!$R42,\"TRUE\",PACKT07!O42)+SUMIF(PACKT08!$R42,\"TRUE\",PACKT08!O42)+SUMIF(PACKT09!$R42,\"TRUE\",PACKT09!O42)+SUMIF(PACKT10!$R42,\"TRUE\",PACKT10!O42)+SUMIF(PACKT11!$R42,\"TRUE\",PACKT11!O42)","v":0},{"$f":"SUMIF(PACKT01!$R42,\"TRUE\",PACKT01!P42)+SUMIF(PACKT02!$R42,\"TRUE\",PACKT02!P42)+SUMIF(PACKT03!$R42,\"TRUE\",PACKT03!P42)+SUMIF(PACKT04!$R42,\"TRUE\",PACKT04!P42)+SUMIF(PACKT05!$R42,\"TRUE\",PACKT05!P42)+SUMIF(PACKT06!$R43,\"TRUE\",PACKT06!P43)+SUMIF(PACKT07!$R42,\"TRUE\",PACKT07!P42)+SUMIF(PACKT08!$R42,\"TRUE\",PACKT08!P42)+SUMIF(PACKT09!$R42,\"TRUE\",PACKT09!P42)+SUMIF(PACKT10!$R42,\"TRUE\",PACKT10!P42)+SUMIF(PACKT11!$R42,\"TRUE\",PACKT11!P42)","v":0},{"$f":"SUMIF(PACKT01!$R42,\"TRUE\",PACKT01!Q42)+SUMIF(PACKT02!$R42,\"TRUE\",PACKT02!Q42)+SUMIF(PACKT03!$R42,\"TRUE\",PACKT03!Q42)+SUMIF(PACKT04!$R42,\"TRUE\",PACKT04!Q42)+SUMIF(PACKT05!$R42,\"TRUE\",PACKT05!Q42)+SUMIF(PACKT06!$R43,\"TRUE\",PACKT06!Q43)+SUMIF(PACKT07!$R42,\"TRUE\",PACKT07!Q42)+SUMIF(PACKT08!$R42,\"TRUE\",PACKT08!Q42)+SUMIF(PACKT09!$R42,\"TRUE\",PACKT09!Q42)+SUMIF(PACKT10!$R42,\"TRUE\",PACKT10!Q42)+SUMIF(PACKT11!$R42,\"TRUE\",PACKT11!Q42)","v":0},0]
[null,"EMP0032",{"$f":"VLOOKUP(HRSummarylTable[[#This Row],[EmployeeID]],EmployeeListLookupTable[],2,FALSE)","v":"EMPN032"},{"$f":"VLOOKUP(HRSummarylTable[[#This Row],[EmployeeID]],EmployeeListLookupTable[],3,FALSE)","v":"Employee Name 32"},{"$f":"VLOOKUP(HRSummarylTable[[#This Row],[EmployeeID]],EmployeeListLookupTable[],4,FALSE)","v":"Employee Job Title 32"},"TCTC001 - Total Cost to Company",{"$f":"LEFT(HRSummarylTable[[#This Row],[PackageItemCode]],7)","v":"TCTC001"},{"$f":"VLOOKUP(HRSummarylTable[[#This Row],[PackageItem]],PackageItemListLookup[],2,FALSE)","v":"Total Cost to Company"},null,{"$f":"SUMIF(PACKT01!$R43,\"TRUE\",PACKT01!F43)+SUMIF(PACKT02!$R43,\"TRUE\",PACKT02!F43)+SUMIF(PACKT03!$R43,\"TRUE\",PACKT03!F43)+SUMIF(PACKT04!$R43,\"TRUE\",PACKT04!F43)+SUMIF(PACKT05!$R43,\"TRUE\",PACKT05!F43)+SUMIF(PACKT06!$R44,\"TRUE\",PACKT06!F44)+SUMIF(PACKT07!$R43,\"TRUE\",PACKT07!F43)+SUMIF(PACKT08!$R43,\"TRUE\",PACKT08!F43)+SUMIF(PACKT09!$R43,\"TRUE\",PACKT09!F43)+SUMIF(PACKT10!$R43,\"TRUE\",PACKT10!F43)+SUMIF(PACKT11!$R43,\"TRUE\",PACKT11!F43)","v":0},{"$f":"SUMIF(PACKT01!$R43,\"TRUE\",PACKT01!G43)+SUMIF(PACKT02!$R43,\"TRUE\",PACKT02!G43)+SUMIF(PACKT03!$R43,\"TRUE\",PACKT03!G43)+SUMIF(PACKT04!$R43,\"TRUE\",PACKT04!G43)+SUMIF(PACKT05!$R43,\"TRUE\",PACKT05!G43)+SUMIF(PACKT06!$R44,\"TRUE\",PACKT06!G44)+SUMIF(PACKT07!$R43,\"TRUE\",PACKT07!G43)+SUMIF(PACKT08!$R43,\"TRUE\",PACKT08!G43)+SUMIF(PACKT09!$R43,\"TRUE\",PACKT09!G43)+SUMIF(PACKT10!$R43,\"TRUE\",PACKT10!G43)+SUMIF(PACKT11!$R43,\"TRUE\",PACKT11!G43)","v":0},{"$f":"SUMIF(PACKT01!$R43,\"TRUE\",PACKT01!H43)+SUMIF(PACKT02!$R43,\"TRUE\",PACKT02!H43)+SUMIF(PACKT03!$R43,\"TRUE\",PACKT03!H43)+SUMIF(PACKT04!$R43,\"TRUE\",PACKT04!H43)+SUMIF(PACKT05!$R43,\"TRUE\",PACKT05!H43)+SUMIF(PACKT06!$R44,\"TRUE\",PACKT06!H44)+SUMIF(PACKT07!$R43,\"TRUE\",PACKT07!H43)+SUMIF(PACKT08!$R43,\"TRUE\",PACKT08!H43)+SUMIF(PACKT09!$R43,\"TRUE\",PACKT09!H43)+SUMIF(PACKT10!$R43,\"TRUE\",PACKT10!H43)+SUMIF(PACKT11!$R43,\"TRUE\",PACKT11!H43)","v":0},{"$f":"SUMIF(PACKT01!$R43,\"TRUE\",PACKT01!I43)+SUMIF(PACKT02!$R43,\"TRUE\",PACKT02!I43)+SUMIF(PACKT03!$R43,\"TRUE\",PACKT03!I43)+SUMIF(PACKT04!$R43,\"TRUE\",PACKT04!I43)+SUMIF(PACKT05!$R43,\"TRUE\",PACKT05!I43)+SUMIF(PACKT06!$R44,\"TRUE\",PACKT06!I44)+SUMIF(PACKT07!$R43,\"TRUE\",PACKT07!I43)+SUMIF(PACKT08!$R43,\"TRUE\",PACKT08!I43)+SUMIF(PACKT09!$R43,\"TRUE\",PACKT09!I43)+SUMIF(PACKT10!$R43,\"TRUE\",PACKT10!I43)+SUMIF(PACKT11!$R43,\"TRUE\",PACKT11!I43)","v":0},{"$f":"SUMIF(PACKT01!$R43,\"TRUE\",PACKT01!J43)+SUMIF(PACKT02!$R43,\"TRUE\",PACKT02!J43)+SUMIF(PACKT03!$R43,\"TRUE\",PACKT03!J43)+SUMIF(PACKT04!$R43,\"TRUE\",PACKT04!J43)+SUMIF(PACKT05!$R43,\"TRUE\",PACKT05!J43)+SUMIF(PACKT06!$R44,\"TRUE\",PACKT06!J44)+SUMIF(PACKT07!$R43,\"TRUE\",PACKT07!J43)+SUMIF(PACKT08!$R43,\"TRUE\",PACKT08!J43)+SUMIF(PACKT09!$R43,\"TRUE\",PACKT09!J43)+SUMIF(PACKT10!$R43,\"TRUE\",PACKT10!J43)+SUMIF(PACKT11!$R43,\"TRUE\",PACKT11!J43)","v":0},{"$f":"SUMIF(PACKT01!$R43,\"TRUE\",PACKT01!K43)+SUMIF(PACKT02!$R43,\"TRUE\",PACKT02!K43)+SUMIF(PACKT03!$R43,\"TRUE\",PACKT03!K43)+SUMIF(PACKT04!$R43,\"TRUE\",PACKT04!K43)+SUMIF(PACKT05!$R43,\"TRUE\",PACKT05!K43)+SUMIF(PACKT06!$R44,\"TRUE\",PACKT06!K44)+SUMIF(PACKT07!$R43,\"TRUE\",PACKT07!K43)+SUMIF(PACKT08!$R43,\"TRUE\",PACKT08!K43)+SUMIF(PACKT09!$R43,\"TRUE\",PACKT09!K43)+SUMIF(PACKT10!$R43,\"TRUE\",PACKT10!K43)+SUMIF(PACKT11!$R43,\"TRUE\",PACKT11!K43)","v":0},{"$f":"SUMIF(PACKT01!$R43,\"TRUE\",PACKT01!L43)+SUMIF(PACKT02!$R43,\"TRUE\",PACKT02!L43)+SUMIF(PACKT03!$R43,\"TRUE\",PACKT03!L43)+SUMIF(PACKT04!$R43,\"TRUE\",PACKT04!L43)+SUMIF(PACKT05!$R43,\"TRUE\",PACKT05!L43)+SUMIF(PACKT06!$R44,\"TRUE\",PACKT06!L44)+SUMIF(PACKT07!$R43,\"TRUE\",PACKT07!L43)+SUMIF(PACKT08!$R43,\"TRUE\",PACKT08!L43)+SUMIF(PACKT09!$R43,\"TRUE\",PACKT09!L43)+SUMIF(PACKT10!$R43,\"TRUE\",PACKT10!L43)+SUMIF(PACKT11!$R43,\"TRUE\",PACKT11!L43)","v":0},{"$f":"SUMIF(PACKT01!$R43,\"TRUE\",PACKT01!M43)+SUMIF(PACKT02!$R43,\"TRUE\",PACKT02!M43)+SUMIF(PACKT03!$R43,\"TRUE\",PACKT03!M43)+SUMIF(PACKT04!$R43,\"TRUE\",PACKT04!M43)+SUMIF(PACKT05!$R43,\"TRUE\",PACKT05!M43)+SUMIF(PACKT06!$R44,\"TRUE\",PACKT06!M44)+SUMIF(PACKT07!$R43,\"TRUE\",PACKT07!M43)+SUMIF(PACKT08!$R43,\"TRUE\",PACKT08!M43)+SUMIF(PACKT09!$R43,\"TRUE\",PACKT09!M43)+SUMIF(PACKT10!$R43,\"TRUE\",PACKT10!M43)+SUMIF(PACKT11!$R43,\"TRUE\",PACKT11!M43)","v":0},{"$f":"SUMIF(PACKT01!$R43,\"TRUE\",PACKT01!N43)+SUMIF(PACKT02!$R43,\"TRUE\",PACKT02!N43)+SUMIF(PACKT03!$R43,\"TRUE\",PACKT03!N43)+SUMIF(PACKT04!$R43,\"TRUE\",PACKT04!N43)+SUMIF(PACKT05!$R43,\"TRUE\",PACKT05!N43)+SUMIF(PACKT06!$R44,\"TRUE\",PACKT06!N44)+SUMIF(PACKT07!$R43,\"TRUE\",PACKT07!N43)+SUMIF(PACKT08!$R43,\"TRUE\",PACKT08!N43)+SUMIF(PACKT09!$R43,\"TRUE\",PACKT09!N43)+SUMIF(PACKT10!$R43,\"TRUE\",PACKT10!N43)+SUMIF(PACKT11!$R43,\"TRUE\",PACKT11!N43)","v":0},{"$f":"SUMIF(PACKT01!$R43,\"TRUE\",PACKT01!O43)+SUMIF(PACKT02!$R43,\"TRUE\",PACKT02!O43)+SUMIF(PACKT03!$R43,\"TRUE\",PACKT03!O43)+SUMIF(PACKT04!$R43,\"TRUE\",PACKT04!O43)+SUMIF(PACKT05!$R43,\"TRUE\",PACKT05!O43)+SUMIF(PACKT06!$R44,\"TRUE\",PACKT06!O44)+SUMIF(PACKT07!$R43,\"TRUE\",PACKT07!O43)+SUMIF(PACKT08!$R43,\"TRUE\",PACKT08!O43)+SUMIF(PACKT09!$R43,\"TRUE\",PACKT09!O43)+SUMIF(PACKT10!$R43,\"TRUE\",PACKT10!O43)+SUMIF(PACKT11!$R43,\"TRUE\",PACKT11!O43)","v":0},{"$f":"SUMIF(PACKT01!$R43,\"TRUE\",PACKT01!P43)+SUMIF(PACKT02!$R43,\"TRUE\",PACKT02!P43)+SUMIF(PACKT03!$R43,\"TRUE\",PACKT03!P43)+SUMIF(PACKT04!$R43,\"TRUE\",PACKT04!P43)+SUMIF(PACKT05!$R43,\"TRUE\",PACKT05!P43)+SUMIF(PACKT06!$R44,\"TRUE\",PACKT06!P44)+SUMIF(PACKT07!$R43,\"TRUE\",PACKT07!P43)+SUMIF(PACKT08!$R43,\"TRUE\",PACKT08!P43)+SUMIF(PACKT09!$R43,\"TRUE\",PACKT09!P43)+SUMIF(PACKT10!$R43,\"TRUE\",PACKT10!P43)+SUMIF(PACKT11!$R43,\"TRUE\",PACKT11!P43)","v":0},{"$f":"SUMIF(PACKT01!$R43,\"TRUE\",PACKT01!Q43)+SUMIF(PACKT02!$R43,\"TRUE\",PACKT02!Q43)+SUMIF(PACKT03!$R43,\"TRUE\",PACKT03!Q43)+SUMIF(PACKT04!$R43,\"TRUE\",PACKT04!Q43)+SUMIF(PACKT05!$R43,\"TRUE\",PACKT05!Q43)+SUMIF(PACKT06!$R44,\"TRUE\",PACKT06!Q44)+SUMIF(PACKT07!$R43,\"TRUE\",PACKT07!Q43)+SUMIF(PACKT08!$R43,\"TRUE\",PACKT08!Q43)+SUMIF(PACKT09!$R43,\"TRUE\",PACKT09!Q43)+SUMIF(PACKT10!$R43,\"TRUE\",PACKT10!Q43)+SUMIF(PACKT11!$R43,\"TRUE\",PACKT11!Q43)","v":0},0]
[null,"EMP0033",{"$f":"VLOOKUP(HRSummarylTable[[#This Row],[EmployeeID]],EmployeeListLookupTable[],2,FALSE)","v":"EMPN033"},{"$f":"VLOOKUP(HRSummarylTable[[#This Row],[EmployeeID]],EmployeeListLookupTable[],3,FALSE)","v":"Employee Name 33"},{"$f":"VLOOKUP(HRSummarylTable[[#This Row],[EmployeeID]],EmployeeListLookupTable[],4,FALSE)","v":"Employee Job Title 33"},"TCTC001 - Total Cost to Company",{"$f":"LEFT(HRSummarylTable[[#This Row],[PackageItemCode]],7)","v":"TCTC001"},{"$f":"VLOOKUP(HRSummarylTable[[#This Row],[PackageItem]],PackageItemListLookup[],2,FALSE)","v":"Total Cost to Company"},null,{"$f":"SUMIF(PACKT01!$R44,\"TRUE\",PACKT01!F44)+SUMIF(PACKT02!$R44,\"TRUE\",PACKT02!F44)+SUMIF(PACKT03!$R44,\"TRUE\",PACKT03!F44)+SUMIF(PACKT04!$R44,\"TRUE\",PACKT04!F44)+SUMIF(PACKT05!$R44,\"TRUE\",PACKT05!F44)+SUMIF(PACKT06!$R45,\"TRUE\",PACKT06!F45)+SUMIF(PACKT07!$R44,\"TRUE\",PACKT07!F44)+SUMIF(PACKT08!$R44,\"TRUE\",PACKT08!F44)+SUMIF(PACKT09!$R44,\"TRUE\",PACKT09!F44)+SUMIF(PACKT10!$R44,\"TRUE\",PACKT10!F44)+SUMIF(PACKT11!$R44,\"TRUE\",PACKT11!F44)","v":0},{"$f":"SUMIF(PACKT01!$R44,\"TRUE\",PACKT01!G44)+SUMIF(PACKT02!$R44,\"TRUE\",PACKT02!G44)+SUMIF(PACKT03!$R44,\"TRUE\",PACKT03!G44)+SUMIF(PACKT04!$R44,\"TRUE\",PACKT04!G44)+SUMIF(PACKT05!$R44,\"TRUE\",PACKT05!G44)+SUMIF(PACKT06!$R45,\"TRUE\",PACKT06!G45)+SUMIF(PACKT07!$R44,\"TRUE\",PACKT07!G44)+SUMIF(PACKT08!$R44,\"TRUE\",PACKT08!G44)+SUMIF(PACKT09!$R44,\"TRUE\",PACKT09!G44)+SUMIF(PACKT10!$R44,\"TRUE\",PACKT10!G44)+SUMIF(PACKT11!$R44,\"TRUE\",PACKT11!G44)","v":0},{"$f":"SUMIF(PACKT01!$R44,\"TRUE\",PACKT01!H44)+SUMIF(PACKT02!$R44,\"TRUE\",PACKT02!H44)+SUMIF(PACKT03!$R44,\"TRUE\",PACKT03!H44)+SUMIF(PACKT04!$R44,\"TRUE\",PACKT04!H44)+SUMIF(PACKT05!$R44,\"TRUE\",PACKT05!H44)+SUMIF(PACKT06!$R45,\"TRUE\",PACKT06!H45)+SUMIF(PACKT07!$R44,\"TRUE\",PACKT07!H44)+SUMIF(PACKT08!$R44,\"TRUE\",PACKT08!H44)+SUMIF(PACKT09!$R44,\"TRUE\",PACKT09!H44)+SUMIF(PACKT10!$R44,\"TRUE\",PACKT10!H44)+SUMIF(PACKT11!$R44,\"TRUE\",PACKT11!H44)","v":0},{"$f":"SUMIF(PACKT01!$R44,\"TRUE\",PACKT01!I44)+SUMIF(PACKT02!$R44,\"TRUE\",PACKT02!I44)+SUMIF(PACKT03!$R44,\"TRUE\",PACKT03!I44)+SUMIF(PACKT04!$R44,\"TRUE\",PACKT04!I44)+SUMIF(PACKT05!$R44,\"TRUE\",PACKT05!I44)+SUMIF(PACKT06!$R45,\"TRUE\",PACKT06!I45)+SUMIF(PACKT07!$R44,\"TRUE\",PACKT07!I44)+SUMIF(PACKT08!$R44,\"TRUE\",PACKT08!I44)+SUMIF(PACKT09!$R44,\"TRUE\",PACKT09!I44)+SUMIF(PACKT10!$R44,\"TRUE\",PACKT10!I44)+SUMIF(PACKT11!$R44,\"TRUE\",PACKT11!I44)","v":0},{"$f":"SUMIF(PACKT01!$R44,\"TRUE\",PACKT01!J44)+SUMIF(PACKT02!$R44,\"TRUE\",PACKT02!J44)+SUMIF(PACKT03!$R44,\"TRUE\",PACKT03!J44)+SUMIF(PACKT04!$R44,\"TRUE\",PACKT04!J44)+SUMIF(PACKT05!$R44,\"TRUE\",PACKT05!J44)+SUMIF(PACKT06!$R45,\"TRUE\",PACKT06!J45)+SUMIF(PACKT07!$R44,\"TRUE\",PACKT07!J44)+SUMIF(PACKT08!$R44,\"TRUE\",PACKT08!J44)+SUMIF(PACKT09!$R44,\"TRUE\",PACKT09!J44)+SUMIF(PACKT10!$R44,\"TRUE\",PACKT10!J44)+SUMIF(PACKT11!$R44,\"TRUE\",PACKT11!J44)","v":0},{"$f":"SUMIF(PACKT01!$R44,\"TRUE\",PACKT01!K44)+SUMIF(PACKT02!$R44,\"TRUE\",PACKT02!K44)+SUMIF(PACKT03!$R44,\"TRUE\",PACKT03!K44)+SUMIF(PACKT04!$R44,\"TRUE\",PACKT04!K44)+SUMIF(PACKT05!$R44,\"TRUE\",PACKT05!K44)+SUMIF(PACKT06!$R45,\"TRUE\",PACKT06!K45)+SUMIF(PACKT07!$R44,\"TRUE\",PACKT07!K44)+SUMIF(PACKT08!$R44,\"TRUE\",PACKT08!K44)+SUMIF(PACKT09!$R44,\"TRUE\",PACKT09!K44)+SUMIF(PACKT10!$R44,\"TRUE\",PACKT10!K44)+SUMIF(PACKT11!$R44,\"TRUE\",PACKT11!K44)","v":0},{"$f":"SUMIF(PACKT01!$R44,\"TRUE\",PACKT01!L44)+SUMIF(PACKT02!$R44,\"TRUE\",PACKT02!L44)+SUMIF(PACKT03!$R44,\"TRUE\",PACKT03!L44)+SUMIF(PACKT04!$R44,\"TRUE\",PACKT04!L44)+SUMIF(PACKT05!$R44,\"TRUE\",PACKT05!L44)+SUMIF(PACKT06!$R45,\"TRUE\",PACKT06!L45)+SUMIF(PACKT07!$R44,\"TRUE\",PACKT07!L44)+SUMIF(PACKT08!$R44,\"TRUE\",PACKT08!L44)+SUMIF(PACKT09!$R44,\"TRUE\",PACKT09!L44)+SUMIF(PACKT10!$R44,\"TRUE\",PACKT10!L44)+SUMIF(PACKT11!$R44,\"TRUE\",PACKT11!L44)","v":0},{"$f":"SUMIF(PACKT01!$R44,\"TRUE\",PACKT01!M44)+SUMIF(PACKT02!$R44,\"TRUE\",PACKT02!M44)+SUMIF(PACKT03!$R44,\"TRUE\",PACKT03!M44)+SUMIF(PACKT04!$R44,\"TRUE\",PACKT04!M44)+SUMIF(PACKT05!$R44,\"TRUE\",PACKT05!M44)+SUMIF(PACKT06!$R45,\"TRUE\",PACKT06!M45)+SUMIF(PACKT07!$R44,\"TRUE\",PACKT07!M44)+SUMIF(PACKT08!$R44,\"TRUE\",PACKT08!M44)+SUMIF(PACKT09!$R44,\"TRUE\",PACKT09!M44)+SUMIF(PACKT10!$R44,\"TRUE\",PACKT10!M44)+SUMIF(PACKT11!$R44,\"TRUE\",PACKT11!M44)","v":0},{"$f":"SUMIF(PACKT01!$R44,\"TRUE\",PACKT01!N44)+SUMIF(PACKT02!$R44,\"TRUE\",PACKT02!N44)+SUMIF(PACKT03!$R44,\"TRUE\",PACKT03!N44)+SUMIF(PACKT04!$R44,\"TRUE\",PACKT04!N44)+SUMIF(PACKT05!$R44,\"TRUE\",PACKT05!N44)+SUMIF(PACKT06!$R45,\"TRUE\",PACKT06!N45)+SUMIF(PACKT07!$R44,\"TRUE\",PACKT07!N44)+SUMIF(PACKT08!$R44,\"TRUE\",PACKT08!N44)+SUMIF(PACKT09!$R44,\"TRUE\",PACKT09!N44)+SUMIF(PACKT10!$R44,\"TRUE\",PACKT10!N44)+SUMIF(PACKT11!$R44,\"TRUE\",PACKT11!N44)","v":0},{"$f":"SUMIF(PACKT01!$R44,\"TRUE\",PACKT01!O44)+SUMIF(PACKT02!$R44,\"TRUE\",PACKT02!O44)+SUMIF(PACKT03!$R44,\"TRUE\",PACKT03!O44)+SUMIF(PACKT04!$R44,\"TRUE\",PACKT04!O44)+SUMIF(PACKT05!$R44,\"TRUE\",PACKT05!O44)+SUMIF(PACKT06!$R45,\"TRUE\",PACKT06!O45)+SUMIF(PACKT07!$R44,\"TRUE\",PACKT07!O44)+SUMIF(PACKT08!$R44,\"TRUE\",PACKT08!O44)+SUMIF(PACKT09!$R44,\"TRUE\",PACKT09!O44)+SUMIF(PACKT10!$R44,\"TRUE\",PACKT10!O44)+SUMIF(PACKT11!$R44,\"TRUE\",PACKT11!O44)","v":0},{"$f":"SUMIF(PACKT01!$R44,\"TRUE\",PACKT01!P44)+SUMIF(PACKT02!$R44,\"TRUE\",PACKT02!P44)+SUMIF(PACKT03!$R44,\"TRUE\",PACKT03!P44)+SUMIF(PACKT04!$R44,\"TRUE\",PACKT04!P44)+SUMIF(PACKT05!$R44,\"TRUE\",PACKT05!P44)+SUMIF(PACKT06!$R45,\"TRUE\",PACKT06!P45)+SUMIF(PACKT07!$R44,\"TRUE\",PACKT07!P44)+SUMIF(PACKT08!$R44,\"TRUE\",PACKT08!P44)+SUMIF(PACKT09!$R44,\"TRUE\",PACKT09!P44)+SUMIF(PACKT10!$R44,\"TRUE\",PACKT10!P44)+SUMIF(PACKT11!$R44,\"TRUE\",PACKT11!P44)","v":0},{"$f":"SUMIF(PACKT01!$R44,\"TRUE\",PACKT01!Q44)+SUMIF(PACKT02!$R44,\"TRUE\",PACKT02!Q44)+SUMIF(PACKT03!$R44,\"TRUE\",PACKT03!Q44)+SUMIF(PACKT04!$R44,\"TRUE\",PACKT04!Q44)+SUMIF(PACKT05!$R44,\"TRUE\",PACKT05!Q44)+SUMIF(PACKT06!$R45,\"TRUE\",PACKT06!Q45)+SUMIF(PACKT07!$R44,\"TRUE\",PACKT07!Q44)+SUMIF(PACKT08!$R44,\"TRUE\",PACKT08!Q44)+SUMIF(PACKT09!$R44,\"TRUE\",PACKT09!Q44)+SUMIF(PACKT10!$R44,\"TRUE\",PACKT10!Q44)+SUMIF(PACKT11!$R44,\"TRUE\",PACKT11!Q44)","v":0},0]
[null,"EMP0034",{"$f":"VLOOKUP(HRSummarylTable[[#This Row],[EmployeeID]],EmployeeListLookupTable[],2,FALSE)","v":"EMPN034"},{"$f":"VLOOKUP(HRSummarylTable[[#This Row],[EmployeeID]],EmployeeListLookupTable[],3,FALSE)","v":"Employee Name 34"},{"$f":"VLOOKUP(HRSummarylTable[[#This Row],[EmployeeID]],EmployeeListLookupTable[],4,FALSE)","v":"Employee Job Title 34"},"TCTC001 - Total Cost to Company",{"$f":"LEFT(HRSummarylTable[[#This Row],[PackageItemCode]],7)","v":"TCTC001"},{"$f":"VLOOKUP(HRSummarylTable[[#This Row],[PackageItem]],PackageItemListLookup[],2,FALSE)","v":"Total Cost to Company"},null,{"$f":"SUMIF(PACKT01!$R45,\"TRUE\",PACKT01!F45)+SUMIF(PACKT02!$R45,\"TRUE\",PACKT02!F45)+SUMIF(PACKT03!$R45,\"TRUE\",PACKT03!F45)+SUMIF(PACKT04!$R45,\"TRUE\",PACKT04!F45)+SUMIF(PACKT05!$R45,\"TRUE\",PACKT05!F45)+SUMIF(PACKT06!$R46,\"TRUE\",PACKT06!F46)+SUMIF(PACKT07!$R45,\"TRUE\",PACKT07!F45)+SUMIF(PACKT08!$R45,\"TRUE\",PACKT08!F45)+SUMIF(PACKT09!$R45,\"TRUE\",PACKT09!F45)+SUMIF(PACKT10!$R45,\"TRUE\",PACKT10!F45)+SUMIF(PACKT11!$R45,\"TRUE\",PACKT11!F45)","v":0},{"$f":"SUMIF(PACKT01!$R45,\"TRUE\",PACKT01!G45)+SUMIF(PACKT02!$R45,\"TRUE\",PACKT02!G45)+SUMIF(PACKT03!$R45,\"TRUE\",PACKT03!G45)+SUMIF(PACKT04!$R45,\"TRUE\",PACKT04!G45)+SUMIF(PACKT05!$R45,\"TRUE\",PACKT05!G45)+SUMIF(PACKT06!$R46,\"TRUE\",PACKT06!G46)+SUMIF(PACKT07!$R45,\"TRUE\",PACKT07!G45)+SUMIF(PACKT08!$R45,\"TRUE\",PACKT08!G45)+SUMIF(PACKT09!$R45,\"TRUE\",PACKT09!G45)+SUMIF(PACKT10!$R45,\"TRUE\",PACKT10!G45)+SUMIF(PACKT11!$R45,\"TRUE\",PACKT11!G45)","v":0},{"$f":"SUMIF(PACKT01!$R45,\"TRUE\",PACKT01!H45)+SUMIF(PACKT02!$R45,\"TRUE\",PACKT02!H45)+SUMIF(PACKT03!$R45,\"TRUE\",PACKT03!H45)+SUMIF(PACKT04!$R45,\"TRUE\",PACKT04!H45)+SUMIF(PACKT05!$R45,\"TRUE\",PACKT05!H45)+SUMIF(PACKT06!$R46,\"TRUE\",PACKT06!H46)+SUMIF(PACKT07!$R45,\"TRUE\",PACKT07!H45)+SUMIF(PACKT08!$R45,\"TRUE\",PACKT08!H45)+SUMIF(PACKT09!$R45,\"TRUE\",PACKT09!H45)+SUMIF(PACKT10!$R45,\"TRUE\",PACKT10!H45)+SUMIF(PACKT11!$R45,\"TRUE\",PACKT11!H45)","v":0},{"$f":"SUMIF(PACKT01!$R45,\"TRUE\",PACKT01!I45)+SUMIF(PACKT02!$R45,\"TRUE\",PACKT02!I45)+SUMIF(PACKT03!$R45,\"TRUE\",PACKT03!I45)+SUMIF(PACKT04!$R45,\"TRUE\",PACKT04!I45)+SUMIF(PACKT05!$R45,\"TRUE\",PACKT05!I45)+SUMIF(PACKT06!$R46,\"TRUE\",PACKT06!I46)+SUMIF(PACKT07!$R45,\"TRUE\",PACKT07!I45)+SUMIF(PACKT08!$R45,\"TRUE\",PACKT08!I45)+SUMIF(PACKT09!$R45,\"TRUE\",PACKT09!I45)+SUMIF(PACKT10!$R45,\"TRUE\",PACKT10!I45)+SUMIF(PACKT11!$R45,\"TRUE\",PACKT11!I45)","v":0},{"$f":"SUMIF(PACKT01!$R45,\"TRUE\",PACKT01!J45)+SUMIF(PACKT02!$R45,\"TRUE\",PACKT02!J45)+SUMIF(PACKT03!$R45,\"TRUE\",PACKT03!J45)+SUMIF(PACKT04!$R45,\"TRUE\",PACKT04!J45)+SUMIF(PACKT05!$R45,\"TRUE\",PACKT05!J45)+SUMIF(PACKT06!$R46,\"TRUE\",PACKT06!J46)+SUMIF(PACKT07!$R45,\"TRUE\",PACKT07!J45)+SUMIF(PACKT08!$R45,\"TRUE\",PACKT08!J45)+SUMIF(PACKT09!$R45,\"TRUE\",PACKT09!J45)+SUMIF(PACKT10!$R45,\"TRUE\",PACKT10!J45)+SUMIF(PACKT11!$R45,\"TRUE\",PACKT11!J45)","v":0},{"$f":"SUMIF(PACKT01!$R45,\"TRUE\",PACKT01!K45)+SUMIF(PACKT02!$R45,\"TRUE\",PACKT02!K45)+SUMIF(PACKT03!$R45,\"TRUE\",PACKT03!K45)+SUMIF(PACKT04!$R45,\"TRUE\",PACKT04!K45)+SUMIF(PACKT05!$R45,\"TRUE\",PACKT05!K45)+SUMIF(PACKT06!$R46,\"TRUE\",PACKT06!K46)+SUMIF(PACKT07!$R45,\"TRUE\",PACKT07!K45)+SUMIF(PACKT08!$R45,\"TRUE\",PACKT08!K45)+SUMIF(PACKT09!$R45,\"TRUE\",PACKT09!K45)+SUMIF(PACKT10!$R45,\"TRUE\",PACKT10!K45)+SUMIF(PACKT11!$R45,\"TRUE\",PACKT11!K45)","v":0},{"$f":"SUMIF(PACKT01!$R45,\"TRUE\",PACKT01!L45)+SUMIF(PACKT02!$R45,\"TRUE\",PACKT02!L45)+SUMIF(PACKT03!$R45,\"TRUE\",PACKT03!L45)+SUMIF(PACKT04!$R45,\"TRUE\",PACKT04!L45)+SUMIF(PACKT05!$R45,\"TRUE\",PACKT05!L45)+SUMIF(PACKT06!$R46,\"TRUE\",PACKT06!L46)+SUMIF(PACKT07!$R45,\"TRUE\",PACKT07!L45)+SUMIF(PACKT08!$R45,\"TRUE\",PACKT08!L45)+SUMIF(PACKT09!$R45,\"TRUE\",PACKT09!L45)+SUMIF(PACKT10!$R45,\"TRUE\",PACKT10!L45)+SUMIF(PACKT11!$R45,\"TRUE\",PACKT11!L45)","v":0},{"$f":"SUMIF(PACKT01!$R45,\"TRUE\",PACKT01!M45)+SUMIF(PACKT02!$R45,\"TRUE\",PACKT02!M45)+SUMIF(PACKT03!$R45,\"TRUE\",PACKT03!M45)+SUMIF(PACKT04!$R45,\"TRUE\",PACKT04!M45)+SUMIF(PACKT05!$R45,\"TRUE\",PACKT05!M45)+SUMIF(PACKT06!$R46,\"TRUE\",PACKT06!M46)+SUMIF(PACKT07!$R45,\"TRUE\",PACKT07!M45)+SUMIF(PACKT08!$R45,\"TRUE\",PACKT08!M45)+SUMIF(PACKT09!$R45,\"TRUE\",PACKT09!M45)+SUMIF(PACKT10!$R45,\"TRUE\",PACKT10!M45)+SUMIF(PACKT11!$R45,\"TRUE\",PACKT11!M45)","v":0},{"$f":"SUMIF(PACKT01!$R45,\"TRUE\",PACKT01!N45)+SUMIF(PACKT02!$R45,\"TRUE\",PACKT02!N45)+SUMIF(PACKT03!$R45,\"TRUE\",PACKT03!N45)+SUMIF(PACKT04!$R45,\"TRUE\",PACKT04!N45)+SUMIF(PACKT05!$R45,\"TRUE\",PACKT05!N45)+SUMIF(PACKT06!$R46,\"TRUE\",PACKT06!N46)+SUMIF(PACKT07!$R45,\"TRUE\",PACKT07!N45)+SUMIF(PACKT08!$R45,\"TRUE\",PACKT08!N45)+SUMIF(PACKT09!$R45,\"TRUE\",PACKT09!N45)+SUMIF(PACKT10!$R45,\"TRUE\",PACKT10!N45)+SUMIF(PACKT11!$R45,\"TRUE\",PACKT11!N45)","v":0},{"$f":"SUMIF(PACKT01!$R45,\"TRUE\",PACKT01!O45)+SUMIF(PACKT02!$R45,\"TRUE\",PACKT02!O45)+SUMIF(PACKT03!$R45,\"TRUE\",PACKT03!O45)+SUMIF(PACKT04!$R45,\"TRUE\",PACKT04!O45)+SUMIF(PACKT05!$R45,\"TRUE\",PACKT05!O45)+SUMIF(PACKT06!$R46,\"TRUE\",PACKT06!O46)+SUMIF(PACKT07!$R45,\"TRUE\",PACKT07!O45)+SUMIF(PACKT08!$R45,\"TRUE\",PACKT08!O45)+SUMIF(PACKT09!$R45,\"TRUE\",PACKT09!O45)+SUMIF(PACKT10!$R45,\"TRUE\",PACKT10!O45)+SUMIF(PACKT11!$R45,\"TRUE\",PACKT11!O45)","v":0},{"$f":"SUMIF(PACKT01!$R45,\"TRUE\",PACKT01!P45)+SUMIF(PACKT02!$R45,\"TRUE\",PACKT02!P45)+SUMIF(PACKT03!$R45,\"TRUE\",PACKT03!P45)+SUMIF(PACKT04!$R45,\"TRUE\",PACKT04!P45)+SUMIF(PACKT05!$R45,\"TRUE\",PACKT05!P45)+SUMIF(PACKT06!$R46,\"TRUE\",PACKT06!P46)+SUMIF(PACKT07!$R45,\"TRUE\",PACKT07!P45)+SUMIF(PACKT08!$R45,\"TRUE\",PACKT08!P45)+SUMIF(PACKT09!$R45,\"TRUE\",PACKT09!P45)+SUMIF(PACKT10!$R45,\"TRUE\",PACKT10!P45)+SUMIF(PACKT11!$R45,\"TRUE\",PACKT11!P45)","v":0},{"$f":"SUMIF(PACKT01!$R45,\"TRUE\",PACKT01!Q45)+SUMIF(PACKT02!$R45,\"TRUE\",PACKT02!Q45)+SUMIF(PACKT03!$R45,\"TRUE\",PACKT03!Q45)+SUMIF(PACKT04!$R45,\"TRUE\",PACKT04!Q45)+SUMIF(PACKT05!$R45,\"TRUE\",PACKT05!Q45)+SUMIF(PACKT06!$R46,\"TRUE\",PACKT06!Q46)+SUMIF(PACKT07!$R45,\"TRUE\",PACKT07!Q45)+SUMIF(PACKT08!$R45,\"TRUE\",PACKT08!Q45)+SUMIF(PACKT09!$R45,\"TRUE\",PACKT09!Q45)+SUMIF(PACKT10!$R45,\"TRUE\",PACKT10!Q45)+SUMIF(PACKT11!$R45,\"TRUE\",PACKT11!Q45)","v":0},0]
[null,"EMP0035",{"$f":"VLOOKUP(HRSummarylTable[[#This Row],[EmployeeID]],EmployeeListLookupTable[],2,FALSE)","v":"EMPN035"},{"$f":"VLOOKUP(HRSummarylTable[[#This Row],[EmployeeID]],EmployeeListLookupTable[],3,FALSE)","v":"Employee Name 35"},{"$f":"VLOOKUP(HRSummarylTable[[#This Row],[EmployeeID]],EmployeeListLookupTable[],4,FALSE)","v":"Employee Job Title 35"},"TCTC001 - Total Cost to Company",{"$f":"LEFT(HRSummarylTable[[#This Row],[PackageItemCode]],7)","v":"TCTC001"},{"$f":"VLOOKUP(HRSummarylTable[[#This Row],[PackageItem]],PackageItemListLookup[],2,FALSE)","v":"Total Cost to Company"},null,{"$f":"SUMIF(PACKT01!$R46,\"TRUE\",PACKT01!F46)+SUMIF(PACKT02!$R46,\"TRUE\",PACKT02!F46)+SUMIF(PACKT03!$R46,\"TRUE\",PACKT03!F46)+SUMIF(PACKT04!$R46,\"TRUE\",PACKT04!F46)+SUMIF(PACKT05!$R46,\"TRUE\",PACKT05!F46)+SUMIF(PACKT06!$R47,\"TRUE\",PACKT06!F47)+SUMIF(PACKT07!$R46,\"TRUE\",PACKT07!F46)+SUMIF(PACKT08!$R46,\"TRUE\",PACKT08!F46)+SUMIF(PACKT09!$R46,\"TRUE\",PACKT09!F46)+SUMIF(PACKT10!$R46,\"TRUE\",PACKT10!F46)+SUMIF(PACKT11!$R46,\"TRUE\",PACKT11!F46)","v":0},{"$f":"SUMIF(PACKT01!$R46,\"TRUE\",PACKT01!G46)+SUMIF(PACKT02!$R46,\"TRUE\",PACKT02!G46)+SUMIF(PACKT03!$R46,\"TRUE\",PACKT03!G46)+SUMIF(PACKT04!$R46,\"TRUE\",PACKT04!G46)+SUMIF(PACKT05!$R46,\"TRUE\",PACKT05!G46)+SUMIF(PACKT06!$R47,\"TRUE\",PACKT06!G47)+SUMIF(PACKT07!$R46,\"TRUE\",PACKT07!G46)+SUMIF(PACKT08!$R46,\"TRUE\",PACKT08!G46)+SUMIF(PACKT09!$R46,\"TRUE\",PACKT09!G46)+SUMIF(PACKT10!$R46,\"TRUE\",PACKT10!G46)+SUMIF(PACKT11!$R46,\"TRUE\",PACKT11!G46)","v":0},{"$f":"SUMIF(PACKT01!$R46,\"TRUE\",PACKT01!H46)+SUMIF(PACKT02!$R46,\"TRUE\",PACKT02!H46)+SUMIF(PACKT03!$R46,\"TRUE\",PACKT03!H46)+SUMIF(PACKT04!$R46,\"TRUE\",PACKT04!H46)+SUMIF(PACKT05!$R46,\"TRUE\",PACKT05!H46)+SUMIF(PACKT06!$R47,\"TRUE\",PACKT06!H47)+SUMIF(PACKT07!$R46,\"TRUE\",PACKT07!H46)+SUMIF(PACKT08!$R46,\"TRUE\",PACKT08!H46)+SUMIF(PACKT09!$R46,\"TRUE\",PACKT09!H46)+SUMIF(PACKT10!$R46,\"TRUE\",PACKT10!H46)+SUMIF(PACKT11!$R46,\"TRUE\",PACKT11!H46)","v":0},{"$f":"SUMIF(PACKT01!$R46,\"TRUE\",PACKT01!I46)+SUMIF(PACKT02!$R46,\"TRUE\",PACKT02!I46)+SUMIF(PACKT03!$R46,\"TRUE\",PACKT03!I46)+SUMIF(PACKT04!$R46,\"TRUE\",PACKT04!I46)+SUMIF(PACKT05!$R46,\"TRUE\",PACKT05!I46)+SUMIF(PACKT06!$R47,\"TRUE\",PACKT06!I47)+SUMIF(PACKT07!$R46,\"TRUE\",PACKT07!I46)+SUMIF(PACKT08!$R46,\"TRUE\",PACKT08!I46)+SUMIF(PACKT09!$R46,\"TRUE\",PACKT09!I46)+SUMIF(PACKT10!$R46,\"TRUE\",PACKT10!I46)+SUMIF(PACKT11!$R46,\"TRUE\",PACKT11!I46)","v":0},{"$f":"SUMIF(PACKT01!$R46,\"TRUE\",PACKT01!J46)+SUMIF(PACKT02!$R46,\"TRUE\",PACKT02!J46)+SUMIF(PACKT03!$R46,\"TRUE\",PACKT03!J46)+SUMIF(PACKT04!$R46,\"TRUE\",PACKT04!J46)+SUMIF(PACKT05!$R46,\"TRUE\",PACKT05!J46)+SUMIF(PACKT06!$R47,\"TRUE\",PACKT06!J47)+SUMIF(PACKT07!$R46,\"TRUE\",PACKT07!J46)+SUMIF(PACKT08!$R46,\"TRUE\",PACKT08!J46)+SUMIF(PACKT09!$R46,\"TRUE\",PACKT09!J46)+SUMIF(PACKT10!$R46,\"TRUE\",PACKT10!J46)+SUMIF(PACKT11!$R46,\"TRUE\",PACKT11!J46)","v":0},{"$f":"SUMIF(PACKT01!$R46,\"TRUE\",PACKT01!K46)+SUMIF(PACKT02!$R46,\"TRUE\",PACKT02!K46)+SUMIF(PACKT03!$R46,\"TRUE\",PACKT03!K46)+SUMIF(PACKT04!$R46,\"TRUE\",PACKT04!K46)+SUMIF(PACKT05!$R46,\"TRUE\",PACKT05!K46)+SUMIF(PACKT06!$R47,\"TRUE\",PACKT06!K47)+SUMIF(PACKT07!$R46,\"TRUE\",PACKT07!K46)+SUMIF(PACKT08!$R46,\"TRUE\",PACKT08!K46)+SUMIF(PACKT09!$R46,\"TRUE\",PACKT09!K46)+SUMIF(PACKT10!$R46,\"TRUE\",PACKT10!K46)+SUMIF(PACKT11!$R46,\"TRUE\",PACKT11!K46)","v":0},{"$f":"SUMIF(PACKT01!$R46,\"TRUE\",PACKT01!L46)+SUMIF(PACKT02!$R46,\"TRUE\",PACKT02!L46)+SUMIF(PACKT03!$R46,\"TRUE\",PACKT03!L46)+SUMIF(PACKT04!$R46,\"TRUE\",PACKT04!L46)+SUMIF(PACKT05!$R46,\"TRUE\",PACKT05!L46)+SUMIF(PACKT06!$R47,\"TRUE\",PACKT06!L47)+SUMIF(PACKT07!$R46,\"TRUE\",PACKT07!L46)+SUMIF(PACKT08!$R46,\"TRUE\",PACKT08!L46)+SUMIF(PACKT09!$R46,\"TRUE\",PACKT09!L46)+SUMIF(PACKT10!$R46,\"TRUE\",PACKT10!L46)+SUMIF(PACKT11!$R46,\"TRUE\",PACKT11!L46)","v":0},{"$f":"SUMIF(PACKT01!$R46,\"TRUE\",PACKT01!M46)+SUMIF(PACKT02!$R46,\"TRUE\",PACKT02!M46)+SUMIF(PACKT03!$R46,\"TRUE\",PACKT03!M46)+SUMIF(PACKT04!$R46,\"TRUE\",PACKT04!M46)+SUMIF(PACKT05!$R46,\"TRUE\",PACKT05!M46)+SUMIF(PACKT06!$R47,\"TRUE\",PACKT06!M47)+SUMIF(PACKT07!$R46,\"TRUE\",PACKT07!M46)+SUMIF(PACKT08!$R46,\"TRUE\",PACKT08!M46)+SUMIF(PACKT09!$R46,\"TRUE\",PACKT09!M46)+SUMIF(PACKT10!$R46,\"TRUE\",PACKT10!M46)+SUMIF(PACKT11!$R46,\"TRUE\",PACKT11!M46)","v":0},{"$f":"SUMIF(PACKT01!$R46,\"TRUE\",PACKT01!N46)+SUMIF(PACKT02!$R46,\"TRUE\",PACKT02!N46)+SUMIF(PACKT03!$R46,\"TRUE\",PACKT03!N46)+SUMIF(PACKT04!$R46,\"TRUE\",PACKT04!N46)+SUMIF(PACKT05!$R46,\"TRUE\",PACKT05!N46)+SUMIF(PACKT06!$R47,\"TRUE\",PACKT06!N47)+SUMIF(PACKT07!$R46,\"TRUE\",PACKT07!N46)+SUMIF(PACKT08!$R46,\"TRUE\",PACKT08!N46)+SUMIF(PACKT09!$R46,\"TRUE\",PACKT09!N46)+SUMIF(PACKT10!$R46,\"TRUE\",PACKT10!N46)+SUMIF(PACKT11!$R46,\"TRUE\",PACKT11!N46)","v":0},{"$f":"SUMIF(PACKT01!$R46,\"TRUE\",PACKT01!O46)+SUMIF(PACKT02!$R46,\"TRUE\",PACKT02!O46)+SUMIF(PACKT03!$R46,\"TRUE\",PACKT03!O46)+SUMIF(PACKT04!$R46,\"TRUE\",PACKT04!O46)+SUMIF(PACKT05!$R46,\"TRUE\",PACKT05!O46)+SUMIF(PACKT06!$R47,\"TRUE\",PACKT06!O47)+SUMIF(PACKT07!$R46,\"TRUE\",PACKT07!O46)+SUMIF(PACKT08!$R46,\"TRUE\",PACKT08!O46)+SUMIF(PACKT09!$R46,\"TRUE\",PACKT09!O46)+SUMIF(PACKT10!$R46,\"TRUE\",PACKT10!O46)+SUMIF(PACKT11!$R46,\"TRUE\",PACKT11!O46)","v":0},{"$f":"SUMIF(PACKT01!$R46,\"TRUE\",PACKT01!P46)+SUMIF(PACKT02!$R46,\"TRUE\",PACKT02!P46)+SUMIF(PACKT03!$R46,\"TRUE\",PACKT03!P46)+SUMIF(PACKT04!$R46,\"TRUE\",PACKT04!P46)+SUMIF(PACKT05!$R46,\"TRUE\",PACKT05!P46)+SUMIF(PACKT06!$R47,\"TRUE\",PACKT06!P47)+SUMIF(PACKT07!$R46,\"TRUE\",PACKT07!P46)+SUMIF(PACKT08!$R46,\"TRUE\",PACKT08!P46)+SUMIF(PACKT09!$R46,\"TRUE\",PACKT09!P46)+SUMIF(PACKT10!$R46,\"TRUE\",PACKT10!P46)+SUMIF(PACKT11!$R46,\"TRUE\",PACKT11!P46)","v":0},{"$f":"SUMIF(PACKT01!$R46,\"TRUE\",PACKT01!Q46)+SUMIF(PACKT02!$R46,\"TRUE\",PACKT02!Q46)+SUMIF(PACKT03!$R46,\"TRUE\",PACKT03!Q46)+SUMIF(PACKT04!$R46,\"TRUE\",PACKT04!Q46)+SUMIF(PACKT05!$R46,\"TRUE\",PACKT05!Q46)+SUMIF(PACKT06!$R47,\"TRUE\",PACKT06!Q47)+SUMIF(PACKT07!$R46,\"TRUE\",PACKT07!Q46)+SUMIF(PACKT08!$R46,\"TRUE\",PACKT08!Q46)+SUMIF(PACKT09!$R46,\"TRUE\",PACKT09!Q46)+SUMIF(PACKT10!$R46,\"TRUE\",PACKT10!Q46)+SUMIF(PACKT11!$R46,\"TRUE\",PACKT11!Q46)","v":0},0]
[null,"EMP0036",{"$f":"VLOOKUP(HRSummarylTable[[#This Row],[EmployeeID]],EmployeeListLookupTable[],2,FALSE)","v":"EMPN036"},{"$f":"VLOOKUP(HRSummarylTable[[#This Row],[EmployeeID]],EmployeeListLookupTable[],3,FALSE)","v":"Employee Name 36"},{"$f":"VLOOKUP(HRSummarylTable[[#This Row],[EmployeeID]],EmployeeListLookupTable[],4,FALSE)","v":"Employee Job Title 36"},"TCTC001 - Total Cost to Company",{"$f":"LEFT(HRSummarylTable[[#This Row],[PackageItemCode]],7)","v":"TCTC001"},{"$f":"VLOOKUP(HRSummarylTable[[#This Row],[PackageItem]],PackageItemListLookup[],2,FALSE)","v":"Total Cost to Company"},null,{"$f":"SUMIF(PACKT01!$R47,\"TRUE\",PACKT01!F47)+SUMIF(PACKT02!$R47,\"TRUE\",PACKT02!F47)+SUMIF(PACKT03!$R47,\"TRUE\",PACKT03!F47)+SUMIF(PACKT04!$R47,\"TRUE\",PACKT04!F47)+SUMIF(PACKT05!$R47,\"TRUE\",PACKT05!F47)+SUMIF(PACKT06!$R48,\"TRUE\",PACKT06!F48)+SUMIF(PACKT07!$R47,\"TRUE\",PACKT07!F47)+SUMIF(PACKT08!$R47,\"TRUE\",PACKT08!F47)+SUMIF(PACKT09!$R47,\"TRUE\",PACKT09!F47)+SUMIF(PACKT10!$R47,\"TRUE\",PACKT10!F47)+SUMIF(PACKT11!$R47,\"TRUE\",PACKT11!F47)","v":0},{"$f":"SUMIF(PACKT01!$R47,\"TRUE\",PACKT01!G47)+SUMIF(PACKT02!$R47,\"TRUE\",PACKT02!G47)+SUMIF(PACKT03!$R47,\"TRUE\",PACKT03!G47)+SUMIF(PACKT04!$R47,\"TRUE\",PACKT04!G47)+SUMIF(PACKT05!$R47,\"TRUE\",PACKT05!G47)+SUMIF(PACKT06!$R48,\"TRUE\",PACKT06!G48)+SUMIF(PACKT07!$R47,\"TRUE\",PACKT07!G47)+SUMIF(PACKT08!$R47,\"TRUE\",PACKT08!G47)+SUMIF(PACKT09!$R47,\"TRUE\",PACKT09!G47)+SUMIF(PACKT10!$R47,\"TRUE\",PACKT10!G47)+SUMIF(PACKT11!$R47,\"TRUE\",PACKT11!G47)","v":0},{"$f":"SUMIF(PACKT01!$R47,\"TRUE\",PACKT01!H47)+SUMIF(PACKT02!$R47,\"TRUE\",PACKT02!H47)+SUMIF(PACKT03!$R47,\"TRUE\",PACKT03!H47)+SUMIF(PACKT04!$R47,\"TRUE\",PACKT04!H47)+SUMIF(PACKT05!$R47,\"TRUE\",PACKT05!H47)+SUMIF(PACKT06!$R48,\"TRUE\",PACKT06!H48)+SUMIF(PACKT07!$R47,\"TRUE\",PACKT07!H47)+SUMIF(PACKT08!$R47,\"TRUE\",PACKT08!H47)+SUMIF(PACKT09!$R47,\"TRUE\",PACKT09!H47)+SUMIF(PACKT10!$R47,\"TRUE\",PACKT10!H47)+SUMIF(PACKT11!$R47,\"TRUE\",PACKT11!H47)","v":0},{"$f":"SUMIF(PACKT01!$R47,\"TRUE\",PACKT01!I47)+SUMIF(PACKT02!$R47,\"TRUE\",PACKT02!I47)+SUMIF(PACKT03!$R47,\"TRUE\",PACKT03!I47)+SUMIF(PACKT04!$R47,\"TRUE\",PACKT04!I47)+SUMIF(PACKT05!$R47,\"TRUE\",PACKT05!I47)+SUMIF(PACKT06!$R48,\"TRUE\",PACKT06!I48)+SUMIF(PACKT07!$R47,\"TRUE\",PACKT07!I47)+SUMIF(PACKT08!$R47,\"TRUE\",PACKT08!I47)+SUMIF(PACKT09!$R47,\"TRUE\",PACKT09!I47)+SUMIF(PACKT10!$R47,\"TRUE\",PACKT10!I47)+SUMIF(PACKT11!$R47,\"TRUE\",PACKT11!I47)","v":0},{"$f":"SUMIF(PACKT01!$R47,\"TRUE\",PACKT01!J47)+SUMIF(PACKT02!$R47,\"TRUE\",PACKT02!J47)+SUMIF(PACKT03!$R47,\"TRUE\",PACKT03!J47)+SUMIF(PACKT04!$R47,\"TRUE\",PACKT04!J47)+SUMIF(PACKT05!$R47,\"TRUE\",PACKT05!J47)+SUMIF(PACKT06!$R48,\"TRUE\",PACKT06!J48)+SUMIF(PACKT07!$R47,\"TRUE\",PACKT07!J47)+SUMIF(PACKT08!$R47,\"TRUE\",PACKT08!J47)+SUMIF(PACKT09!$R47,\"TRUE\",PACKT09!J47)+SUMIF(PACKT10!$R47,\"TRUE\",PACKT10!J47)+SUMIF(PACKT11!$R47,\"TRUE\",PACKT11!J47)","v":0},{"$f":"SUMIF(PACKT01!$R47,\"TRUE\",PACKT01!K47)+SUMIF(PACKT02!$R47,\"TRUE\",PACKT02!K47)+SUMIF(PACKT03!$R47,\"TRUE\",PACKT03!K47)+SUMIF(PACKT04!$R47,\"TRUE\",PACKT04!K47)+SUMIF(PACKT05!$R47,\"TRUE\",PACKT05!K47)+SUMIF(PACKT06!$R48,\"TRUE\",PACKT06!K48)+SUMIF(PACKT07!$R47,\"TRUE\",PACKT07!K47)+SUMIF(PACKT08!$R47,\"TRUE\",PACKT08!K47)+SUMIF(PACKT09!$R47,\"TRUE\",PACKT09!K47)+SUMIF(PACKT10!$R47,\"TRUE\",PACKT10!K47)+SUMIF(PACKT11!$R47,\"TRUE\",PACKT11!K47)","v":0},{"$f":"SUMIF(PACKT01!$R47,\"TRUE\",PACKT01!L47)+SUMIF(PACKT02!$R47,\"TRUE\",PACKT02!L47)+SUMIF(PACKT03!$R47,\"TRUE\",PACKT03!L47)+SUMIF(PACKT04!$R47,\"TRUE\",PACKT04!L47)+SUMIF(PACKT05!$R47,\"TRUE\",PACKT05!L47)+SUMIF(PACKT06!$R48,\"TRUE\",PACKT06!L48)+SUMIF(PACKT07!$R47,\"TRUE\",PACKT07!L47)+SUMIF(PACKT08!$R47,\"TRUE\",PACKT08!L47)+SUMIF(PACKT09!$R47,\"TRUE\",PACKT09!L47)+SUMIF(PACKT10!$R47,\"TRUE\",PACKT10!L47)+SUMIF(PACKT11!$R47,\"TRUE\",PACKT11!L47)","v":0},{"$f":"SUMIF(PACKT01!$R47,\"TRUE\",PACKT01!M47)+SUMIF(PACKT02!$R47,\"TRUE\",PACKT02!M47)+SUMIF(PACKT03!$R47,\"TRUE\",PACKT03!M47)+SUMIF(PACKT04!$R47,\"TRUE\",PACKT04!M47)+SUMIF(PACKT05!$R47,\"TRUE\",PACKT05!M47)+SUMIF(PACKT06!$R48,\"TRUE\",PACKT06!M48)+SUMIF(PACKT07!$R47,\"TRUE\",PACKT07!M47)+SUMIF(PACKT08!$R47,\"TRUE\",PACKT08!M47)+SUMIF(PACKT09!$R47,\"TRUE\",PACKT09!M47)+SUMIF(PACKT10!$R47,\"TRUE\",PACKT10!M47)+SUMIF(PACKT11!$R47,\"TRUE\",PACKT11!M47)","v":0},{"$f":"SUMIF(PACKT01!$R47,\"TRUE\",PACKT01!N47)+SUMIF(PACKT02!$R47,\"TRUE\",PACKT02!N47)+SUMIF(PACKT03!$R47,\"TRUE\",PACKT03!N47)+SUMIF(PACKT04!$R47,\"TRUE\",PACKT04!N47)+SUMIF(PACKT05!$R47,\"TRUE\",PACKT05!N47)+SUMIF(PACKT06!$R48,\"TRUE\",PACKT06!N48)+SUMIF(PACKT07!$R47,\"TRUE\",PACKT07!N47)+SUMIF(PACKT08!$R47,\"TRUE\",PACKT08!N47)+SUMIF(PACKT09!$R47,\"TRUE\",PACKT09!N47)+SUMIF(PACKT10!$R47,\"TRUE\",PACKT10!N47)+SUMIF(PACKT11!$R47,\"TRUE\",PACKT11!N47)","v":0},{"$f":"SUMIF(PACKT01!$R47,\"TRUE\",PACKT01!O47)+SUMIF(PACKT02!$R47,\"TRUE\",PACKT02!O47)+SUMIF(PACKT03!$R47,\"TRUE\",PACKT03!O47)+SUMIF(PACKT04!$R47,\"TRUE\",PACKT04!O47)+SUMIF(PACKT05!$R47,\"TRUE\",PACKT05!O47)+SUMIF(PACKT06!$R48,\"TRUE\",PACKT06!O48)+SUMIF(PACKT07!$R47,\"TRUE\",PACKT07!O47)+SUMIF(PACKT08!$R47,\"TRUE\",PACKT08!O47)+SUMIF(PACKT09!$R47,\"TRUE\",PACKT09!O47)+SUMIF(PACKT10!$R47,\"TRUE\",PACKT10!O47)+SUMIF(PACKT11!$R47,\"TRUE\",PACKT11!O47)","v":0},{"$f":"SUMIF(PACKT01!$R47,\"TRUE\",PACKT01!P47)+SUMIF(PACKT02!$R47,\"TRUE\",PACKT02!P47)+SUMIF(PACKT03!$R47,\"TRUE\",PACKT03!P47)+SUMIF(PACKT04!$R47,\"TRUE\",PACKT04!P47)+SUMIF(PACKT05!$R47,\"TRUE\",PACKT05!P47)+SUMIF(PACKT06!$R48,\"TRUE\",PACKT06!P48)+SUMIF(PACKT07!$R47,\"TRUE\",PACKT07!P47)+SUMIF(PACKT08!$R47,\"TRUE\",PACKT08!P47)+SUMIF(PACKT09!$R47,\"TRUE\",PACKT09!P47)+SUMIF(PACKT10!$R47,\"TRUE\",PACKT10!P47)+SUMIF(PACKT11!$R47,\"TRUE\",PACKT11!P47)","v":0},{"$f":"SUMIF(PACKT01!$R47,\"TRUE\",PACKT01!Q47)+SUMIF(PACKT02!$R47,\"TRUE\",PACKT02!Q47)+SUMIF(PACKT03!$R47,\"TRUE\",PACKT03!Q47)+SUMIF(PACKT04!$R47,\"TRUE\",PACKT04!Q47)+SUMIF(PACKT05!$R47,\"TRUE\",PACKT05!Q47)+SUMIF(PACKT06!$R48,\"TRUE\",PACKT06!Q48)+SUMIF(PACKT07!$R47,\"TRUE\",PACKT07!Q47)+SUMIF(PACKT08!$R47,\"TRUE\",PACKT08!Q47)+SUMIF(PACKT09!$R47,\"TRUE\",PACKT09!Q47)+SUMIF(PACKT10!$R47,\"TRUE\",PACKT10!Q47)+SUMIF(PACKT11!$R47,\"TRUE\",PACKT11!Q47)","v":0},0]
[null,"EMP0037",{"$f":"VLOOKUP(HRSummarylTable[[#This Row],[EmployeeID]],EmployeeListLookupTable[],2,FALSE)","v":"EMPN037"},{"$f":"VLOOKUP(HRSummarylTable[[#This Row],[EmployeeID]],EmployeeListLookupTable[],3,FALSE)","v":"Employee Name 37"},{"$f":"VLOOKUP(HRSummarylTable[[#This Row],[EmployeeID]],EmployeeListLookupTable[],4,FALSE)","v":"Employee Job Title 37"},"TCTC001 - Total Cost to Company",{"$f":"LEFT(HRSummarylTable[[#This Row],[PackageItemCode]],7)","v":"TCTC001"},{"$f":"VLOOKUP(HRSummarylTable[[#This Row],[PackageItem]],PackageItemListLookup[],2,FALSE)","v":"Total Cost to Company"},null,{"$f":"SUMIF(PACKT01!$R48,\"TRUE\",PACKT01!F48)+SUMIF(PACKT02!$R48,\"TRUE\",PACKT02!F48)+SUMIF(PACKT03!$R48,\"TRUE\",PACKT03!F48)+SUMIF(PACKT04!$R48,\"TRUE\",PACKT04!F48)+SUMIF(PACKT05!$R48,\"TRUE\",PACKT05!F48)+SUMIF(PACKT06!$R49,\"TRUE\",PACKT06!F49)+SUMIF(PACKT07!$R48,\"TRUE\",PACKT07!F48)+SUMIF(PACKT08!$R48,\"TRUE\",PACKT08!F48)+SUMIF(PACKT09!$R48,\"TRUE\",PACKT09!F48)+SUMIF(PACKT10!$R48,\"TRUE\",PACKT10!F48)+SUMIF(PACKT11!$R48,\"TRUE\",PACKT11!F48)","v":0},{"$f":"SUMIF(PACKT01!$R48,\"TRUE\",PACKT01!G48)+SUMIF(PACKT02!$R48,\"TRUE\",PACKT02!G48)+SUMIF(PACKT03!$R48,\"TRUE\",PACKT03!G48)+SUMIF(PACKT04!$R48,\"TRUE\",PACKT04!G48)+SUMIF(PACKT05!$R48,\"TRUE\",PACKT05!G48)+SUMIF(PACKT06!$R49,\"TRUE\",PACKT06!G49)+SUMIF(PACKT07!$R48,\"TRUE\",PACKT07!G48)+SUMIF(PACKT08!$R48,\"TRUE\",PACKT08!G48)+SUMIF(PACKT09!$R48,\"TRUE\",PACKT09!G48)+SUMIF(PACKT10!$R48,\"TRUE\",PACKT10!G48)+SUMIF(PACKT11!$R48,\"TRUE\",PACKT11!G48)","v":0},{"$f":"SUMIF(PACKT01!$R48,\"TRUE\",PACKT01!H48)+SUMIF(PACKT02!$R48,\"TRUE\",PACKT02!H48)+SUMIF(PACKT03!$R48,\"TRUE\",PACKT03!H48)+SUMIF(PACKT04!$R48,\"TRUE\",PACKT04!H48)+SUMIF(PACKT05!$R48,\"TRUE\",PACKT05!H48)+SUMIF(PACKT06!$R49,\"TRUE\",PACKT06!H49)+SUMIF(PACKT07!$R48,\"TRUE\",PACKT07!H48)+SUMIF(PACKT08!$R48,\"TRUE\",PACKT08!H48)+SUMIF(PACKT09!$R48,\"TRUE\",PACKT09!H48)+SUMIF(PACKT10!$R48,\"TRUE\",PACKT10!H48)+SUMIF(PACKT11!$R48,\"TRUE\",PACKT11!H48)","v":0},{"$f":"SUMIF(PACKT01!$R48,\"TRUE\",PACKT01!I48)+SUMIF(PACKT02!$R48,\"TRUE\",PACKT02!I48)+SUMIF(PACKT03!$R48,\"TRUE\",PACKT03!I48)+SUMIF(PACKT04!$R48,\"TRUE\",PACKT04!I48)+SUMIF(PACKT05!$R48,\"TRUE\",PACKT05!I48)+SUMIF(PACKT06!$R49,\"TRUE\",PACKT06!I49)+SUMIF(PACKT07!$R48,\"TRUE\",PACKT07!I48)+SUMIF(PACKT08!$R48,\"TRUE\",PACKT08!I48)+SUMIF(PACKT09!$R48,\"TRUE\",PACKT09!I48)+SUMIF(PACKT10!$R48,\"TRUE\",PACKT10!I48)+SUMIF(PACKT11!$R48,\"TRUE\",PACKT11!I48)","v":0},{"$f":"SUMIF(PACKT01!$R48,\"TRUE\",PACKT01!J48)+SUMIF(PACKT02!$R48,\"TRUE\",PACKT02!J48)+SUMIF(PACKT03!$R48,\"TRUE\",PACKT03!J48)+SUMIF(PACKT04!$R48,\"TRUE\",PACKT04!J48)+SUMIF(PACKT05!$R48,\"TRUE\",PACKT05!J48)+SUMIF(PACKT06!$R49,\"TRUE\",PACKT06!J49)+SUMIF(PACKT07!$R48,\"TRUE\",PACKT07!J48)+SUMIF(PACKT08!$R48,\"TRUE\",PACKT08!J48)+SUMIF(PACKT09!$R48,\"TRUE\",PACKT09!J48)+SUMIF(PACKT10!$R48,\"TRUE\",PACKT10!J48)+SUMIF(PACKT11!$R48,\"TRUE\",PACKT11!J48)","v":0},{"$f":"SUMIF(PACKT01!$R48,\"TRUE\",PACKT01!K48)+SUMIF(PACKT02!$R48,\"TRUE\",PACKT02!K48)+SUMIF(PACKT03!$R48,\"TRUE\",PACKT03!K48)+SUMIF(PACKT04!$R48,\"TRUE\",PACKT04!K48)+SUMIF(PACKT05!$R48,\"TRUE\",PACKT05!K48)+SUMIF(PACKT06!$R49,\"TRUE\",PACKT06!K49)+SUMIF(PACKT07!$R48,\"TRUE\",PACKT07!K48)+SUMIF(PACKT08!$R48,\"TRUE\",PACKT08!K48)+SUMIF(PACKT09!$R48,\"TRUE\",PACKT09!K48)+SUMIF(PACKT10!$R48,\"TRUE\",PACKT10!K48)+SUMIF(PACKT11!$R48,\"TRUE\",PACKT11!K48)","v":0},{"$f":"SUMIF(PACKT01!$R48,\"TRUE\",PACKT01!L48)+SUMIF(PACKT02!$R48,\"TRUE\",PACKT02!L48)+SUMIF(PACKT03!$R48,\"TRUE\",PACKT03!L48)+SUMIF(PACKT04!$R48,\"TRUE\",PACKT04!L48)+SUMIF(PACKT05!$R48,\"TRUE\",PACKT05!L48)+SUMIF(PACKT06!$R49,\"TRUE\",PACKT06!L49)+SUMIF(PACKT07!$R48,\"TRUE\",PACKT07!L48)+SUMIF(PACKT08!$R48,\"TRUE\",PACKT08!L48)+SUMIF(PACKT09!$R48,\"TRUE\",PACKT09!L48)+SUMIF(PACKT10!$R48,\"TRUE\",PACKT10!L48)+SUMIF(PACKT11!$R48,\"TRUE\",PACKT11!L48)","v":0},{"$f":"SUMIF(PACKT01!$R48,\"TRUE\",PACKT01!M48)+SUMIF(PACKT02!$R48,\"TRUE\",PACKT02!M48)+SUMIF(PACKT03!$R48,\"TRUE\",PACKT03!M48)+SUMIF(PACKT04!$R48,\"TRUE\",PACKT04!M48)+SUMIF(PACKT05!$R48,\"TRUE\",PACKT05!M48)+SUMIF(PACKT06!$R49,\"TRUE\",PACKT06!M49)+SUMIF(PACKT07!$R48,\"TRUE\",PACKT07!M48)+SUMIF(PACKT08!$R48,\"TRUE\",PACKT08!M48)+SUMIF(PACKT09!$R48,\"TRUE\",PACKT09!M48)+SUMIF(PACKT10!$R48,\"TRUE\",PACKT10!M48)+SUMIF(PACKT11!$R48,\"TRUE\",PACKT11!M48)","v":0},{"$f":"SUMIF(PACKT01!$R48,\"TRUE\",PACKT01!N48)+SUMIF(PACKT02!$R48,\"TRUE\",PACKT02!N48)+SUMIF(PACKT03!$R48,\"TRUE\",PACKT03!N48)+SUMIF(PACKT04!$R48,\"TRUE\",PACKT04!N48)+SUMIF(PACKT05!$R48,\"TRUE\",PACKT05!N48)+SUMIF(PACKT06!$R49,\"TRUE\",PACKT06!N49)+SUMIF(PACKT07!$R48,\"TRUE\",PACKT07!N48)+SUMIF(PACKT08!$R48,\"TRUE\",PACKT08!N48)+SUMIF(PACKT09!$R48,\"TRUE\",PACKT09!N48)+SUMIF(PACKT10!$R48,\"TRUE\",PACKT10!N48)+SUMIF(PACKT11!$R48,\"TRUE\",PACKT11!N48)","v":0},{"$f":"SUMIF(PACKT01!$R48,\"TRUE\",PACKT01!O48)+SUMIF(PACKT02!$R48,\"TRUE\",PACKT02!O48)+SUMIF(PACKT03!$R48,\"TRUE\",PACKT03!O48)+SUMIF(PACKT04!$R48,\"TRUE\",PACKT04!O48)+SUMIF(PACKT05!$R48,\"TRUE\",PACKT05!O48)+SUMIF(PACKT06!$R49,\"TRUE\",PACKT06!O49)+SUMIF(PACKT07!$R48,\"TRUE\",PACKT07!O48)+SUMIF(PACKT08!$R48,\"TRUE\",PACKT08!O48)+SUMIF(PACKT09!$R48,\"TRUE\",PACKT09!O48)+SUMIF(PACKT10!$R48,\"TRUE\",PACKT10!O48)+SUMIF(PACKT11!$R48,\"TRUE\",PACKT11!O48)","v":0},{"$f":"SUMIF(PACKT01!$R48,\"TRUE\",PACKT01!P48)+SUMIF(PACKT02!$R48,\"TRUE\",PACKT02!P48)+SUMIF(PACKT03!$R48,\"TRUE\",PACKT03!P48)+SUMIF(PACKT04!$R48,\"TRUE\",PACKT04!P48)+SUMIF(PACKT05!$R48,\"TRUE\",PACKT05!P48)+SUMIF(PACKT06!$R49,\"TRUE\",PACKT06!P49)+SUMIF(PACKT07!$R48,\"TRUE\",PACKT07!P48)+SUMIF(PACKT08!$R48,\"TRUE\",PACKT08!P48)+SUMIF(PACKT09!$R48,\"TRUE\",PACKT09!P48)+SUMIF(PACKT10!$R48,\"TRUE\",PACKT10!P48)+SUMIF(PACKT11!$R48,\"TRUE\",PACKT11!P48)","v":0},{"$f":"SUMIF(PACKT01!$R48,\"TRUE\",PACKT01!Q48)+SUMIF(PACKT02!$R48,\"TRUE\",PACKT02!Q48)+SUMIF(PACKT03!$R48,\"TRUE\",PACKT03!Q48)+SUMIF(PACKT04!$R48,\"TRUE\",PACKT04!Q48)+SUMIF(PACKT05!$R48,\"TRUE\",PACKT05!Q48)+SUMIF(PACKT06!$R49,\"TRUE\",PACKT06!Q49)+SUMIF(PACKT07!$R48,\"TRUE\",PACKT07!Q48)+SUMIF(PACKT08!$R48,\"TRUE\",PACKT08!Q48)+SUMIF(PACKT09!$R48,\"TRUE\",PACKT09!Q48)+SUMIF(PACKT10!$R48,\"TRUE\",PACKT10!Q48)+SUMIF(PACKT11!$R48,\"TRUE\",PACKT11!Q48)","v":0},0]
[null,"EMP0038",{"$f":"VLOOKUP(HRSummarylTable[[#This Row],[EmployeeID]],EmployeeListLookupTable[],2,FALSE)","v":"EMPN038"},{"$f":"VLOOKUP(HRSummarylTable[[#This Row],[EmployeeID]],EmployeeListLookupTable[],3,FALSE)","v":"Employee Name 38"},{"$f":"VLOOKUP(HRSummarylTable[[#This Row],[EmployeeID]],EmployeeListLookupTable[],4,FALSE)","v":"Employee Job Title 38"},"TCTC001 - Total Cost to Company",{"$f":"LEFT(HRSummarylTable[[#This Row],[PackageItemCode]],7)","v":"TCTC001"},{"$f":"VLOOKUP(HRSummarylTable[[#This Row],[PackageItem]],PackageItemListLookup[],2,FALSE)","v":"Total Cost to Company"},null,{"$f":"SUMIF(PACKT01!$R49,\"TRUE\",PACKT01!F49)+SUMIF(PACKT02!$R49,\"TRUE\",PACKT02!F49)+SUMIF(PACKT03!$R49,\"TRUE\",PACKT03!F49)+SUMIF(PACKT04!$R49,\"TRUE\",PACKT04!F49)+SUMIF(PACKT05!$R49,\"TRUE\",PACKT05!F49)+SUMIF(PACKT06!$R50,\"TRUE\",PACKT06!F50)+SUMIF(PACKT07!$R49,\"TRUE\",PACKT07!F49)+SUMIF(PACKT08!$R49,\"TRUE\",PACKT08!F49)+SUMIF(PACKT09!$R49,\"TRUE\",PACKT09!F49)+SUMIF(PACKT10!$R49,\"TRUE\",PACKT10!F49)+SUMIF(PACKT11!$R49,\"TRUE\",PACKT11!F49)","v":0},{"$f":"SUMIF(PACKT01!$R49,\"TRUE\",PACKT01!G49)+SUMIF(PACKT02!$R49,\"TRUE\",PACKT02!G49)+SUMIF(PACKT03!$R49,\"TRUE\",PACKT03!G49)+SUMIF(PACKT04!$R49,\"TRUE\",PACKT04!G49)+SUMIF(PACKT05!$R49,\"TRUE\",PACKT05!G49)+SUMIF(PACKT06!$R50,\"TRUE\",PACKT06!G50)+SUMIF(PACKT07!$R49,\"TRUE\",PACKT07!G49)+SUMIF(PACKT08!$R49,\"TRUE\",PACKT08!G49)+SUMIF(PACKT09!$R49,\"TRUE\",PACKT09!G49)+SUMIF(PACKT10!$R49,\"TRUE\",PACKT10!G49)+SUMIF(PACKT11!$R49,\"TRUE\",PACKT11!G49)","v":0},{"$f":"SUMIF(PACKT01!$R49,\"TRUE\",PACKT01!H49)+SUMIF(PACKT02!$R49,\"TRUE\",PACKT02!H49)+SUMIF(PACKT03!$R49,\"TRUE\",PACKT03!H49)+SUMIF(PACKT04!$R49,\"TRUE\",PACKT04!H49)+SUMIF(PACKT05!$R49,\"TRUE\",PACKT05!H49)+SUMIF(PACKT06!$R50,\"TRUE\",PACKT06!H50)+SUMIF(PACKT07!$R49,\"TRUE\",PACKT07!H49)+SUMIF(PACKT08!$R49,\"TRUE\",PACKT08!H49)+SUMIF(PACKT09!$R49,\"TRUE\",PACKT09!H49)+SUMIF(PACKT10!$R49,\"TRUE\",PACKT10!H49)+SUMIF(PACKT11!$R49,\"TRUE\",PACKT11!H49)","v":0},{"$f":"SUMIF(PACKT01!$R49,\"TRUE\",PACKT01!I49)+SUMIF(PACKT02!$R49,\"TRUE\",PACKT02!I49)+SUMIF(PACKT03!$R49,\"TRUE\",PACKT03!I49)+SUMIF(PACKT04!$R49,\"TRUE\",PACKT04!I49)+SUMIF(PACKT05!$R49,\"TRUE\",PACKT05!I49)+SUMIF(PACKT06!$R50,\"TRUE\",PACKT06!I50)+SUMIF(PACKT07!$R49,\"TRUE\",PACKT07!I49)+SUMIF(PACKT08!$R49,\"TRUE\",PACKT08!I49)+SUMIF(PACKT09!$R49,\"TRUE\",PACKT09!I49)+SUMIF(PACKT10!$R49,\"TRUE\",PACKT10!I49)+SUMIF(PACKT11!$R49,\"TRUE\",PACKT11!I49)","v":0},{"$f":"SUMIF(PACKT01!$R49,\"TRUE\",PACKT01!J49)+SUMIF(PACKT02!$R49,\"TRUE\",PACKT02!J49)+SUMIF(PACKT03!$R49,\"TRUE\",PACKT03!J49)+SUMIF(PACKT04!$R49,\"TRUE\",PACKT04!J49)+SUMIF(PACKT05!$R49,\"TRUE\",PACKT05!J49)+SUMIF(PACKT06!$R50,\"TRUE\",PACKT06!J50)+SUMIF(PACKT07!$R49,\"TRUE\",PACKT07!J49)+SUMIF(PACKT08!$R49,\"TRUE\",PACKT08!J49)+SUMIF(PACKT09!$R49,\"TRUE\",PACKT09!J49)+SUMIF(PACKT10!$R49,\"TRUE\",PACKT10!J49)+SUMIF(PACKT11!$R49,\"TRUE\",PACKT11!J49)","v":0},{"$f":"SUMIF(PACKT01!$R49,\"TRUE\",PACKT01!K49)+SUMIF(PACKT02!$R49,\"TRUE\",PACKT02!K49)+SUMIF(PACKT03!$R49,\"TRUE\",PACKT03!K49)+SUMIF(PACKT04!$R49,\"TRUE\",PACKT04!K49)+SUMIF(PACKT05!$R49,\"TRUE\",PACKT05!K49)+SUMIF(PACKT06!$R50,\"TRUE\",PACKT06!K50)+SUMIF(PACKT07!$R49,\"TRUE\",PACKT07!K49)+SUMIF(PACKT08!$R49,\"TRUE\",PACKT08!K49)+SUMIF(PACKT09!$R49,\"TRUE\",PACKT09!K49)+SUMIF(PACKT10!$R49,\"TRUE\",PACKT10!K49)+SUMIF(PACKT11!$R49,\"TRUE\",PACKT11!K49)","v":0},{"$f":"SUMIF(PACKT01!$R49,\"TRUE\",PACKT01!L49)+SUMIF(PACKT02!$R49,\"TRUE\",PACKT02!L49)+SUMIF(PACKT03!$R49,\"TRUE\",PACKT03!L49)+SUMIF(PACKT04!$R49,\"TRUE\",PACKT04!L49)+SUMIF(PACKT05!$R49,\"TRUE\",PACKT05!L49)+SUMIF(PACKT06!$R50,\"TRUE\",PACKT06!L50)+SUMIF(PACKT07!$R49,\"TRUE\",PACKT07!L49)+SUMIF(PACKT08!$R49,\"TRUE\",PACKT08!L49)+SUMIF(PACKT09!$R49,\"TRUE\",PACKT09!L49)+SUMIF(PACKT10!$R49,\"TRUE\",PACKT10!L49)+SUMIF(PACKT11!$R49,\"TRUE\",PACKT11!L49)","v":0},{"$f":"SUMIF(PACKT01!$R49,\"TRUE\",PACKT01!M49)+SUMIF(PACKT02!$R49,\"TRUE\",PACKT02!M49)+SUMIF(PACKT03!$R49,\"TRUE\",PACKT03!M49)+SUMIF(PACKT04!$R49,\"TRUE\",PACKT04!M49)+SUMIF(PACKT05!$R49,\"TRUE\",PACKT05!M49)+SUMIF(PACKT06!$R50,\"TRUE\",PACKT06!M50)+SUMIF(PACKT07!$R49,\"TRUE\",PACKT07!M49)+SUMIF(PACKT08!$R49,\"TRUE\",PACKT08!M49)+SUMIF(PACKT09!$R49,\"TRUE\",PACKT09!M49)+SUMIF(PACKT10!$R49,\"TRUE\",PACKT10!M49)+SUMIF(PACKT11!$R49,\"TRUE\",PACKT11!M49)","v":0},{"$f":"SUMIF(PACKT01!$R49,\"TRUE\",PACKT01!N49)+SUMIF(PACKT02!$R49,\"TRUE\",PACKT02!N49)+SUMIF(PACKT03!$R49,\"TRUE\",PACKT03!N49)+SUMIF(PACKT04!$R49,\"TRUE\",PACKT04!N49)+SUMIF(PACKT05!$R49,\"TRUE\",PACKT05!N49)+SUMIF(PACKT06!$R50,\"TRUE\",PACKT06!N50)+SUMIF(PACKT07!$R49,\"TRUE\",PACKT07!N49)+SUMIF(PACKT08!$R49,\"TRUE\",PACKT08!N49)+SUMIF(PACKT09!$R49,\"TRUE\",PACKT09!N49)+SUMIF(PACKT10!$R49,\"TRUE\",PACKT10!N49)+SUMIF(PACKT11!$R49,\"TRUE\",PACKT11!N49)","v":0},{"$f":"SUMIF(PACKT01!$R49,\"TRUE\",PACKT01!O49)+SUMIF(PACKT02!$R49,\"TRUE\",PACKT02!O49)+SUMIF(PACKT03!$R49,\"TRUE\",PACKT03!O49)+SUMIF(PACKT04!$R49,\"TRUE\",PACKT04!O49)+SUMIF(PACKT05!$R49,\"TRUE\",PACKT05!O49)+SUMIF(PACKT06!$R50,\"TRUE\",PACKT06!O50)+SUMIF(PACKT07!$R49,\"TRUE\",PACKT07!O49)+SUMIF(PACKT08!$R49,\"TRUE\",PACKT08!O49)+SUMIF(PACKT09!$R49,\"TRUE\",PACKT09!O49)+SUMIF(PACKT10!$R49,\"TRUE\",PACKT10!O49)+SUMIF(PACKT11!$R49,\"TRUE\",PACKT11!O49)","v":0},{"$f":"SUMIF(PACKT01!$R49,\"TRUE\",PACKT01!P49)+SUMIF(PACKT02!$R49,\"TRUE\",PACKT02!P49)+SUMIF(PACKT03!$R49,\"TRUE\",PACKT03!P49)+SUMIF(PACKT04!$R49,\"TRUE\",PACKT04!P49)+SUMIF(PACKT05!$R49,\"TRUE\",PACKT05!P49)+SUMIF(PACKT06!$R50,\"TRUE\",PACKT06!P50)+SUMIF(PACKT07!$R49,\"TRUE\",PACKT07!P49)+SUMIF(PACKT08!$R49,\"TRUE\",PACKT08!P49)+SUMIF(PACKT09!$R49,\"TRUE\",PACKT09!P49)+SUMIF(PACKT10!$R49,\"TRUE\",PACKT10!P49)+SUMIF(PACKT11!$R49,\"TRUE\",PACKT11!P49)","v":0},{"$f":"SUMIF(PACKT01!$R49,\"TRUE\",PACKT01!Q49)+SUMIF(PACKT02!$R49,\"TRUE\",PACKT02!Q49)+SUMIF(PACKT03!$R49,\"TRUE\",PACKT03!Q49)+SUMIF(PACKT04!$R49,\"TRUE\",PACKT04!Q49)+SUMIF(PACKT05!$R49,\"TRUE\",PACKT05!Q49)+SUMIF(PACKT06!$R50,\"TRUE\",PACKT06!Q50)+SUMIF(PACKT07!$R49,\"TRUE\",PACKT07!Q49)+SUMIF(PACKT08!$R49,\"TRUE\",PACKT08!Q49)+SUMIF(PACKT09!$R49,\"TRUE\",PACKT09!Q49)+SUMIF(PACKT10!$R49,\"TRUE\",PACKT10!Q49)+SUMIF(PACKT11!$R49,\"TRUE\",PACKT11!Q49)","v":0},0]
[null,"EMP0039",{"$f":"VLOOKUP(HRSummarylTable[[#This Row],[EmployeeID]],EmployeeListLookupTable[],2,FALSE)","v":"EMPN039"},{"$f":"VLOOKUP(HRSummarylTable[[#This Row],[EmployeeID]],EmployeeListLookupTable[],3,FALSE)","v":"Employee Name 39"},{"$f":"VLOOKUP(HRSummarylTable[[#This Row],[EmployeeID]],EmployeeListLookupTable[],4,FALSE)","v":"Employee Job Title 39"},"TCTC001 - Total Cost to Company",{"$f":"LEFT(HRSummarylTable[[#This Row],[PackageItemCode]],7)","v":"TCTC001"},{"$f":"VLOOKUP(HRSummarylTable[[#This Row],[PackageItem]],PackageItemListLookup[],2,FALSE)","v":"Total Cost to Company"},null,{"$f":"SUMIF(PACKT01!$R50,\"TRUE\",PACKT01!F50)+SUMIF(PACKT02!$R50,\"TRUE\",PACKT02!F50)+SUMIF(PACKT03!$R50,\"TRUE\",PACKT03!F50)+SUMIF(PACKT04!$R50,\"TRUE\",PACKT04!F50)+SUMIF(PACKT05!$R50,\"TRUE\",PACKT05!F50)+SUMIF(PACKT06!$R51,\"TRUE\",PACKT06!F51)+SUMIF(PACKT07!$R50,\"TRUE\",PACKT07!F50)+SUMIF(PACKT08!$R50,\"TRUE\",PACKT08!F50)+SUMIF(PACKT09!$R50,\"TRUE\",PACKT09!F50)+SUMIF(PACKT10!$R50,\"TRUE\",PACKT10!F50)+SUMIF(PACKT11!$R50,\"TRUE\",PACKT11!F50)","v":0},{"$f":"SUMIF(PACKT01!$R50,\"TRUE\",PACKT01!G50)+SUMIF(PACKT02!$R50,\"TRUE\",PACKT02!G50)+SUMIF(PACKT03!$R50,\"TRUE\",PACKT03!G50)+SUMIF(PACKT04!$R50,\"TRUE\",PACKT04!G50)+SUMIF(PACKT05!$R50,\"TRUE\",PACKT05!G50)+SUMIF(PACKT06!$R51,\"TRUE\",PACKT06!G51)+SUMIF(PACKT07!$R50,\"TRUE\",PACKT07!G50)+SUMIF(PACKT08!$R50,\"TRUE\",PACKT08!G50)+SUMIF(PACKT09!$R50,\"TRUE\",PACKT09!G50)+SUMIF(PACKT10!$R50,\"TRUE\",PACKT10!G50)+SUMIF(PACKT11!$R50,\"TRUE\",PACKT11!G50)","v":0},{"$f":"SUMIF(PACKT01!$R50,\"TRUE\",PACKT01!H50)+SUMIF(PACKT02!$R50,\"TRUE\",PACKT02!H50)+SUMIF(PACKT03!$R50,\"TRUE\",PACKT03!H50)+SUMIF(PACKT04!$R50,\"TRUE\",PACKT04!H50)+SUMIF(PACKT05!$R50,\"TRUE\",PACKT05!H50)+SUMIF(PACKT06!$R51,\"TRUE\",PACKT06!H51)+SUMIF(PACKT07!$R50,\"TRUE\",PACKT07!H50)+SUMIF(PACKT08!$R50,\"TRUE\",PACKT08!H50)+SUMIF(PACKT09!$R50,\"TRUE\",PACKT09!H50)+SUMIF(PACKT10!$R50,\"TRUE\",PACKT10!H50)+SUMIF(PACKT11!$R50,\"TRUE\",PACKT11!H50)","v":0},{"$f":"SUMIF(PACKT01!$R50,\"TRUE\",PACKT01!I50)+SUMIF(PACKT02!$R50,\"TRUE\",PACKT02!I50)+SUMIF(PACKT03!$R50,\"TRUE\",PACKT03!I50)+SUMIF(PACKT04!$R50,\"TRUE\",PACKT04!I50)+SUMIF(PACKT05!$R50,\"TRUE\",PACKT05!I50)+SUMIF(PACKT06!$R51,\"TRUE\",PACKT06!I51)+SUMIF(PACKT07!$R50,\"TRUE\",PACKT07!I50)+SUMIF(PACKT08!$R50,\"TRUE\",PACKT08!I50)+SUMIF(PACKT09!$R50,\"TRUE\",PACKT09!I50)+SUMIF(PACKT10!$R50,\"TRUE\",PACKT10!I50)+SUMIF(PACKT11!$R50,\"TRUE\",PACKT11!I50)","v":0},{"$f":"SUMIF(PACKT01!$R50,\"TRUE\",PACKT01!J50)+SUMIF(PACKT02!$R50,\"TRUE\",PACKT02!J50)+SUMIF(PACKT03!$R50,\"TRUE\",PACKT03!J50)+SUMIF(PACKT04!$R50,\"TRUE\",PACKT04!J50)+SUMIF(PACKT05!$R50,\"TRUE\",PACKT05!J50)+SUMIF(PACKT06!$R51,\"TRUE\",PACKT06!J51)+SUMIF(PACKT07!$R50,\"TRUE\",PACKT07!J50)+SUMIF(PACKT08!$R50,\"TRUE\",PACKT08!J50)+SUMIF(PACKT09!$R50,\"TRUE\",PACKT09!J50)+SUMIF(PACKT10!$R50,\"TRUE\",PACKT10!J50)+SUMIF(PACKT11!$R50,\"TRUE\",PACKT11!J50)","v":0},{"$f":"SUMIF(PACKT01!$R50,\"TRUE\",PACKT01!K50)+SUMIF(PACKT02!$R50,\"TRUE\",PACKT02!K50)+SUMIF(PACKT03!$R50,\"TRUE\",PACKT03!K50)+SUMIF(PACKT04!$R50,\"TRUE\",PACKT04!K50)+SUMIF(PACKT05!$R50,\"TRUE\",PACKT05!K50)+SUMIF(PACKT06!$R51,\"TRUE\",PACKT06!K51)+SUMIF(PACKT07!$R50,\"TRUE\",PACKT07!K50)+SUMIF(PACKT08!$R50,\"TRUE\",PACKT08!K50)+SUMIF(PACKT09!$R50,\"TRUE\",PACKT09!K50)+SUMIF(PACKT10!$R50,\"TRUE\",PACKT10!K50)+SUMIF(PACKT11!$R50,\"TRUE\",PACKT11!K50)","v":0},{"$f":"SUMIF(PACKT01!$R50,\"TRUE\",PACKT01!L50)+SUMIF(PACKT02!$R50,\"TRUE\",PACKT02!L50)+SUMIF(PACKT03!$R50,\"TRUE\",PACKT03!L50)+SUMIF(PACKT04!$R50,\"TRUE\",PACKT04!L50)+SUMIF(PACKT05!$R50,\"TRUE\",PACKT05!L50)+SUMIF(PACKT06!$R51,\"TRUE\",PACKT06!L51)+SUMIF(PACKT07!$R50,\"TRUE\",PACKT07!L50)+SUMIF(PACKT08!$R50,\"TRUE\",PACKT08!L50)+SUMIF(PACKT09!$R50,\"TRUE\",PACKT09!L50)+SUMIF(PACKT10!$R50,\"TRUE\",PACKT10!L50)+SUMIF(PACKT11!$R50,\"TRUE\",PACKT11!L50)","v":0},{"$f":"SUMIF(PACKT01!$R50,\"TRUE\",PACKT01!M50)+SUMIF(PACKT02!$R50,\"TRUE\",PACKT02!M50)+SUMIF(PACKT03!$R50,\"TRUE\",PACKT03!M50)+SUMIF(PACKT04!$R50,\"TRUE\",PACKT04!M50)+SUMIF(PACKT05!$R50,\"TRUE\",PACKT05!M50)+SUMIF(PACKT06!$R51,\"TRUE\",PACKT06!M51)+SUMIF(PACKT07!$R50,\"TRUE\",PACKT07!M50)+SUMIF(PACKT08!$R50,\"TRUE\",PACKT08!M50)+SUMIF(PACKT09!$R50,\"TRUE\",PACKT09!M50)+SUMIF(PACKT10!$R50,\"TRUE\",PACKT10!M50)+SUMIF(PACKT11!$R50,\"TRUE\",PACKT11!M50)","v":0},{"$f":"SUMIF(PACKT01!$R50,\"TRUE\",PACKT01!N50)+SUMIF(PACKT02!$R50,\"TRUE\",PACKT02!N50)+SUMIF(PACKT03!$R50,\"TRUE\",PACKT03!N50)+SUMIF(PACKT04!$R50,\"TRUE\",PACKT04!N50)+SUMIF(PACKT05!$R50,\"TRUE\",PACKT05!N50)+SUMIF(PACKT06!$R51,\"TRUE\",PACKT06!N51)+SUMIF(PACKT07!$R50,\"TRUE\",PACKT07!N50)+SUMIF(PACKT08!$R50,\"TRUE\",PACKT08!N50)+SUMIF(PACKT09!$R50,\"TRUE\",PACKT09!N50)+SUMIF(PACKT10!$R50,\"TRUE\",PACKT10!N50)+SUMIF(PACKT11!$R50,\"TRUE\",PACKT11!N50)","v":0},{"$f":"SUMIF(PACKT01!$R50,\"TRUE\",PACKT01!O50)+SUMIF(PACKT02!$R50,\"TRUE\",PACKT02!O50)+SUMIF(PACKT03!$R50,\"TRUE\",PACKT03!O50)+SUMIF(PACKT04!$R50,\"TRUE\",PACKT04!O50)+SUMIF(PACKT05!$R50,\"TRUE\",PACKT05!O50)+SUMIF(PACKT06!$R51,\"TRUE\",PACKT06!O51)+SUMIF(PACKT07!$R50,\"TRUE\",PACKT07!O50)+SUMIF(PACKT08!$R50,\"TRUE\",PACKT08!O50)+SUMIF(PACKT09!$R50,\"TRUE\",PACKT09!O50)+SUMIF(PACKT10!$R50,\"TRUE\",PACKT10!O50)+SUMIF(PACKT11!$R50,\"TRUE\",PACKT11!O50)","v":0},{"$f":"SUMIF(PACKT01!$R50,\"TRUE\",PACKT01!P50)+SUMIF(PACKT02!$R50,\"TRUE\",PACKT02!P50)+SUMIF(PACKT03!$R50,\"TRUE\",PACKT03!P50)+SUMIF(PACKT04!$R50,\"TRUE\",PACKT04!P50)+SUMIF(PACKT05!$R50,\"TRUE\",PACKT05!P50)+SUMIF(PACKT06!$R51,\"TRUE\",PACKT06!P51)+SUMIF(PACKT07!$R50,\"TRUE\",PACKT07!P50)+SUMIF(PACKT08!$R50,\"TRUE\",PACKT08!P50)+SUMIF(PACKT09!$R50,\"TRUE\",PACKT09!P50)+SUMIF(PACKT10!$R50,\"TRUE\",PACKT10!P50)+SUMIF(PACKT11!$R50,\"TRUE\",PACKT11!P50)","v":0},{"$f":"SUMIF(PACKT01!$R50,\"TRUE\",PACKT01!Q50)+SUMIF(PACKT02!$R50,\"TRUE\",PACKT02!Q50)+SUMIF(PACKT03!$R50,\"TRUE\",PACKT03!Q50)+SUMIF(PACKT04!$R50,\"TRUE\",PACKT04!Q50)+SUMIF(PACKT05!$R50,\"TRUE\",PACKT05!Q50)+SUMIF(PACKT06!$R51,\"TRUE\",PACKT06!Q51)+SUMIF(PACKT07!$R50,\"TRUE\",PACKT07!Q50)+SUMIF(PACKT08!$R50,\"TRUE\",PACKT08!Q50)+SUMIF(PACKT09!$R50,\"TRUE\",PACKT09!Q50)+SUMIF(PACKT10!$R50,\"TRUE\",PACKT10!Q50)+SUMIF(PACKT11!$R50,\"TRUE\",PACKT11!Q50)","v":0},0]
[null,"EMP0040",{"$f":"VLOOKUP(HRSummarylTable[[#This Row],[EmployeeID]],EmployeeListLookupTable[],2,FALSE)","v":"EMPN040"},{"$f":"VLOOKUP(HRSummarylTable[[#This Row],[EmployeeID]],EmployeeListLookupTable[],3,FALSE)","v":"Employee Name 40"},{"$f":"VLOOKUP(HRSummarylTable[[#This Row],[EmployeeID]],EmployeeListLookupTable[],4,FALSE)","v":"Employee Job Title 40"},"TCTC001 - Total Cost to Company",{"$f":"LEFT(HRSummarylTable[[#This Row],[PackageItemCode]],7)","v":"TCTC001"},{"$f":"VLOOKUP(HRSummarylTable[[#This Row],[PackageItem]],PackageItemListLookup[],2,FALSE)","v":"Total Cost to Company"},null,{"$f":"SUMIF(PACKT01!$R51,\"TRUE\",PACKT01!F51)+SUMIF(PACKT02!$R51,\"TRUE\",PACKT02!F51)+SUMIF(PACKT03!$R51,\"TRUE\",PACKT03!F51)+SUMIF(PACKT04!$R51,\"TRUE\",PACKT04!F51)+SUMIF(PACKT05!$R51,\"TRUE\",PACKT05!F51)+SUMIF(PACKT06!$R52,\"TRUE\",PACKT06!F52)+SUMIF(PACKT07!$R51,\"TRUE\",PACKT07!F51)+SUMIF(PACKT08!$R51,\"TRUE\",PACKT08!F51)+SUMIF(PACKT09!$R51,\"TRUE\",PACKT09!F51)+SUMIF(PACKT10!$R51,\"TRUE\",PACKT10!F51)+SUMIF(PACKT11!$R51,\"TRUE\",PACKT11!F51)","v":0},{"$f":"SUMIF(PACKT01!$R51,\"TRUE\",PACKT01!G51)+SUMIF(PACKT02!$R51,\"TRUE\",PACKT02!G51)+SUMIF(PACKT03!$R51,\"TRUE\",PACKT03!G51)+SUMIF(PACKT04!$R51,\"TRUE\",PACKT04!G51)+SUMIF(PACKT05!$R51,\"TRUE\",PACKT05!G51)+SUMIF(PACKT06!$R52,\"TRUE\",PACKT06!G52)+SUMIF(PACKT07!$R51,\"TRUE\",PACKT07!G51)+SUMIF(PACKT08!$R51,\"TRUE\",PACKT08!G51)+SUMIF(PACKT09!$R51,\"TRUE\",PACKT09!G51)+SUMIF(PACKT10!$R51,\"TRUE\",PACKT10!G51)+SUMIF(PACKT11!$R51,\"TRUE\",PACKT11!G51)","v":0},{"$f":"SUMIF(PACKT01!$R51,\"TRUE\",PACKT01!H51)+SUMIF(PACKT02!$R51,\"TRUE\",PACKT02!H51)+SUMIF(PACKT03!$R51,\"TRUE\",PACKT03!H51)+SUMIF(PACKT04!$R51,\"TRUE\",PACKT04!H51)+SUMIF(PACKT05!$R51,\"TRUE\",PACKT05!H51)+SUMIF(PACKT06!$R52,\"TRUE\",PACKT06!H52)+SUMIF(PACKT07!$R51,\"TRUE\",PACKT07!H51)+SUMIF(PACKT08!$R51,\"TRUE\",PACKT08!H51)+SUMIF(PACKT09!$R51,\"TRUE\",PACKT09!H51)+SUMIF(PACKT10!$R51,\"TRUE\",PACKT10!H51)+SUMIF(PACKT11!$R51,\"TRUE\",PACKT11!H51)","v":0},{"$f":"SUMIF(PACKT01!$R51,\"TRUE\",PACKT01!I51)+SUMIF(PACKT02!$R51,\"TRUE\",PACKT02!I51)+SUMIF(PACKT03!$R51,\"TRUE\",PACKT03!I51)+SUMIF(PACKT04!$R51,\"TRUE\",PACKT04!I51)+SUMIF(PACKT05!$R51,\"TRUE\",PACKT05!I51)+SUMIF(PACKT06!$R52,\"TRUE\",PACKT06!I52)+SUMIF(PACKT07!$R51,\"TRUE\",PACKT07!I51)+SUMIF(PACKT08!$R51,\"TRUE\",PACKT08!I51)+SUMIF(PACKT09!$R51,\"TRUE\",PACKT09!I51)+SUMIF(PACKT10!$R51,\"TRUE\",PACKT10!I51)+SUMIF(PACKT11!$R51,\"TRUE\",PACKT11!I51)","v":0},{"$f":"SUMIF(PACKT01!$R51,\"TRUE\",PACKT01!J51)+SUMIF(PACKT02!$R51,\"TRUE\",PACKT02!J51)+SUMIF(PACKT03!$R51,\"TRUE\",PACKT03!J51)+SUMIF(PACKT04!$R51,\"TRUE\",PACKT04!J51)+SUMIF(PACKT05!$R51,\"TRUE\",PACKT05!J51)+SUMIF(PACKT06!$R52,\"TRUE\",PACKT06!J52)+SUMIF(PACKT07!$R51,\"TRUE\",PACKT07!J51)+SUMIF(PACKT08!$R51,\"TRUE\",PACKT08!J51)+SUMIF(PACKT09!$R51,\"TRUE\",PACKT09!J51)+SUMIF(PACKT10!$R51,\"TRUE\",PACKT10!J51)+SUMIF(PACKT11!$R51,\"TRUE\",PACKT11!J51)","v":0},{"$f":"SUMIF(PACKT01!$R51,\"TRUE\",PACKT01!K51)+SUMIF(PACKT02!$R51,\"TRUE\",PACKT02!K51)+SUMIF(PACKT03!$R51,\"TRUE\",PACKT03!K51)+SUMIF(PACKT04!$R51,\"TRUE\",PACKT04!K51)+SUMIF(PACKT05!$R51,\"TRUE\",PACKT05!K51)+SUMIF(PACKT06!$R52,\"TRUE\",PACKT06!K52)+SUMIF(PACKT07!$R51,\"TRUE\",PACKT07!K51)+SUMIF(PACKT08!$R51,\"TRUE\",PACKT08!K51)+SUMIF(PACKT09!$R51,\"TRUE\",PACKT09!K51)+SUMIF(PACKT10!$R51,\"TRUE\",PACKT10!K51)+SUMIF(PACKT11!$R51,\"TRUE\",PACKT11!K51)","v":0},{"$f":"SUMIF(PACKT01!$R51,\"TRUE\",PACKT01!L51)+SUMIF(PACKT02!$R51,\"TRUE\",PACKT02!L51)+SUMIF(PACKT03!$R51,\"TRUE\",PACKT03!L51)+SUMIF(PACKT04!$R51,\"TRUE\",PACKT04!L51)+SUMIF(PACKT05!$R51,\"TRUE\",PACKT05!L51)+SUMIF(PACKT06!$R52,\"TRUE\",PACKT06!L52)+SUMIF(PACKT07!$R51,\"TRUE\",PACKT07!L51)+SUMIF(PACKT08!$R51,\"TRUE\",PACKT08!L51)+SUMIF(PACKT09!$R51,\"TRUE\",PACKT09!L51)+SUMIF(PACKT10!$R51,\"TRUE\",PACKT10!L51)+SUMIF(PACKT11!$R51,\"TRUE\",PACKT11!L51)","v":0},{"$f":"SUMIF(PACKT01!$R51,\"TRUE\",PACKT01!M51)+SUMIF(PACKT02!$R51,\"TRUE\",PACKT02!M51)+SUMIF(PACKT03!$R51,\"TRUE\",PACKT03!M51)+SUMIF(PACKT04!$R51,\"TRUE\",PACKT04!M51)+SUMIF(PACKT05!$R51,\"TRUE\",PACKT05!M51)+SUMIF(PACKT06!$R52,\"TRUE\",PACKT06!M52)+SUMIF(PACKT07!$R51,\"TRUE\",PACKT07!M51)+SUMIF(PACKT08!$R51,\"TRUE\",PACKT08!M51)+SUMIF(PACKT09!$R51,\"TRUE\",PACKT09!M51)+SUMIF(PACKT10!$R51,\"TRUE\",PACKT10!M51)+SUMIF(PACKT11!$R51,\"TRUE\",PACKT11!M51)","v":0},{"$f":"SUMIF(PACKT01!$R51,\"TRUE\",PACKT01!N51)+SUMIF(PACKT02!$R51,\"TRUE\",PACKT02!N51)+SUMIF(PACKT03!$R51,\"TRUE\",PACKT03!N51)+SUMIF(PACKT04!$R51,\"TRUE\",PACKT04!N51)+SUMIF(PACKT05!$R51,\"TRUE\",PACKT05!N51)+SUMIF(PACKT06!$R52,\"TRUE\",PACKT06!N52)+SUMIF(PACKT07!$R51,\"TRUE\",PACKT07!N51)+SUMIF(PACKT08!$R51,\"TRUE\",PACKT08!N51)+SUMIF(PACKT09!$R51,\"TRUE\",PACKT09!N51)+SUMIF(PACKT10!$R51,\"TRUE\",PACKT10!N51)+SUMIF(PACKT11!$R51,\"TRUE\",PACKT11!N51)","v":0},{"$f":"SUMIF(PACKT01!$R51,\"TRUE\",PACKT01!O51)+SUMIF(PACKT02!$R51,\"TRUE\",PACKT02!O51)+SUMIF(PACKT03!$R51,\"TRUE\",PACKT03!O51)+SUMIF(PACKT04!$R51,\"TRUE\",PACKT04!O51)+SUMIF(PACKT05!$R51,\"TRUE\",PACKT05!O51)+SUMIF(PACKT06!$R52,\"TRUE\",PACKT06!O52)+SUMIF(PACKT07!$R51,\"TRUE\",PACKT07!O51)+SUMIF(PACKT08!$R51,\"TRUE\",PACKT08!O51)+SUMIF(PACKT09!$R51,\"TRUE\",PACKT09!O51)+SUMIF(PACKT10!$R51,\"TRUE\",PACKT10!O51)+SUMIF(PACKT11!$R51,\"TRUE\",PACKT11!O51)","v":0},{"$f":"SUMIF(PACKT01!$R51,\"TRUE\",PACKT01!P51)+SUMIF(PACKT02!$R51,\"TRUE\",PACKT02!P51)+SUMIF(PACKT03!$R51,\"TRUE\",PACKT03!P51)+SUMIF(PACKT04!$R51,\"TRUE\",PACKT04!P51)+SUMIF(PACKT05!$R51,\"TRUE\",PACKT05!P51)+SUMIF(PACKT06!$R52,\"TRUE\",PACKT06!P52)+SUMIF(PACKT07!$R51,\"TRUE\",PACKT07!P51)+SUMIF(PACKT08!$R51,\"TRUE\",PACKT08!P51)+SUMIF(PACKT09!$R51,\"TRUE\",PACKT09!P51)+SUMIF(PACKT10!$R51,\"TRUE\",PACKT10!P51)+SUMIF(PACKT11!$R51,\"TRUE\",PACKT11!P51)","v":0},{"$f":"SUMIF(PACKT01!$R51,\"TRUE\",PACKT01!Q51)+SUMIF(PACKT02!$R51,\"TRUE\",PACKT02!Q51)+SUMIF(PACKT03!$R51,\"TRUE\",PACKT03!Q51)+SUMIF(PACKT04!$R51,\"TRUE\",PACKT04!Q51)+SUMIF(PACKT05!$R51,\"TRUE\",PACKT05!Q51)+SUMIF(PACKT06!$R52,\"TRUE\",PACKT06!Q52)+SUMIF(PACKT07!$R51,\"TRUE\",PACKT07!Q51)+SUMIF(PACKT08!$R51,\"TRUE\",PACKT08!Q51)+SUMIF(PACKT09!$R51,\"TRUE\",PACKT09!Q51)+SUMIF(PACKT10!$R51,\"TRUE\",PACKT10!Q51)+SUMIF(PACKT11!$R51,\"TRUE\",PACKT11!Q51)","v":0},0]
[null,"EMP0041",{"$f":"VLOOKUP(HRSummarylTable[[#This Row],[EmployeeID]],EmployeeListLookupTable[],2,FALSE)","v":"EMPN041"},{"$f":"VLOOKUP(HRSummarylTable[[#This Row],[EmployeeID]],EmployeeListLookupTable[],3,FALSE)","v":"Employee Name 41"},{"$f":"VLOOKUP(HRSummarylTable[[#This Row],[EmployeeID]],EmployeeListLookupTable[],4,FALSE)","v":"Employee Job Title 41"},"TCTC001 - Total Cost to Company",{"$f":"LEFT(HRSummarylTable[[#This Row],[PackageItemCode]],7)","v":"TCTC001"},{"$f":"VLOOKUP(HRSummarylTable[[#This Row],[PackageItem]],PackageItemListLookup[],2,FALSE)","v":"Total Cost to Company"},null,{"$f":"SUMIF(PACKT01!$R52,\"TRUE\",PACKT01!F52)+SUMIF(PACKT02!$R52,\"TRUE\",PACKT02!F52)+SUMIF(PACKT03!$R52,\"TRUE\",PACKT03!F52)+SUMIF(PACKT04!$R52,\"TRUE\",PACKT04!F52)+SUMIF(PACKT05!$R52,\"TRUE\",PACKT05!F52)+SUMIF(PACKT06!$R53,\"TRUE\",PACKT06!F53)+SUMIF(PACKT07!$R52,\"TRUE\",PACKT07!F52)+SUMIF(PACKT08!$R52,\"TRUE\",PACKT08!F52)+SUMIF(PACKT09!$R52,\"TRUE\",PACKT09!F52)+SUMIF(PACKT10!$R52,\"TRUE\",PACKT10!F52)+SUMIF(PACKT11!$R52,\"TRUE\",PACKT11!F52)","v":0},{"$f":"SUMIF(PACKT01!$R52,\"TRUE\",PACKT01!G52)+SUMIF(PACKT02!$R52,\"TRUE\",PACKT02!G52)+SUMIF(PACKT03!$R52,\"TRUE\",PACKT03!G52)+SUMIF(PACKT04!$R52,\"TRUE\",PACKT04!G52)+SUMIF(PACKT05!$R52,\"TRUE\",PACKT05!G52)+SUMIF(PACKT06!$R53,\"TRUE\",PACKT06!G53)+SUMIF(PACKT07!$R52,\"TRUE\",PACKT07!G52)+SUMIF(PACKT08!$R52,\"TRUE\",PACKT08!G52)+SUMIF(PACKT09!$R52,\"TRUE\",PACKT09!G52)+SUMIF(PACKT10!$R52,\"TRUE\",PACKT10!G52)+SUMIF(PACKT11!$R52,\"TRUE\",PACKT11!G52)","v":0},{"$f":"SUMIF(PACKT01!$R52,\"TRUE\",PACKT01!H52)+SUMIF(PACKT02!$R52,\"TRUE\",PACKT02!H52)+SUMIF(PACKT03!$R52,\"TRUE\",PACKT03!H52)+SUMIF(PACKT04!$R52,\"TRUE\",PACKT04!H52)+SUMIF(PACKT05!$R52,\"TRUE\",PACKT05!H52)+SUMIF(PACKT06!$R53,\"TRUE\",PACKT06!H53)+SUMIF(PACKT07!$R52,\"TRUE\",PACKT07!H52)+SUMIF(PACKT08!$R52,\"TRUE\",PACKT08!H52)+SUMIF(PACKT09!$R52,\"TRUE\",PACKT09!H52)+SUMIF(PACKT10!$R52,\"TRUE\",PACKT10!H52)+SUMIF(PACKT11!$R52,\"TRUE\",PACKT11!H52)","v":0},{"$f":"SUMIF(PACKT01!$R52,\"TRUE\",PACKT01!I52)+SUMIF(PACKT02!$R52,\"TRUE\",PACKT02!I52)+SUMIF(PACKT03!$R52,\"TRUE\",PACKT03!I52)+SUMIF(PACKT04!$R52,\"TRUE\",PACKT04!I52)+SUMIF(PACKT05!$R52,\"TRUE\",PACKT05!I52)+SUMIF(PACKT06!$R53,\"TRUE\",PACKT06!I53)+SUMIF(PACKT07!$R52,\"TRUE\",PACKT07!I52)+SUMIF(PACKT08!$R52,\"TRUE\",PACKT08!I52)+SUMIF(PACKT09!$R52,\"TRUE\",PACKT09!I52)+SUMIF(PACKT10!$R52,\"TRUE\",PACKT10!I52)+SUMIF(PACKT11!$R52,\"TRUE\",PACKT11!I52)","v":0},{"$f":"SUMIF(PACKT01!$R52,\"TRUE\",PACKT01!J52)+SUMIF(PACKT02!$R52,\"TRUE\",PACKT02!J52)+SUMIF(PACKT03!$R52,\"TRUE\",PACKT03!J52)+SUMIF(PACKT04!$R52,\"TRUE\",PACKT04!J52)+SUMIF(PACKT05!$R52,\"TRUE\",PACKT05!J52)+SUMIF(PACKT06!$R53,\"TRUE\",PACKT06!J53)+SUMIF(PACKT07!$R52,\"TRUE\",PACKT07!J52)+SUMIF(PACKT08!$R52,\"TRUE\",PACKT08!J52)+SUMIF(PACKT09!$R52,\"TRUE\",PACKT09!J52)+SUMIF(PACKT10!$R52,\"TRUE\",PACKT10!J52)+SUMIF(PACKT11!$R52,\"TRUE\",PACKT11!J52)","v":0},{"$f":"SUMIF(PACKT01!$R52,\"TRUE\",PACKT01!K52)+SUMIF(PACKT02!$R52,\"TRUE\",PACKT02!K52)+SUMIF(PACKT03!$R52,\"TRUE\",PACKT03!K52)+SUMIF(PACKT04!$R52,\"TRUE\",PACKT04!K52)+SUMIF(PACKT05!$R52,\"TRUE\",PACKT05!K52)+SUMIF(PACKT06!$R53,\"TRUE\",PACKT06!K53)+SUMIF(PACKT07!$R52,\"TRUE\",PACKT07!K52)+SUMIF(PACKT08!$R52,\"TRUE\",PACKT08!K52)+SUMIF(PACKT09!$R52,\"TRUE\",PACKT09!K52)+SUMIF(PACKT10!$R52,\"TRUE\",PACKT10!K52)+SUMIF(PACKT11!$R52,\"TRUE\",PACKT11!K52)","v":0},{"$f":"SUMIF(PACKT01!$R52,\"TRUE\",PACKT01!L52)+SUMIF(PACKT02!$R52,\"TRUE\",PACKT02!L52)+SUMIF(PACKT03!$R52,\"TRUE\",PACKT03!L52)+SUMIF(PACKT04!$R52,\"TRUE\",PACKT04!L52)+SUMIF(PACKT05!$R52,\"TRUE\",PACKT05!L52)+SUMIF(PACKT06!$R53,\"TRUE\",PACKT06!L53)+SUMIF(PACKT07!$R52,\"TRUE\",PACKT07!L52)+SUMIF(PACKT08!$R52,\"TRUE\",PACKT08!L52)+SUMIF(PACKT09!$R52,\"TRUE\",PACKT09!L52)+SUMIF(PACKT10!$R52,\"TRUE\",PACKT10!L52)+SUMIF(PACKT11!$R52,\"TRUE\",PACKT11!L52)","v":0},{"$f":"SUMIF(PACKT01!$R52,\"TRUE\",PACKT01!M52)+SUMIF(PACKT02!$R52,\"TRUE\",PACKT02!M52)+SUMIF(PACKT03!$R52,\"TRUE\",PACKT03!M52)+SUMIF(PACKT04!$R52,\"TRUE\",PACKT04!M52)+SUMIF(PACKT05!$R52,\"TRUE\",PACKT05!M52)+SUMIF(PACKT06!$R53,\"TRUE\",PACKT06!M53)+SUMIF(PACKT07!$R52,\"TRUE\",PACKT07!M52)+SUMIF(PACKT08!$R52,\"TRUE\",PACKT08!M52)+SUMIF(PACKT09!$R52,\"TRUE\",PACKT09!M52)+SUMIF(PACKT10!$R52,\"TRUE\",PACKT10!M52)+SUMIF(PACKT11!$R52,\"TRUE\",PACKT11!M52)","v":0},{"$f":"SUMIF(PACKT01!$R52,\"TRUE\",PACKT01!N52)+SUMIF(PACKT02!$R52,\"TRUE\",PACKT02!N52)+SUMIF(PACKT03!$R52,\"TRUE\",PACKT03!N52)+SUMIF(PACKT04!$R52,\"TRUE\",PACKT04!N52)+SUMIF(PACKT05!$R52,\"TRUE\",PACKT05!N52)+SUMIF(PACKT06!$R53,\"TRUE\",PACKT06!N53)+SUMIF(PACKT07!$R52,\"TRUE\",PACKT07!N52)+SUMIF(PACKT08!$R52,\"TRUE\",PACKT08!N52)+SUMIF(PACKT09!$R52,\"TRUE\",PACKT09!N52)+SUMIF(PACKT10!$R52,\"TRUE\",PACKT10!N52)+SUMIF(PACKT11!$R52,\"TRUE\",PACKT11!N52)","v":0},{"$f":"SUMIF(PACKT01!$R52,\"TRUE\",PACKT01!O52)+SUMIF(PACKT02!$R52,\"TRUE\",PACKT02!O52)+SUMIF(PACKT03!$R52,\"TRUE\",PACKT03!O52)+SUMIF(PACKT04!$R52,\"TRUE\",PACKT04!O52)+SUMIF(PACKT05!$R52,\"TRUE\",PACKT05!O52)+SUMIF(PACKT06!$R53,\"TRUE\",PACKT06!O53)+SUMIF(PACKT07!$R52,\"TRUE\",PACKT07!O52)+SUMIF(PACKT08!$R52,\"TRUE\",PACKT08!O52)+SUMIF(PACKT09!$R52,\"TRUE\",PACKT09!O52)+SUMIF(PACKT10!$R52,\"TRUE\",PACKT10!O52)+SUMIF(PACKT11!$R52,\"TRUE\",PACKT11!O52)","v":0},{"$f":"SUMIF(PACKT01!$R52,\"TRUE\",PACKT01!P52)+SUMIF(PACKT02!$R52,\"TRUE\",PACKT02!P52)+SUMIF(PACKT03!$R52,\"TRUE\",PACKT03!P52)+SUMIF(PACKT04!$R52,\"TRUE\",PACKT04!P52)+SUMIF(PACKT05!$R52,\"TRUE\",PACKT05!P52)+SUMIF(PACKT06!$R53,\"TRUE\",PACKT06!P53)+SUMIF(PACKT07!$R52,\"TRUE\",PACKT07!P52)+SUMIF(PACKT08!$R52,\"TRUE\",PACKT08!P52)+SUMIF(PACKT09!$R52,\"TRUE\",PACKT09!P52)+SUMIF(PACKT10!$R52,\"TRUE\",PACKT10!P52)+SUMIF(PACKT11!$R52,\"TRUE\",PACKT11!P52)","v":0},{"$f":"SUMIF(PACKT01!$R52,\"TRUE\",PACKT01!Q52)+SUMIF(PACKT02!$R52,\"TRUE\",PACKT02!Q52)+SUMIF(PACKT03!$R52,\"TRUE\",PACKT03!Q52)+SUMIF(PACKT04!$R52,\"TRUE\",PACKT04!Q52)+SUMIF(PACKT05!$R52,\"TRUE\",PACKT05!Q52)+SUMIF(PACKT06!$R53,\"TRUE\",PACKT06!Q53)+SUMIF(PACKT07!$R52,\"TRUE\",PACKT07!Q52)+SUMIF(PACKT08!$R52,\"TRUE\",PACKT08!Q52)+SUMIF(PACKT09!$R52,\"TRUE\",PACKT09!Q52)+SUMIF(PACKT10!$R52,\"TRUE\",PACKT10!Q52)+SUMIF(PACKT11!$R52,\"TRUE\",PACKT11!Q52)","v":0},0]
[null,"EMP0042",{"$f":"VLOOKUP(HRSummarylTable[[#This Row],[EmployeeID]],EmployeeListLookupTable[],2,FALSE)","v":"EMPN042"},{"$f":"VLOOKUP(HRSummarylTable[[#This Row],[EmployeeID]],EmployeeListLookupTable[],3,FALSE)","v":"Employee Name 42"},{"$f":"VLOOKUP(HRSummarylTable[[#This Row],[EmployeeID]],EmployeeListLookupTable[],4,FALSE)","v":"Employee Job Title 42"},"TCTC001 - Total Cost to Company",{"$f":"LEFT(HRSummarylTable[[#This Row],[PackageItemCode]],7)","v":"TCTC001"},{"$f":"VLOOKUP(HRSummarylTable[[#This Row],[PackageItem]],PackageItemListLookup[],2,FALSE)","v":"Total Cost to Company"},null,{"$f":"SUMIF(PACKT01!$R53,\"TRUE\",PACKT01!F53)+SUMIF(PACKT02!$R53,\"TRUE\",PACKT02!F53)+SUMIF(PACKT03!$R53,\"TRUE\",PACKT03!F53)+SUMIF(PACKT04!$R53,\"TRUE\",PACKT04!F53)+SUMIF(PACKT05!$R53,\"TRUE\",PACKT05!F53)+SUMIF(PACKT06!$R54,\"TRUE\",PACKT06!F54)+SUMIF(PACKT07!$R53,\"TRUE\",PACKT07!F53)+SUMIF(PACKT08!$R53,\"TRUE\",PACKT08!F53)+SUMIF(PACKT09!$R53,\"TRUE\",PACKT09!F53)+SUMIF(PACKT10!$R53,\"TRUE\",PACKT10!F53)+SUMIF(PACKT11!$R53,\"TRUE\",PACKT11!F53)","v":0},{"$f":"SUMIF(PACKT01!$R53,\"TRUE\",PACKT01!G53)+SUMIF(PACKT02!$R53,\"TRUE\",PACKT02!G53)+SUMIF(PACKT03!$R53,\"TRUE\",PACKT03!G53)+SUMIF(PACKT04!$R53,\"TRUE\",PACKT04!G53)+SUMIF(PACKT05!$R53,\"TRUE\",PACKT05!G53)+SUMIF(PACKT06!$R54,\"TRUE\",PACKT06!G54)+SUMIF(PACKT07!$R53,\"TRUE\",PACKT07!G53)+SUMIF(PACKT08!$R53,\"TRUE\",PACKT08!G53)+SUMIF(PACKT09!$R53,\"TRUE\",PACKT09!G53)+SUMIF(PACKT10!$R53,\"TRUE\",PACKT10!G53)+SUMIF(PACKT11!$R53,\"TRUE\",PACKT11!G53)","v":0},{"$f":"SUMIF(PACKT01!$R53,\"TRUE\",PACKT01!H53)+SUMIF(PACKT02!$R53,\"TRUE\",PACKT02!H53)+SUMIF(PACKT03!$R53,\"TRUE\",PACKT03!H53)+SUMIF(PACKT04!$R53,\"TRUE\",PACKT04!H53)+SUMIF(PACKT05!$R53,\"TRUE\",PACKT05!H53)+SUMIF(PACKT06!$R54,\"TRUE\",PACKT06!H54)+SUMIF(PACKT07!$R53,\"TRUE\",PACKT07!H53)+SUMIF(PACKT08!$R53,\"TRUE\",PACKT08!H53)+SUMIF(PACKT09!$R53,\"TRUE\",PACKT09!H53)+SUMIF(PACKT10!$R53,\"TRUE\",PACKT10!H53)+SUMIF(PACKT11!$R53,\"TRUE\",PACKT11!H53)","v":0},{"$f":"SUMIF(PACKT01!$R53,\"TRUE\",PACKT01!I53)+SUMIF(PACKT02!$R53,\"TRUE\",PACKT02!I53)+SUMIF(PACKT03!$R53,\"TRUE\",PACKT03!I53)+SUMIF(PACKT04!$R53,\"TRUE\",PACKT04!I53)+SUMIF(PACKT05!$R53,\"TRUE\",PACKT05!I53)+SUMIF(PACKT06!$R54,\"TRUE\",PACKT06!I54)+SUMIF(PACKT07!$R53,\"TRUE\",PACKT07!I53)+SUMIF(PACKT08!$R53,\"TRUE\",PACKT08!I53)+SUMIF(PACKT09!$R53,\"TRUE\",PACKT09!I53)+SUMIF(PACKT10!$R53,\"TRUE\",PACKT10!I53)+SUMIF(PACKT11!$R53,\"TRUE\",PACKT11!I53)","v":0},{"$f":"SUMIF(PACKT01!$R53,\"TRUE\",PACKT01!J53)+SUMIF(PACKT02!$R53,\"TRUE\",PACKT02!J53)+SUMIF(PACKT03!$R53,\"TRUE\",PACKT03!J53)+SUMIF(PACKT04!$R53,\"TRUE\",PACKT04!J53)+SUMIF(PACKT05!$R53,\"TRUE\",PACKT05!J53)+SUMIF(PACKT06!$R54,\"TRUE\",PACKT06!J54)+SUMIF(PACKT07!$R53,\"TRUE\",PACKT07!J53)+SUMIF(PACKT08!$R53,\"TRUE\",PACKT08!J53)+SUMIF(PACKT09!$R53,\"TRUE\",PACKT09!J53)+SUMIF(PACKT10!$R53,\"TRUE\",PACKT10!J53)+SUMIF(PACKT11!$R53,\"TRUE\",PACKT11!J53)","v":0},{"$f":"SUMIF(PACKT01!$R53,\"TRUE\",PACKT01!K53)+SUMIF(PACKT02!$R53,\"TRUE\",PACKT02!K53)+SUMIF(PACKT03!$R53,\"TRUE\",PACKT03!K53)+SUMIF(PACKT04!$R53,\"TRUE\",PACKT04!K53)+SUMIF(PACKT05!$R53,\"TRUE\",PACKT05!K53)+SUMIF(PACKT06!$R54,\"TRUE\",PACKT06!K54)+SUMIF(PACKT07!$R53,\"TRUE\",PACKT07!K53)+SUMIF(PACKT08!$R53,\"TRUE\",PACKT08!K53)+SUMIF(PACKT09!$R53,\"TRUE\",PACKT09!K53)+SUMIF(PACKT10!$R53,\"TRUE\",PACKT10!K53)+SUMIF(PACKT11!$R53,\"TRUE\",PACKT11!K53)","v":0},{"$f":"SUMIF(PACKT01!$R53,\"TRUE\",PACKT01!L53)+SUMIF(PACKT02!$R53,\"TRUE\",PACKT02!L53)+SUMIF(PACKT03!$R53,\"TRUE\",PACKT03!L53)+SUMIF(PACKT04!$R53,\"TRUE\",PACKT04!L53)+SUMIF(PACKT05!$R53,\"TRUE\",PACKT05!L53)+SUMIF(PACKT06!$R54,\"TRUE\",PACKT06!L54)+SUMIF(PACKT07!$R53,\"TRUE\",PACKT07!L53)+SUMIF(PACKT08!$R53,\"TRUE\",PACKT08!L53)+SUMIF(PACKT09!$R53,\"TRUE\",PACKT09!L53)+SUMIF(PACKT10!$R53,\"TRUE\",PACKT10!L53)+SUMIF(PACKT11!$R53,\"TRUE\",PACKT11!L53)","v":0},{"$f":"SUMIF(PACKT01!$R53,\"TRUE\",PACKT01!M53)+SUMIF(PACKT02!$R53,\"TRUE\",PACKT02!M53)+SUMIF(PACKT03!$R53,\"TRUE\",PACKT03!M53)+SUMIF(PACKT04!$R53,\"TRUE\",PACKT04!M53)+SUMIF(PACKT05!$R53,\"TRUE\",PACKT05!M53)+SUMIF(PACKT06!$R54,\"TRUE\",PACKT06!M54)+SUMIF(PACKT07!$R53,\"TRUE\",PACKT07!M53)+SUMIF(PACKT08!$R53,\"TRUE\",PACKT08!M53)+SUMIF(PACKT09!$R53,\"TRUE\",PACKT09!M53)+SUMIF(PACKT10!$R53,\"TRUE\",PACKT10!M53)+SUMIF(PACKT11!$R53,\"TRUE\",PACKT11!M53)","v":0},{"$f":"SUMIF(PACKT01!$R53,\"TRUE\",PACKT01!N53)+SUMIF(PACKT02!$R53,\"TRUE\",PACKT02!N53)+SUMIF(PACKT03!$R53,\"TRUE\",PACKT03!N53)+SUMIF(PACKT04!$R53,\"TRUE\",PACKT04!N53)+SUMIF(PACKT05!$R53,\"TRUE\",PACKT05!N53)+SUMIF(PACKT06!$R54,\"TRUE\",PACKT06!N54)+SUMIF(PACKT07!$R53,\"TRUE\",PACKT07!N53)+SUMIF(PACKT08!$R53,\"TRUE\",PACKT08!N53)+SUMIF(PACKT09!$R53,\"TRUE\",PACKT09!N53)+SUMIF(PACKT10!$R53,\"TRUE\",PACKT10!N53)+SUMIF(PACKT11!$R53,\"TRUE\",PACKT11!N53)","v":0},{"$f":"SUMIF(PACKT01!$R53,\"TRUE\",PACKT01!O53)+SUMIF(PACKT02!$R53,\"TRUE\",PACKT02!O53)+SUMIF(PACKT03!$R53,\"TRUE\",PACKT03!O53)+SUMIF(PACKT04!$R53,\"TRUE\",PACKT04!O53)+SUMIF(PACKT05!$R53,\"TRUE\",PACKT05!O53)+SUMIF(PACKT06!$R54,\"TRUE\",PACKT06!O54)+SUMIF(PACKT07!$R53,\"TRUE\",PACKT07!O53)+SUMIF(PACKT08!$R53,\"TRUE\",PACKT08!O53)+SUMIF(PACKT09!$R53,\"TRUE\",PACKT09!O53)+SUMIF(PACKT10!$R53,\"TRUE\",PACKT10!O53)+SUMIF(PACKT11!$R53,\"TRUE\",PACKT11!O53)","v":0},{"$f":"SUMIF(PACKT01!$R53,\"TRUE\",PACKT01!P53)+SUMIF(PACKT02!$R53,\"TRUE\",PACKT02!P53)+SUMIF(PACKT03!$R53,\"TRUE\",PACKT03!P53)+SUMIF(PACKT04!$R53,\"TRUE\",PACKT04!P53)+SUMIF(PACKT05!$R53,\"TRUE\",PACKT05!P53)+SUMIF(PACKT06!$R54,\"TRUE\",PACKT06!P54)+SUMIF(PACKT07!$R53,\"TRUE\",PACKT07!P53)+SUMIF(PACKT08!$R53,\"TRUE\",PACKT08!P53)+SUMIF(PACKT09!$R53,\"TRUE\",PACKT09!P53)+SUMIF(PACKT10!$R53,\"TRUE\",PACKT10!P53)+SUMIF(PACKT11!$R53,\"TRUE\",PACKT11!P53)","v":0},{"$f":"SUMIF(PACKT01!$R53,\"TRUE\",PACKT01!Q53)+SUMIF(PACKT02!$R53,\"TRUE\",PACKT02!Q53)+SUMIF(PACKT03!$R53,\"TRUE\",PACKT03!Q53)+SUMIF(PACKT04!$R53,\"TRUE\",PACKT04!Q53)+SUMIF(PACKT05!$R53,\"TRUE\",PACKT05!Q53)+SUMIF(PACKT06!$R54,\"TRUE\",PACKT06!Q54)+SUMIF(PACKT07!$R53,\"TRUE\",PACKT07!Q53)+SUMIF(PACKT08!$R53,\"TRUE\",PACKT08!Q53)+SUMIF(PACKT09!$R53,\"TRUE\",PACKT09!Q53)+SUMIF(PACKT10!$R53,\"TRUE\",PACKT10!Q53)+SUMIF(PACKT11!$R53,\"TRUE\",PACKT11!Q53)","v":0},{"$f":"SUM(L52:U52)","v":0}]
[null,"EMP0043",{"$f":"VLOOKUP(HRSummarylTable[[#This Row],[EmployeeID]],EmployeeListLookupTable[],2,FALSE)","v":"EMPN043"},{"$f":"VLOOKUP(HRSummarylTable[[#This Row],[EmployeeID]],EmployeeListLookupTable[],3,FALSE)","v":"Employee Name 43"},{"$f":"VLOOKUP(HRSummarylTable[[#This Row],[EmployeeID]],EmployeeListLookupTable[],4,FALSE)","v":"Employee Job Title 43"},"TCTC001 - Total Cost to Company",{"$f":"LEFT(HRSummarylTable[[#This Row],[PackageItemCode]],7)","v":"TCTC001"},{"$f":"VLOOKUP(HRSummarylTable[[#This Row],[PackageItem]],PackageItemListLookup[],2,FALSE)","v":"Total Cost to Company"},null,{"$f":"SUMIF(PACKT01!$R54,\"TRUE\",PACKT01!F54)+SUMIF(PACKT02!$R54,\"TRUE\",PACKT02!F54)+SUMIF(PACKT03!$R54,\"TRUE\",PACKT03!F54)+SUMIF(PACKT04!$R54,\"TRUE\",PACKT04!F54)+SUMIF(PACKT05!$R54,\"TRUE\",PACKT05!F54)+SUMIF(PACKT06!$R55,\"TRUE\",PACKT06!F55)+SUMIF(PACKT07!$R54,\"TRUE\",PACKT07!F54)+SUMIF(PACKT08!$R54,\"TRUE\",PACKT08!F54)+SUMIF(PACKT09!$R54,\"TRUE\",PACKT09!F54)+SUMIF(PACKT10!$R54,\"TRUE\",PACKT10!F54)+SUMIF(PACKT11!$R54,\"TRUE\",PACKT11!F54)","v":0},{"$f":"SUMIF(PACKT01!$R54,\"TRUE\",PACKT01!G54)+SUMIF(PACKT02!$R54,\"TRUE\",PACKT02!G54)+SUMIF(PACKT03!$R54,\"TRUE\",PACKT03!G54)+SUMIF(PACKT04!$R54,\"TRUE\",PACKT04!G54)+SUMIF(PACKT05!$R54,\"TRUE\",PACKT05!G54)+SUMIF(PACKT06!$R55,\"TRUE\",PACKT06!G55)+SUMIF(PACKT07!$R54,\"TRUE\",PACKT07!G54)+SUMIF(PACKT08!$R54,\"TRUE\",PACKT08!G54)+SUMIF(PACKT09!$R54,\"TRUE\",PACKT09!G54)+SUMIF(PACKT10!$R54,\"TRUE\",PACKT10!G54)+SUMIF(PACKT11!$R54,\"TRUE\",PACKT11!G54)","v":0},{"$f":"SUMIF(PACKT01!$R54,\"TRUE\",PACKT01!H54)+SUMIF(PACKT02!$R54,\"TRUE\",PACKT02!H54)+SUMIF(PACKT03!$R54,\"TRUE\",PACKT03!H54)+SUMIF(PACKT04!$R54,\"TRUE\",PACKT04!H54)+SUMIF(PACKT05!$R54,\"TRUE\",PACKT05!H54)+SUMIF(PACKT06!$R55,\"TRUE\",PACKT06!H55)+SUMIF(PACKT07!$R54,\"TRUE\",PACKT07!H54)+SUMIF(PACKT08!$R54,\"TRUE\",PACKT08!H54)+SUMIF(PACKT09!$R54,\"TRUE\",PACKT09!H54)+SUMIF(PACKT10!$R54,\"TRUE\",PACKT10!H54)+SUMIF(PACKT11!$R54,\"TRUE\",PACKT11!H54)","v":0},{"$f":"SUMIF(PACKT01!$R54,\"TRUE\",PACKT01!I54)+SUMIF(PACKT02!$R54,\"TRUE\",PACKT02!I54)+SUMIF(PACKT03!$R54,\"TRUE\",PACKT03!I54)+SUMIF(PACKT04!$R54,\"TRUE\",PACKT04!I54)+SUMIF(PACKT05!$R54,\"TRUE\",PACKT05!I54)+SUMIF(PACKT06!$R55,\"TRUE\",PACKT06!I55)+SUMIF(PACKT07!$R54,\"TRUE\",PACKT07!I54)+SUMIF(PACKT08!$R54,\"TRUE\",PACKT08!I54)+SUMIF(PACKT09!$R54,\"TRUE\",PACKT09!I54)+SUMIF(PACKT10!$R54,\"TRUE\",PACKT10!I54)+SUMIF(PACKT11!$R54,\"TRUE\",PACKT11!I54)","v":0},{"$f":"SUMIF(PACKT01!$R54,\"TRUE\",PACKT01!J54)+SUMIF(PACKT02!$R54,\"TRUE\",PACKT02!J54)+SUMIF(PACKT03!$R54,\"TRUE\",PACKT03!J54)+SUMIF(PACKT04!$R54,\"TRUE\",PACKT04!J54)+SUMIF(PACKT05!$R54,\"TRUE\",PACKT05!J54)+SUMIF(PACKT06!$R55,\"TRUE\",PACKT06!J55)+SUMIF(PACKT07!$R54,\"TRUE\",PACKT07!J54)+SUMIF(PACKT08!$R54,\"TRUE\",PACKT08!J54)+SUMIF(PACKT09!$R54,\"TRUE\",PACKT09!J54)+SUMIF(PACKT10!$R54,\"TRUE\",PACKT10!J54)+SUMIF(PACKT11!$R54,\"TRUE\",PACKT11!J54)","v":0},{"$f":"SUMIF(PACKT01!$R54,\"TRUE\",PACKT01!K54)+SUMIF(PACKT02!$R54,\"TRUE\",PACKT02!K54)+SUMIF(PACKT03!$R54,\"TRUE\",PACKT03!K54)+SUMIF(PACKT04!$R54,\"TRUE\",PACKT04!K54)+SUMIF(PACKT05!$R54,\"TRUE\",PACKT05!K54)+SUMIF(PACKT06!$R55,\"TRUE\",PACKT06!K55)+SUMIF(PACKT07!$R54,\"TRUE\",PACKT07!K54)+SUMIF(PACKT08!$R54,\"TRUE\",PACKT08!K54)+SUMIF(PACKT09!$R54,\"TRUE\",PACKT09!K54)+SUMIF(PACKT10!$R54,\"TRUE\",PACKT10!K54)+SUMIF(PACKT11!$R54,\"TRUE\",PACKT11!K54)","v":0},{"$f":"SUMIF(PACKT01!$R54,\"TRUE\",PACKT01!L54)+SUMIF(PACKT02!$R54,\"TRUE\",PACKT02!L54)+SUMIF(PACKT03!$R54,\"TRUE\",PACKT03!L54)+SUMIF(PACKT04!$R54,\"TRUE\",PACKT04!L54)+SUMIF(PACKT05!$R54,\"TRUE\",PACKT05!L54)+SUMIF(PACKT06!$R55,\"TRUE\",PACKT06!L55)+SUMIF(PACKT07!$R54,\"TRUE\",PACKT07!L54)+SUMIF(PACKT08!$R54,\"TRUE\",PACKT08!L54)+SUMIF(PACKT09!$R54,\"TRUE\",PACKT09!L54)+SUMIF(PACKT10!$R54,\"TRUE\",PACKT10!L54)+SUMIF(PACKT11!$R54,\"TRUE\",PACKT11!L54)","v":0},{"$f":"SUMIF(PACKT01!$R54,\"TRUE\",PACKT01!M54)+SUMIF(PACKT02!$R54,\"TRUE\",PACKT02!M54)+SUMIF(PACKT03!$R54,\"TRUE\",PACKT03!M54)+SUMIF(PACKT04!$R54,\"TRUE\",PACKT04!M54)+SUMIF(PACKT05!$R54,\"TRUE\",PACKT05!M54)+SUMIF(PACKT06!$R55,\"TRUE\",PACKT06!M55)+SUMIF(PACKT07!$R54,\"TRUE\",PACKT07!M54)+SUMIF(PACKT08!$R54,\"TRUE\",PACKT08!M54)+SUMIF(PACKT09!$R54,\"TRUE\",PACKT09!M54)+SUMIF(PACKT10!$R54,\"TRUE\",PACKT10!M54)+SUMIF(PACKT11!$R54,\"TRUE\",PACKT11!M54)","v":0},{"$f":"SUMIF(PACKT01!$R54,\"TRUE\",PACKT01!N54)+SUMIF(PACKT02!$R54,\"TRUE\",PACKT02!N54)+SUMIF(PACKT03!$R54,\"TRUE\",PACKT03!N54)+SUMIF(PACKT04!$R54,\"TRUE\",PACKT04!N54)+SUMIF(PACKT05!$R54,\"TRUE\",PACKT05!N54)+SUMIF(PACKT06!$R55,\"TRUE\",PACKT06!N55)+SUMIF(PACKT07!$R54,\"TRUE\",PACKT07!N54)+SUMIF(PACKT08!$R54,\"TRUE\",PACKT08!N54)+SUMIF(PACKT09!$R54,\"TRUE\",PACKT09!N54)+SUMIF(PACKT10!$R54,\"TRUE\",PACKT10!N54)+SUMIF(PACKT11!$R54,\"TRUE\",PACKT11!N54)","v":0},{"$f":"SUMIF(PACKT01!$R54,\"TRUE\",PACKT01!O54)+SUMIF(PACKT02!$R54,\"TRUE\",PACKT02!O54)+SUMIF(PACKT03!$R54,\"TRUE\",PACKT03!O54)+SUMIF(PACKT04!$R54,\"TRUE\",PACKT04!O54)+SUMIF(PACKT05!$R54,\"TRUE\",PACKT05!O54)+SUMIF(PACKT06!$R55,\"TRUE\",PACKT06!O55)+SUMIF(PACKT07!$R54,\"TRUE\",PACKT07!O54)+SUMIF(PACKT08!$R54,\"TRUE\",PACKT08!O54)+SUMIF(PACKT09!$R54,\"TRUE\",PACKT09!O54)+SUMIF(PACKT10!$R54,\"TRUE\",PACKT10!O54)+SUMIF(PACKT11!$R54,\"TRUE\",PACKT11!O54)","v":0},{"$f":"SUMIF(PACKT01!$R54,\"TRUE\",PACKT01!P54)+SUMIF(PACKT02!$R54,\"TRUE\",PACKT02!P54)+SUMIF(PACKT03!$R54,\"TRUE\",PACKT03!P54)+SUMIF(PACKT04!$R54,\"TRUE\",PACKT04!P54)+SUMIF(PACKT05!$R54,\"TRUE\",PACKT05!P54)+SUMIF(PACKT06!$R55,\"TRUE\",PACKT06!P55)+SUMIF(PACKT07!$R54,\"TRUE\",PACKT07!P54)+SUMIF(PACKT08!$R54,\"TRUE\",PACKT08!P54)+SUMIF(PACKT09!$R54,\"TRUE\",PACKT09!P54)+SUMIF(PACKT10!$R54,\"TRUE\",PACKT10!P54)+SUMIF(PACKT11!$R54,\"TRUE\",PACKT11!P54)","v":0},{"$f":"SUMIF(PACKT01!$R54,\"TRUE\",PACKT01!Q54)+SUMIF(PACKT02!$R54,\"TRUE\",PACKT02!Q54)+SUMIF(PACKT03!$R54,\"TRUE\",PACKT03!Q54)+SUMIF(PACKT04!$R54,\"TRUE\",PACKT04!Q54)+SUMIF(PACKT05!$R54,\"TRUE\",PACKT05!Q54)+SUMIF(PACKT06!$R55,\"TRUE\",PACKT06!Q55)+SUMIF(PACKT07!$R54,\"TRUE\",PACKT07!Q54)+SUMIF(PACKT08!$R54,\"TRUE\",PACKT08!Q54)+SUMIF(PACKT09!$R54,\"TRUE\",PACKT09!Q54)+SUMIF(PACKT10!$R54,\"TRUE\",PACKT10!Q54)+SUMIF(PACKT11!$R54,\"TRUE\",PACKT11!Q54)","v":0},0]
[null,"EMP0044",{"$f":"VLOOKUP(HRSummarylTable[[#This Row],[EmployeeID]],EmployeeListLookupTable[],2,FALSE)","v":"EMPN044"},{"$f":"VLOOKUP(HRSummarylTable[[#This Row],[EmployeeID]],EmployeeListLookupTable[],3,FALSE)","v":"Employee Name 44"},{"$f":"VLOOKUP(HRSummarylTable[[#This Row],[EmployeeID]],EmployeeListLookupTable[],4,FALSE)","v":"Employee Job Title 44"},"TCTC001 - Total Cost to Company",{"$f":"LEFT(HRSummarylTable[[#This Row],[PackageItemCode]],7)","v":"TCTC001"},{"$f":"VLOOKUP(HRSummarylTable[[#This Row],[PackageItem]],PackageItemListLookup[],2,FALSE)","v":"Total Cost to Company"},null,{"$f":"SUMIF(PACKT01!$R55,\"TRUE\",PACKT01!F55)+SUMIF(PACKT02!$R55,\"TRUE\",PACKT02!F55)+SUMIF(PACKT03!$R55,\"TRUE\",PACKT03!F55)+SUMIF(PACKT04!$R55,\"TRUE\",PACKT04!F55)+SUMIF(PACKT05!$R55,\"TRUE\",PACKT05!F55)+SUMIF(PACKT06!$R56,\"TRUE\",PACKT06!F56)+SUMIF(PACKT07!$R55,\"TRUE\",PACKT07!F55)+SUMIF(PACKT08!$R55,\"TRUE\",PACKT08!F55)+SUMIF(PACKT09!$R55,\"TRUE\",PACKT09!F55)+SUMIF(PACKT10!$R55,\"TRUE\",PACKT10!F55)+SUMIF(PACKT11!$R55,\"TRUE\",PACKT11!F55)","v":0},{"$f":"SUMIF(PACKT01!$R55,\"TRUE\",PACKT01!G55)+SUMIF(PACKT02!$R55,\"TRUE\",PACKT02!G55)+SUMIF(PACKT03!$R55,\"TRUE\",PACKT03!G55)+SUMIF(PACKT04!$R55,\"TRUE\",PACKT04!G55)+SUMIF(PACKT05!$R55,\"TRUE\",PACKT05!G55)+SUMIF(PACKT06!$R56,\"TRUE\",PACKT06!G56)+SUMIF(PACKT07!$R55,\"TRUE\",PACKT07!G55)+SUMIF(PACKT08!$R55,\"TRUE\",PACKT08!G55)+SUMIF(PACKT09!$R55,\"TRUE\",PACKT09!G55)+SUMIF(PACKT10!$R55,\"TRUE\",PACKT10!G55)+SUMIF(PACKT11!$R55,\"TRUE\",PACKT11!G55)","v":0},{"$f":"SUMIF(PACKT01!$R55,\"TRUE\",PACKT01!H55)+SUMIF(PACKT02!$R55,\"TRUE\",PACKT02!H55)+SUMIF(PACKT03!$R55,\"TRUE\",PACKT03!H55)+SUMIF(PACKT04!$R55,\"TRUE\",PACKT04!H55)+SUMIF(PACKT05!$R55,\"TRUE\",PACKT05!H55)+SUMIF(PACKT06!$R56,\"TRUE\",PACKT06!H56)+SUMIF(PACKT07!$R55,\"TRUE\",PACKT07!H55)+SUMIF(PACKT08!$R55,\"TRUE\",PACKT08!H55)+SUMIF(PACKT09!$R55,\"TRUE\",PACKT09!H55)+SUMIF(PACKT10!$R55,\"TRUE\",PACKT10!H55)+SUMIF(PACKT11!$R55,\"TRUE\",PACKT11!H55)","v":0},{"$f":"SUMIF(PACKT01!$R55,\"TRUE\",PACKT01!I55)+SUMIF(PACKT02!$R55,\"TRUE\",PACKT02!I55)+SUMIF(PACKT03!$R55,\"TRUE\",PACKT03!I55)+SUMIF(PACKT04!$R55,\"TRUE\",PACKT04!I55)+SUMIF(PACKT05!$R55,\"TRUE\",PACKT05!I55)+SUMIF(PACKT06!$R56,\"TRUE\",PACKT06!I56)+SUMIF(PACKT07!$R55,\"TRUE\",PACKT07!I55)+SUMIF(PACKT08!$R55,\"TRUE\",PACKT08!I55)+SUMIF(PACKT09!$R55,\"TRUE\",PACKT09!I55)+SUMIF(PACKT10!$R55,\"TRUE\",PACKT10!I55)+SUMIF(PACKT11!$R55,\"TRUE\",PACKT11!I55)","v":0},{"$f":"SUMIF(PACKT01!$R55,\"TRUE\",PACKT01!J55)+SUMIF(PACKT02!$R55,\"TRUE\",PACKT02!J55)+SUMIF(PACKT03!$R55,\"TRUE\",PACKT03!J55)+SUMIF(PACKT04!$R55,\"TRUE\",PACKT04!J55)+SUMIF(PACKT05!$R55,\"TRUE\",PACKT05!J55)+SUMIF(PACKT06!$R56,\"TRUE\",PACKT06!J56)+SUMIF(PACKT07!$R55,\"TRUE\",PACKT07!J55)+SUMIF(PACKT08!$R55,\"TRUE\",PACKT08!J55)+SUMIF(PACKT09!$R55,\"TRUE\",PACKT09!J55)+SUMIF(PACKT10!$R55,\"TRUE\",PACKT10!J55)+SUMIF(PACKT11!$R55,\"TRUE\",PACKT11!J55)","v":0},{"$f":"SUMIF(PACKT01!$R55,\"TRUE\",PACKT01!K55)+SUMIF(PACKT02!$R55,\"TRUE\",PACKT02!K55)+SUMIF(PACKT03!$R55,\"TRUE\",PACKT03!K55)+SUMIF(PACKT04!$R55,\"TRUE\",PACKT04!K55)+SUMIF(PACKT05!$R55,\"TRUE\",PACKT05!K55)+SUMIF(PACKT06!$R56,\"TRUE\",PACKT06!K56)+SUMIF(PACKT07!$R55,\"TRUE\",PACKT07!K55)+SUMIF(PACKT08!$R55,\"TRUE\",PACKT08!K55)+SUMIF(PACKT09!$R55,\"TRUE\",PACKT09!K55)+SUMIF(PACKT10!$R55,\"TRUE\",PACKT10!K55)+SUMIF(PACKT11!$R55,\"TRUE\",PACKT11!K55)","v":0},{"$f":"SUMIF(PACKT01!$R55,\"TRUE\",PACKT01!L55)+SUMIF(PACKT02!$R55,\"TRUE\",PACKT02!L55)+SUMIF(PACKT03!$R55,\"TRUE\",PACKT03!L55)+SUMIF(PACKT04!$R55,\"TRUE\",PACKT04!L55)+SUMIF(PACKT05!$R55,\"TRUE\",PACKT05!L55)+SUMIF(PACKT06!$R56,\"TRUE\",PACKT06!L56)+SUMIF(PACKT07!$R55,\"TRUE\",PACKT07!L55)+SUMIF(PACKT08!$R55,\"TRUE\",PACKT08!L55)+SUMIF(PACKT09!$R55,\"TRUE\",PACKT09!L55)+SUMIF(PACKT10!$R55,\"TRUE\",PACKT10!L55)+SUMIF(PACKT11!$R55,\"TRUE\",PACKT11!L55)","v":0},{"$f":"SUMIF(PACKT01!$R55,\"TRUE\",PACKT01!M55)+SUMIF(PACKT02!$R55,\"TRUE\",PACKT02!M55)+SUMIF(PACKT03!$R55,\"TRUE\",PACKT03!M55)+SUMIF(PACKT04!$R55,\"TRUE\",PACKT04!M55)+SUMIF(PACKT05!$R55,\"TRUE\",PACKT05!M55)+SUMIF(PACKT06!$R56,\"TRUE\",PACKT06!M56)+SUMIF(PACKT07!$R55,\"TRUE\",PACKT07!M55)+SUMIF(PACKT08!$R55,\"TRUE\",PACKT08!M55)+SUMIF(PACKT09!$R55,\"TRUE\",PACKT09!M55)+SUMIF(PACKT10!$R55,\"TRUE\",PACKT10!M55)+SUMIF(PACKT11!$R55,\"TRUE\",PACKT11!M55)","v":0},{"$f":"SUMIF(PACKT01!$R55,\"TRUE\",PACKT01!N55)+SUMIF(PACKT02!$R55,\"TRUE\",PACKT02!N55)+SUMIF(PACKT03!$R55,\"TRUE\",PACKT03!N55)+SUMIF(PACKT04!$R55,\"TRUE\",PACKT04!N55)+SUMIF(PACKT05!$R55,\"TRUE\",PACKT05!N55)+SUMIF(PACKT06!$R56,\"TRUE\",PACKT06!N56)+SUMIF(PACKT07!$R55,\"TRUE\",PACKT07!N55)+SUMIF(PACKT08!$R55,\"TRUE\",PACKT08!N55)+SUMIF(PACKT09!$R55,\"TRUE\",PACKT09!N55)+SUMIF(PACKT10!$R55,\"TRUE\",PACKT10!N55)+SUMIF(PACKT11!$R55,\"TRUE\",PACKT11!N55)","v":0},{"$f":"SUMIF(PACKT01!$R55,\"TRUE\",PACKT01!O55)+SUMIF(PACKT02!$R55,\"TRUE\",PACKT02!O55)+SUMIF(PACKT03!$R55,\"TRUE\",PACKT03!O55)+SUMIF(PACKT04!$R55,\"TRUE\",PACKT04!O55)+SUMIF(PACKT05!$R55,\"TRUE\",PACKT05!O55)+SUMIF(PACKT06!$R56,\"TRUE\",PACKT06!O56)+SUMIF(PACKT07!$R55,\"TRUE\",PACKT07!O55)+SUMIF(PACKT08!$R55,\"TRUE\",PACKT08!O55)+SUMIF(PACKT09!$R55,\"TRUE\",PACKT09!O55)+SUMIF(PACKT10!$R55,\"TRUE\",PACKT10!O55)+SUMIF(PACKT11!$R55,\"TRUE\",PACKT11!O55)","v":0},{"$f":"SUMIF(PACKT01!$R55,\"TRUE\",PACKT01!P55)+SUMIF(PACKT02!$R55,\"TRUE\",PACKT02!P55)+SUMIF(PACKT03!$R55,\"TRUE\",PACKT03!P55)+SUMIF(PACKT04!$R55,\"TRUE\",PACKT04!P55)+SUMIF(PACKT05!$R55,\"TRUE\",PACKT05!P55)+SUMIF(PACKT06!$R56,\"TRUE\",PACKT06!P56)+SUMIF(PACKT07!$R55,\"TRUE\",PACKT07!P55)+SUMIF(PACKT08!$R55,\"TRUE\",PACKT08!P55)+SUMIF(PACKT09!$R55,\"TRUE\",PACKT09!P55)+SUMIF(PACKT10!$R55,\"TRUE\",PACKT10!P55)+SUMIF(PACKT11!$R55,\"TRUE\",PACKT11!P55)","v":0},{"$f":"SUMIF(PACKT01!$R55,\"TRUE\",PACKT01!Q55)+SUMIF(PACKT02!$R55,\"TRUE\",PACKT02!Q55)+SUMIF(PACKT03!$R55,\"TRUE\",PACKT03!Q55)+SUMIF(PACKT04!$R55,\"TRUE\",PACKT04!Q55)+SUMIF(PACKT05!$R55,\"TRUE\",PACKT05!Q55)+SUMIF(PACKT06!$R56,\"TRUE\",PACKT06!Q56)+SUMIF(PACKT07!$R55,\"TRUE\",PACKT07!Q55)+SUMIF(PACKT08!$R55,\"TRUE\",PACKT08!Q55)+SUMIF(PACKT09!$R55,\"TRUE\",PACKT09!Q55)+SUMIF(PACKT10!$R55,\"TRUE\",PACKT10!Q55)+SUMIF(PACKT11!$R55,\"TRUE\",PACKT11!Q55)","v":0},0]
[null,"EMP0045",{"$f":"VLOOKUP(HRSummarylTable[[#This Row],[EmployeeID]],EmployeeListLookupTable[],2,FALSE)","v":"EMPN045"},{"$f":"VLOOKUP(HRSummarylTable[[#This Row],[EmployeeID]],EmployeeListLookupTable[],3,FALSE)","v":"Employee Name 45"},{"$f":"VLOOKUP(HRSummarylTable[[#This Row],[EmployeeID]],EmployeeListLookupTable[],4,FALSE)","v":"Employee Job Title 45"},"TCTC001 - Total Cost to Company",{"$f":"LEFT(HRSummarylTable[[#This Row],[PackageItemCode]],7)","v":"TCTC001"},{"$f":"VLOOKUP(HRSummarylTable[[#This Row],[PackageItem]],PackageItemListLookup[],2,FALSE)","v":"Total Cost to Company"},null,{"$f":"SUMIF(PACKT01!$R56,\"TRUE\",PACKT01!F56)+SUMIF(PACKT02!$R56,\"TRUE\",PACKT02!F56)+SUMIF(PACKT03!$R56,\"TRUE\",PACKT03!F56)+SUMIF(PACKT04!$R56,\"TRUE\",PACKT04!F56)+SUMIF(PACKT05!$R56,\"TRUE\",PACKT05!F56)+SUMIF(PACKT06!$R57,\"TRUE\",PACKT06!F57)+SUMIF(PACKT07!$R56,\"TRUE\",PACKT07!F56)+SUMIF(PACKT08!$R56,\"TRUE\",PACKT08!F56)+SUMIF(PACKT09!$R56,\"TRUE\",PACKT09!F56)+SUMIF(PACKT10!$R56,\"TRUE\",PACKT10!F56)+SUMIF(PACKT11!$R56,\"TRUE\",PACKT11!F56)","v":0},{"$f":"SUMIF(PACKT01!$R56,\"TRUE\",PACKT01!G56)+SUMIF(PACKT02!$R56,\"TRUE\",PACKT02!G56)+SUMIF(PACKT03!$R56,\"TRUE\",PACKT03!G56)+SUMIF(PACKT04!$R56,\"TRUE\",PACKT04!G56)+SUMIF(PACKT05!$R56,\"TRUE\",PACKT05!G56)+SUMIF(PACKT06!$R57,\"TRUE\",PACKT06!G57)+SUMIF(PACKT07!$R56,\"TRUE\",PACKT07!G56)+SUMIF(PACKT08!$R56,\"TRUE\",PACKT08!G56)+SUMIF(PACKT09!$R56,\"TRUE\",PACKT09!G56)+SUMIF(PACKT10!$R56,\"TRUE\",PACKT10!G56)+SUMIF(PACKT11!$R56,\"TRUE\",PACKT11!G56)","v":0},{"$f":"SUMIF(PACKT01!$R56,\"TRUE\",PACKT01!H56)+SUMIF(PACKT02!$R56,\"TRUE\",PACKT02!H56)+SUMIF(PACKT03!$R56,\"TRUE\",PACKT03!H56)+SUMIF(PACKT04!$R56,\"TRUE\",PACKT04!H56)+SUMIF(PACKT05!$R56,\"TRUE\",PACKT05!H56)+SUMIF(PACKT06!$R57,\"TRUE\",PACKT06!H57)+SUMIF(PACKT07!$R56,\"TRUE\",PACKT07!H56)+SUMIF(PACKT08!$R56,\"TRUE\",PACKT08!H56)+SUMIF(PACKT09!$R56,\"TRUE\",PACKT09!H56)+SUMIF(PACKT10!$R56,\"TRUE\",PACKT10!H56)+SUMIF(PACKT11!$R56,\"TRUE\",PACKT11!H56)","v":0},{"$f":"SUMIF(PACKT01!$R56,\"TRUE\",PACKT01!I56)+SUMIF(PACKT02!$R56,\"TRUE\",PACKT02!I56)+SUMIF(PACKT03!$R56,\"TRUE\",PACKT03!I56)+SUMIF(PACKT04!$R56,\"TRUE\",PACKT04!I56)+SUMIF(PACKT05!$R56,\"TRUE\",PACKT05!I56)+SUMIF(PACKT06!$R57,\"TRUE\",PACKT06!I57)+SUMIF(PACKT07!$R56,\"TRUE\",PACKT07!I56)+SUMIF(PACKT08!$R56,\"TRUE\",PACKT08!I56)+SUMIF(PACKT09!$R56,\"TRUE\",PACKT09!I56)+SUMIF(PACKT10!$R56,\"TRUE\",PACKT10!I56)+SUMIF(PACKT11!$R56,\"TRUE\",PACKT11!I56)","v":0},{"$f":"SUMIF(PACKT01!$R56,\"TRUE\",PACKT01!J56)+SUMIF(PACKT02!$R56,\"TRUE\",PACKT02!J56)+SUMIF(PACKT03!$R56,\"TRUE\",PACKT03!J56)+SUMIF(PACKT04!$R56,\"TRUE\",PACKT04!J56)+SUMIF(PACKT05!$R56,\"TRUE\",PACKT05!J56)+SUMIF(PACKT06!$R57,\"TRUE\",PACKT06!J57)+SUMIF(PACKT07!$R56,\"TRUE\",PACKT07!J56)+SUMIF(PACKT08!$R56,\"TRUE\",PACKT08!J56)+SUMIF(PACKT09!$R56,\"TRUE\",PACKT09!J56)+SUMIF(PACKT10!$R56,\"TRUE\",PACKT10!J56)+SUMIF(PACKT11!$R56,\"TRUE\",PACKT11!J56)","v":0},{"$f":"SUMIF(PACKT01!$R56,\"TRUE\",PACKT01!K56)+SUMIF(PACKT02!$R56,\"TRUE\",PACKT02!K56)+SUMIF(PACKT03!$R56,\"TRUE\",PACKT03!K56)+SUMIF(PACKT04!$R56,\"TRUE\",PACKT04!K56)+SUMIF(PACKT05!$R56,\"TRUE\",PACKT05!K56)+SUMIF(PACKT06!$R57,\"TRUE\",PACKT06!K57)+SUMIF(PACKT07!$R56,\"TRUE\",PACKT07!K56)+SUMIF(PACKT08!$R56,\"TRUE\",PACKT08!K56)+SUMIF(PACKT09!$R56,\"TRUE\",PACKT09!K56)+SUMIF(PACKT10!$R56,\"TRUE\",PACKT10!K56)+SUMIF(PACKT11!$R56,\"TRUE\",PACKT11!K56)","v":0},{"$f":"SUMIF(PACKT01!$R56,\"TRUE\",PACKT01!L56)+SUMIF(PACKT02!$R56,\"TRUE\",PACKT02!L56)+SUMIF(PACKT03!$R56,\"TRUE\",PACKT03!L56)+SUMIF(PACKT04!$R56,\"TRUE\",PACKT04!L56)+SUMIF(PACKT05!$R56,\"TRUE\",PACKT05!L56)+SUMIF(PACKT06!$R57,\"TRUE\",PACKT06!L57)+SUMIF(PACKT07!$R56,\"TRUE\",PACKT07!L56)+SUMIF(PACKT08!$R56,\"TRUE\",PACKT08!L56)+SUMIF(PACKT09!$R56,\"TRUE\",PACKT09!L56)+SUMIF(PACKT10!$R56,\"TRUE\",PACKT10!L56)+SUMIF(PACKT11!$R56,\"TRUE\",PACKT11!L56)","v":0},{"$f":"SUMIF(PACKT01!$R56,\"TRUE\",PACKT01!M56)+SUMIF(PACKT02!$R56,\"TRUE\",PACKT02!M56)+SUMIF(PACKT03!$R56,\"TRUE\",PACKT03!M56)+SUMIF(PACKT04!$R56,\"TRUE\",PACKT04!M56)+SUMIF(PACKT05!$R56,\"TRUE\",PACKT05!M56)+SUMIF(PACKT06!$R57,\"TRUE\",PACKT06!M57)+SUMIF(PACKT07!$R56,\"TRUE\",PACKT07!M56)+SUMIF(PACKT08!$R56,\"TRUE\",PACKT08!M56)+SUMIF(PACKT09!$R56,\"TRUE\",PACKT09!M56)+SUMIF(PACKT10!$R56,\"TRUE\",PACKT10!M56)+SUMIF(PACKT11!$R56,\"TRUE\",PACKT11!M56)","v":0},{"$f":"SUMIF(PACKT01!$R56,\"TRUE\",PACKT01!N56)+SUMIF(PACKT02!$R56,\"TRUE\",PACKT02!N56)+SUMIF(PACKT03!$R56,\"TRUE\",PACKT03!N56)+SUMIF(PACKT04!$R56,\"TRUE\",PACKT04!N56)+SUMIF(PACKT05!$R56,\"TRUE\",PACKT05!N56)+SUMIF(PACKT06!$R57,\"TRUE\",PACKT06!N57)+SUMIF(PACKT07!$R56,\"TRUE\",PACKT07!N56)+SUMIF(PACKT08!$R56,\"TRUE\",PACKT08!N56)+SUMIF(PACKT09!$R56,\"TRUE\",PACKT09!N56)+SUMIF(PACKT10!$R56,\"TRUE\",PACKT10!N56)+SUMIF(PACKT11!$R56,\"TRUE\",PACKT11!N56)","v":0},{"$f":"SUMIF(PACKT01!$R56,\"TRUE\",PACKT01!O56)+SUMIF(PACKT02!$R56,\"TRUE\",PACKT02!O56)+SUMIF(PACKT03!$R56,\"TRUE\",PACKT03!O56)+SUMIF(PACKT04!$R56,\"TRUE\",PACKT04!O56)+SUMIF(PACKT05!$R56,\"TRUE\",PACKT05!O56)+SUMIF(PACKT06!$R57,\"TRUE\",PACKT06!O57)+SUMIF(PACKT07!$R56,\"TRUE\",PACKT07!O56)+SUMIF(PACKT08!$R56,\"TRUE\",PACKT08!O56)+SUMIF(PACKT09!$R56,\"TRUE\",PACKT09!O56)+SUMIF(PACKT10!$R56,\"TRUE\",PACKT10!O56)+SUMIF(PACKT11!$R56,\"TRUE\",PACKT11!O56)","v":0},{"$f":"SUMIF(PACKT01!$R56,\"TRUE\",PACKT01!P56)+SUMIF(PACKT02!$R56,\"TRUE\",PACKT02!P56)+SUMIF(PACKT03!$R56,\"TRUE\",PACKT03!P56)+SUMIF(PACKT04!$R56,\"TRUE\",PACKT04!P56)+SUMIF(PACKT05!$R56,\"TRUE\",PACKT05!P56)+SUMIF(PACKT06!$R57,\"TRUE\",PACKT06!P57)+SUMIF(PACKT07!$R56,\"TRUE\",PACKT07!P56)+SUMIF(PACKT08!$R56,\"TRUE\",PACKT08!P56)+SUMIF(PACKT09!$R56,\"TRUE\",PACKT09!P56)+SUMIF(PACKT10!$R56,\"TRUE\",PACKT10!P56)+SUMIF(PACKT11!$R56,\"TRUE\",PACKT11!P56)","v":0},{"$f":"SUMIF(PACKT01!$R56,\"TRUE\",PACKT01!Q56)+SUMIF(PACKT02!$R56,\"TRUE\",PACKT02!Q56)+SUMIF(PACKT03!$R56,\"TRUE\",PACKT03!Q56)+SUMIF(PACKT04!$R56,\"TRUE\",PACKT04!Q56)+SUMIF(PACKT05!$R56,\"TRUE\",PACKT05!Q56)+SUMIF(PACKT06!$R57,\"TRUE\",PACKT06!Q57)+SUMIF(PACKT07!$R56,\"TRUE\",PACKT07!Q56)+SUMIF(PACKT08!$R56,\"TRUE\",PACKT08!Q56)+SUMIF(PACKT09!$R56,\"TRUE\",PACKT09!Q56)+SUMIF(PACKT10!$R56,\"TRUE\",PACKT10!Q56)+SUMIF(PACKT11!$R56,\"TRUE\",PACKT11!Q56)","v":0},0]
[null,"EMP0046",{"$f":"VLOOKUP(HRSummarylTable[[#This Row],[EmployeeID]],EmployeeListLookupTable[],2,FALSE)","v":"EMPN046"},{"$f":"VLOOKUP(HRSummarylTable[[#This Row],[EmployeeID]],EmployeeListLookupTable[],3,FALSE)","v":"Employee Name 46"},{"$f":"VLOOKUP(HRSummarylTable[[#This Row],[EmployeeID]],EmployeeListLookupTable[],4,FALSE)","v":"Employee Job Title 46"},"TCTC001 - Total Cost to Company",{"$f":"LEFT(HRSummarylTable[[#This Row],[PackageItemCode]],7)","v":"TCTC001"},{"$f":"VLOOKUP(HRSummarylTable[[#This Row],[PackageItem]],PackageItemListLookup[],2,FALSE)","v":"Total Cost to Company"},null,{"$f":"SUMIF(PACKT01!$R57,\"TRUE\",PACKT01!F57)+SUMIF(PACKT02!$R57,\"TRUE\",PACKT02!F57)+SUMIF(PACKT03!$R57,\"TRUE\",PACKT03!F57)+SUMIF(PACKT04!$R57,\"TRUE\",PACKT04!F57)+SUMIF(PACKT05!$R57,\"TRUE\",PACKT05!F57)+SUMIF(PACKT06!$R58,\"TRUE\",PACKT06!F58)+SUMIF(PACKT07!$R57,\"TRUE\",PACKT07!F57)+SUMIF(PACKT08!$R57,\"TRUE\",PACKT08!F57)+SUMIF(PACKT09!$R57,\"TRUE\",PACKT09!F57)+SUMIF(PACKT10!$R57,\"TRUE\",PACKT10!F57)+SUMIF(PACKT11!$R57,\"TRUE\",PACKT11!F57)","v":0},{"$f":"SUMIF(PACKT01!$R57,\"TRUE\",PACKT01!G57)+SUMIF(PACKT02!$R57,\"TRUE\",PACKT02!G57)+SUMIF(PACKT03!$R57,\"TRUE\",PACKT03!G57)+SUMIF(PACKT04!$R57,\"TRUE\",PACKT04!G57)+SUMIF(PACKT05!$R57,\"TRUE\",PACKT05!G57)+SUMIF(PACKT06!$R58,\"TRUE\",PACKT06!G58)+SUMIF(PACKT07!$R57,\"TRUE\",PACKT07!G57)+SUMIF(PACKT08!$R57,\"TRUE\",PACKT08!G57)+SUMIF(PACKT09!$R57,\"TRUE\",PACKT09!G57)+SUMIF(PACKT10!$R57,\"TRUE\",PACKT10!G57)+SUMIF(PACKT11!$R57,\"TRUE\",PACKT11!G57)","v":0},{"$f":"SUMIF(PACKT01!$R57,\"TRUE\",PACKT01!H57)+SUMIF(PACKT02!$R57,\"TRUE\",PACKT02!H57)+SUMIF(PACKT03!$R57,\"TRUE\",PACKT03!H57)+SUMIF(PACKT04!$R57,\"TRUE\",PACKT04!H57)+SUMIF(PACKT05!$R57,\"TRUE\",PACKT05!H57)+SUMIF(PACKT06!$R58,\"TRUE\",PACKT06!H58)+SUMIF(PACKT07!$R57,\"TRUE\",PACKT07!H57)+SUMIF(PACKT08!$R57,\"TRUE\",PACKT08!H57)+SUMIF(PACKT09!$R57,\"TRUE\",PACKT09!H57)+SUMIF(PACKT10!$R57,\"TRUE\",PACKT10!H57)+SUMIF(PACKT11!$R57,\"TRUE\",PACKT11!H57)","v":0},{"$f":"SUMIF(PACKT01!$R57,\"TRUE\",PACKT01!I57)+SUMIF(PACKT02!$R57,\"TRUE\",PACKT02!I57)+SUMIF(PACKT03!$R57,\"TRUE\",PACKT03!I57)+SUMIF(PACKT04!$R57,\"TRUE\",PACKT04!I57)+SUMIF(PACKT05!$R57,\"TRUE\",PACKT05!I57)+SUMIF(PACKT06!$R58,\"TRUE\",PACKT06!I58)+SUMIF(PACKT07!$R57,\"TRUE\",PACKT07!I57)+SUMIF(PACKT08!$R57,\"TRUE\",PACKT08!I57)+SUMIF(PACKT09!$R57,\"TRUE\",PACKT09!I57)+SUMIF(PACKT10!$R57,\"TRUE\",PACKT10!I57)+SUMIF(PACKT11!$R57,\"TRUE\",PACKT11!I57)","v":0},{"$f":"SUMIF(PACKT01!$R57,\"TRUE\",PACKT01!J57)+SUMIF(PACKT02!$R57,\"TRUE\",PACKT02!J57)+SUMIF(PACKT03!$R57,\"TRUE\",PACKT03!J57)+SUMIF(PACKT04!$R57,\"TRUE\",PACKT04!J57)+SUMIF(PACKT05!$R57,\"TRUE\",PACKT05!J57)+SUMIF(PACKT06!$R58,\"TRUE\",PACKT06!J58)+SUMIF(PACKT07!$R57,\"TRUE\",PACKT07!J57)+SUMIF(PACKT08!$R57,\"TRUE\",PACKT08!J57)+SUMIF(PACKT09!$R57,\"TRUE\",PACKT09!J57)+SUMIF(PACKT10!$R57,\"TRUE\",PACKT10!J57)+SUMIF(PACKT11!$R57,\"TRUE\",PACKT11!J57)","v":0},{"$f":"SUMIF(PACKT01!$R57,\"TRUE\",PACKT01!K57)+SUMIF(PACKT02!$R57,\"TRUE\",PACKT02!K57)+SUMIF(PACKT03!$R57,\"TRUE\",PACKT03!K57)+SUMIF(PACKT04!$R57,\"TRUE\",PACKT04!K57)+SUMIF(PACKT05!$R57,\"TRUE\",PACKT05!K57)+SUMIF(PACKT06!$R58,\"TRUE\",PACKT06!K58)+SUMIF(PACKT07!$R57,\"TRUE\",PACKT07!K57)+SUMIF(PACKT08!$R57,\"TRUE\",PACKT08!K57)+SUMIF(PACKT09!$R57,\"TRUE\",PACKT09!K57)+SUMIF(PACKT10!$R57,\"TRUE\",PACKT10!K57)+SUMIF(PACKT11!$R57,\"TRUE\",PACKT11!K57)","v":0},{"$f":"SUMIF(PACKT01!$R57,\"TRUE\",PACKT01!L57)+SUMIF(PACKT02!$R57,\"TRUE\",PACKT02!L57)+SUMIF(PACKT03!$R57,\"TRUE\",PACKT03!L57)+SUMIF(PACKT04!$R57,\"TRUE\",PACKT04!L57)+SUMIF(PACKT05!$R57,\"TRUE\",PACKT05!L57)+SUMIF(PACKT06!$R58,\"TRUE\",PACKT06!L58)+SUMIF(PACKT07!$R57,\"TRUE\",PACKT07!L57)+SUMIF(PACKT08!$R57,\"TRUE\",PACKT08!L57)+SUMIF(PACKT09!$R57,\"TRUE\",PACKT09!L57)+SUMIF(PACKT10!$R57,\"TRUE\",PACKT10!L57)+SUMIF(PACKT11!$R57,\"TRUE\",PACKT11!L57)","v":0},{"$f":"SUMIF(PACKT01!$R57,\"TRUE\",PACKT01!M57)+SUMIF(PACKT02!$R57,\"TRUE\",PACKT02!M57)+SUMIF(PACKT03!$R57,\"TRUE\",PACKT03!M57)+SUMIF(PACKT04!$R57,\"TRUE\",PACKT04!M57)+SUMIF(PACKT05!$R57,\"TRUE\",PACKT05!M57)+SUMIF(PACKT06!$R58,\"TRUE\",PACKT06!M58)+SUMIF(PACKT07!$R57,\"TRUE\",PACKT07!M57)+SUMIF(PACKT08!$R57,\"TRUE\",PACKT08!M57)+SUMIF(PACKT09!$R57,\"TRUE\",PACKT09!M57)+SUMIF(PACKT10!$R57,\"TRUE\",PACKT10!M57)+SUMIF(PACKT11!$R57,\"TRUE\",PACKT11!M57)","v":0},{"$f":"SUMIF(PACKT01!$R57,\"TRUE\",PACKT01!N57)+SUMIF(PACKT02!$R57,\"TRUE\",PACKT02!N57)+SUMIF(PACKT03!$R57,\"TRUE\",PACKT03!N57)+SUMIF(PACKT04!$R57,\"TRUE\",PACKT04!N57)+SUMIF(PACKT05!$R57,\"TRUE\",PACKT05!N57)+SUMIF(PACKT06!$R58,\"TRUE\",PACKT06!N58)+SUMIF(PACKT07!$R57,\"TRUE\",PACKT07!N57)+SUMIF(PACKT08!$R57,\"TRUE\",PACKT08!N57)+SUMIF(PACKT09!$R57,\"TRUE\",PACKT09!N57)+SUMIF(PACKT10!$R57,\"TRUE\",PACKT10!N57)+SUMIF(PACKT11!$R57,\"TRUE\",PACKT11!N57)","v":0},{"$f":"SUMIF(PACKT01!$R57,\"TRUE\",PACKT01!O57)+SUMIF(PACKT02!$R57,\"TRUE\",PACKT02!O57)+SUMIF(PACKT03!$R57,\"TRUE\",PACKT03!O57)+SUMIF(PACKT04!$R57,\"TRUE\",PACKT04!O57)+SUMIF(PACKT05!$R57,\"TRUE\",PACKT05!O57)+SUMIF(PACKT06!$R58,\"TRUE\",PACKT06!O58)+SUMIF(PACKT07!$R57,\"TRUE\",PACKT07!O57)+SUMIF(PACKT08!$R57,\"TRUE\",PACKT08!O57)+SUMIF(PACKT09!$R57,\"TRUE\",PACKT09!O57)+SUMIF(PACKT10!$R57,\"TRUE\",PACKT10!O57)+SUMIF(PACKT11!$R57,\"TRUE\",PACKT11!O57)","v":0},{"$f":"SUMIF(PACKT01!$R57,\"TRUE\",PACKT01!P57)+SUMIF(PACKT02!$R57,\"TRUE\",PACKT02!P57)+SUMIF(PACKT03!$R57,\"TRUE\",PACKT03!P57)+SUMIF(PACKT04!$R57,\"TRUE\",PACKT04!P57)+SUMIF(PACKT05!$R57,\"TRUE\",PACKT05!P57)+SUMIF(PACKT06!$R58,\"TRUE\",PACKT06!P58)+SUMIF(PACKT07!$R57,\"TRUE\",PACKT07!P57)+SUMIF(PACKT08!$R57,\"TRUE\",PACKT08!P57)+SUMIF(PACKT09!$R57,\"TRUE\",PACKT09!P57)+SUMIF(PACKT10!$R57,\"TRUE\",PACKT10!P57)+SUMIF(PACKT11!$R57,\"TRUE\",PACKT11!P57)","v":0},{"$f":"SUMIF(PACKT01!$R57,\"TRUE\",PACKT01!Q57)+SUMIF(PACKT02!$R57,\"TRUE\",PACKT02!Q57)+SUMIF(PACKT03!$R57,\"TRUE\",PACKT03!Q57)+SUMIF(PACKT04!$R57,\"TRUE\",PACKT04!Q57)+SUMIF(PACKT05!$R57,\"TRUE\",PACKT05!Q57)+SUMIF(PACKT06!$R58,\"TRUE\",PACKT06!Q58)+SUMIF(PACKT07!$R57,\"TRUE\",PACKT07!Q57)+SUMIF(PACKT08!$R57,\"TRUE\",PACKT08!Q57)+SUMIF(PACKT09!$R57,\"TRUE\",PACKT09!Q57)+SUMIF(PACKT10!$R57,\"TRUE\",PACKT10!Q57)+SUMIF(PACKT11!$R57,\"TRUE\",PACKT11!Q57)","v":0},0]
[null,"EMP0047",{"$f":"VLOOKUP(HRSummarylTable[[#This Row],[EmployeeID]],EmployeeListLookupTable[],2,FALSE)","v":"EMPN047"},{"$f":"VLOOKUP(HRSummarylTable[[#This Row],[EmployeeID]],EmployeeListLookupTable[],3,FALSE)","v":"Employee Name 47"},{"$f":"VLOOKUP(HRSummarylTable[[#This Row],[EmployeeID]],EmployeeListLookupTable[],4,FALSE)","v":"Employee Job Title 47"},"TCTC001 - Total Cost to Company",{"$f":"LEFT(HRSummarylTable[[#This Row],[PackageItemCode]],7)","v":"TCTC001"},{"$f":"VLOOKUP(HRSummarylTable[[#This Row],[PackageItem]],PackageItemListLookup[],2,FALSE)","v":"Total Cost to Company"},null,{"$f":"SUMIF(PACKT01!$R58,\"TRUE\",PACKT01!F58)+SUMIF(PACKT02!$R58,\"TRUE\",PACKT02!F58)+SUMIF(PACKT03!$R58,\"TRUE\",PACKT03!F58)+SUMIF(PACKT04!$R58,\"TRUE\",PACKT04!F58)+SUMIF(PACKT05!$R58,\"TRUE\",PACKT05!F58)+SUMIF(PACKT06!$R59,\"TRUE\",PACKT06!F59)+SUMIF(PACKT07!$R58,\"TRUE\",PACKT07!F58)+SUMIF(PACKT08!$R58,\"TRUE\",PACKT08!F58)+SUMIF(PACKT09!$R58,\"TRUE\",PACKT09!F58)+SUMIF(PACKT10!$R58,\"TRUE\",PACKT10!F58)+SUMIF(PACKT11!$R58,\"TRUE\",PACKT11!F58)","v":0},{"$f":"SUMIF(PACKT01!$R58,\"TRUE\",PACKT01!G58)+SUMIF(PACKT02!$R58,\"TRUE\",PACKT02!G58)+SUMIF(PACKT03!$R58,\"TRUE\",PACKT03!G58)+SUMIF(PACKT04!$R58,\"TRUE\",PACKT04!G58)+SUMIF(PACKT05!$R58,\"TRUE\",PACKT05!G58)+SUMIF(PACKT06!$R59,\"TRUE\",PACKT06!G59)+SUMIF(PACKT07!$R58,\"TRUE\",PACKT07!G58)+SUMIF(PACKT08!$R58,\"TRUE\",PACKT08!G58)+SUMIF(PACKT09!$R58,\"TRUE\",PACKT09!G58)+SUMIF(PACKT10!$R58,\"TRUE\",PACKT10!G58)+SUMIF(PACKT11!$R58,\"TRUE\",PACKT11!G58)","v":0},{"$f":"SUMIF(PACKT01!$R58,\"TRUE\",PACKT01!H58)+SUMIF(PACKT02!$R58,\"TRUE\",PACKT02!H58)+SUMIF(PACKT03!$R58,\"TRUE\",PACKT03!H58)+SUMIF(PACKT04!$R58,\"TRUE\",PACKT04!H58)+SUMIF(PACKT05!$R58,\"TRUE\",PACKT05!H58)+SUMIF(PACKT06!$R59,\"TRUE\",PACKT06!H59)+SUMIF(PACKT07!$R58,\"TRUE\",PACKT07!H58)+SUMIF(PACKT08!$R58,\"TRUE\",PACKT08!H58)+SUMIF(PACKT09!$R58,\"TRUE\",PACKT09!H58)+SUMIF(PACKT10!$R58,\"TRUE\",PACKT10!H58)+SUMIF(PACKT11!$R58,\"TRUE\",PACKT11!H58)","v":0},{"$f":"SUMIF(PACKT01!$R58,\"TRUE\",PACKT01!I58)+SUMIF(PACKT02!$R58,\"TRUE\",PACKT02!I58)+SUMIF(PACKT03!$R58,\"TRUE\",PACKT03!I58)+SUMIF(PACKT04!$R58,\"TRUE\",PACKT04!I58)+SUMIF(PACKT05!$R58,\"TRUE\",PACKT05!I58)+SUMIF(PACKT06!$R59,\"TRUE\",PACKT06!I59)+SUMIF(PACKT07!$R58,\"TRUE\",PACKT07!I58)+SUMIF(PACKT08!$R58,\"TRUE\",PACKT08!I58)+SUMIF(PACKT09!$R58,\"TRUE\",PACKT09!I58)+SUMIF(PACKT10!$R58,\"TRUE\",PACKT10!I58)+SUMIF(PACKT11!$R58,\"TRUE\",PACKT11!I58)","v":0},{"$f":"SUMIF(PACKT01!$R58,\"TRUE\",PACKT01!J58)+SUMIF(PACKT02!$R58,\"TRUE\",PACKT02!J58)+SUMIF(PACKT03!$R58,\"TRUE\",PACKT03!J58)+SUMIF(PACKT04!$R58,\"TRUE\",PACKT04!J58)+SUMIF(PACKT05!$R58,\"TRUE\",PACKT05!J58)+SUMIF(PACKT06!$R59,\"TRUE\",PACKT06!J59)+SUMIF(PACKT07!$R58,\"TRUE\",PACKT07!J58)+SUMIF(PACKT08!$R58,\"TRUE\",PACKT08!J58)+SUMIF(PACKT09!$R58,\"TRUE\",PACKT09!J58)+SUMIF(PACKT10!$R58,\"TRUE\",PACKT10!J58)+SUMIF(PACKT11!$R58,\"TRUE\",PACKT11!J58)","v":0},{"$f":"SUMIF(PACKT01!$R58,\"TRUE\",PACKT01!K58)+SUMIF(PACKT02!$R58,\"TRUE\",PACKT02!K58)+SUMIF(PACKT03!$R58,\"TRUE\",PACKT03!K58)+SUMIF(PACKT04!$R58,\"TRUE\",PACKT04!K58)+SUMIF(PACKT05!$R58,\"TRUE\",PACKT05!K58)+SUMIF(PACKT06!$R59,\"TRUE\",PACKT06!K59)+SUMIF(PACKT07!$R58,\"TRUE\",PACKT07!K58)+SUMIF(PACKT08!$R58,\"TRUE\",PACKT08!K58)+SUMIF(PACKT09!$R58,\"TRUE\",PACKT09!K58)+SUMIF(PACKT10!$R58,\"TRUE\",PACKT10!K58)+SUMIF(PACKT11!$R58,\"TRUE\",PACKT11!K58)","v":0},{"$f":"SUMIF(PACKT01!$R58,\"TRUE\",PACKT01!L58)+SUMIF(PACKT02!$R58,\"TRUE\",PACKT02!L58)+SUMIF(PACKT03!$R58,\"TRUE\",PACKT03!L58)+SUMIF(PACKT04!$R58,\"TRUE\",PACKT04!L58)+SUMIF(PACKT05!$R58,\"TRUE\",PACKT05!L58)+SUMIF(PACKT06!$R59,\"TRUE\",PACKT06!L59)+SUMIF(PACKT07!$R58,\"TRUE\",PACKT07!L58)+SUMIF(PACKT08!$R58,\"TRUE\",PACKT08!L58)+SUMIF(PACKT09!$R58,\"TRUE\",PACKT09!L58)+SUMIF(PACKT10!$R58,\"TRUE\",PACKT10!L58)+SUMIF(PACKT11!$R58,\"TRUE\",PACKT11!L58)","v":0},{"$f":"SUMIF(PACKT01!$R58,\"TRUE\",PACKT01!M58)+SUMIF(PACKT02!$R58,\"TRUE\",PACKT02!M58)+SUMIF(PACKT03!$R58,\"TRUE\",PACKT03!M58)+SUMIF(PACKT04!$R58,\"TRUE\",PACKT04!M58)+SUMIF(PACKT05!$R58,\"TRUE\",PACKT05!M58)+SUMIF(PACKT06!$R59,\"TRUE\",PACKT06!M59)+SUMIF(PACKT07!$R58,\"TRUE\",PACKT07!M58)+SUMIF(PACKT08!$R58,\"TRUE\",PACKT08!M58)+SUMIF(PACKT09!$R58,\"TRUE\",PACKT09!M58)+SUMIF(PACKT10!$R58,\"TRUE\",PACKT10!M58)+SUMIF(PACKT11!$R58,\"TRUE\",PACKT11!M58)","v":0},{"$f":"SUMIF(PACKT01!$R58,\"TRUE\",PACKT01!N58)+SUMIF(PACKT02!$R58,\"TRUE\",PACKT02!N58)+SUMIF(PACKT03!$R58,\"TRUE\",PACKT03!N58)+SUMIF(PACKT04!$R58,\"TRUE\",PACKT04!N58)+SUMIF(PACKT05!$R58,\"TRUE\",PACKT05!N58)+SUMIF(PACKT06!$R59,\"TRUE\",PACKT06!N59)+SUMIF(PACKT07!$R58,\"TRUE\",PACKT07!N58)+SUMIF(PACKT08!$R58,\"TRUE\",PACKT08!N58)+SUMIF(PACKT09!$R58,\"TRUE\",PACKT09!N58)+SUMIF(PACKT10!$R58,\"TRUE\",PACKT10!N58)+SUMIF(PACKT11!$R58,\"TRUE\",PACKT11!N58)","v":0},{"$f":"SUMIF(PACKT01!$R58,\"TRUE\",PACKT01!O58)+SUMIF(PACKT02!$R58,\"TRUE\",PACKT02!O58)+SUMIF(PACKT03!$R58,\"TRUE\",PACKT03!O58)+SUMIF(PACKT04!$R58,\"TRUE\",PACKT04!O58)+SUMIF(PACKT05!$R58,\"TRUE\",PACKT05!O58)+SUMIF(PACKT06!$R59,\"TRUE\",PACKT06!O59)+SUMIF(PACKT07!$R58,\"TRUE\",PACKT07!O58)+SUMIF(PACKT08!$R58,\"TRUE\",PACKT08!O58)+SUMIF(PACKT09!$R58,\"TRUE\",PACKT09!O58)+SUMIF(PACKT10!$R58,\"TRUE\",PACKT10!O58)+SUMIF(PACKT11!$R58,\"TRUE\",PACKT11!O58)","v":0},{"$f":"SUMIF(PACKT01!$R58,\"TRUE\",PACKT01!P58)+SUMIF(PACKT02!$R58,\"TRUE\",PACKT02!P58)+SUMIF(PACKT03!$R58,\"TRUE\",PACKT03!P58)+SUMIF(PACKT04!$R58,\"TRUE\",PACKT04!P58)+SUMIF(PACKT05!$R58,\"TRUE\",PACKT05!P58)+SUMIF(PACKT06!$R59,\"TRUE\",PACKT06!P59)+SUMIF(PACKT07!$R58,\"TRUE\",PACKT07!P58)+SUMIF(PACKT08!$R58,\"TRUE\",PACKT08!P58)+SUMIF(PACKT09!$R58,\"TRUE\",PACKT09!P58)+SUMIF(PACKT10!$R58,\"TRUE\",PACKT10!P58)+SUMIF(PACKT11!$R58,\"TRUE\",PACKT11!P58)","v":0},{"$f":"SUMIF(PACKT01!$R58,\"TRUE\",PACKT01!Q58)+SUMIF(PACKT02!$R58,\"TRUE\",PACKT02!Q58)+SUMIF(PACKT03!$R58,\"TRUE\",PACKT03!Q58)+SUMIF(PACKT04!$R58,\"TRUE\",PACKT04!Q58)+SUMIF(PACKT05!$R58,\"TRUE\",PACKT05!Q58)+SUMIF(PACKT06!$R59,\"TRUE\",PACKT06!Q59)+SUMIF(PACKT07!$R58,\"TRUE\",PACKT07!Q58)+SUMIF(PACKT08!$R58,\"TRUE\",PACKT08!Q58)+SUMIF(PACKT09!$R58,\"TRUE\",PACKT09!Q58)+SUMIF(PACKT10!$R58,\"TRUE\",PACKT10!Q58)+SUMIF(PACKT11!$R58,\"TRUE\",PACKT11!Q58)","v":0},0]
[null,"EMP0048",{"$f":"VLOOKUP(HRSummarylTable[[#This Row],[EmployeeID]],EmployeeListLookupTable[],2,FALSE)","v":"EMPN048"},{"$f":"VLOOKUP(HRSummarylTable[[#This Row],[EmployeeID]],EmployeeListLookupTable[],3,FALSE)","v":"Employee Name 48"},{"$f":"VLOOKUP(HRSummarylTable[[#This Row],[EmployeeID]],EmployeeListLookupTable[],4,FALSE)","v":"Employee Job Title 48"},"TCTC001 - Total Cost to Company",{"$f":"LEFT(HRSummarylTable[[#This Row],[PackageItemCode]],7)","v":"TCTC001"},{"$f":"VLOOKUP(HRSummarylTable[[#This Row],[PackageItem]],PackageItemListLookup[],2,FALSE)","v":"Total Cost to Company"},null,{"$f":"SUMIF(PACKT01!$R59,\"TRUE\",PACKT01!F59)+SUMIF(PACKT02!$R59,\"TRUE\",PACKT02!F59)+SUMIF(PACKT03!$R59,\"TRUE\",PACKT03!F59)+SUMIF(PACKT04!$R59,\"TRUE\",PACKT04!F59)+SUMIF(PACKT05!$R59,\"TRUE\",PACKT05!F59)+SUMIF(PACKT06!$R60,\"TRUE\",PACKT06!F60)+SUMIF(PACKT07!$R59,\"TRUE\",PACKT07!F59)+SUMIF(PACKT08!$R59,\"TRUE\",PACKT08!F59)+SUMIF(PACKT09!$R59,\"TRUE\",PACKT09!F59)+SUMIF(PACKT10!$R59,\"TRUE\",PACKT10!F59)+SUMIF(PACKT11!$R59,\"TRUE\",PACKT11!F59)","v":0},{"$f":"SUMIF(PACKT01!$R59,\"TRUE\",PACKT01!G59)+SUMIF(PACKT02!$R59,\"TRUE\",PACKT02!G59)+SUMIF(PACKT03!$R59,\"TRUE\",PACKT03!G59)+SUMIF(PACKT04!$R59,\"TRUE\",PACKT04!G59)+SUMIF(PACKT05!$R59,\"TRUE\",PACKT05!G59)+SUMIF(PACKT06!$R60,\"TRUE\",PACKT06!G60)+SUMIF(PACKT07!$R59,\"TRUE\",PACKT07!G59)+SUMIF(PACKT08!$R59,\"TRUE\",PACKT08!G59)+SUMIF(PACKT09!$R59,\"TRUE\",PACKT09!G59)+SUMIF(PACKT10!$R59,\"TRUE\",PACKT10!G59)+SUMIF(PACKT11!$R59,\"TRUE\",PACKT11!G59)","v":0},{"$f":"SUMIF(PACKT01!$R59,\"TRUE\",PACKT01!H59)+SUMIF(PACKT02!$R59,\"TRUE\",PACKT02!H59)+SUMIF(PACKT03!$R59,\"TRUE\",PACKT03!H59)+SUMIF(PACKT04!$R59,\"TRUE\",PACKT04!H59)+SUMIF(PACKT05!$R59,\"TRUE\",PACKT05!H59)+SUMIF(PACKT06!$R60,\"TRUE\",PACKT06!H60)+SUMIF(PACKT07!$R59,\"TRUE\",PACKT07!H59)+SUMIF(PACKT08!$R59,\"TRUE\",PACKT08!H59)+SUMIF(PACKT09!$R59,\"TRUE\",PACKT09!H59)+SUMIF(PACKT10!$R59,\"TRUE\",PACKT10!H59)+SUMIF(PACKT11!$R59,\"TRUE\",PACKT11!H59)","v":0},{"$f":"SUMIF(PACKT01!$R59,\"TRUE\",PACKT01!I59)+SUMIF(PACKT02!$R59,\"TRUE\",PACKT02!I59)+SUMIF(PACKT03!$R59,\"TRUE\",PACKT03!I59)+SUMIF(PACKT04!$R59,\"TRUE\",PACKT04!I59)+SUMIF(PACKT05!$R59,\"TRUE\",PACKT05!I59)+SUMIF(PACKT06!$R60,\"TRUE\",PACKT06!I60)+SUMIF(PACKT07!$R59,\"TRUE\",PACKT07!I59)+SUMIF(PACKT08!$R59,\"TRUE\",PACKT08!I59)+SUMIF(PACKT09!$R59,\"TRUE\",PACKT09!I59)+SUMIF(PACKT10!$R59,\"TRUE\",PACKT10!I59)+SUMIF(PACKT11!$R59,\"TRUE\",PACKT11!I59)","v":0},{"$f":"SUMIF(PACKT01!$R59,\"TRUE\",PACKT01!J59)+SUMIF(PACKT02!$R59,\"TRUE\",PACKT02!J59)+SUMIF(PACKT03!$R59,\"TRUE\",PACKT03!J59)+SUMIF(PACKT04!$R59,\"TRUE\",PACKT04!J59)+SUMIF(PACKT05!$R59,\"TRUE\",PACKT05!J59)+SUMIF(PACKT06!$R60,\"TRUE\",PACKT06!J60)+SUMIF(PACKT07!$R59,\"TRUE\",PACKT07!J59)+SUMIF(PACKT08!$R59,\"TRUE\",PACKT08!J59)+SUMIF(PACKT09!$R59,\"TRUE\",PACKT09!J59)+SUMIF(PACKT10!$R59,\"TRUE\",PACKT10!J59)+SUMIF(PACKT11!$R59,\"TRUE\",PACKT11!J59)","v":0},{"$f":"SUMIF(PACKT01!$R59,\"TRUE\",PACKT01!K59)+SUMIF(PACKT02!$R59,\"TRUE\",PACKT02!K59)+SUMIF(PACKT03!$R59,\"TRUE\",PACKT03!K59)+SUMIF(PACKT04!$R59,\"TRUE\",PACKT04!K59)+SUMIF(PACKT05!$R59,\"TRUE\",PACKT05!K59)+SUMIF(PACKT06!$R60,\"TRUE\",PACKT06!K60)+SUMIF(PACKT07!$R59,\"TRUE\",PACKT07!K59)+SUMIF(PACKT08!$R59,\"TRUE\",PACKT08!K59)+SUMIF(PACKT09!$R59,\"TRUE\",PACKT09!K59)+SUMIF(PACKT10!$R59,\"TRUE\",PACKT10!K59)+SUMIF(PACKT11!$R59,\"TRUE\",PACKT11!K59)","v":0},{"$f":"SUMIF(PACKT01!$R59,\"TRUE\",PACKT01!L59)+SUMIF(PACKT02!$R59,\"TRUE\",PACKT02!L59)+SUMIF(PACKT03!$R59,\"TRUE\",PACKT03!L59)+SUMIF(PACKT04!$R59,\"TRUE\",PACKT04!L59)+SUMIF(PACKT05!$R59,\"TRUE\",PACKT05!L59)+SUMIF(PACKT06!$R60,\"TRUE\",PACKT06!L60)+SUMIF(PACKT07!$R59,\"TRUE\",PACKT07!L59)+SUMIF(PACKT08!$R59,\"TRUE\",PACKT08!L59)+SUMIF(PACKT09!$R59,\"TRUE\",PACKT09!L59)+SUMIF(PACKT10!$R59,\"TRUE\",PACKT10!L59)+SUMIF(PACKT11!$R59,\"TRUE\",PACKT11!L59)","v":0},{"$f":"SUMIF(PACKT01!$R59,\"TRUE\",PACKT01!M59)+SUMIF(PACKT02!$R59,\"TRUE\",PACKT02!M59)+SUMIF(PACKT03!$R59,\"TRUE\",PACKT03!M59)+SUMIF(PACKT04!$R59,\"TRUE\",PACKT04!M59)+SUMIF(PACKT05!$R59,\"TRUE\",PACKT05!M59)+SUMIF(PACKT06!$R60,\"TRUE\",PACKT06!M60)+SUMIF(PACKT07!$R59,\"TRUE\",PACKT07!M59)+SUMIF(PACKT08!$R59,\"TRUE\",PACKT08!M59)+SUMIF(PACKT09!$R59,\"TRUE\",PACKT09!M59)+SUMIF(PACKT10!$R59,\"TRUE\",PACKT10!M59)+SUMIF(PACKT11!$R59,\"TRUE\",PACKT11!M59)","v":0},{"$f":"SUMIF(PACKT01!$R59,\"TRUE\",PACKT01!N59)+SUMIF(PACKT02!$R59,\"TRUE\",PACKT02!N59)+SUMIF(PACKT03!$R59,\"TRUE\",PACKT03!N59)+SUMIF(PACKT04!$R59,\"TRUE\",PACKT04!N59)+SUMIF(PACKT05!$R59,\"TRUE\",PACKT05!N59)+SUMIF(PACKT06!$R60,\"TRUE\",PACKT06!N60)+SUMIF(PACKT07!$R59,\"TRUE\",PACKT07!N59)+SUMIF(PACKT08!$R59,\"TRUE\",PACKT08!N59)+SUMIF(PACKT09!$R59,\"TRUE\",PACKT09!N59)+SUMIF(PACKT10!$R59,\"TRUE\",PACKT10!N59)+SUMIF(PACKT11!$R59,\"TRUE\",PACKT11!N59)","v":0},{"$f":"SUMIF(PACKT01!$R59,\"TRUE\",PACKT01!O59)+SUMIF(PACKT02!$R59,\"TRUE\",PACKT02!O59)+SUMIF(PACKT03!$R59,\"TRUE\",PACKT03!O59)+SUMIF(PACKT04!$R59,\"TRUE\",PACKT04!O59)+SUMIF(PACKT05!$R59,\"TRUE\",PACKT05!O59)+SUMIF(PACKT06!$R60,\"TRUE\",PACKT06!O60)+SUMIF(PACKT07!$R59,\"TRUE\",PACKT07!O59)+SUMIF(PACKT08!$R59,\"TRUE\",PACKT08!O59)+SUMIF(PACKT09!$R59,\"TRUE\",PACKT09!O59)+SUMIF(PACKT10!$R59,\"TRUE\",PACKT10!O59)+SUMIF(PACKT11!$R59,\"TRUE\",PACKT11!O59)","v":0},{"$f":"SUMIF(PACKT01!$R59,\"TRUE\",PACKT01!P59)+SUMIF(PACKT02!$R59,\"TRUE\",PACKT02!P59)+SUMIF(PACKT03!$R59,\"TRUE\",PACKT03!P59)+SUMIF(PACKT04!$R59,\"TRUE\",PACKT04!P59)+SUMIF(PACKT05!$R59,\"TRUE\",PACKT05!P59)+SUMIF(PACKT06!$R60,\"TRUE\",PACKT06!P60)+SUMIF(PACKT07!$R59,\"TRUE\",PACKT07!P59)+SUMIF(PACKT08!$R59,\"TRUE\",PACKT08!P59)+SUMIF(PACKT09!$R59,\"TRUE\",PACKT09!P59)+SUMIF(PACKT10!$R59,\"TRUE\",PACKT10!P59)+SUMIF(PACKT11!$R59,\"TRUE\",PACKT11!P59)","v":0},{"$f":"SUMIF(PACKT01!$R59,\"TRUE\",PACKT01!Q59)+SUMIF(PACKT02!$R59,\"TRUE\",PACKT02!Q59)+SUMIF(PACKT03!$R59,\"TRUE\",PACKT03!Q59)+SUMIF(PACKT04!$R59,\"TRUE\",PACKT04!Q59)+SUMIF(PACKT05!$R59,\"TRUE\",PACKT05!Q59)+SUMIF(PACKT06!$R60,\"TRUE\",PACKT06!Q60)+SUMIF(PACKT07!$R59,\"TRUE\",PACKT07!Q59)+SUMIF(PACKT08!$R59,\"TRUE\",PACKT08!Q59)+SUMIF(PACKT09!$R59,\"TRUE\",PACKT09!Q59)+SUMIF(PACKT10!$R59,\"TRUE\",PACKT10!Q59)+SUMIF(PACKT11!$R59,\"TRUE\",PACKT11!Q59)","v":0},0]
[null,"EMP0049",{"$f":"VLOOKUP(HRSummarylTable[[#This Row],[EmployeeID]],EmployeeListLookupTable[],2,FALSE)","v":"EMPN049"},{"$f":"VLOOKUP(HRSummarylTable[[#This Row],[EmployeeID]],EmployeeListLookupTable[],3,FALSE)","v":"Employee Name 49"},{"$f":"VLOOKUP(HRSummarylTable[[#This Row],[EmployeeID]],EmployeeListLookupTable[],4,FALSE)","v":"Employee Job Title 49"},"TCTC001 - Total Cost to Company",{"$f":"LEFT(HRSummarylTable[[#This Row],[PackageItemCode]],7)","v":"TCTC001"},{"$f":"VLOOKUP(HRSummarylTable[[#This Row],[PackageItem]],PackageItemListLookup[],2,FALSE)","v":"Total Cost to Company"},null,{"$f":"SUMIF(PACKT01!$R60,\"TRUE\",PACKT01!F60)+SUMIF(PACKT02!$R60,\"TRUE\",PACKT02!F60)+SUMIF(PACKT03!$R60,\"TRUE\",PACKT03!F60)+SUMIF(PACKT04!$R60,\"TRUE\",PACKT04!F60)+SUMIF(PACKT05!$R60,\"TRUE\",PACKT05!F60)+SUMIF(PACKT06!$R61,\"TRUE\",PACKT06!F61)+SUMIF(PACKT07!$R60,\"TRUE\",PACKT07!F60)+SUMIF(PACKT08!$R60,\"TRUE\",PACKT08!F60)+SUMIF(PACKT09!$R60,\"TRUE\",PACKT09!F60)+SUMIF(PACKT10!$R60,\"TRUE\",PACKT10!F60)+SUMIF(PACKT11!$R60,\"TRUE\",PACKT11!F60)","v":0},{"$f":"SUMIF(PACKT01!$R60,\"TRUE\",PACKT01!G60)+SUMIF(PACKT02!$R60,\"TRUE\",PACKT02!G60)+SUMIF(PACKT03!$R60,\"TRUE\",PACKT03!G60)+SUMIF(PACKT04!$R60,\"TRUE\",PACKT04!G60)+SUMIF(PACKT05!$R60,\"TRUE\",PACKT05!G60)+SUMIF(PACKT06!$R61,\"TRUE\",PACKT06!G61)+SUMIF(PACKT07!$R60,\"TRUE\",PACKT07!G60)+SUMIF(PACKT08!$R60,\"TRUE\",PACKT08!G60)+SUMIF(PACKT09!$R60,\"TRUE\",PACKT09!G60)+SUMIF(PACKT10!$R60,\"TRUE\",PACKT10!G60)+SUMIF(PACKT11!$R60,\"TRUE\",PACKT11!G60)","v":0},{"$f":"SUMIF(PACKT01!$R60,\"TRUE\",PACKT01!H60)+SUMIF(PACKT02!$R60,\"TRUE\",PACKT02!H60)+SUMIF(PACKT03!$R60,\"TRUE\",PACKT03!H60)+SUMIF(PACKT04!$R60,\"TRUE\",PACKT04!H60)+SUMIF(PACKT05!$R60,\"TRUE\",PACKT05!H60)+SUMIF(PACKT06!$R61,\"TRUE\",PACKT06!H61)+SUMIF(PACKT07!$R60,\"TRUE\",PACKT07!H60)+SUMIF(PACKT08!$R60,\"TRUE\",PACKT08!H60)+SUMIF(PACKT09!$R60,\"TRUE\",PACKT09!H60)+SUMIF(PACKT10!$R60,\"TRUE\",PACKT10!H60)+SUMIF(PACKT11!$R60,\"TRUE\",PACKT11!H60)","v":0},{"$f":"SUMIF(PACKT01!$R60,\"TRUE\",PACKT01!I60)+SUMIF(PACKT02!$R60,\"TRUE\",PACKT02!I60)+SUMIF(PACKT03!$R60,\"TRUE\",PACKT03!I60)+SUMIF(PACKT04!$R60,\"TRUE\",PACKT04!I60)+SUMIF(PACKT05!$R60,\"TRUE\",PACKT05!I60)+SUMIF(PACKT06!$R61,\"TRUE\",PACKT06!I61)+SUMIF(PACKT07!$R60,\"TRUE\",PACKT07!I60)+SUMIF(PACKT08!$R60,\"TRUE\",PACKT08!I60)+SUMIF(PACKT09!$R60,\"TRUE\",PACKT09!I60)+SUMIF(PACKT10!$R60,\"TRUE\",PACKT10!I60)+SUMIF(PACKT11!$R60,\"TRUE\",PACKT11!I60)","v":0},{"$f":"SUMIF(PACKT01!$R60,\"TRUE\",PACKT01!J60)+SUMIF(PACKT02!$R60,\"TRUE\",PACKT02!J60)+SUMIF(PACKT03!$R60,\"TRUE\",PACKT03!J60)+SUMIF(PACKT04!$R60,\"TRUE\",PACKT04!J60)+SUMIF(PACKT05!$R60,\"TRUE\",PACKT05!J60)+SUMIF(PACKT06!$R61,\"TRUE\",PACKT06!J61)+SUMIF(PACKT07!$R60,\"TRUE\",PACKT07!J60)+SUMIF(PACKT08!$R60,\"TRUE\",PACKT08!J60)+SUMIF(PACKT09!$R60,\"TRUE\",PACKT09!J60)+SUMIF(PACKT10!$R60,\"TRUE\",PACKT10!J60)+SUMIF(PACKT11!$R60,\"TRUE\",PACKT11!J60)","v":0},{"$f":"SUMIF(PACKT01!$R60,\"TRUE\",PACKT01!K60)+SUMIF(PACKT02!$R60,\"TRUE\",PACKT02!K60)+SUMIF(PACKT03!$R60,\"TRUE\",PACKT03!K60)+SUMIF(PACKT04!$R60,\"TRUE\",PACKT04!K60)+SUMIF(PACKT05!$R60,\"TRUE\",PACKT05!K60)+SUMIF(PACKT06!$R61,\"TRUE\",PACKT06!K61)+SUMIF(PACKT07!$R60,\"TRUE\",PACKT07!K60)+SUMIF(PACKT08!$R60,\"TRUE\",PACKT08!K60)+SUMIF(PACKT09!$R60,\"TRUE\",PACKT09!K60)+SUMIF(PACKT10!$R60,\"TRUE\",PACKT10!K60)+SUMIF(PACKT11!$R60,\"TRUE\",PACKT11!K60)","v":0},{"$f":"SUMIF(PACKT01!$R60,\"TRUE\",PACKT01!L60)+SUMIF(PACKT02!$R60,\"TRUE\",PACKT02!L60)+SUMIF(PACKT03!$R60,\"TRUE\",PACKT03!L60)+SUMIF(PACKT04!$R60,\"TRUE\",PACKT04!L60)+SUMIF(PACKT05!$R60,\"TRUE\",PACKT05!L60)+SUMIF(PACKT06!$R61,\"TRUE\",PACKT06!L61)+SUMIF(PACKT07!$R60,\"TRUE\",PACKT07!L60)+SUMIF(PACKT08!$R60,\"TRUE\",PACKT08!L60)+SUMIF(PACKT09!$R60,\"TRUE\",PACKT09!L60)+SUMIF(PACKT10!$R60,\"TRUE\",PACKT10!L60)+SUMIF(PACKT11!$R60,\"TRUE\",PACKT11!L60)","v":0},{"$f":"SUMIF(PACKT01!$R60,\"TRUE\",PACKT01!M60)+SUMIF(PACKT02!$R60,\"TRUE\",PACKT02!M60)+SUMIF(PACKT03!$R60,\"TRUE\",PACKT03!M60)+SUMIF(PACKT04!$R60,\"TRUE\",PACKT04!M60)+SUMIF(PACKT05!$R60,\"TRUE\",PACKT05!M60)+SUMIF(PACKT06!$R61,\"TRUE\",PACKT06!M61)+SUMIF(PACKT07!$R60,\"TRUE\",PACKT07!M60)+SUMIF(PACKT08!$R60,\"TRUE\",PACKT08!M60)+SUMIF(PACKT09!$R60,\"TRUE\",PACKT09!M60)+SUMIF(PACKT10!$R60,\"TRUE\",PACKT10!M60)+SUMIF(PACKT11!$R60,\"TRUE\",PACKT11!M60)","v":0},{"$f":"SUMIF(PACKT01!$R60,\"TRUE\",PACKT01!N60)+SUMIF(PACKT02!$R60,\"TRUE\",PACKT02!N60)+SUMIF(PACKT03!$R60,\"TRUE\",PACKT03!N60)+SUMIF(PACKT04!$R60,\"TRUE\",PACKT04!N60)+SUMIF(PACKT05!$R60,\"TRUE\",PACKT05!N60)+SUMIF(PACKT06!$R61,\"TRUE\",PACKT06!N61)+SUMIF(PACKT07!$R60,\"TRUE\",PACKT07!N60)+SUMIF(PACKT08!$R60,\"TRUE\",PACKT08!N60)+SUMIF(PACKT09!$R60,\"TRUE\",PACKT09!N60)+SUMIF(PACKT10!$R60,\"TRUE\",PACKT10!N60)+SUMIF(PACKT11!$R60,\"TRUE\",PACKT11!N60)","v":0},{"$f":"SUMIF(PACKT01!$R60,\"TRUE\",PACKT01!O60)+SUMIF(PACKT02!$R60,\"TRUE\",PACKT02!O60)+SUMIF(PACKT03!$R60,\"TRUE\",PACKT03!O60)+SUMIF(PACKT04!$R60,\"TRUE\",PACKT04!O60)+SUMIF(PACKT05!$R60,\"TRUE\",PACKT05!O60)+SUMIF(PACKT06!$R61,\"TRUE\",PACKT06!O61)+SUMIF(PACKT07!$R60,\"TRUE\",PACKT07!O60)+SUMIF(PACKT08!$R60,\"TRUE\",PACKT08!O60)+SUMIF(PACKT09!$R60,\"TRUE\",PACKT09!O60)+SUMIF(PACKT10!$R60,\"TRUE\",PACKT10!O60)+SUMIF(PACKT11!$R60,\"TRUE\",PACKT11!O60)","v":0},{"$f":"SUMIF(PACKT01!$R60,\"TRUE\",PACKT01!P60)+SUMIF(PACKT02!$R60,\"TRUE\",PACKT02!P60)+SUMIF(PACKT03!$R60,\"TRUE\",PACKT03!P60)+SUMIF(PACKT04!$R60,\"TRUE\",PACKT04!P60)+SUMIF(PACKT05!$R60,\"TRUE\",PACKT05!P60)+SUMIF(PACKT06!$R61,\"TRUE\",PACKT06!P61)+SUMIF(PACKT07!$R60,\"TRUE\",PACKT07!P60)+SUMIF(PACKT08!$R60,\"TRUE\",PACKT08!P60)+SUMIF(PACKT09!$R60,\"TRUE\",PACKT09!P60)+SUMIF(PACKT10!$R60,\"TRUE\",PACKT10!P60)+SUMIF(PACKT11!$R60,\"TRUE\",PACKT11!P60)","v":0},{"$f":"SUMIF(PACKT01!$R60,\"TRUE\",PACKT01!Q60)+SUMIF(PACKT02!$R60,\"TRUE\",PACKT02!Q60)+SUMIF(PACKT03!$R60,\"TRUE\",PACKT03!Q60)+SUMIF(PACKT04!$R60,\"TRUE\",PACKT04!Q60)+SUMIF(PACKT05!$R60,\"TRUE\",PACKT05!Q60)+SUMIF(PACKT06!$R61,\"TRUE\",PACKT06!Q61)+SUMIF(PACKT07!$R60,\"TRUE\",PACKT07!Q60)+SUMIF(PACKT08!$R60,\"TRUE\",PACKT08!Q60)+SUMIF(PACKT09!$R60,\"TRUE\",PACKT09!Q60)+SUMIF(PACKT10!$R60,\"TRUE\",PACKT10!Q60)+SUMIF(PACKT11!$R60,\"TRUE\",PACKT11!Q60)","v":0},0]
[null,"EMP0050",{"$f":"VLOOKUP(HRSummarylTable[[#This Row],[EmployeeID]],EmployeeListLookupTable[],2,FALSE)","v":"EMPN050"},{"$f":"VLOOKUP(HRSummarylTable[[#This Row],[EmployeeID]],EmployeeListLookupTable[],3,FALSE)","v":"Employee Name 50"},{"$f":"VLOOKUP(HRSummarylTable[[#This Row],[EmployeeID]],EmployeeListLookupTable[],4,FALSE)","v":"Employee Job Title 50"},"TCTC001 - Total Cost to Company",{"$f":"LEFT(HRSummarylTable[[#This Row],[PackageItemCode]],7)","v":"TCTC001"},{"$f":"VLOOKUP(HRSummarylTable[[#This Row],[PackageItem]],PackageItemListLookup[],2,FALSE)","v":"Total Cost to Company"},null,{"$f":"SUMIF(PACKT01!$R61,\"TRUE\",PACKT01!F61)+SUMIF(PACKT02!$R61,\"TRUE\",PACKT02!F61)+SUMIF(PACKT03!$R61,\"TRUE\",PACKT03!F61)+SUMIF(PACKT04!$R61,\"TRUE\",PACKT04!F61)+SUMIF(PACKT05!$R61,\"TRUE\",PACKT05!F61)+SUMIF(PACKT06!$R62,\"TRUE\",PACKT06!F62)+SUMIF(PACKT07!$R61,\"TRUE\",PACKT07!F61)+SUMIF(PACKT08!$R61,\"TRUE\",PACKT08!F61)+SUMIF(PACKT09!$R61,\"TRUE\",PACKT09!F61)+SUMIF(PACKT10!$R61,\"TRUE\",PACKT10!F61)+SUMIF(PACKT11!$R61,\"TRUE\",PACKT11!F61)","v":0},{"$f":"SUMIF(PACKT01!$R61,\"TRUE\",PACKT01!G61)+SUMIF(PACKT02!$R61,\"TRUE\",PACKT02!G61)+SUMIF(PACKT03!$R61,\"TRUE\",PACKT03!G61)+SUMIF(PACKT04!$R61,\"TRUE\",PACKT04!G61)+SUMIF(PACKT05!$R61,\"TRUE\",PACKT05!G61)+SUMIF(PACKT06!$R62,\"TRUE\",PACKT06!G62)+SUMIF(PACKT07!$R61,\"TRUE\",PACKT07!G61)+SUMIF(PACKT08!$R61,\"TRUE\",PACKT08!G61)+SUMIF(PACKT09!$R61,\"TRUE\",PACKT09!G61)+SUMIF(PACKT10!$R61,\"TRUE\",PACKT10!G61)+SUMIF(PACKT11!$R61,\"TRUE\",PACKT11!G61)","v":0},{"$f":"SUMIF(PACKT01!$R61,\"TRUE\",PACKT01!H61)+SUMIF(PACKT02!$R61,\"TRUE\",PACKT02!H61)+SUMIF(PACKT03!$R61,\"TRUE\",PACKT03!H61)+SUMIF(PACKT04!$R61,\"TRUE\",PACKT04!H61)+SUMIF(PACKT05!$R61,\"TRUE\",PACKT05!H61)+SUMIF(PACKT06!$R62,\"TRUE\",PACKT06!H62)+SUMIF(PACKT07!$R61,\"TRUE\",PACKT07!H61)+SUMIF(PACKT08!$R61,\"TRUE\",PACKT08!H61)+SUMIF(PACKT09!$R61,\"TRUE\",PACKT09!H61)+SUMIF(PACKT10!$R61,\"TRUE\",PACKT10!H61)+SUMIF(PACKT11!$R61,\"TRUE\",PACKT11!H61)","v":0},{"$f":"SUMIF(PACKT01!$R61,\"TRUE\",PACKT01!I61)+SUMIF(PACKT02!$R61,\"TRUE\",PACKT02!I61)+SUMIF(PACKT03!$R61,\"TRUE\",PACKT03!I61)+SUMIF(PACKT04!$R61,\"TRUE\",PACKT04!I61)+SUMIF(PACKT05!$R61,\"TRUE\",PACKT05!I61)+SUMIF(PACKT06!$R62,\"TRUE\",PACKT06!I62)+SUMIF(PACKT07!$R61,\"TRUE\",PACKT07!I61)+SUMIF(PACKT08!$R61,\"TRUE\",PACKT08!I61)+SUMIF(PACKT09!$R61,\"TRUE\",PACKT09!I61)+SUMIF(PACKT10!$R61,\"TRUE\",PACKT10!I61)+SUMIF(PACKT11!$R61,\"TRUE\",PACKT11!I61)","v":0},{"$f":"SUMIF(PACKT01!$R61,\"TRUE\",PACKT01!J61)+SUMIF(PACKT02!$R61,\"TRUE\",PACKT02!J61)+SUMIF(PACKT03!$R61,\"TRUE\",PACKT03!J61)+SUMIF(PACKT04!$R61,\"TRUE\",PACKT04!J61)+SUMIF(PACKT05!$R61,\"TRUE\",PACKT05!J61)+SUMIF(PACKT06!$R62,\"TRUE\",PACKT06!J62)+SUMIF(PACKT07!$R61,\"TRUE\",PACKT07!J61)+SUMIF(PACKT08!$R61,\"TRUE\",PACKT08!J61)+SUMIF(PACKT09!$R61,\"TRUE\",PACKT09!J61)+SUMIF(PACKT10!$R61,\"TRUE\",PACKT10!J61)+SUMIF(PACKT11!$R61,\"TRUE\",PACKT11!J61)","v":0},{"$f":"SUMIF(PACKT01!$R61,\"TRUE\",PACKT01!K61)+SUMIF(PACKT02!$R61,\"TRUE\",PACKT02!K61)+SUMIF(PACKT03!$R61,\"TRUE\",PACKT03!K61)+SUMIF(PACKT04!$R61,\"TRUE\",PACKT04!K61)+SUMIF(PACKT05!$R61,\"TRUE\",PACKT05!K61)+SUMIF(PACKT06!$R62,\"TRUE\",PACKT06!K62)+SUMIF(PACKT07!$R61,\"TRUE\",PACKT07!K61)+SUMIF(PACKT08!$R61,\"TRUE\",PACKT08!K61)+SUMIF(PACKT09!$R61,\"TRUE\",PACKT09!K61)+SUMIF(PACKT10!$R61,\"TRUE\",PACKT10!K61)+SUMIF(PACKT11!$R61,\"TRUE\",PACKT11!K61)","v":0},{"$f":"SUMIF(PACKT01!$R61,\"TRUE\",PACKT01!L61)+SUMIF(PACKT02!$R61,\"TRUE\",PACKT02!L61)+SUMIF(PACKT03!$R61,\"TRUE\",PACKT03!L61)+SUMIF(PACKT04!$R61,\"TRUE\",PACKT04!L61)+SUMIF(PACKT05!$R61,\"TRUE\",PACKT05!L61)+SUMIF(PACKT06!$R62,\"TRUE\",PACKT06!L62)+SUMIF(PACKT07!$R61,\"TRUE\",PACKT07!L61)+SUMIF(PACKT08!$R61,\"TRUE\",PACKT08!L61)+SUMIF(PACKT09!$R61,\"TRUE\",PACKT09!L61)+SUMIF(PACKT10!$R61,\"TRUE\",PACKT10!L61)+SUMIF(PACKT11!$R61,\"TRUE\",PACKT11!L61)","v":0},{"$f":"SUMIF(PACKT01!$R61,\"TRUE\",PACKT01!M61)+SUMIF(PACKT02!$R61,\"TRUE\",PACKT02!M61)+SUMIF(PACKT03!$R61,\"TRUE\",PACKT03!M61)+SUMIF(PACKT04!$R61,\"TRUE\",PACKT04!M61)+SUMIF(PACKT05!$R61,\"TRUE\",PACKT05!M61)+SUMIF(PACKT06!$R62,\"TRUE\",PACKT06!M62)+SUMIF(PACKT07!$R61,\"TRUE\",PACKT07!M61)+SUMIF(PACKT08!$R61,\"TRUE\",PACKT08!M61)+SUMIF(PACKT09!$R61,\"TRUE\",PACKT09!M61)+SUMIF(PACKT10!$R61,\"TRUE\",PACKT10!M61)+SUMIF(PACKT11!$R61,\"TRUE\",PACKT11!M61)","v":0},{"$f":"SUMIF(PACKT01!$R61,\"TRUE\",PACKT01!N61)+SUMIF(PACKT02!$R61,\"TRUE\",PACKT02!N61)+SUMIF(PACKT03!$R61,\"TRUE\",PACKT03!N61)+SUMIF(PACKT04!$R61,\"TRUE\",PACKT04!N61)+SUMIF(PACKT05!$R61,\"TRUE\",PACKT05!N61)+SUMIF(PACKT06!$R62,\"TRUE\",PACKT06!N62)+SUMIF(PACKT07!$R61,\"TRUE\",PACKT07!N61)+SUMIF(PACKT08!$R61,\"TRUE\",PACKT08!N61)+SUMIF(PACKT09!$R61,\"TRUE\",PACKT09!N61)+SUMIF(PACKT10!$R61,\"TRUE\",PACKT10!N61)+SUMIF(PACKT11!$R61,\"TRUE\",PACKT11!N61)","v":0},{"$f":"SUMIF(PACKT01!$R61,\"TRUE\",PACKT01!O61)+SUMIF(PACKT02!$R61,\"TRUE\",PACKT02!O61)+SUMIF(PACKT03!$R61,\"TRUE\",PACKT03!O61)+SUMIF(PACKT04!$R61,\"TRUE\",PACKT04!O61)+SUMIF(PACKT05!$R61,\"TRUE\",PACKT05!O61)+SUMIF(PACKT06!$R62,\"TRUE\",PACKT06!O62)+SUMIF(PACKT07!$R61,\"TRUE\",PACKT07!O61)+SUMIF(PACKT08!$R61,\"TRUE\",PACKT08!O61)+SUMIF(PACKT09!$R61,\"TRUE\",PACKT09!O61)+SUMIF(PACKT10!$R61,\"TRUE\",PACKT10!O61)+SUMIF(PACKT11!$R61,\"TRUE\",PACKT11!O61)","v":0},{"$f":"SUMIF(PACKT01!$R61,\"TRUE\",PACKT01!P61)+SUMIF(PACKT02!$R61,\"TRUE\",PACKT02!P61)+SUMIF(PACKT03!$R61,\"TRUE\",PACKT03!P61)+SUMIF(PACKT04!$R61,\"TRUE\",PACKT04!P61)+SUMIF(PACKT05!$R61,\"TRUE\",PACKT05!P61)+SUMIF(PACKT06!$R62,\"TRUE\",PACKT06!P62)+SUMIF(PACKT07!$R61,\"TRUE\",PACKT07!P61)+SUMIF(PACKT08!$R61,\"TRUE\",PACKT08!P61)+SUMIF(PACKT09!$R61,\"TRUE\",PACKT09!P61)+SUMIF(PACKT10!$R61,\"TRUE\",PACKT10!P61)+SUMIF(PACKT11!$R61,\"TRUE\",PACKT11!P61)","v":0},{"$f":"SUMIF(PACKT01!$R61,\"TRUE\",PACKT01!Q61)+SUMIF(PACKT02!$R61,\"TRUE\",PACKT02!Q61)+SUMIF(PACKT03!$R61,\"TRUE\",PACKT03!Q61)+SUMIF(PACKT04!$R61,\"TRUE\",PACKT04!Q61)+SUMIF(PACKT05!$R61,\"TRUE\",PACKT05!Q61)+SUMIF(PACKT06!$R62,\"TRUE\",PACKT06!Q62)+SUMIF(PACKT07!$R61,\"TRUE\",PACKT07!Q61)+SUMIF(PACKT08!$R61,\"TRUE\",PACKT08!Q61)+SUMIF(PACKT09!$R61,\"TRUE\",PACKT09!Q61)+SUMIF(PACKT10!$R61,\"TRUE\",PACKT10!Q61)+SUMIF(PACKT11!$R61,\"TRUE\",PACKT11!Q61)","v":0},0]
[null,"EMP0051",{"$f":"VLOOKUP(HRSummarylTable[[#This Row],[EmployeeID]],EmployeeListLookupTable[],2,FALSE)","v":"EMPN051"},{"$f":"VLOOKUP(HRSummarylTable[[#This Row],[EmployeeID]],EmployeeListLookupTable[],3,FALSE)","v":"Employee Name 51"},{"$f":"VLOOKUP(HRSummarylTable[[#This Row],[EmployeeID]],EmployeeListLookupTable[],4,FALSE)","v":"Employee Job Title 51"},"TCTC001 - Total Cost to Company",{"$f":"LEFT(HRSummarylTable[[#This Row],[PackageItemCode]],7)","v":"TCTC001"},{"$f":"VLOOKUP(HRSummarylTable[[#This Row],[PackageItem]],PackageItemListLookup[],2,FALSE)","v":"Total Cost to Company"},null,{"$f":"SUMIF(PACKT01!$R62,\"TRUE\",PACKT01!F62)+SUMIF(PACKT02!$R62,\"TRUE\",PACKT02!F62)+SUMIF(PACKT03!$R62,\"TRUE\",PACKT03!F62)+SUMIF(PACKT04!$R62,\"TRUE\",PACKT04!F62)+SUMIF(PACKT05!$R62,\"TRUE\",PACKT05!F62)+SUMIF(PACKT06!$R63,\"TRUE\",PACKT06!F63)+SUMIF(PACKT07!$R62,\"TRUE\",PACKT07!F62)+SUMIF(PACKT08!$R62,\"TRUE\",PACKT08!F62)+SUMIF(PACKT09!$R62,\"TRUE\",PACKT09!F62)+SUMIF(PACKT10!$R62,\"TRUE\",PACKT10!F62)+SUMIF(PACKT11!$R62,\"TRUE\",PACKT11!F62)","v":0},{"$f":"SUMIF(PACKT01!$R62,\"TRUE\",PACKT01!G62)+SUMIF(PACKT02!$R62,\"TRUE\",PACKT02!G62)+SUMIF(PACKT03!$R62,\"TRUE\",PACKT03!G62)+SUMIF(PACKT04!$R62,\"TRUE\",PACKT04!G62)+SUMIF(PACKT05!$R62,\"TRUE\",PACKT05!G62)+SUMIF(PACKT06!$R63,\"TRUE\",PACKT06!G63)+SUMIF(PACKT07!$R62,\"TRUE\",PACKT07!G62)+SUMIF(PACKT08!$R62,\"TRUE\",PACKT08!G62)+SUMIF(PACKT09!$R62,\"TRUE\",PACKT09!G62)+SUMIF(PACKT10!$R62,\"TRUE\",PACKT10!G62)+SUMIF(PACKT11!$R62,\"TRUE\",PACKT11!G62)","v":0},{"$f":"SUMIF(PACKT01!$R62,\"TRUE\",PACKT01!H62)+SUMIF(PACKT02!$R62,\"TRUE\",PACKT02!H62)+SUMIF(PACKT03!$R62,\"TRUE\",PACKT03!H62)+SUMIF(PACKT04!$R62,\"TRUE\",PACKT04!H62)+SUMIF(PACKT05!$R62,\"TRUE\",PACKT05!H62)+SUMIF(PACKT06!$R63,\"TRUE\",PACKT06!H63)+SUMIF(PACKT07!$R62,\"TRUE\",PACKT07!H62)+SUMIF(PACKT08!$R62,\"TRUE\",PACKT08!H62)+SUMIF(PACKT09!$R62,\"TRUE\",PACKT09!H62)+SUMIF(PACKT10!$R62,\"TRUE\",PACKT10!H62)+SUMIF(PACKT11!$R62,\"TRUE\",PACKT11!H62)","v":0},{"$f":"SUMIF(PACKT01!$R62,\"TRUE\",PACKT01!I62)+SUMIF(PACKT02!$R62,\"TRUE\",PACKT02!I62)+SUMIF(PACKT03!$R62,\"TRUE\",PACKT03!I62)+SUMIF(PACKT04!$R62,\"TRUE\",PACKT04!I62)+SUMIF(PACKT05!$R62,\"TRUE\",PACKT05!I62)+SUMIF(PACKT06!$R63,\"TRUE\",PACKT06!I63)+SUMIF(PACKT07!$R62,\"TRUE\",PACKT07!I62)+SUMIF(PACKT08!$R62,\"TRUE\",PACKT08!I62)+SUMIF(PACKT09!$R62,\"TRUE\",PACKT09!I62)+SUMIF(PACKT10!$R62,\"TRUE\",PACKT10!I62)+SUMIF(PACKT11!$R62,\"TRUE\",PACKT11!I62)","v":0},{"$f":"SUMIF(PACKT01!$R62,\"TRUE\",PACKT01!J62)+SUMIF(PACKT02!$R62,\"TRUE\",PACKT02!J62)+SUMIF(PACKT03!$R62,\"TRUE\",PACKT03!J62)+SUMIF(PACKT04!$R62,\"TRUE\",PACKT04!J62)+SUMIF(PACKT05!$R62,\"TRUE\",PACKT05!J62)+SUMIF(PACKT06!$R63,\"TRUE\",PACKT06!J63)+SUMIF(PACKT07!$R62,\"TRUE\",PACKT07!J62)+SUMIF(PACKT08!$R62,\"TRUE\",PACKT08!J62)+SUMIF(PACKT09!$R62,\"TRUE\",PACKT09!J62)+SUMIF(PACKT10!$R62,\"TRUE\",PACKT10!J62)+SUMIF(PACKT11!$R62,\"TRUE\",PACKT11!J62)","v":0},{"$f":"SUMIF(PACKT01!$R62,\"TRUE\",PACKT01!K62)+SUMIF(PACKT02!$R62,\"TRUE\",PACKT02!K62)+SUMIF(PACKT03!$R62,\"TRUE\",PACKT03!K62)+SUMIF(PACKT04!$R62,\"TRUE\",PACKT04!K62)+SUMIF(PACKT05!$R62,\"TRUE\",PACKT05!K62)+SUMIF(PACKT06!$R63,\"TRUE\",PACKT06!K63)+SUMIF(PACKT07!$R62,\"TRUE\",PACKT07!K62)+SUMIF(PACKT08!$R62,\"TRUE\",PACKT08!K62)+SUMIF(PACKT09!$R62,\"TRUE\",PACKT09!K62)+SUMIF(PACKT10!$R62,\"TRUE\",PACKT10!K62)+SUMIF(PACKT11!$R62,\"TRUE\",PACKT11!K62)","v":0},{"$f":"SUMIF(PACKT01!$R62,\"TRUE\",PACKT01!L62)+SUMIF(PACKT02!$R62,\"TRUE\",PACKT02!L62)+SUMIF(PACKT03!$R62,\"TRUE\",PACKT03!L62)+SUMIF(PACKT04!$R62,\"TRUE\",PACKT04!L62)+SUMIF(PACKT05!$R62,\"TRUE\",PACKT05!L62)+SUMIF(PACKT06!$R63,\"TRUE\",PACKT06!L63)+SUMIF(PACKT07!$R62,\"TRUE\",PACKT07!L62)+SUMIF(PACKT08!$R62,\"TRUE\",PACKT08!L62)+SUMIF(PACKT09!$R62,\"TRUE\",PACKT09!L62)+SUMIF(PACKT10!$R62,\"TRUE\",PACKT10!L62)+SUMIF(PACKT11!$R62,\"TRUE\",PACKT11!L62)","v":0},{"$f":"SUMIF(PACKT01!$R62,\"TRUE\",PACKT01!M62)+SUMIF(PACKT02!$R62,\"TRUE\",PACKT02!M62)+SUMIF(PACKT03!$R62,\"TRUE\",PACKT03!M62)+SUMIF(PACKT04!$R62,\"TRUE\",PACKT04!M62)+SUMIF(PACKT05!$R62,\"TRUE\",PACKT05!M62)+SUMIF(PACKT06!$R63,\"TRUE\",PACKT06!M63)+SUMIF(PACKT07!$R62,\"TRUE\",PACKT07!M62)+SUMIF(PACKT08!$R62,\"TRUE\",PACKT08!M62)+SUMIF(PACKT09!$R62,\"TRUE\",PACKT09!M62)+SUMIF(PACKT10!$R62,\"TRUE\",PACKT10!M62)+SUMIF(PACKT11!$R62,\"TRUE\",PACKT11!M62)","v":0},{"$f":"SUMIF(PACKT01!$R62,\"TRUE\",PACKT01!N62)+SUMIF(PACKT02!$R62,\"TRUE\",PACKT02!N62)+SUMIF(PACKT03!$R62,\"TRUE\",PACKT03!N62)+SUMIF(PACKT04!$R62,\"TRUE\",PACKT04!N62)+SUMIF(PACKT05!$R62,\"TRUE\",PACKT05!N62)+SUMIF(PACKT06!$R63,\"TRUE\",PACKT06!N63)+SUMIF(PACKT07!$R62,\"TRUE\",PACKT07!N62)+SUMIF(PACKT08!$R62,\"TRUE\",PACKT08!N62)+SUMIF(PACKT09!$R62,\"TRUE\",PACKT09!N62)+SUMIF(PACKT10!$R62,\"TRUE\",PACKT10!N62)+SUMIF(PACKT11!$R62,\"TRUE\",PACKT11!N62)","v":0},{"$f":"SUMIF(PACKT01!$R62,\"TRUE\",PACKT01!O62)+SUMIF(PACKT02!$R62,\"TRUE\",PACKT02!O62)+SUMIF(PACKT03!$R62,\"TRUE\",PACKT03!O62)+SUMIF(PACKT04!$R62,\"TRUE\",PACKT04!O62)+SUMIF(PACKT05!$R62,\"TRUE\",PACKT05!O62)+SUMIF(PACKT06!$R63,\"TRUE\",PACKT06!O63)+SUMIF(PACKT07!$R62,\"TRUE\",PACKT07!O62)+SUMIF(PACKT08!$R62,\"TRUE\",PACKT08!O62)+SUMIF(PACKT09!$R62,\"TRUE\",PACKT09!O62)+SUMIF(PACKT10!$R62,\"TRUE\",PACKT10!O62)+SUMIF(PACKT11!$R62,\"TRUE\",PACKT11!O62)","v":0},{"$f":"SUMIF(PACKT01!$R62,\"TRUE\",PACKT01!P62)+SUMIF(PACKT02!$R62,\"TRUE\",PACKT02!P62)+SUMIF(PACKT03!$R62,\"TRUE\",PACKT03!P62)+SUMIF(PACKT04!$R62,\"TRUE\",PACKT04!P62)+SUMIF(PACKT05!$R62,\"TRUE\",PACKT05!P62)+SUMIF(PACKT06!$R63,\"TRUE\",PACKT06!P63)+SUMIF(PACKT07!$R62,\"TRUE\",PACKT07!P62)+SUMIF(PACKT08!$R62,\"TRUE\",PACKT08!P62)+SUMIF(PACKT09!$R62,\"TRUE\",PACKT09!P62)+SUMIF(PACKT10!$R62,\"TRUE\",PACKT10!P62)+SUMIF(PACKT11!$R62,\"TRUE\",PACKT11!P62)","v":0},{"$f":"SUMIF(PACKT01!$R62,\"TRUE\",PACKT01!Q62)+SUMIF(PACKT02!$R62,\"TRUE\",PACKT02!Q62)+SUMIF(PACKT03!$R62,\"TRUE\",PACKT03!Q62)+SUMIF(PACKT04!$R62,\"TRUE\",PACKT04!Q62)+SUMIF(PACKT05!$R62,\"TRUE\",PACKT05!Q62)+SUMIF(PACKT06!$R63,\"TRUE\",PACKT06!Q63)+SUMIF(PACKT07!$R62,\"TRUE\",PACKT07!Q62)+SUMIF(PACKT08!$R62,\"TRUE\",PACKT08!Q62)+SUMIF(PACKT09!$R62,\"TRUE\",PACKT09!Q62)+SUMIF(PACKT10!$R62,\"TRUE\",PACKT10!Q62)+SUMIF(PACKT11!$R62,\"TRUE\",PACKT11!Q62)","v":0},0]
[null,"EMP0052",{"$f":"VLOOKUP(HRSummarylTable[[#This Row],[EmployeeID]],EmployeeListLookupTable[],2,FALSE)","v":"EMPN052"},{"$f":"VLOOKUP(HRSummarylTable[[#This Row],[EmployeeID]],EmployeeListLookupTable[],3,FALSE)","v":"Employee Name 52"},{"$f":"VLOOKUP(HRSummarylTable[[#This Row],[EmployeeID]],EmployeeListLookupTable[],4,FALSE)","v":"Employee Job Title 52"},"TCTC001 - Total Cost to Company",{"$f":"LEFT(HRSummarylTable[[#This Row],[PackageItemCode]],7)","v":"TCTC001"},{"$f":"VLOOKUP(HRSummarylTable[[#This Row],[PackageItem]],PackageItemListLookup[],2,FALSE)","v":"Total Cost to Company"},null,{"$f":"SUMIF(PACKT01!$R63,\"TRUE\",PACKT01!F63)+SUMIF(PACKT02!$R63,\"TRUE\",PACKT02!F63)+SUMIF(PACKT03!$R63,\"TRUE\",PACKT03!F63)+SUMIF(PACKT04!$R63,\"TRUE\",PACKT04!F63)+SUMIF(PACKT05!$R63,\"TRUE\",PACKT05!F63)+SUMIF(PACKT06!$R64,\"TRUE\",PACKT06!F64)+SUMIF(PACKT07!$R63,\"TRUE\",PACKT07!F63)+SUMIF(PACKT08!$R63,\"TRUE\",PACKT08!F63)+SUMIF(PACKT09!$R63,\"TRUE\",PACKT09!F63)+SUMIF(PACKT10!$R63,\"TRUE\",PACKT10!F63)+SUMIF(PACKT11!$R63,\"TRUE\",PACKT11!F63)","v":0},{"$f":"SUMIF(PACKT01!$R63,\"TRUE\",PACKT01!G63)+SUMIF(PACKT02!$R63,\"TRUE\",PACKT02!G63)+SUMIF(PACKT03!$R63,\"TRUE\",PACKT03!G63)+SUMIF(PACKT04!$R63,\"TRUE\",PACKT04!G63)+SUMIF(PACKT05!$R63,\"TRUE\",PACKT05!G63)+SUMIF(PACKT06!$R64,\"TRUE\",PACKT06!G64)+SUMIF(PACKT07!$R63,\"TRUE\",PACKT07!G63)+SUMIF(PACKT08!$R63,\"TRUE\",PACKT08!G63)+SUMIF(PACKT09!$R63,\"TRUE\",PACKT09!G63)+SUMIF(PACKT10!$R63,\"TRUE\",PACKT10!G63)+SUMIF(PACKT11!$R63,\"TRUE\",PACKT11!G63)","v":0},{"$f":"SUMIF(PACKT01!$R63,\"TRUE\",PACKT01!H63)+SUMIF(PACKT02!$R63,\"TRUE\",PACKT02!H63)+SUMIF(PACKT03!$R63,\"TRUE\",PACKT03!H63)+SUMIF(PACKT04!$R63,\"TRUE\",PACKT04!H63)+SUMIF(PACKT05!$R63,\"TRUE\",PACKT05!H63)+SUMIF(PACKT06!$R64,\"TRUE\",PACKT06!H64)+SUMIF(PACKT07!$R63,\"TRUE\",PACKT07!H63)+SUMIF(PACKT08!$R63,\"TRUE\",PACKT08!H63)+SUMIF(PACKT09!$R63,\"TRUE\",PACKT09!H63)+SUMIF(PACKT10!$R63,\"TRUE\",PACKT10!H63)+SUMIF(PACKT11!$R63,\"TRUE\",PACKT11!H63)","v":0},{"$f":"SUMIF(PACKT01!$R63,\"TRUE\",PACKT01!I63)+SUMIF(PACKT02!$R63,\"TRUE\",PACKT02!I63)+SUMIF(PACKT03!$R63,\"TRUE\",PACKT03!I63)+SUMIF(PACKT04!$R63,\"TRUE\",PACKT04!I63)+SUMIF(PACKT05!$R63,\"TRUE\",PACKT05!I63)+SUMIF(PACKT06!$R64,\"TRUE\",PACKT06!I64)+SUMIF(PACKT07!$R63,\"TRUE\",PACKT07!I63)+SUMIF(PACKT08!$R63,\"TRUE\",PACKT08!I63)+SUMIF(PACKT09!$R63,\"TRUE\",PACKT09!I63)+SUMIF(PACKT10!$R63,\"TRUE\",PACKT10!I63)+SUMIF(PACKT11!$R63,\"TRUE\",PACKT11!I63)","v":0},{"$f":"SUMIF(PACKT01!$R63,\"TRUE\",PACKT01!J63)+SUMIF(PACKT02!$R63,\"TRUE\",PACKT02!J63)+SUMIF(PACKT03!$R63,\"TRUE\",PACKT03!J63)+SUMIF(PACKT04!$R63,\"TRUE\",PACKT04!J63)+SUMIF(PACKT05!$R63,\"TRUE\",PACKT05!J63)+SUMIF(PACKT06!$R64,\"TRUE\",PACKT06!J64)+SUMIF(PACKT07!$R63,\"TRUE\",PACKT07!J63)+SUMIF(PACKT08!$R63,\"TRUE\",PACKT08!J63)+SUMIF(PACKT09!$R63,\"TRUE\",PACKT09!J63)+SUMIF(PACKT10!$R63,\"TRUE\",PACKT10!J63)+SUMIF(PACKT11!$R63,\"TRUE\",PACKT11!J63)","v":0},{"$f":"SUMIF(PACKT01!$R63,\"TRUE\",PACKT01!K63)+SUMIF(PACKT02!$R63,\"TRUE\",PACKT02!K63)+SUMIF(PACKT03!$R63,\"TRUE\",PACKT03!K63)+SUMIF(PACKT04!$R63,\"TRUE\",PACKT04!K63)+SUMIF(PACKT05!$R63,\"TRUE\",PACKT05!K63)+SUMIF(PACKT06!$R64,\"TRUE\",PACKT06!K64)+SUMIF(PACKT07!$R63,\"TRUE\",PACKT07!K63)+SUMIF(PACKT08!$R63,\"TRUE\",PACKT08!K63)+SUMIF(PACKT09!$R63,\"TRUE\",PACKT09!K63)+SUMIF(PACKT10!$R63,\"TRUE\",PACKT10!K63)+SUMIF(PACKT11!$R63,\"TRUE\",PACKT11!K63)","v":0},{"$f":"SUMIF(PACKT01!$R63,\"TRUE\",PACKT01!L63)+SUMIF(PACKT02!$R63,\"TRUE\",PACKT02!L63)+SUMIF(PACKT03!$R63,\"TRUE\",PACKT03!L63)+SUMIF(PACKT04!$R63,\"TRUE\",PACKT04!L63)+SUMIF(PACKT05!$R63,\"TRUE\",PACKT05!L63)+SUMIF(PACKT06!$R64,\"TRUE\",PACKT06!L64)+SUMIF(PACKT07!$R63,\"TRUE\",PACKT07!L63)+SUMIF(PACKT08!$R63,\"TRUE\",PACKT08!L63)+SUMIF(PACKT09!$R63,\"TRUE\",PACKT09!L63)+SUMIF(PACKT10!$R63,\"TRUE\",PACKT10!L63)+SUMIF(PACKT11!$R63,\"TRUE\",PACKT11!L63)","v":0},{"$f":"SUMIF(PACKT01!$R63,\"TRUE\",PACKT01!M63)+SUMIF(PACKT02!$R63,\"TRUE\",PACKT02!M63)+SUMIF(PACKT03!$R63,\"TRUE\",PACKT03!M63)+SUMIF(PACKT04!$R63,\"TRUE\",PACKT04!M63)+SUMIF(PACKT05!$R63,\"TRUE\",PACKT05!M63)+SUMIF(PACKT06!$R64,\"TRUE\",PACKT06!M64)+SUMIF(PACKT07!$R63,\"TRUE\",PACKT07!M63)+SUMIF(PACKT08!$R63,\"TRUE\",PACKT08!M63)+SUMIF(PACKT09!$R63,\"TRUE\",PACKT09!M63)+SUMIF(PACKT10!$R63,\"TRUE\",PACKT10!M63)+SUMIF(PACKT11!$R63,\"TRUE\",PACKT11!M63)","v":0},{"$f":"SUMIF(PACKT01!$R63,\"TRUE\",PACKT01!N63)+SUMIF(PACKT02!$R63,\"TRUE\",PACKT02!N63)+SUMIF(PACKT03!$R63,\"TRUE\",PACKT03!N63)+SUMIF(PACKT04!$R63,\"TRUE\",PACKT04!N63)+SUMIF(PACKT05!$R63,\"TRUE\",PACKT05!N63)+SUMIF(PACKT06!$R64,\"TRUE\",PACKT06!N64)+SUMIF(PACKT07!$R63,\"TRUE\",PACKT07!N63)+SUMIF(PACKT08!$R63,\"TRUE\",PACKT08!N63)+SUMIF(PACKT09!$R63,\"TRUE\",PACKT09!N63)+SUMIF(PACKT10!$R63,\"TRUE\",PACKT10!N63)+SUMIF(PACKT11!$R63,\"TRUE\",PACKT11!N63)","v":0},{"$f":"SUMIF(PACKT01!$R63,\"TRUE\",PACKT01!O63)+SUMIF(PACKT02!$R63,\"TRUE\",PACKT02!O63)+SUMIF(PACKT03!$R63,\"TRUE\",PACKT03!O63)+SUMIF(PACKT04!$R63,\"TRUE\",PACKT04!O63)+SUMIF(PACKT05!$R63,\"TRUE\",PACKT05!O63)+SUMIF(PACKT06!$R64,\"TRUE\",PACKT06!O64)+SUMIF(PACKT07!$R63,\"TRUE\",PACKT07!O63)+SUMIF(PACKT08!$R63,\"TRUE\",PACKT08!O63)+SUMIF(PACKT09!$R63,\"TRUE\",PACKT09!O63)+SUMIF(PACKT10!$R63,\"TRUE\",PACKT10!O63)+SUMIF(PACKT11!$R63,\"TRUE\",PACKT11!O63)","v":0},{"$f":"SUMIF(PACKT01!$R63,\"TRUE\",PACKT01!P63)+SUMIF(PACKT02!$R63,\"TRUE\",PACKT02!P63)+SUMIF(PACKT03!$R63,\"TRUE\",PACKT03!P63)+SUMIF(PACKT04!$R63,\"TRUE\",PACKT04!P63)+SUMIF(PACKT05!$R63,\"TRUE\",PACKT05!P63)+SUMIF(PACKT06!$R64,\"TRUE\",PACKT06!P64)+SUMIF(PACKT07!$R63,\"TRUE\",PACKT07!P63)+SUMIF(PACKT08!$R63,\"TRUE\",PACKT08!P63)+SUMIF(PACKT09!$R63,\"TRUE\",PACKT09!P63)+SUMIF(PACKT10!$R63,\"TRUE\",PACKT10!P63)+SUMIF(PACKT11!$R63,\"TRUE\",PACKT11!P63)","v":0},{"$f":"SUMIF(PACKT01!$R63,\"TRUE\",PACKT01!Q63)+SUMIF(PACKT02!$R63,\"TRUE\",PACKT02!Q63)+SUMIF(PACKT03!$R63,\"TRUE\",PACKT03!Q63)+SUMIF(PACKT04!$R63,\"TRUE\",PACKT04!Q63)+SUMIF(PACKT05!$R63,\"TRUE\",PACKT05!Q63)+SUMIF(PACKT06!$R64,\"TRUE\",PACKT06!Q64)+SUMIF(PACKT07!$R63,\"TRUE\",PACKT07!Q63)+SUMIF(PACKT08!$R63,\"TRUE\",PACKT08!Q63)+SUMIF(PACKT09!$R63,\"TRUE\",PACKT09!Q63)+SUMIF(PACKT10!$R63,\"TRUE\",PACKT10!Q63)+SUMIF(PACKT11!$R63,\"TRUE\",PACKT11!Q63)","v":0},0]
[null,"EMP0053",{"$f":"VLOOKUP(HRSummarylTable[[#This Row],[EmployeeID]],EmployeeListLookupTable[],2,FALSE)","v":"EMPN053"},{"$f":"VLOOKUP(HRSummarylTable[[#This Row],[EmployeeID]],EmployeeListLookupTable[],3,FALSE)","v":"Employee Name 53"},{"$f":"VLOOKUP(HRSummarylTable[[#This Row],[EmployeeID]],EmployeeListLookupTable[],4,FALSE)","v":"Employee Job Title 53"},"TCTC001 - Total Cost to Company",{"$f":"LEFT(HRSummarylTable[[#This Row],[PackageItemCode]],7)","v":"TCTC001"},{"$f":"VLOOKUP(HRSummarylTable[[#This Row],[PackageItem]],PackageItemListLookup[],2,FALSE)","v":"Total Cost to Company"},null,{"$f":"SUMIF(PACKT01!$R64,\"TRUE\",PACKT01!F64)+SUMIF(PACKT02!$R64,\"TRUE\",PACKT02!F64)+SUMIF(PACKT03!$R64,\"TRUE\",PACKT03!F64)+SUMIF(PACKT04!$R64,\"TRUE\",PACKT04!F64)+SUMIF(PACKT05!$R64,\"TRUE\",PACKT05!F64)+SUMIF(PACKT06!$R65,\"TRUE\",PACKT06!F65)+SUMIF(PACKT07!$R64,\"TRUE\",PACKT07!F64)+SUMIF(PACKT08!$R64,\"TRUE\",PACKT08!F64)+SUMIF(PACKT09!$R64,\"TRUE\",PACKT09!F64)+SUMIF(PACKT10!$R64,\"TRUE\",PACKT10!F64)+SUMIF(PACKT11!$R64,\"TRUE\",PACKT11!F64)","v":0},{"$f":"SUMIF(PACKT01!$R64,\"TRUE\",PACKT01!G64)+SUMIF(PACKT02!$R64,\"TRUE\",PACKT02!G64)+SUMIF(PACKT03!$R64,\"TRUE\",PACKT03!G64)+SUMIF(PACKT04!$R64,\"TRUE\",PACKT04!G64)+SUMIF(PACKT05!$R64,\"TRUE\",PACKT05!G64)+SUMIF(PACKT06!$R65,\"TRUE\",PACKT06!G65)+SUMIF(PACKT07!$R64,\"TRUE\",PACKT07!G64)+SUMIF(PACKT08!$R64,\"TRUE\",PACKT08!G64)+SUMIF(PACKT09!$R64,\"TRUE\",PACKT09!G64)+SUMIF(PACKT10!$R64,\"TRUE\",PACKT10!G64)+SUMIF(PACKT11!$R64,\"TRUE\",PACKT11!G64)","v":0},{"$f":"SUMIF(PACKT01!$R64,\"TRUE\",PACKT01!H64)+SUMIF(PACKT02!$R64,\"TRUE\",PACKT02!H64)+SUMIF(PACKT03!$R64,\"TRUE\",PACKT03!H64)+SUMIF(PACKT04!$R64,\"TRUE\",PACKT04!H64)+SUMIF(PACKT05!$R64,\"TRUE\",PACKT05!H64)+SUMIF(PACKT06!$R65,\"TRUE\",PACKT06!H65)+SUMIF(PACKT07!$R64,\"TRUE\",PACKT07!H64)+SUMIF(PACKT08!$R64,\"TRUE\",PACKT08!H64)+SUMIF(PACKT09!$R64,\"TRUE\",PACKT09!H64)+SUMIF(PACKT10!$R64,\"TRUE\",PACKT10!H64)+SUMIF(PACKT11!$R64,\"TRUE\",PACKT11!H64)","v":0},{"$f":"SUMIF(PACKT01!$R64,\"TRUE\",PACKT01!I64)+SUMIF(PACKT02!$R64,\"TRUE\",PACKT02!I64)+SUMIF(PACKT03!$R64,\"TRUE\",PACKT03!I64)+SUMIF(PACKT04!$R64,\"TRUE\",PACKT04!I64)+SUMIF(PACKT05!$R64,\"TRUE\",PACKT05!I64)+SUMIF(PACKT06!$R65,\"TRUE\",PACKT06!I65)+SUMIF(PACKT07!$R64,\"TRUE\",PACKT07!I64)+SUMIF(PACKT08!$R64,\"TRUE\",PACKT08!I64)+SUMIF(PACKT09!$R64,\"TRUE\",PACKT09!I64)+SUMIF(PACKT10!$R64,\"TRUE\",PACKT10!I64)+SUMIF(PACKT11!$R64,\"TRUE\",PACKT11!I64)","v":0},{"$f":"SUMIF(PACKT01!$R64,\"TRUE\",PACKT01!J64)+SUMIF(PACKT02!$R64,\"TRUE\",PACKT02!J64)+SUMIF(PACKT03!$R64,\"TRUE\",PACKT03!J64)+SUMIF(PACKT04!$R64,\"TRUE\",PACKT04!J64)+SUMIF(PACKT05!$R64,\"TRUE\",PACKT05!J64)+SUMIF(PACKT06!$R65,\"TRUE\",PACKT06!J65)+SUMIF(PACKT07!$R64,\"TRUE\",PACKT07!J64)+SUMIF(PACKT08!$R64,\"TRUE\",PACKT08!J64)+SUMIF(PACKT09!$R64,\"TRUE\",PACKT09!J64)+SUMIF(PACKT10!$R64,\"TRUE\",PACKT10!J64)+SUMIF(PACKT11!$R64,\"TRUE\",PACKT11!J64)","v":0},{"$f":"SUMIF(PACKT01!$R64,\"TRUE\",PACKT01!K64)+SUMIF(PACKT02!$R64,\"TRUE\",PACKT02!K64)+SUMIF(PACKT03!$R64,\"TRUE\",PACKT03!K64)+SUMIF(PACKT04!$R64,\"TRUE\",PACKT04!K64)+SUMIF(PACKT05!$R64,\"TRUE\",PACKT05!K64)+SUMIF(PACKT06!$R65,\"TRUE\",PACKT06!K65)+SUMIF(PACKT07!$R64,\"TRUE\",PACKT07!K64)+SUMIF(PACKT08!$R64,\"TRUE\",PACKT08!K64)+SUMIF(PACKT09!$R64,\"TRUE\",PACKT09!K64)+SUMIF(PACKT10!$R64,\"TRUE\",PACKT10!K64)+SUMIF(PACKT11!$R64,\"TRUE\",PACKT11!K64)","v":0},{"$f":"SUMIF(PACKT01!$R64,\"TRUE\",PACKT01!L64)+SUMIF(PACKT02!$R64,\"TRUE\",PACKT02!L64)+SUMIF(PACKT03!$R64,\"TRUE\",PACKT03!L64)+SUMIF(PACKT04!$R64,\"TRUE\",PACKT04!L64)+SUMIF(PACKT05!$R64,\"TRUE\",PACKT05!L64)+SUMIF(PACKT06!$R65,\"TRUE\",PACKT06!L65)+SUMIF(PACKT07!$R64,\"TRUE\",PACKT07!L64)+SUMIF(PACKT08!$R64,\"TRUE\",PACKT08!L64)+SUMIF(PACKT09!$R64,\"TRUE\",PACKT09!L64)+SUMIF(PACKT10!$R64,\"TRUE\",PACKT10!L64)+SUMIF(PACKT11!$R64,\"TRUE\",PACKT11!L64)","v":0},{"$f":"SUMIF(PACKT01!$R64,\"TRUE\",PACKT01!M64)+SUMIF(PACKT02!$R64,\"TRUE\",PACKT02!M64)+SUMIF(PACKT03!$R64,\"TRUE\",PACKT03!M64)+SUMIF(PACKT04!$R64,\"TRUE\",PACKT04!M64)+SUMIF(PACKT05!$R64,\"TRUE\",PACKT05!M64)+SUMIF(PACKT06!$R65,\"TRUE\",PACKT06!M65)+SUMIF(PACKT07!$R64,\"TRUE\",PACKT07!M64)+SUMIF(PACKT08!$R64,\"TRUE\",PACKT08!M64)+SUMIF(PACKT09!$R64,\"TRUE\",PACKT09!M64)+SUMIF(PACKT10!$R64,\"TRUE\",PACKT10!M64)+SUMIF(PACKT11!$R64,\"TRUE\",PACKT11!M64)","v":0},{"$f":"SUMIF(PACKT01!$R64,\"TRUE\",PACKT01!N64)+SUMIF(PACKT02!$R64,\"TRUE\",PACKT02!N64)+SUMIF(PACKT03!$R64,\"TRUE\",PACKT03!N64)+SUMIF(PACKT04!$R64,\"TRUE\",PACKT04!N64)+SUMIF(PACKT05!$R64,\"TRUE\",PACKT05!N64)+SUMIF(PACKT06!$R65,\"TRUE\",PACKT06!N65)+SUMIF(PACKT07!$R64,\"TRUE\",PACKT07!N64)+SUMIF(PACKT08!$R64,\"TRUE\",PACKT08!N64)+SUMIF(PACKT09!$R64,\"TRUE\",PACKT09!N64)+SUMIF(PACKT10!$R64,\"TRUE\",PACKT10!N64)+SUMIF(PACKT11!$R64,\"TRUE\",PACKT11!N64)","v":0},{"$f":"SUMIF(PACKT01!$R64,\"TRUE\",PACKT01!O64)+SUMIF(PACKT02!$R64,\"TRUE\",PACKT02!O64)+SUMIF(PACKT03!$R64,\"TRUE\",PACKT03!O64)+SUMIF(PACKT04!$R64,\"TRUE\",PACKT04!O64)+SUMIF(PACKT05!$R64,\"TRUE\",PACKT05!O64)+SUMIF(PACKT06!$R65,\"TRUE\",PACKT06!O65)+SUMIF(PACKT07!$R64,\"TRUE\",PACKT07!O64)+SUMIF(PACKT08!$R64,\"TRUE\",PACKT08!O64)+SUMIF(PACKT09!$R64,\"TRUE\",PACKT09!O64)+SUMIF(PACKT10!$R64,\"TRUE\",PACKT10!O64)+SUMIF(PACKT11!$R64,\"TRUE\",PACKT11!O64)","v":0},{"$f":"SUMIF(PACKT01!$R64,\"TRUE\",PACKT01!P64)+SUMIF(PACKT02!$R64,\"TRUE\",PACKT02!P64)+SUMIF(PACKT03!$R64,\"TRUE\",PACKT03!P64)+SUMIF(PACKT04!$R64,\"TRUE\",PACKT04!P64)+SUMIF(PACKT05!$R64,\"TRUE\",PACKT05!P64)+SUMIF(PACKT06!$R65,\"TRUE\",PACKT06!P65)+SUMIF(PACKT07!$R64,\"TRUE\",PACKT07!P64)+SUMIF(PACKT08!$R64,\"TRUE\",PACKT08!P64)+SUMIF(PACKT09!$R64,\"TRUE\",PACKT09!P64)+SUMIF(PACKT10!$R64,\"TRUE\",PACKT10!P64)+SUMIF(PACKT11!$R64,\"TRUE\",PACKT11!P64)","v":0},{"$f":"SUMIF(PACKT01!$R64,\"TRUE\",PACKT01!Q64)+SUMIF(PACKT02!$R64,\"TRUE\",PACKT02!Q64)+SUMIF(PACKT03!$R64,\"TRUE\",PACKT03!Q64)+SUMIF(PACKT04!$R64,\"TRUE\",PACKT04!Q64)+SUMIF(PACKT05!$R64,\"TRUE\",PACKT05!Q64)+SUMIF(PACKT06!$R65,\"TRUE\",PACKT06!Q65)+SUMIF(PACKT07!$R64,\"TRUE\",PACKT07!Q64)+SUMIF(PACKT08!$R64,\"TRUE\",PACKT08!Q64)+SUMIF(PACKT09!$R64,\"TRUE\",PACKT09!Q64)+SUMIF(PACKT10!$R64,\"TRUE\",PACKT10!Q64)+SUMIF(PACKT11!$R64,\"TRUE\",PACKT11!Q64)","v":0},0]
[null,"EMP0054",{"$f":"VLOOKUP(HRSummarylTable[[#This Row],[EmployeeID]],EmployeeListLookupTable[],2,FALSE)","v":"EMPN054"},{"$f":"VLOOKUP(HRSummarylTable[[#This Row],[EmployeeID]],EmployeeListLookupTable[],3,FALSE)","v":"Employee Name 54"},{"$f":"VLOOKUP(HRSummarylTable[[#This Row],[EmployeeID]],EmployeeListLookupTable[],4,FALSE)","v":"Employee Job Title 54"},"TCTC001 - Total Cost to Company",{"$f":"LEFT(HRSummarylTable[[#This Row],[PackageItemCode]],7)","v":"TCTC001"},{"$f":"VLOOKUP(HRSummarylTable[[#This Row],[PackageItem]],PackageItemListLookup[],2,FALSE)","v":"Total Cost to Company"},null,{"$f":"SUMIF(PACKT01!$R65,\"TRUE\",PACKT01!F65)+SUMIF(PACKT02!$R65,\"TRUE\",PACKT02!F65)+SUMIF(PACKT03!$R65,\"TRUE\",PACKT03!F65)+SUMIF(PACKT04!$R65,\"TRUE\",PACKT04!F65)+SUMIF(PACKT05!$R65,\"TRUE\",PACKT05!F65)+SUMIF(PACKT06!$R66,\"TRUE\",PACKT06!F66)+SUMIF(PACKT07!$R65,\"TRUE\",PACKT07!F65)+SUMIF(PACKT08!$R65,\"TRUE\",PACKT08!F65)+SUMIF(PACKT09!$R65,\"TRUE\",PACKT09!F65)+SUMIF(PACKT10!$R65,\"TRUE\",PACKT10!F65)+SUMIF(PACKT11!$R65,\"TRUE\",PACKT11!F65)","v":0},{"$f":"SUMIF(PACKT01!$R65,\"TRUE\",PACKT01!G65)+SUMIF(PACKT02!$R65,\"TRUE\",PACKT02!G65)+SUMIF(PACKT03!$R65,\"TRUE\",PACKT03!G65)+SUMIF(PACKT04!$R65,\"TRUE\",PACKT04!G65)+SUMIF(PACKT05!$R65,\"TRUE\",PACKT05!G65)+SUMIF(PACKT06!$R66,\"TRUE\",PACKT06!G66)+SUMIF(PACKT07!$R65,\"TRUE\",PACKT07!G65)+SUMIF(PACKT08!$R65,\"TRUE\",PACKT08!G65)+SUMIF(PACKT09!$R65,\"TRUE\",PACKT09!G65)+SUMIF(PACKT10!$R65,\"TRUE\",PACKT10!G65)+SUMIF(PACKT11!$R65,\"TRUE\",PACKT11!G65)","v":0},{"$f":"SUMIF(PACKT01!$R65,\"TRUE\",PACKT01!H65)+SUMIF(PACKT02!$R65,\"TRUE\",PACKT02!H65)+SUMIF(PACKT03!$R65,\"TRUE\",PACKT03!H65)+SUMIF(PACKT04!$R65,\"TRUE\",PACKT04!H65)+SUMIF(PACKT05!$R65,\"TRUE\",PACKT05!H65)+SUMIF(PACKT06!$R66,\"TRUE\",PACKT06!H66)+SUMIF(PACKT07!$R65,\"TRUE\",PACKT07!H65)+SUMIF(PACKT08!$R65,\"TRUE\",PACKT08!H65)+SUMIF(PACKT09!$R65,\"TRUE\",PACKT09!H65)+SUMIF(PACKT10!$R65,\"TRUE\",PACKT10!H65)+SUMIF(PACKT11!$R65,\"TRUE\",PACKT11!H65)","v":0},{"$f":"SUMIF(PACKT01!$R65,\"TRUE\",PACKT01!I65)+SUMIF(PACKT02!$R65,\"TRUE\",PACKT02!I65)+SUMIF(PACKT03!$R65,\"TRUE\",PACKT03!I65)+SUMIF(PACKT04!$R65,\"TRUE\",PACKT04!I65)+SUMIF(PACKT05!$R65,\"TRUE\",PACKT05!I65)+SUMIF(PACKT06!$R66,\"TRUE\",PACKT06!I66)+SUMIF(PACKT07!$R65,\"TRUE\",PACKT07!I65)+SUMIF(PACKT08!$R65,\"TRUE\",PACKT08!I65)+SUMIF(PACKT09!$R65,\"TRUE\",PACKT09!I65)+SUMIF(PACKT10!$R65,\"TRUE\",PACKT10!I65)+SUMIF(PACKT11!$R65,\"TRUE\",PACKT11!I65)","v":0},{"$f":"SUMIF(PACKT01!$R65,\"TRUE\",PACKT01!J65)+SUMIF(PACKT02!$R65,\"TRUE\",PACKT02!J65)+SUMIF(PACKT03!$R65,\"TRUE\",PACKT03!J65)+SUMIF(PACKT04!$R65,\"TRUE\",PACKT04!J65)+SUMIF(PACKT05!$R65,\"TRUE\",PACKT05!J65)+SUMIF(PACKT06!$R66,\"TRUE\",PACKT06!J66)+SUMIF(PACKT07!$R65,\"TRUE\",PACKT07!J65)+SUMIF(PACKT08!$R65,\"TRUE\",PACKT08!J65)+SUMIF(PACKT09!$R65,\"TRUE\",PACKT09!J65)+SUMIF(PACKT10!$R65,\"TRUE\",PACKT10!J65)+SUMIF(PACKT11!$R65,\"TRUE\",PACKT11!J65)","v":0},{"$f":"SUMIF(PACKT01!$R65,\"TRUE\",PACKT01!K65)+SUMIF(PACKT02!$R65,\"TRUE\",PACKT02!K65)+SUMIF(PACKT03!$R65,\"TRUE\",PACKT03!K65)+SUMIF(PACKT04!$R65,\"TRUE\",PACKT04!K65)+SUMIF(PACKT05!$R65,\"TRUE\",PACKT05!K65)+SUMIF(PACKT06!$R66,\"TRUE\",PACKT06!K66)+SUMIF(PACKT07!$R65,\"TRUE\",PACKT07!K65)+SUMIF(PACKT08!$R65,\"TRUE\",PACKT08!K65)+SUMIF(PACKT09!$R65,\"TRUE\",PACKT09!K65)+SUMIF(PACKT10!$R65,\"TRUE\",PACKT10!K65)+SUMIF(PACKT11!$R65,\"TRUE\",PACKT11!K65)","v":0},{"$f":"SUMIF(PACKT01!$R65,\"TRUE\",PACKT01!L65)+SUMIF(PACKT02!$R65,\"TRUE\",PACKT02!L65)+SUMIF(PACKT03!$R65,\"TRUE\",PACKT03!L65)+SUMIF(PACKT04!$R65,\"TRUE\",PACKT04!L65)+SUMIF(PACKT05!$R65,\"TRUE\",PACKT05!L65)+SUMIF(PACKT06!$R66,\"TRUE\",PACKT06!L66)+SUMIF(PACKT07!$R65,\"TRUE\",PACKT07!L65)+SUMIF(PACKT08!$R65,\"TRUE\",PACKT08!L65)+SUMIF(PACKT09!$R65,\"TRUE\",PACKT09!L65)+SUMIF(PACKT10!$R65,\"TRUE\",PACKT10!L65)+SUMIF(PACKT11!$R65,\"TRUE\",PACKT11!L65)","v":0},{"$f":"SUMIF(PACKT01!$R65,\"TRUE\",PACKT01!M65)+SUMIF(PACKT02!$R65,\"TRUE\",PACKT02!M65)+SUMIF(PACKT03!$R65,\"TRUE\",PACKT03!M65)+SUMIF(PACKT04!$R65,\"TRUE\",PACKT04!M65)+SUMIF(PACKT05!$R65,\"TRUE\",PACKT05!M65)+SUMIF(PACKT06!$R66,\"TRUE\",PACKT06!M66)+SUMIF(PACKT07!$R65,\"TRUE\",PACKT07!M65)+SUMIF(PACKT08!$R65,\"TRUE\",PACKT08!M65)+SUMIF(PACKT09!$R65,\"TRUE\",PACKT09!M65)+SUMIF(PACKT10!$R65,\"TRUE\",PACKT10!M65)+SUMIF(PACKT11!$R65,\"TRUE\",PACKT11!M65)","v":0},{"$f":"SUMIF(PACKT01!$R65,\"TRUE\",PACKT01!N65)+SUMIF(PACKT02!$R65,\"TRUE\",PACKT02!N65)+SUMIF(PACKT03!$R65,\"TRUE\",PACKT03!N65)+SUMIF(PACKT04!$R65,\"TRUE\",PACKT04!N65)+SUMIF(PACKT05!$R65,\"TRUE\",PACKT05!N65)+SUMIF(PACKT06!$R66,\"TRUE\",PACKT06!N66)+SUMIF(PACKT07!$R65,\"TRUE\",PACKT07!N65)+SUMIF(PACKT08!$R65,\"TRUE\",PACKT08!N65)+SUMIF(PACKT09!$R65,\"TRUE\",PACKT09!N65)+SUMIF(PACKT10!$R65,\"TRUE\",PACKT10!N65)+SUMIF(PACKT11!$R65,\"TRUE\",PACKT11!N65)","v":0},{"$f":"SUMIF(PACKT01!$R65,\"TRUE\",PACKT01!O65)+SUMIF(PACKT02!$R65,\"TRUE\",PACKT02!O65)+SUMIF(PACKT03!$R65,\"TRUE\",PACKT03!O65)+SUMIF(PACKT04!$R65,\"TRUE\",PACKT04!O65)+SUMIF(PACKT05!$R65,\"TRUE\",PACKT05!O65)+SUMIF(PACKT06!$R66,\"TRUE\",PACKT06!O66)+SUMIF(PACKT07!$R65,\"TRUE\",PACKT07!O65)+SUMIF(PACKT08!$R65,\"TRUE\",PACKT08!O65)+SUMIF(PACKT09!$R65,\"TRUE\",PACKT09!O65)+SUMIF(PACKT10!$R65,\"TRUE\",PACKT10!O65)+SUMIF(PACKT11!$R65,\"TRUE\",PACKT11!O65)","v":0},{"$f":"SUMIF(PACKT01!$R65,\"TRUE\",PACKT01!P65)+SUMIF(PACKT02!$R65,\"TRUE\",PACKT02!P65)+SUMIF(PACKT03!$R65,\"TRUE\",PACKT03!P65)+SUMIF(PACKT04!$R65,\"TRUE\",PACKT04!P65)+SUMIF(PACKT05!$R65,\"TRUE\",PACKT05!P65)+SUMIF(PACKT06!$R66,\"TRUE\",PACKT06!P66)+SUMIF(PACKT07!$R65,\"TRUE\",PACKT07!P65)+SUMIF(PACKT08!$R65,\"TRUE\",PACKT08!P65)+SUMIF(PACKT09!$R65,\"TRUE\",PACKT09!P65)+SUMIF(PACKT10!$R65,\"TRUE\",PACKT10!P65)+SUMIF(PACKT11!$R65,\"TRUE\",PACKT11!P65)","v":0},{"$f":"SUMIF(PACKT01!$R65,\"TRUE\",PACKT01!Q65)+SUMIF(PACKT02!$R65,\"TRUE\",PACKT02!Q65)+SUMIF(PACKT03!$R65,\"TRUE\",PACKT03!Q65)+SUMIF(PACKT04!$R65,\"TRUE\",PACKT04!Q65)+SUMIF(PACKT05!$R65,\"TRUE\",PACKT05!Q65)+SUMIF(PACKT06!$R66,\"TRUE\",PACKT06!Q66)+SUMIF(PACKT07!$R65,\"TRUE\",PACKT07!Q65)+SUMIF(PACKT08!$R65,\"TRUE\",PACKT08!Q65)+SUMIF(PACKT09!$R65,\"TRUE\",PACKT09!Q65)+SUMIF(PACKT10!$R65,\"TRUE\",PACKT10!Q65)+SUMIF(PACKT11!$R65,\"TRUE\",PACKT11!Q65)","v":0},0]
[null,"EMP0055",{"$f":"VLOOKUP(HRSummarylTable[[#This Row],[EmployeeID]],EmployeeListLookupTable[],2,FALSE)","v":"EMPN055"},{"$f":"VLOOKUP(HRSummarylTable[[#This Row],[EmployeeID]],EmployeeListLookupTable[],3,FALSE)","v":"Employee Name 55"},{"$f":"VLOOKUP(HRSummarylTable[[#This Row],[EmployeeID]],EmployeeListLookupTable[],4,FALSE)","v":"Employee Job Title 55"},"TCTC001 - Total Cost to Company",{"$f":"LEFT(HRSummarylTable[[#This Row],[PackageItemCode]],7)","v":"TCTC001"},{"$f":"VLOOKUP(HRSummarylTable[[#This Row],[PackageItem]],PackageItemListLookup[],2,FALSE)","v":"Total Cost to Company"},null,{"$f":"SUMIF(PACKT01!$R66,\"TRUE\",PACKT01!F66)+SUMIF(PACKT02!$R66,\"TRUE\",PACKT02!F66)+SUMIF(PACKT03!$R66,\"TRUE\",PACKT03!F66)+SUMIF(PACKT04!$R66,\"TRUE\",PACKT04!F66)+SUMIF(PACKT05!$R66,\"TRUE\",PACKT05!F66)+SUMIF(PACKT06!$R67,\"TRUE\",PACKT06!F67)+SUMIF(PACKT07!$R66,\"TRUE\",PACKT07!F66)+SUMIF(PACKT08!$R66,\"TRUE\",PACKT08!F66)+SUMIF(PACKT09!$R66,\"TRUE\",PACKT09!F66)+SUMIF(PACKT10!$R66,\"TRUE\",PACKT10!F66)+SUMIF(PACKT11!$R66,\"TRUE\",PACKT11!F66)","v":0},{"$f":"SUMIF(PACKT01!$R66,\"TRUE\",PACKT01!G66)+SUMIF(PACKT02!$R66,\"TRUE\",PACKT02!G66)+SUMIF(PACKT03!$R66,\"TRUE\",PACKT03!G66)+SUMIF(PACKT04!$R66,\"TRUE\",PACKT04!G66)+SUMIF(PACKT05!$R66,\"TRUE\",PACKT05!G66)+SUMIF(PACKT06!$R67,\"TRUE\",PACKT06!G67)+SUMIF(PACKT07!$R66,\"TRUE\",PACKT07!G66)+SUMIF(PACKT08!$R66,\"TRUE\",PACKT08!G66)+SUMIF(PACKT09!$R66,\"TRUE\",PACKT09!G66)+SUMIF(PACKT10!$R66,\"TRUE\",PACKT10!G66)+SUMIF(PACKT11!$R66,\"TRUE\",PACKT11!G66)","v":0},{"$f":"SUMIF(PACKT01!$R66,\"TRUE\",PACKT01!H66)+SUMIF(PACKT02!$R66,\"TRUE\",PACKT02!H66)+SUMIF(PACKT03!$R66,\"TRUE\",PACKT03!H66)+SUMIF(PACKT04!$R66,\"TRUE\",PACKT04!H66)+SUMIF(PACKT05!$R66,\"TRUE\",PACKT05!H66)+SUMIF(PACKT06!$R67,\"TRUE\",PACKT06!H67)+SUMIF(PACKT07!$R66,\"TRUE\",PACKT07!H66)+SUMIF(PACKT08!$R66,\"TRUE\",PACKT08!H66)+SUMIF(PACKT09!$R66,\"TRUE\",PACKT09!H66)+SUMIF(PACKT10!$R66,\"TRUE\",PACKT10!H66)+SUMIF(PACKT11!$R66,\"TRUE\",PACKT11!H66)","v":0},{"$f":"SUMIF(PACKT01!$R66,\"TRUE\",PACKT01!I66)+SUMIF(PACKT02!$R66,\"TRUE\",PACKT02!I66)+SUMIF(PACKT03!$R66,\"TRUE\",PACKT03!I66)+SUMIF(PACKT04!$R66,\"TRUE\",PACKT04!I66)+SUMIF(PACKT05!$R66,\"TRUE\",PACKT05!I66)+SUMIF(PACKT06!$R67,\"TRUE\",PACKT06!I67)+SUMIF(PACKT07!$R66,\"TRUE\",PACKT07!I66)+SUMIF(PACKT08!$R66,\"TRUE\",PACKT08!I66)+SUMIF(PACKT09!$R66,\"TRUE\",PACKT09!I66)+SUMIF(PACKT10!$R66,\"TRUE\",PACKT10!I66)+SUMIF(PACKT11!$R66,\"TRUE\",PACKT11!I66)","v":0},{"$f":"SUMIF(PACKT01!$R66,\"TRUE\",PACKT01!J66)+SUMIF(PACKT02!$R66,\"TRUE\",PACKT02!J66)+SUMIF(PACKT03!$R66,\"TRUE\",PACKT03!J66)+SUMIF(PACKT04!$R66,\"TRUE\",PACKT04!J66)+SUMIF(PACKT05!$R66,\"TRUE\",PACKT05!J66)+SUMIF(PACKT06!$R67,\"TRUE\",PACKT06!J67)+SUMIF(PACKT07!$R66,\"TRUE\",PACKT07!J66)+SUMIF(PACKT08!$R66,\"TRUE\",PACKT08!J66)+SUMIF(PACKT09!$R66,\"TRUE\",PACKT09!J66)+SUMIF(PACKT10!$R66,\"TRUE\",PACKT10!J66)+SUMIF(PACKT11!$R66,\"TRUE\",PACKT11!J66)","v":0},{"$f":"SUMIF(PACKT01!$R66,\"TRUE\",PACKT01!K66)+SUMIF(PACKT02!$R66,\"TRUE\",PACKT02!K66)+SUMIF(PACKT03!$R66,\"TRUE\",PACKT03!K66)+SUMIF(PACKT04!$R66,\"TRUE\",PACKT04!K66)+SUMIF(PACKT05!$R66,\"TRUE\",PACKT05!K66)+SUMIF(PACKT06!$R67,\"TRUE\",PACKT06!K67)+SUMIF(PACKT07!$R66,\"TRUE\",PACKT07!K66)+SUMIF(PACKT08!$R66,\"TRUE\",PACKT08!K66)+SUMIF(PACKT09!$R66,\"TRUE\",PACKT09!K66)+SUMIF(PACKT10!$R66,\"TRUE\",PACKT10!K66)+SUMIF(PACKT11!$R66,\"TRUE\",PACKT11!K66)","v":0},{"$f":"SUMIF(PACKT01!$R66,\"TRUE\",PACKT01!L66)+SUMIF(PACKT02!$R66,\"TRUE\",PACKT02!L66)+SUMIF(PACKT03!$R66,\"TRUE\",PACKT03!L66)+SUMIF(PACKT04!$R66,\"TRUE\",PACKT04!L66)+SUMIF(PACKT05!$R66,\"TRUE\",PACKT05!L66)+SUMIF(PACKT06!$R67,\"TRUE\",PACKT06!L67)+SUMIF(PACKT07!$R66,\"TRUE\",PACKT07!L66)+SUMIF(PACKT08!$R66,\"TRUE\",PACKT08!L66)+SUMIF(PACKT09!$R66,\"TRUE\",PACKT09!L66)+SUMIF(PACKT10!$R66,\"TRUE\",PACKT10!L66)+SUMIF(PACKT11!$R66,\"TRUE\",PACKT11!L66)","v":0},{"$f":"SUMIF(PACKT01!$R66,\"TRUE\",PACKT01!M66)+SUMIF(PACKT02!$R66,\"TRUE\",PACKT02!M66)+SUMIF(PACKT03!$R66,\"TRUE\",PACKT03!M66)+SUMIF(PACKT04!$R66,\"TRUE\",PACKT04!M66)+SUMIF(PACKT05!$R66,\"TRUE\",PACKT05!M66)+SUMIF(PACKT06!$R67,\"TRUE\",PACKT06!M67)+SUMIF(PACKT07!$R66,\"TRUE\",PACKT07!M66)+SUMIF(PACKT08!$R66,\"TRUE\",PACKT08!M66)+SUMIF(PACKT09!$R66,\"TRUE\",PACKT09!M66)+SUMIF(PACKT10!$R66,\"TRUE\",PACKT10!M66)+SUMIF(PACKT11!$R66,\"TRUE\",PACKT11!M66)","v":0},{"$f":"SUMIF(PACKT01!$R66,\"TRUE\",PACKT01!N66)+SUMIF(PACKT02!$R66,\"TRUE\",PACKT02!N66)+SUMIF(PACKT03!$R66,\"TRUE\",PACKT03!N66)+SUMIF(PACKT04!$R66,\"TRUE\",PACKT04!N66)+SUMIF(PACKT05!$R66,\"TRUE\",PACKT05!N66)+SUMIF(PACKT06!$R67,\"TRUE\",PACKT06!N67)+SUMIF(PACKT07!$R66,\"TRUE\",PACKT07!N66)+SUMIF(PACKT08!$R66,\"TRUE\",PACKT08!N66)+SUMIF(PACKT09!$R66,\"TRUE\",PACKT09!N66)+SUMIF(PACKT10!$R66,\"TRUE\",PACKT10!N66)+SUMIF(PACKT11!$R66,\"TRUE\",PACKT11!N66)","v":0},{"$f":"SUMIF(PACKT01!$R66,\"TRUE\",PACKT01!O66)+SUMIF(PACKT02!$R66,\"TRUE\",PACKT02!O66)+SUMIF(PACKT03!$R66,\"TRUE\",PACKT03!O66)+SUMIF(PACKT04!$R66,\"TRUE\",PACKT04!O66)+SUMIF(PACKT05!$R66,\"TRUE\",PACKT05!O66)+SUMIF(PACKT06!$R67,\"TRUE\",PACKT06!O67)+SUMIF(PACKT07!$R66,\"TRUE\",PACKT07!O66)+SUMIF(PACKT08!$R66,\"TRUE\",PACKT08!O66)+SUMIF(PACKT09!$R66,\"TRUE\",PACKT09!O66)+SUMIF(PACKT10!$R66,\"TRUE\",PACKT10!O66)+SUMIF(PACKT11!$R66,\"TRUE\",PACKT11!O66)","v":0},{"$f":"SUMIF(PACKT01!$R66,\"TRUE\",PACKT01!P66)+SUMIF(PACKT02!$R66,\"TRUE\",PACKT02!P66)+SUMIF(PACKT03!$R66,\"TRUE\",PACKT03!P66)+SUMIF(PACKT04!$R66,\"TRUE\",PACKT04!P66)+SUMIF(PACKT05!$R66,\"TRUE\",PACKT05!P66)+SUMIF(PACKT06!$R67,\"TRUE\",PACKT06!P67)+SUMIF(PACKT07!$R66,\"TRUE\",PACKT07!P66)+SUMIF(PACKT08!$R66,\"TRUE\",PACKT08!P66)+SUMIF(PACKT09!$R66,\"TRUE\",PACKT09!P66)+SUMIF(PACKT10!$R66,\"TRUE\",PACKT10!P66)+SUMIF(PACKT11!$R66,\"TRUE\",PACKT11!P66)","v":0},{"$f":"SUMIF(PACKT01!$R66,\"TRUE\",PACKT01!Q66)+SUMIF(PACKT02!$R66,\"TRUE\",PACKT02!Q66)+SUMIF(PACKT03!$R66,\"TRUE\",PACKT03!Q66)+SUMIF(PACKT04!$R66,\"TRUE\",PACKT04!Q66)+SUMIF(PACKT05!$R66,\"TRUE\",PACKT05!Q66)+SUMIF(PACKT06!$R67,\"TRUE\",PACKT06!Q67)+SUMIF(PACKT07!$R66,\"TRUE\",PACKT07!Q66)+SUMIF(PACKT08!$R66,\"TRUE\",PACKT08!Q66)+SUMIF(PACKT09!$R66,\"TRUE\",PACKT09!Q66)+SUMIF(PACKT10!$R66,\"TRUE\",PACKT10!Q66)+SUMIF(PACKT11!$R66,\"TRUE\",PACKT11!Q66)","v":0},0]
[null,"EMP0056",{"$f":"VLOOKUP(HRSummarylTable[[#This Row],[EmployeeID]],EmployeeListLookupTable[],2,FALSE)","v":"EMPN056"},{"$f":"VLOOKUP(HRSummarylTable[[#This Row],[EmployeeID]],EmployeeListLookupTable[],3,FALSE)","v":"Employee Name 56"},{"$f":"VLOOKUP(HRSummarylTable[[#This Row],[EmployeeID]],EmployeeListLookupTable[],4,FALSE)","v":"Employee Job Title 56"},"TCTC001 - Total Cost to Company",{"$f":"LEFT(HRSummarylTable[[#This Row],[PackageItemCode]],7)","v":"TCTC001"},{"$f":"VLOOKUP(HRSummarylTable[[#This Row],[PackageItem]],PackageItemListLookup[],2,FALSE)","v":"Total Cost to Company"},null,{"$f":"SUMIF(PACKT01!$R67,\"TRUE\",PACKT01!F67)+SUMIF(PACKT02!$R67,\"TRUE\",PACKT02!F67)+SUMIF(PACKT03!$R67,\"TRUE\",PACKT03!F67)+SUMIF(PACKT04!$R67,\"TRUE\",PACKT04!F67)+SUMIF(PACKT05!$R67,\"TRUE\",PACKT05!F67)+SUMIF(PACKT06!$R68,\"TRUE\",PACKT06!F68)+SUMIF(PACKT07!$R67,\"TRUE\",PACKT07!F67)+SUMIF(PACKT08!$R67,\"TRUE\",PACKT08!F67)+SUMIF(PACKT09!$R67,\"TRUE\",PACKT09!F67)+SUMIF(PACKT10!$R67,\"TRUE\",PACKT10!F67)+SUMIF(PACKT11!$R67,\"TRUE\",PACKT11!F67)","v":0},{"$f":"SUMIF(PACKT01!$R67,\"TRUE\",PACKT01!G67)+SUMIF(PACKT02!$R67,\"TRUE\",PACKT02!G67)+SUMIF(PACKT03!$R67,\"TRUE\",PACKT03!G67)+SUMIF(PACKT04!$R67,\"TRUE\",PACKT04!G67)+SUMIF(PACKT05!$R67,\"TRUE\",PACKT05!G67)+SUMIF(PACKT06!$R68,\"TRUE\",PACKT06!G68)+SUMIF(PACKT07!$R67,\"TRUE\",PACKT07!G67)+SUMIF(PACKT08!$R67,\"TRUE\",PACKT08!G67)+SUMIF(PACKT09!$R67,\"TRUE\",PACKT09!G67)+SUMIF(PACKT10!$R67,\"TRUE\",PACKT10!G67)+SUMIF(PACKT11!$R67,\"TRUE\",PACKT11!G67)","v":0},{"$f":"SUMIF(PACKT01!$R67,\"TRUE\",PACKT01!H67)+SUMIF(PACKT02!$R67,\"TRUE\",PACKT02!H67)+SUMIF(PACKT03!$R67,\"TRUE\",PACKT03!H67)+SUMIF(PACKT04!$R67,\"TRUE\",PACKT04!H67)+SUMIF(PACKT05!$R67,\"TRUE\",PACKT05!H67)+SUMIF(PACKT06!$R68,\"TRUE\",PACKT06!H68)+SUMIF(PACKT07!$R67,\"TRUE\",PACKT07!H67)+SUMIF(PACKT08!$R67,\"TRUE\",PACKT08!H67)+SUMIF(PACKT09!$R67,\"TRUE\",PACKT09!H67)+SUMIF(PACKT10!$R67,\"TRUE\",PACKT10!H67)+SUMIF(PACKT11!$R67,\"TRUE\",PACKT11!H67)","v":0},{"$f":"SUMIF(PACKT01!$R67,\"TRUE\",PACKT01!I67)+SUMIF(PACKT02!$R67,\"TRUE\",PACKT02!I67)+SUMIF(PACKT03!$R67,\"TRUE\",PACKT03!I67)+SUMIF(PACKT04!$R67,\"TRUE\",PACKT04!I67)+SUMIF(PACKT05!$R67,\"TRUE\",PACKT05!I67)+SUMIF(PACKT06!$R68,\"TRUE\",PACKT06!I68)+SUMIF(PACKT07!$R67,\"TRUE\",PACKT07!I67)+SUMIF(PACKT08!$R67,\"TRUE\",PACKT08!I67)+SUMIF(PACKT09!$R67,\"TRUE\",PACKT09!I67)+SUMIF(PACKT10!$R67,\"TRUE\",PACKT10!I67)+SUMIF(PACKT11!$R67,\"TRUE\",PACKT11!I67)","v":0},{"$f":"SUMIF(PACKT01!$R67,\"TRUE\",PACKT01!J67)+SUMIF(PACKT02!$R67,\"TRUE\",PACKT02!J67)+SUMIF(PACKT03!$R67,\"TRUE\",PACKT03!J67)+SUMIF(PACKT04!$R67,\"TRUE\",PACKT04!J67)+SUMIF(PACKT05!$R67,\"TRUE\",PACKT05!J67)+SUMIF(PACKT06!$R68,\"TRUE\",PACKT06!J68)+SUMIF(PACKT07!$R67,\"TRUE\",PACKT07!J67)+SUMIF(PACKT08!$R67,\"TRUE\",PACKT08!J67)+SUMIF(PACKT09!$R67,\"TRUE\",PACKT09!J67)+SUMIF(PACKT10!$R67,\"TRUE\",PACKT10!J67)+SUMIF(PACKT11!$R67,\"TRUE\",PACKT11!J67)","v":0},{"$f":"SUMIF(PACKT01!$R67,\"TRUE\",PACKT01!K67)+SUMIF(PACKT02!$R67,\"TRUE\",PACKT02!K67)+SUMIF(PACKT03!$R67,\"TRUE\",PACKT03!K67)+SUMIF(PACKT04!$R67,\"TRUE\",PACKT04!K67)+SUMIF(PACKT05!$R67,\"TRUE\",PACKT05!K67)+SUMIF(PACKT06!$R68,\"TRUE\",PACKT06!K68)+SUMIF(PACKT07!$R67,\"TRUE\",PACKT07!K67)+SUMIF(PACKT08!$R67,\"TRUE\",PACKT08!K67)+SUMIF(PACKT09!$R67,\"TRUE\",PACKT09!K67)+SUMIF(PACKT10!$R67,\"TRUE\",PACKT10!K67)+SUMIF(PACKT11!$R67,\"TRUE\",PACKT11!K67)","v":0},{"$f":"SUMIF(PACKT01!$R67,\"TRUE\",PACKT01!L67)+SUMIF(PACKT02!$R67,\"TRUE\",PACKT02!L67)+SUMIF(PACKT03!$R67,\"TRUE\",PACKT03!L67)+SUMIF(PACKT04!$R67,\"TRUE\",PACKT04!L67)+SUMIF(PACKT05!$R67,\"TRUE\",PACKT05!L67)+SUMIF(PACKT06!$R68,\"TRUE\",PACKT06!L68)+SUMIF(PACKT07!$R67,\"TRUE\",PACKT07!L67)+SUMIF(PACKT08!$R67,\"TRUE\",PACKT08!L67)+SUMIF(PACKT09!$R67,\"TRUE\",PACKT09!L67)+SUMIF(PACKT10!$R67,\"TRUE\",PACKT10!L67)+SUMIF(PACKT11!$R67,\"TRUE\",PACKT11!L67)","v":0},{"$f":"SUMIF(PACKT01!$R67,\"TRUE\",PACKT01!M67)+SUMIF(PACKT02!$R67,\"TRUE\",PACKT02!M67)+SUMIF(PACKT03!$R67,\"TRUE\",PACKT03!M67)+SUMIF(PACKT04!$R67,\"TRUE\",PACKT04!M67)+SUMIF(PACKT05!$R67,\"TRUE\",PACKT05!M67)+SUMIF(PACKT06!$R68,\"TRUE\",PACKT06!M68)+SUMIF(PACKT07!$R67,\"TRUE\",PACKT07!M67)+SUMIF(PACKT08!$R67,\"TRUE\",PACKT08!M67)+SUMIF(PACKT09!$R67,\"TRUE\",PACKT09!M67)+SUMIF(PACKT10!$R67,\"TRUE\",PACKT10!M67)+SUMIF(PACKT11!$R67,\"TRUE\",PACKT11!M67)","v":0},{"$f":"SUMIF(PACKT01!$R67,\"TRUE\",PACKT01!N67)+SUMIF(PACKT02!$R67,\"TRUE\",PACKT02!N67)+SUMIF(PACKT03!$R67,\"TRUE\",PACKT03!N67)+SUMIF(PACKT04!$R67,\"TRUE\",PACKT04!N67)+SUMIF(PACKT05!$R67,\"TRUE\",PACKT05!N67)+SUMIF(PACKT06!$R68,\"TRUE\",PACKT06!N68)+SUMIF(PACKT07!$R67,\"TRUE\",PACKT07!N67)+SUMIF(PACKT08!$R67,\"TRUE\",PACKT08!N67)+SUMIF(PACKT09!$R67,\"TRUE\",PACKT09!N67)+SUMIF(PACKT10!$R67,\"TRUE\",PACKT10!N67)+SUMIF(PACKT11!$R67,\"TRUE\",PACKT11!N67)","v":0},{"$f":"SUMIF(PACKT01!$R67,\"TRUE\",PACKT01!O67)+SUMIF(PACKT02!$R67,\"TRUE\",PACKT02!O67)+SUMIF(PACKT03!$R67,\"TRUE\",PACKT03!O67)+SUMIF(PACKT04!$R67,\"TRUE\",PACKT04!O67)+SUMIF(PACKT05!$R67,\"TRUE\",PACKT05!O67)+SUMIF(PACKT06!$R68,\"TRUE\",PACKT06!O68)+SUMIF(PACKT07!$R67,\"TRUE\",PACKT07!O67)+SUMIF(PACKT08!$R67,\"TRUE\",PACKT08!O67)+SUMIF(PACKT09!$R67,\"TRUE\",PACKT09!O67)+SUMIF(PACKT10!$R67,\"TRUE\",PACKT10!O67)+SUMIF(PACKT11!$R67,\"TRUE\",PACKT11!O67)","v":0},{"$f":"SUMIF(PACKT01!$R67,\"TRUE\",PACKT01!P67)+SUMIF(PACKT02!$R67,\"TRUE\",PACKT02!P67)+SUMIF(PACKT03!$R67,\"TRUE\",PACKT03!P67)+SUMIF(PACKT04!$R67,\"TRUE\",PACKT04!P67)+SUMIF(PACKT05!$R67,\"TRUE\",PACKT05!P67)+SUMIF(PACKT06!$R68,\"TRUE\",PACKT06!P68)+SUMIF(PACKT07!$R67,\"TRUE\",PACKT07!P67)+SUMIF(PACKT08!$R67,\"TRUE\",PACKT08!P67)+SUMIF(PACKT09!$R67,\"TRUE\",PACKT09!P67)+SUMIF(PACKT10!$R67,\"TRUE\",PACKT10!P67)+SUMIF(PACKT11!$R67,\"TRUE\",PACKT11!P67)","v":0},{"$f":"SUMIF(PACKT01!$R67,\"TRUE\",PACKT01!Q67)+SUMIF(PACKT02!$R67,\"TRUE\",PACKT02!Q67)+SUMIF(PACKT03!$R67,\"TRUE\",PACKT03!Q67)+SUMIF(PACKT04!$R67,\"TRUE\",PACKT04!Q67)+SUMIF(PACKT05!$R67,\"TRUE\",PACKT05!Q67)+SUMIF(PACKT06!$R68,\"TRUE\",PACKT06!Q68)+SUMIF(PACKT07!$R67,\"TRUE\",PACKT07!Q67)+SUMIF(PACKT08!$R67,\"TRUE\",PACKT08!Q67)+SUMIF(PACKT09!$R67,\"TRUE\",PACKT09!Q67)+SUMIF(PACKT10!$R67,\"TRUE\",PACKT10!Q67)+SUMIF(PACKT11!$R67,\"TRUE\",PACKT11!Q67)","v":0},0]
[null,"EMP0057",{"$f":"VLOOKUP(HRSummarylTable[[#This Row],[EmployeeID]],EmployeeListLookupTable[],2,FALSE)","v":"EMPN057"},{"$f":"VLOOKUP(HRSummarylTable[[#This Row],[EmployeeID]],EmployeeListLookupTable[],3,FALSE)","v":"Employee Name 57"},{"$f":"VLOOKUP(HRSummarylTable[[#This Row],[EmployeeID]],EmployeeListLookupTable[],4,FALSE)","v":"Employee Job Title 57"},"TCTC001 - Total Cost to Company",{"$f":"LEFT(HRSummarylTable[[#This Row],[PackageItemCode]],7)","v":"TCTC001"},{"$f":"VLOOKUP(HRSummarylTable[[#This Row],[PackageItem]],PackageItemListLookup[],2,FALSE)","v":"Total Cost to Company"},null,{"$f":"SUMIF(PACKT01!$R68,\"TRUE\",PACKT01!F68)+SUMIF(PACKT02!$R68,\"TRUE\",PACKT02!F68)+SUMIF(PACKT03!$R68,\"TRUE\",PACKT03!F68)+SUMIF(PACKT04!$R68,\"TRUE\",PACKT04!F68)+SUMIF(PACKT05!$R68,\"TRUE\",PACKT05!F68)+SUMIF(PACKT06!$R69,\"TRUE\",PACKT06!F69)+SUMIF(PACKT07!$R68,\"TRUE\",PACKT07!F68)+SUMIF(PACKT08!$R68,\"TRUE\",PACKT08!F68)+SUMIF(PACKT09!$R68,\"TRUE\",PACKT09!F68)+SUMIF(PACKT10!$R68,\"TRUE\",PACKT10!F68)+SUMIF(PACKT11!$R68,\"TRUE\",PACKT11!F68)","v":0},{"$f":"SUMIF(PACKT01!$R68,\"TRUE\",PACKT01!G68)+SUMIF(PACKT02!$R68,\"TRUE\",PACKT02!G68)+SUMIF(PACKT03!$R68,\"TRUE\",PACKT03!G68)+SUMIF(PACKT04!$R68,\"TRUE\",PACKT04!G68)+SUMIF(PACKT05!$R68,\"TRUE\",PACKT05!G68)+SUMIF(PACKT06!$R69,\"TRUE\",PACKT06!G69)+SUMIF(PACKT07!$R68,\"TRUE\",PACKT07!G68)+SUMIF(PACKT08!$R68,\"TRUE\",PACKT08!G68)+SUMIF(PACKT09!$R68,\"TRUE\",PACKT09!G68)+SUMIF(PACKT10!$R68,\"TRUE\",PACKT10!G68)+SUMIF(PACKT11!$R68,\"TRUE\",PACKT11!G68)","v":0},{"$f":"SUMIF(PACKT01!$R68,\"TRUE\",PACKT01!H68)+SUMIF(PACKT02!$R68,\"TRUE\",PACKT02!H68)+SUMIF(PACKT03!$R68,\"TRUE\",PACKT03!H68)+SUMIF(PACKT04!$R68,\"TRUE\",PACKT04!H68)+SUMIF(PACKT05!$R68,\"TRUE\",PACKT05!H68)+SUMIF(PACKT06!$R69,\"TRUE\",PACKT06!H69)+SUMIF(PACKT07!$R68,\"TRUE\",PACKT07!H68)+SUMIF(PACKT08!$R68,\"TRUE\",PACKT08!H68)+SUMIF(PACKT09!$R68,\"TRUE\",PACKT09!H68)+SUMIF(PACKT10!$R68,\"TRUE\",PACKT10!H68)+SUMIF(PACKT11!$R68,\"TRUE\",PACKT11!H68)","v":0},{"$f":"SUMIF(PACKT01!$R68,\"TRUE\",PACKT01!I68)+SUMIF(PACKT02!$R68,\"TRUE\",PACKT02!I68)+SUMIF(PACKT03!$R68,\"TRUE\",PACKT03!I68)+SUMIF(PACKT04!$R68,\"TRUE\",PACKT04!I68)+SUMIF(PACKT05!$R68,\"TRUE\",PACKT05!I68)+SUMIF(PACKT06!$R69,\"TRUE\",PACKT06!I69)+SUMIF(PACKT07!$R68,\"TRUE\",PACKT07!I68)+SUMIF(PACKT08!$R68,\"TRUE\",PACKT08!I68)+SUMIF(PACKT09!$R68,\"TRUE\",PACKT09!I68)+SUMIF(PACKT10!$R68,\"TRUE\",PACKT10!I68)+SUMIF(PACKT11!$R68,\"TRUE\",PACKT11!I68)","v":0},{"$f":"SUMIF(PACKT01!$R68,\"TRUE\",PACKT01!J68)+SUMIF(PACKT02!$R68,\"TRUE\",PACKT02!J68)+SUMIF(PACKT03!$R68,\"TRUE\",PACKT03!J68)+SUMIF(PACKT04!$R68,\"TRUE\",PACKT04!J68)+SUMIF(PACKT05!$R68,\"TRUE\",PACKT05!J68)+SUMIF(PACKT06!$R69,\"TRUE\",PACKT06!J69)+SUMIF(PACKT07!$R68,\"TRUE\",PACKT07!J68)+SUMIF(PACKT08!$R68,\"TRUE\",PACKT08!J68)+SUMIF(PACKT09!$R68,\"TRUE\",PACKT09!J68)+SUMIF(PACKT10!$R68,\"TRUE\",PACKT10!J68)+SUMIF(PACKT11!$R68,\"TRUE\",PACKT11!J68)","v":0},{"$f":"SUMIF(PACKT01!$R68,\"TRUE\",PACKT01!K68)+SUMIF(PACKT02!$R68,\"TRUE\",PACKT02!K68)+SUMIF(PACKT03!$R68,\"TRUE\",PACKT03!K68)+SUMIF(PACKT04!$R68,\"TRUE\",PACKT04!K68)+SUMIF(PACKT05!$R68,\"TRUE\",PACKT05!K68)+SUMIF(PACKT06!$R69,\"TRUE\",PACKT06!K69)+SUMIF(PACKT07!$R68,\"TRUE\",PACKT07!K68)+SUMIF(PACKT08!$R68,\"TRUE\",PACKT08!K68)+SUMIF(PACKT09!$R68,\"TRUE\",PACKT09!K68)+SUMIF(PACKT10!$R68,\"TRUE\",PACKT10!K68)+SUMIF(PACKT11!$R68,\"TRUE\",PACKT11!K68)","v":0},{"$f":"SUMIF(PACKT01!$R68,\"TRUE\",PACKT01!L68)+SUMIF(PACKT02!$R68,\"TRUE\",PACKT02!L68)+SUMIF(PACKT03!$R68,\"TRUE\",PACKT03!L68)+SUMIF(PACKT04!$R68,\"TRUE\",PACKT04!L68)+SUMIF(PACKT05!$R68,\"TRUE\",PACKT05!L68)+SUMIF(PACKT06!$R69,\"TRUE\",PACKT06!L69)+SUMIF(PACKT07!$R68,\"TRUE\",PACKT07!L68)+SUMIF(PACKT08!$R68,\"TRUE\",PACKT08!L68)+SUMIF(PACKT09!$R68,\"TRUE\",PACKT09!L68)+SUMIF(PACKT10!$R68,\"TRUE\",PACKT10!L68)+SUMIF(PACKT11!$R68,\"TRUE\",PACKT11!L68)","v":0},{"$f":"SUMIF(PACKT01!$R68,\"TRUE\",PACKT01!M68)+SUMIF(PACKT02!$R68,\"TRUE\",PACKT02!M68)+SUMIF(PACKT03!$R68,\"TRUE\",PACKT03!M68)+SUMIF(PACKT04!$R68,\"TRUE\",PACKT04!M68)+SUMIF(PACKT05!$R68,\"TRUE\",PACKT05!M68)+SUMIF(PACKT06!$R69,\"TRUE\",PACKT06!M69)+SUMIF(PACKT07!$R68,\"TRUE\",PACKT07!M68)+SUMIF(PACKT08!$R68,\"TRUE\",PACKT08!M68)+SUMIF(PACKT09!$R68,\"TRUE\",PACKT09!M68)+SUMIF(PACKT10!$R68,\"TRUE\",PACKT10!M68)+SUMIF(PACKT11!$R68,\"TRUE\",PACKT11!M68)","v":0},{"$f":"SUMIF(PACKT01!$R68,\"TRUE\",PACKT01!N68)+SUMIF(PACKT02!$R68,\"TRUE\",PACKT02!N68)+SUMIF(PACKT03!$R68,\"TRUE\",PACKT03!N68)+SUMIF(PACKT04!$R68,\"TRUE\",PACKT04!N68)+SUMIF(PACKT05!$R68,\"TRUE\",PACKT05!N68)+SUMIF(PACKT06!$R69,\"TRUE\",PACKT06!N69)+SUMIF(PACKT07!$R68,\"TRUE\",PACKT07!N68)+SUMIF(PACKT08!$R68,\"TRUE\",PACKT08!N68)+SUMIF(PACKT09!$R68,\"TRUE\",PACKT09!N68)+SUMIF(PACKT10!$R68,\"TRUE\",PACKT10!N68)+SUMIF(PACKT11!$R68,\"TRUE\",PACKT11!N68)","v":0},{"$f":"SUMIF(PACKT01!$R68,\"TRUE\",PACKT01!O68)+SUMIF(PACKT02!$R68,\"TRUE\",PACKT02!O68)+SUMIF(PACKT03!$R68,\"TRUE\",PACKT03!O68)+SUMIF(PACKT04!$R68,\"TRUE\",PACKT04!O68)+SUMIF(PACKT05!$R68,\"TRUE\",PACKT05!O68)+SUMIF(PACKT06!$R69,\"TRUE\",PACKT06!O69)+SUMIF(PACKT07!$R68,\"TRUE\",PACKT07!O68)+SUMIF(PACKT08!$R68,\"TRUE\",PACKT08!O68)+SUMIF(PACKT09!$R68,\"TRUE\",PACKT09!O68)+SUMIF(PACKT10!$R68,\"TRUE\",PACKT10!O68)+SUMIF(PACKT11!$R68,\"TRUE\",PACKT11!O68)","v":0},{"$f":"SUMIF(PACKT01!$R68,\"TRUE\",PACKT01!P68)+SUMIF(PACKT02!$R68,\"TRUE\",PACKT02!P68)+SUMIF(PACKT03!$R68,\"TRUE\",PACKT03!P68)+SUMIF(PACKT04!$R68,\"TRUE\",PACKT04!P68)+SUMIF(PACKT05!$R68,\"TRUE\",PACKT05!P68)+SUMIF(PACKT06!$R69,\"TRUE\",PACKT06!P69)+SUMIF(PACKT07!$R68,\"TRUE\",PACKT07!P68)+SUMIF(PACKT08!$R68,\"TRUE\",PACKT08!P68)+SUMIF(PACKT09!$R68,\"TRUE\",PACKT09!P68)+SUMIF(PACKT10!$R68,\"TRUE\",PACKT10!P68)+SUMIF(PACKT11!$R68,\"TRUE\",PACKT11!P68)","v":0},{"$f":"SUMIF(PACKT01!$R68,\"TRUE\",PACKT01!Q68)+SUMIF(PACKT02!$R68,\"TRUE\",PACKT02!Q68)+SUMIF(PACKT03!$R68,\"TRUE\",PACKT03!Q68)+SUMIF(PACKT04!$R68,\"TRUE\",PACKT04!Q68)+SUMIF(PACKT05!$R68,\"TRUE\",PACKT05!Q68)+SUMIF(PACKT06!$R69,\"TRUE\",PACKT06!Q69)+SUMIF(PACKT07!$R68,\"TRUE\",PACKT07!Q68)+SUMIF(PACKT08!$R68,\"TRUE\",PACKT08!Q68)+SUMIF(PACKT09!$R68,\"TRUE\",PACKT09!Q68)+SUMIF(PACKT10!$R68,\"TRUE\",PACKT10!Q68)+SUMIF(PACKT11!$R68,\"TRUE\",PACKT11!Q68)","v":0},0]
[null,"EMP0058",{"$f":"VLOOKUP(HRSummarylTable[[#This Row],[EmployeeID]],EmployeeListLookupTable[],2,FALSE)","v":"EMPN058"},{"$f":"VLOOKUP(HRSummarylTable[[#This Row],[EmployeeID]],EmployeeListLookupTable[],3,FALSE)","v":"Employee Name 58"},{"$f":"VLOOKUP(HRSummarylTable[[#This Row],[EmployeeID]],EmployeeListLookupTable[],4,FALSE)","v":"Employee Job Title 58"},"TCTC001 - Total Cost to Company",{"$f":"LEFT(HRSummarylTable[[#This Row],[PackageItemCode]],7)","v":"TCTC001"},{"$f":"VLOOKUP(HRSummarylTable[[#This Row],[PackageItem]],PackageItemListLookup[],2,FALSE)","v":"Total Cost to Company"},null,{"$f":"SUMIF(PACKT01!$R69,\"TRUE\",PACKT01!F69)+SUMIF(PACKT02!$R69,\"TRUE\",PACKT02!F69)+SUMIF(PACKT03!$R69,\"TRUE\",PACKT03!F69)+SUMIF(PACKT04!$R69,\"TRUE\",PACKT04!F69)+SUMIF(PACKT05!$R69,\"TRUE\",PACKT05!F69)+SUMIF(PACKT06!$R70,\"TRUE\",PACKT06!F70)+SUMIF(PACKT07!$R69,\"TRUE\",PACKT07!F69)+SUMIF(PACKT08!$R69,\"TRUE\",PACKT08!F69)+SUMIF(PACKT09!$R69,\"TRUE\",PACKT09!F69)+SUMIF(PACKT10!$R69,\"TRUE\",PACKT10!F69)+SUMIF(PACKT11!$R69,\"TRUE\",PACKT11!F69)","v":0},{"$f":"SUMIF(PACKT01!$R69,\"TRUE\",PACKT01!G69)+SUMIF(PACKT02!$R69,\"TRUE\",PACKT02!G69)+SUMIF(PACKT03!$R69,\"TRUE\",PACKT03!G69)+SUMIF(PACKT04!$R69,\"TRUE\",PACKT04!G69)+SUMIF(PACKT05!$R69,\"TRUE\",PACKT05!G69)+SUMIF(PACKT06!$R70,\"TRUE\",PACKT06!G70)+SUMIF(PACKT07!$R69,\"TRUE\",PACKT07!G69)+SUMIF(PACKT08!$R69,\"TRUE\",PACKT08!G69)+SUMIF(PACKT09!$R69,\"TRUE\",PACKT09!G69)+SUMIF(PACKT10!$R69,\"TRUE\",PACKT10!G69)+SUMIF(PACKT11!$R69,\"TRUE\",PACKT11!G69)","v":0},{"$f":"SUMIF(PACKT01!$R69,\"TRUE\",PACKT01!H69)+SUMIF(PACKT02!$R69,\"TRUE\",PACKT02!H69)+SUMIF(PACKT03!$R69,\"TRUE\",PACKT03!H69)+SUMIF(PACKT04!$R69,\"TRUE\",PACKT04!H69)+SUMIF(PACKT05!$R69,\"TRUE\",PACKT05!H69)+SUMIF(PACKT06!$R70,\"TRUE\",PACKT06!H70)+SUMIF(PACKT07!$R69,\"TRUE\",PACKT07!H69)+SUMIF(PACKT08!$R69,\"TRUE\",PACKT08!H69)+SUMIF(PACKT09!$R69,\"TRUE\",PACKT09!H69)+SUMIF(PACKT10!$R69,\"TRUE\",PACKT10!H69)+SUMIF(PACKT11!$R69,\"TRUE\",PACKT11!H69)","v":0},{"$f":"SUMIF(PACKT01!$R69,\"TRUE\",PACKT01!I69)+SUMIF(PACKT02!$R69,\"TRUE\",PACKT02!I69)+SUMIF(PACKT03!$R69,\"TRUE\",PACKT03!I69)+SUMIF(PACKT04!$R69,\"TRUE\",PACKT04!I69)+SUMIF(PACKT05!$R69,\"TRUE\",PACKT05!I69)+SUMIF(PACKT06!$R70,\"TRUE\",PACKT06!I70)+SUMIF(PACKT07!$R69,\"TRUE\",PACKT07!I69)+SUMIF(PACKT08!$R69,\"TRUE\",PACKT08!I69)+SUMIF(PACKT09!$R69,\"TRUE\",PACKT09!I69)+SUMIF(PACKT10!$R69,\"TRUE\",PACKT10!I69)+SUMIF(PACKT11!$R69,\"TRUE\",PACKT11!I69)","v":0},{"$f":"SUMIF(PACKT01!$R69,\"TRUE\",PACKT01!J69)+SUMIF(PACKT02!$R69,\"TRUE\",PACKT02!J69)+SUMIF(PACKT03!$R69,\"TRUE\",PACKT03!J69)+SUMIF(PACKT04!$R69,\"TRUE\",PACKT04!J69)+SUMIF(PACKT05!$R69,\"TRUE\",PACKT05!J69)+SUMIF(PACKT06!$R70,\"TRUE\",PACKT06!J70)+SUMIF(PACKT07!$R69,\"TRUE\",PACKT07!J69)+SUMIF(PACKT08!$R69,\"TRUE\",PACKT08!J69)+SUMIF(PACKT09!$R69,\"TRUE\",PACKT09!J69)+SUMIF(PACKT10!$R69,\"TRUE\",PACKT10!J69)+SUMIF(PACKT11!$R69,\"TRUE\",PACKT11!J69)","v":0},{"$f":"SUMIF(PACKT01!$R69,\"TRUE\",PACKT01!K69)+SUMIF(PACKT02!$R69,\"TRUE\",PACKT02!K69)+SUMIF(PACKT03!$R69,\"TRUE\",PACKT03!K69)+SUMIF(PACKT04!$R69,\"TRUE\",PACKT04!K69)+SUMIF(PACKT05!$R69,\"TRUE\",PACKT05!K69)+SUMIF(PACKT06!$R70,\"TRUE\",PACKT06!K70)+SUMIF(PACKT07!$R69,\"TRUE\",PACKT07!K69)+SUMIF(PACKT08!$R69,\"TRUE\",PACKT08!K69)+SUMIF(PACKT09!$R69,\"TRUE\",PACKT09!K69)+SUMIF(PACKT10!$R69,\"TRUE\",PACKT10!K69)+SUMIF(PACKT11!$R69,\"TRUE\",PACKT11!K69)","v":0},{"$f":"SUMIF(PACKT01!$R69,\"TRUE\",PACKT01!L69)+SUMIF(PACKT02!$R69,\"TRUE\",PACKT02!L69)+SUMIF(PACKT03!$R69,\"TRUE\",PACKT03!L69)+SUMIF(PACKT04!$R69,\"TRUE\",PACKT04!L69)+SUMIF(PACKT05!$R69,\"TRUE\",PACKT05!L69)+SUMIF(PACKT06!$R70,\"TRUE\",PACKT06!L70)+SUMIF(PACKT07!$R69,\"TRUE\",PACKT07!L69)+SUMIF(PACKT08!$R69,\"TRUE\",PACKT08!L69)+SUMIF(PACKT09!$R69,\"TRUE\",PACKT09!L69)+SUMIF(PACKT10!$R69,\"TRUE\",PACKT10!L69)+SUMIF(PACKT11!$R69,\"TRUE\",PACKT11!L69)","v":0},{"$f":"SUMIF(PACKT01!$R69,\"TRUE\",PACKT01!M69)+SUMIF(PACKT02!$R69,\"TRUE\",PACKT02!M69)+SUMIF(PACKT03!$R69,\"TRUE\",PACKT03!M69)+SUMIF(PACKT04!$R69,\"TRUE\",PACKT04!M69)+SUMIF(PACKT05!$R69,\"TRUE\",PACKT05!M69)+SUMIF(PACKT06!$R70,\"TRUE\",PACKT06!M70)+SUMIF(PACKT07!$R69,\"TRUE\",PACKT07!M69)+SUMIF(PACKT08!$R69,\"TRUE\",PACKT08!M69)+SUMIF(PACKT09!$R69,\"TRUE\",PACKT09!M69)+SUMIF(PACKT10!$R69,\"TRUE\",PACKT10!M69)+SUMIF(PACKT11!$R69,\"TRUE\",PACKT11!M69)","v":0},{"$f":"SUMIF(PACKT01!$R69,\"TRUE\",PACKT01!N69)+SUMIF(PACKT02!$R69,\"TRUE\",PACKT02!N69)+SUMIF(PACKT03!$R69,\"TRUE\",PACKT03!N69)+SUMIF(PACKT04!$R69,\"TRUE\",PACKT04!N69)+SUMIF(PACKT05!$R69,\"TRUE\",PACKT05!N69)+SUMIF(PACKT06!$R70,\"TRUE\",PACKT06!N70)+SUMIF(PACKT07!$R69,\"TRUE\",PACKT07!N69)+SUMIF(PACKT08!$R69,\"TRUE\",PACKT08!N69)+SUMIF(PACKT09!$R69,\"TRUE\",PACKT09!N69)+SUMIF(PACKT10!$R69,\"TRUE\",PACKT10!N69)+SUMIF(PACKT11!$R69,\"TRUE\",PACKT11!N69)","v":0},{"$f":"SUMIF(PACKT01!$R69,\"TRUE\",PACKT01!O69)+SUMIF(PACKT02!$R69,\"TRUE\",PACKT02!O69)+SUMIF(PACKT03!$R69,\"TRUE\",PACKT03!O69)+SUMIF(PACKT04!$R69,\"TRUE\",PACKT04!O69)+SUMIF(PACKT05!$R69,\"TRUE\",PACKT05!O69)+SUMIF(PACKT06!$R70,\"TRUE\",PACKT06!O70)+SUMIF(PACKT07!$R69,\"TRUE\",PACKT07!O69)+SUMIF(PACKT08!$R69,\"TRUE\",PACKT08!O69)+SUMIF(PACKT09!$R69,\"TRUE\",PACKT09!O69)+SUMIF(PACKT10!$R69,\"TRUE\",PACKT10!O69)+SUMIF(PACKT11!$R69,\"TRUE\",PACKT11!O69)","v":0},{"$f":"SUMIF(PACKT01!$R69,\"TRUE\",PACKT01!P69)+SUMIF(PACKT02!$R69,\"TRUE\",PACKT02!P69)+SUMIF(PACKT03!$R69,\"TRUE\",PACKT03!P69)+SUMIF(PACKT04!$R69,\"TRUE\",PACKT04!P69)+SUMIF(PACKT05!$R69,\"TRUE\",PACKT05!P69)+SUMIF(PACKT06!$R70,\"TRUE\",PACKT06!P70)+SUMIF(PACKT07!$R69,\"TRUE\",PACKT07!P69)+SUMIF(PACKT08!$R69,\"TRUE\",PACKT08!P69)+SUMIF(PACKT09!$R69,\"TRUE\",PACKT09!P69)+SUMIF(PACKT10!$R69,\"TRUE\",PACKT10!P69)+SUMIF(PACKT11!$R69,\"TRUE\",PACKT11!P69)","v":0},{"$f":"SUMIF(PACKT01!$R69,\"TRUE\",PACKT01!Q69)+SUMIF(PACKT02!$R69,\"TRUE\",PACKT02!Q69)+SUMIF(PACKT03!$R69,\"TRUE\",PACKT03!Q69)+SUMIF(PACKT04!$R69,\"TRUE\",PACKT04!Q69)+SUMIF(PACKT05!$R69,\"TRUE\",PACKT05!Q69)+SUMIF(PACKT06!$R70,\"TRUE\",PACKT06!Q70)+SUMIF(PACKT07!$R69,\"TRUE\",PACKT07!Q69)+SUMIF(PACKT08!$R69,\"TRUE\",PACKT08!Q69)+SUMIF(PACKT09!$R69,\"TRUE\",PACKT09!Q69)+SUMIF(PACKT10!$R69,\"TRUE\",PACKT10!Q69)+SUMIF(PACKT11!$R69,\"TRUE\",PACKT11!Q69)","v":0},0]
[null,"EMP0059",{"$f":"VLOOKUP(HRSummarylTable[[#This Row],[EmployeeID]],EmployeeListLookupTable[],2,FALSE)","v":"EMPN059"},{"$f":"VLOOKUP(HRSummarylTable[[#This Row],[EmployeeID]],EmployeeListLookupTable[],3,FALSE)","v":"Employee Name 59"},{"$f":"VLOOKUP(HRSummarylTable[[#This Row],[EmployeeID]],EmployeeListLookupTable[],4,FALSE)","v":"Employee Job Title 59"},"TCTC001 - Total Cost to Company",{"$f":"LEFT(HRSummarylTable[[#This Row],[PackageItemCode]],7)","v":"TCTC001"},{"$f":"VLOOKUP(HRSummarylTable[[#This Row],[PackageItem]],PackageItemListLookup[],2,FALSE)","v":"Total Cost to Company"},null,{"$f":"SUMIF(PACKT01!$R70,\"TRUE\",PACKT01!F70)+SUMIF(PACKT02!$R70,\"TRUE\",PACKT02!F70)+SUMIF(PACKT03!$R70,\"TRUE\",PACKT03!F70)+SUMIF(PACKT04!$R70,\"TRUE\",PACKT04!F70)+SUMIF(PACKT05!$R70,\"TRUE\",PACKT05!F70)+SUMIF(PACKT06!$R71,\"TRUE\",PACKT06!F71)+SUMIF(PACKT07!$R70,\"TRUE\",PACKT07!F70)+SUMIF(PACKT08!$R70,\"TRUE\",PACKT08!F70)+SUMIF(PACKT09!$R70,\"TRUE\",PACKT09!F70)+SUMIF(PACKT10!$R70,\"TRUE\",PACKT10!F70)+SUMIF(PACKT11!$R70,\"TRUE\",PACKT11!F70)","v":0},{"$f":"SUMIF(PACKT01!$R70,\"TRUE\",PACKT01!G70)+SUMIF(PACKT02!$R70,\"TRUE\",PACKT02!G70)+SUMIF(PACKT03!$R70,\"TRUE\",PACKT03!G70)+SUMIF(PACKT04!$R70,\"TRUE\",PACKT04!G70)+SUMIF(PACKT05!$R70,\"TRUE\",PACKT05!G70)+SUMIF(PACKT06!$R71,\"TRUE\",PACKT06!G71)+SUMIF(PACKT07!$R70,\"TRUE\",PACKT07!G70)+SUMIF(PACKT08!$R70,\"TRUE\",PACKT08!G70)+SUMIF(PACKT09!$R70,\"TRUE\",PACKT09!G70)+SUMIF(PACKT10!$R70,\"TRUE\",PACKT10!G70)+SUMIF(PACKT11!$R70,\"TRUE\",PACKT11!G70)","v":0},{"$f":"SUMIF(PACKT01!$R70,\"TRUE\",PACKT01!H70)+SUMIF(PACKT02!$R70,\"TRUE\",PACKT02!H70)+SUMIF(PACKT03!$R70,\"TRUE\",PACKT03!H70)+SUMIF(PACKT04!$R70,\"TRUE\",PACKT04!H70)+SUMIF(PACKT05!$R70,\"TRUE\",PACKT05!H70)+SUMIF(PACKT06!$R71,\"TRUE\",PACKT06!H71)+SUMIF(PACKT07!$R70,\"TRUE\",PACKT07!H70)+SUMIF(PACKT08!$R70,\"TRUE\",PACKT08!H70)+SUMIF(PACKT09!$R70,\"TRUE\",PACKT09!H70)+SUMIF(PACKT10!$R70,\"TRUE\",PACKT10!H70)+SUMIF(PACKT11!$R70,\"TRUE\",PACKT11!H70)","v":0},{"$f":"SUMIF(PACKT01!$R70,\"TRUE\",PACKT01!I70)+SUMIF(PACKT02!$R70,\"TRUE\",PACKT02!I70)+SUMIF(PACKT03!$R70,\"TRUE\",PACKT03!I70)+SUMIF(PACKT04!$R70,\"TRUE\",PACKT04!I70)+SUMIF(PACKT05!$R70,\"TRUE\",PACKT05!I70)+SUMIF(PACKT06!$R71,\"TRUE\",PACKT06!I71)+SUMIF(PACKT07!$R70,\"TRUE\",PACKT07!I70)+SUMIF(PACKT08!$R70,\"TRUE\",PACKT08!I70)+SUMIF(PACKT09!$R70,\"TRUE\",PACKT09!I70)+SUMIF(PACKT10!$R70,\"TRUE\",PACKT10!I70)+SUMIF(PACKT11!$R70,\"TRUE\",PACKT11!I70)","v":0},{"$f":"SUMIF(PACKT01!$R70,\"TRUE\",PACKT01!J70)+SUMIF(PACKT02!$R70,\"TRUE\",PACKT02!J70)+SUMIF(PACKT03!$R70,\"TRUE\",PACKT03!J70)+SUMIF(PACKT04!$R70,\"TRUE\",PACKT04!J70)+SUMIF(PACKT05!$R70,\"TRUE\",PACKT05!J70)+SUMIF(PACKT06!$R71,\"TRUE\",PACKT06!J71)+SUMIF(PACKT07!$R70,\"TRUE\",PACKT07!J70)+SUMIF(PACKT08!$R70,\"TRUE\",PACKT08!J70)+SUMIF(PACKT09!$R70,\"TRUE\",PACKT09!J70)+SUMIF(PACKT10!$R70,\"TRUE\",PACKT10!J70)+SUMIF(PACKT11!$R70,\"TRUE\",PACKT11!J70)","v":0},{"$f":"SUMIF(PACKT01!$R70,\"TRUE\",PACKT01!K70)+SUMIF(PACKT02!$R70,\"TRUE\",PACKT02!K70)+SUMIF(PACKT03!$R70,\"TRUE\",PACKT03!K70)+SUMIF(PACKT04!$R70,\"TRUE\",PACKT04!K70)+SUMIF(PACKT05!$R70,\"TRUE\",PACKT05!K70)+SUMIF(PACKT06!$R71,\"TRUE\",PACKT06!K71)+SUMIF(PACKT07!$R70,\"TRUE\",PACKT07!K70)+SUMIF(PACKT08!$R70,\"TRUE\",PACKT08!K70)+SUMIF(PACKT09!$R70,\"TRUE\",PACKT09!K70)+SUMIF(PACKT10!$R70,\"TRUE\",PACKT10!K70)+SUMIF(PACKT11!$R70,\"TRUE\",PACKT11!K70)","v":0},{"$f":"SUMIF(PACKT01!$R70,\"TRUE\",PACKT01!L70)+SUMIF(PACKT02!$R70,\"TRUE\",PACKT02!L70)+SUMIF(PACKT03!$R70,\"TRUE\",PACKT03!L70)+SUMIF(PACKT04!$R70,\"TRUE\",PACKT04!L70)+SUMIF(PACKT05!$R70,\"TRUE\",PACKT05!L70)+SUMIF(PACKT06!$R71,\"TRUE\",PACKT06!L71)+SUMIF(PACKT07!$R70,\"TRUE\",PACKT07!L70)+SUMIF(PACKT08!$R70,\"TRUE\",PACKT08!L70)+SUMIF(PACKT09!$R70,\"TRUE\",PACKT09!L70)+SUMIF(PACKT10!$R70,\"TRUE\",PACKT10!L70)+SUMIF(PACKT11!$R70,\"TRUE\",PACKT11!L70)","v":0},{"$f":"SUMIF(PACKT01!$R70,\"TRUE\",PACKT01!M70)+SUMIF(PACKT02!$R70,\"TRUE\",PACKT02!M70)+SUMIF(PACKT03!$R70,\"TRUE\",PACKT03!M70)+SUMIF(PACKT04!$R70,\"TRUE\",PACKT04!M70)+SUMIF(PACKT05!$R70,\"TRUE\",PACKT05!M70)+SUMIF(PACKT06!$R71,\"TRUE\",PACKT06!M71)+SUMIF(PACKT07!$R70,\"TRUE\",PACKT07!M70)+SUMIF(PACKT08!$R70,\"TRUE\",PACKT08!M70)+SUMIF(PACKT09!$R70,\"TRUE\",PACKT09!M70)+SUMIF(PACKT10!$R70,\"TRUE\",PACKT10!M70)+SUMIF(PACKT11!$R70,\"TRUE\",PACKT11!M70)","v":0},{"$f":"SUMIF(PACKT01!$R70,\"TRUE\",PACKT01!N70)+SUMIF(PACKT02!$R70,\"TRUE\",PACKT02!N70)+SUMIF(PACKT03!$R70,\"TRUE\",PACKT03!N70)+SUMIF(PACKT04!$R70,\"TRUE\",PACKT04!N70)+SUMIF(PACKT05!$R70,\"TRUE\",PACKT05!N70)+SUMIF(PACKT06!$R71,\"TRUE\",PACKT06!N71)+SUMIF(PACKT07!$R70,\"TRUE\",PACKT07!N70)+SUMIF(PACKT08!$R70,\"TRUE\",PACKT08!N70)+SUMIF(PACKT09!$R70,\"TRUE\",PACKT09!N70)+SUMIF(PACKT10!$R70,\"TRUE\",PACKT10!N70)+SUMIF(PACKT11!$R70,\"TRUE\",PACKT11!N70)","v":0},{"$f":"SUMIF(PACKT01!$R70,\"TRUE\",PACKT01!O70)+SUMIF(PACKT02!$R70,\"TRUE\",PACKT02!O70)+SUMIF(PACKT03!$R70,\"TRUE\",PACKT03!O70)+SUMIF(PACKT04!$R70,\"TRUE\",PACKT04!O70)+SUMIF(PACKT05!$R70,\"TRUE\",PACKT05!O70)+SUMIF(PACKT06!$R71,\"TRUE\",PACKT06!O71)+SUMIF(PACKT07!$R70,\"TRUE\",PACKT07!O70)+SUMIF(PACKT08!$R70,\"TRUE\",PACKT08!O70)+SUMIF(PACKT09!$R70,\"TRUE\",PACKT09!O70)+SUMIF(PACKT10!$R70,\"TRUE\",PACKT10!O70)+SUMIF(PACKT11!$R70,\"TRUE\",PACKT11!O70)","v":0},{"$f":"SUMIF(PACKT01!$R70,\"TRUE\",PACKT01!P70)+SUMIF(PACKT02!$R70,\"TRUE\",PACKT02!P70)+SUMIF(PACKT03!$R70,\"TRUE\",PACKT03!P70)+SUMIF(PACKT04!$R70,\"TRUE\",PACKT04!P70)+SUMIF(PACKT05!$R70,\"TRUE\",PACKT05!P70)+SUMIF(PACKT06!$R71,\"TRUE\",PACKT06!P71)+SUMIF(PACKT07!$R70,\"TRUE\",PACKT07!P70)+SUMIF(PACKT08!$R70,\"TRUE\",PACKT08!P70)+SUMIF(PACKT09!$R70,\"TRUE\",PACKT09!P70)+SUMIF(PACKT10!$R70,\"TRUE\",PACKT10!P70)+SUMIF(PACKT11!$R70,\"TRUE\",PACKT11!P70)","v":0},{"$f":"SUMIF(PACKT01!$R70,\"TRUE\",PACKT01!Q70)+SUMIF(PACKT02!$R70,\"TRUE\",PACKT02!Q70)+SUMIF(PACKT03!$R70,\"TRUE\",PACKT03!Q70)+SUMIF(PACKT04!$R70,\"TRUE\",PACKT04!Q70)+SUMIF(PACKT05!$R70,\"TRUE\",PACKT05!Q70)+SUMIF(PACKT06!$R71,\"TRUE\",PACKT06!Q71)+SUMIF(PACKT07!$R70,\"TRUE\",PACKT07!Q70)+SUMIF(PACKT08!$R70,\"TRUE\",PACKT08!Q70)+SUMIF(PACKT09!$R70,\"TRUE\",PACKT09!Q70)+SUMIF(PACKT10!$R70,\"TRUE\",PACKT10!Q70)+SUMIF(PACKT11!$R70,\"TRUE\",PACKT11!Q70)","v":0},0]
[null,"EMP0060",{"$f":"VLOOKUP(HRSummarylTable[[#This Row],[EmployeeID]],EmployeeListLookupTable[],2,FALSE)","v":"EMPN060"},{"$f":"VLOOKUP(HRSummarylTable[[#This Row],[EmployeeID]],EmployeeListLookupTable[],3,FALSE)","v":"Employee Name 60"},{"$f":"VLOOKUP(HRSummarylTable[[#This Row],[EmployeeID]],EmployeeListLookupTable[],4,FALSE)","v":"Employee Job Title 60"},"TCTC001 - Total Cost to Company",{"$f":"LEFT(HRSummarylTable[[#This Row],[PackageItemCode]],7)","v":"TCTC001"},{"$f":"VLOOKUP(HRSummarylTable[[#This Row],[PackageItem]],PackageItemListLookup[],2,FALSE)","v":"Total Cost to Company"},null,{"$f":"SUMIF(PACKT01!$R71,\"TRUE\",PACKT01!F71)+SUMIF(PACKT02!$R71,\"TRUE\",PACKT02!F71)+SUMIF(PACKT03!$R71,\"TRUE\",PACKT03!F71)+SUMIF(PACKT04!$R71,\"TRUE\",PACKT04!F71)+SUMIF(PACKT05!$R71,\"TRUE\",PACKT05!F71)+SUMIF(PACKT06!$R72,\"TRUE\",PACKT06!F72)+SUMIF(PACKT07!$R71,\"TRUE\",PACKT07!F71)+SUMIF(PACKT08!$R71,\"TRUE\",PACKT08!F71)+SUMIF(PACKT09!$R71,\"TRUE\",PACKT09!F71)+SUMIF(PACKT10!$R71,\"TRUE\",PACKT10!F71)+SUMIF(PACKT11!$R71,\"TRUE\",PACKT11!F71)","v":0},{"$f":"SUMIF(PACKT01!$R71,\"TRUE\",PACKT01!G71)+SUMIF(PACKT02!$R71,\"TRUE\",PACKT02!G71)+SUMIF(PACKT03!$R71,\"TRUE\",PACKT03!G71)+SUMIF(PACKT04!$R71,\"TRUE\",PACKT04!G71)+SUMIF(PACKT05!$R71,\"TRUE\",PACKT05!G71)+SUMIF(PACKT06!$R72,\"TRUE\",PACKT06!G72)+SUMIF(PACKT07!$R71,\"TRUE\",PACKT07!G71)+SUMIF(PACKT08!$R71,\"TRUE\",PACKT08!G71)+SUMIF(PACKT09!$R71,\"TRUE\",PACKT09!G71)+SUMIF(PACKT10!$R71,\"TRUE\",PACKT10!G71)+SUMIF(PACKT11!$R71,\"TRUE\",PACKT11!G71)","v":0},{"$f":"SUMIF(PACKT01!$R71,\"TRUE\",PACKT01!H71)+SUMIF(PACKT02!$R71,\"TRUE\",PACKT02!H71)+SUMIF(PACKT03!$R71,\"TRUE\",PACKT03!H71)+SUMIF(PACKT04!$R71,\"TRUE\",PACKT04!H71)+SUMIF(PACKT05!$R71,\"TRUE\",PACKT05!H71)+SUMIF(PACKT06!$R72,\"TRUE\",PACKT06!H72)+SUMIF(PACKT07!$R71,\"TRUE\",PACKT07!H71)+SUMIF(PACKT08!$R71,\"TRUE\",PACKT08!H71)+SUMIF(PACKT09!$R71,\"TRUE\",PACKT09!H71)+SUMIF(PACKT10!$R71,\"TRUE\",PACKT10!H71)+SUMIF(PACKT11!$R71,\"TRUE\",PACKT11!H71)","v":0},{"$f":"SUMIF(PACKT01!$R71,\"TRUE\",PACKT01!I71)+SUMIF(PACKT02!$R71,\"TRUE\",PACKT02!I71)+SUMIF(PACKT03!$R71,\"TRUE\",PACKT03!I71)+SUMIF(PACKT04!$R71,\"TRUE\",PACKT04!I71)+SUMIF(PACKT05!$R71,\"TRUE\",PACKT05!I71)+SUMIF(PACKT06!$R72,\"TRUE\",PACKT06!I72)+SUMIF(PACKT07!$R71,\"TRUE\",PACKT07!I71)+SUMIF(PACKT08!$R71,\"TRUE\",PACKT08!I71)+SUMIF(PACKT09!$R71,\"TRUE\",PACKT09!I71)+SUMIF(PACKT10!$R71,\"TRUE\",PACKT10!I71)+SUMIF(PACKT11!$R71,\"TRUE\",PACKT11!I71)","v":0},{"$f":"SUMIF(PACKT01!$R71,\"TRUE\",PACKT01!J71)+SUMIF(PACKT02!$R71,\"TRUE\",PACKT02!J71)+SUMIF(PACKT03!$R71,\"TRUE\",PACKT03!J71)+SUMIF(PACKT04!$R71,\"TRUE\",PACKT04!J71)+SUMIF(PACKT05!$R71,\"TRUE\",PACKT05!J71)+SUMIF(PACKT06!$R72,\"TRUE\",PACKT06!J72)+SUMIF(PACKT07!$R71,\"TRUE\",PACKT07!J71)+SUMIF(PACKT08!$R71,\"TRUE\",PACKT08!J71)+SUMIF(PACKT09!$R71,\"TRUE\",PACKT09!J71)+SUMIF(PACKT10!$R71,\"TRUE\",PACKT10!J71)+SUMIF(PACKT11!$R71,\"TRUE\",PACKT11!J71)","v":0},{"$f":"SUMIF(PACKT01!$R71,\"TRUE\",PACKT01!K71)+SUMIF(PACKT02!$R71,\"TRUE\",PACKT02!K71)+SUMIF(PACKT03!$R71,\"TRUE\",PACKT03!K71)+SUMIF(PACKT04!$R71,\"TRUE\",PACKT04!K71)+SUMIF(PACKT05!$R71,\"TRUE\",PACKT05!K71)+SUMIF(PACKT06!$R72,\"TRUE\",PACKT06!K72)+SUMIF(PACKT07!$R71,\"TRUE\",PACKT07!K71)+SUMIF(PACKT08!$R71,\"TRUE\",PACKT08!K71)+SUMIF(PACKT09!$R71,\"TRUE\",PACKT09!K71)+SUMIF(PACKT10!$R71,\"TRUE\",PACKT10!K71)+SUMIF(PACKT11!$R71,\"TRUE\",PACKT11!K71)","v":0},{"$f":"SUMIF(PACKT01!$R71,\"TRUE\",PACKT01!L71)+SUMIF(PACKT02!$R71,\"TRUE\",PACKT02!L71)+SUMIF(PACKT03!$R71,\"TRUE\",PACKT03!L71)+SUMIF(PACKT04!$R71,\"TRUE\",PACKT04!L71)+SUMIF(PACKT05!$R71,\"TRUE\",PACKT05!L71)+SUMIF(PACKT06!$R72,\"TRUE\",PACKT06!L72)+SUMIF(PACKT07!$R71,\"TRUE\",PACKT07!L71)+SUMIF(PACKT08!$R71,\"TRUE\",PACKT08!L71)+SUMIF(PACKT09!$R71,\"TRUE\",PACKT09!L71)+SUMIF(PACKT10!$R71,\"TRUE\",PACKT10!L71)+SUMIF(PACKT11!$R71,\"TRUE\",PACKT11!L71)","v":0},{"$f":"SUMIF(PACKT01!$R71,\"TRUE\",PACKT01!M71)+SUMIF(PACKT02!$R71,\"TRUE\",PACKT02!M71)+SUMIF(PACKT03!$R71,\"TRUE\",PACKT03!M71)+SUMIF(PACKT04!$R71,\"TRUE\",PACKT04!M71)+SUMIF(PACKT05!$R71,\"TRUE\",PACKT05!M71)+SUMIF(PACKT06!$R72,\"TRUE\",PACKT06!M72)+SUMIF(PACKT07!$R71,\"TRUE\",PACKT07!M71)+SUMIF(PACKT08!$R71,\"TRUE\",PACKT08!M71)+SUMIF(PACKT09!$R71,\"TRUE\",PACKT09!M71)+SUMIF(PACKT10!$R71,\"TRUE\",PACKT10!M71)+SUMIF(PACKT11!$R71,\"TRUE\",PACKT11!M71)","v":0},{"$f":"SUMIF(PACKT01!$R71,\"TRUE\",PACKT01!N71)+SUMIF(PACKT02!$R71,\"TRUE\",PACKT02!N71)+SUMIF(PACKT03!$R71,\"TRUE\",PACKT03!N71)+SUMIF(PACKT04!$R71,\"TRUE\",PACKT04!N71)+SUMIF(PACKT05!$R71,\"TRUE\",PACKT05!N71)+SUMIF(PACKT06!$R72,\"TRUE\",PACKT06!N72)+SUMIF(PACKT07!$R71,\"TRUE\",PACKT07!N71)+SUMIF(PACKT08!$R71,\"TRUE\",PACKT08!N71)+SUMIF(PACKT09!$R71,\"TRUE\",PACKT09!N71)+SUMIF(PACKT10!$R71,\"TRUE\",PACKT10!N71)+SUMIF(PACKT11!$R71,\"TRUE\",PACKT11!N71)","v":0},{"$f":"SUMIF(PACKT01!$R71,\"TRUE\",PACKT01!O71)+SUMIF(PACKT02!$R71,\"TRUE\",PACKT02!O71)+SUMIF(PACKT03!$R71,\"TRUE\",PACKT03!O71)+SUMIF(PACKT04!$R71,\"TRUE\",PACKT04!O71)+SUMIF(PACKT05!$R71,\"TRUE\",PACKT05!O71)+SUMIF(PACKT06!$R72,\"TRUE\",PACKT06!O72)+SUMIF(PACKT07!$R71,\"TRUE\",PACKT07!O71)+SUMIF(PACKT08!$R71,\"TRUE\",PACKT08!O71)+SUMIF(PACKT09!$R71,\"TRUE\",PACKT09!O71)+SUMIF(PACKT10!$R71,\"TRUE\",PACKT10!O71)+SUMIF(PACKT11!$R71,\"TRUE\",PACKT11!O71)","v":0},{"$f":"SUMIF(PACKT01!$R71,\"TRUE\",PACKT01!P71)+SUMIF(PACKT02!$R71,\"TRUE\",PACKT02!P71)+SUMIF(PACKT03!$R71,\"TRUE\",PACKT03!P71)+SUMIF(PACKT04!$R71,\"TRUE\",PACKT04!P71)+SUMIF(PACKT05!$R71,\"TRUE\",PACKT05!P71)+SUMIF(PACKT06!$R72,\"TRUE\",PACKT06!P72)+SUMIF(PACKT07!$R71,\"TRUE\",PACKT07!P71)+SUMIF(PACKT08!$R71,\"TRUE\",PACKT08!P71)+SUMIF(PACKT09!$R71,\"TRUE\",PACKT09!P71)+SUMIF(PACKT10!$R71,\"TRUE\",PACKT10!P71)+SUMIF(PACKT11!$R71,\"TRUE\",PACKT11!P71)","v":0},{"$f":"SUMIF(PACKT01!$R71,\"TRUE\",PACKT01!Q71)+SUMIF(PACKT02!$R71,\"TRUE\",PACKT02!Q71)+SUMIF(PACKT03!$R71,\"TRUE\",PACKT03!Q71)+SUMIF(PACKT04!$R71,\"TRUE\",PACKT04!Q71)+SUMIF(PACKT05!$R71,\"TRUE\",PACKT05!Q71)+SUMIF(PACKT06!$R72,\"TRUE\",PACKT06!Q72)+SUMIF(PACKT07!$R71,\"TRUE\",PACKT07!Q71)+SUMIF(PACKT08!$R71,\"TRUE\",PACKT08!Q71)+SUMIF(PACKT09!$R71,\"TRUE\",PACKT09!Q71)+SUMIF(PACKT10!$R71,\"TRUE\",PACKT10!Q71)+SUMIF(PACKT11!$R71,\"TRUE\",PACKT11!Q71)","v":0},0]
[null,"EMP0061",{"$f":"VLOOKUP(HRSummarylTable[[#This Row],[EmployeeID]],EmployeeListLookupTable[],2,FALSE)","v":"EMPN061"},{"$f":"VLOOKUP(HRSummarylTable[[#This Row],[EmployeeID]],EmployeeListLookupTable[],3,FALSE)","v":"Employee Name 61"},{"$f":"VLOOKUP(HRSummarylTable[[#This Row],[EmployeeID]],EmployeeListLookupTable[],4,FALSE)","v":"Employee Job Title 61"},"TCTC001 - Total Cost to Company",{"$f":"LEFT(HRSummarylTable[[#This Row],[PackageItemCode]],7)","v":"TCTC001"},{"$f":"VLOOKUP(HRSummarylTable[[#This Row],[PackageItem]],PackageItemListLookup[],2,FALSE)","v":"Total Cost to Company"},null,{"$f":"SUMIF(PACKT01!$R72,\"TRUE\",PACKT01!F72)+SUMIF(PACKT02!$R72,\"TRUE\",PACKT02!F72)+SUMIF(PACKT03!$R72,\"TRUE\",PACKT03!F72)+SUMIF(PACKT04!$R72,\"TRUE\",PACKT04!F72)+SUMIF(PACKT05!$R72,\"TRUE\",PACKT05!F72)+SUMIF(PACKT06!$R73,\"TRUE\",PACKT06!F73)+SUMIF(PACKT07!$R72,\"TRUE\",PACKT07!F72)+SUMIF(PACKT08!$R72,\"TRUE\",PACKT08!F72)+SUMIF(PACKT09!$R72,\"TRUE\",PACKT09!F72)+SUMIF(PACKT10!$R72,\"TRUE\",PACKT10!F72)+SUMIF(PACKT11!$R72,\"TRUE\",PACKT11!F72)","v":0},{"$f":"SUMIF(PACKT01!$R72,\"TRUE\",PACKT01!G72)+SUMIF(PACKT02!$R72,\"TRUE\",PACKT02!G72)+SUMIF(PACKT03!$R72,\"TRUE\",PACKT03!G72)+SUMIF(PACKT04!$R72,\"TRUE\",PACKT04!G72)+SUMIF(PACKT05!$R72,\"TRUE\",PACKT05!G72)+SUMIF(PACKT06!$R73,\"TRUE\",PACKT06!G73)+SUMIF(PACKT07!$R72,\"TRUE\",PACKT07!G72)+SUMIF(PACKT08!$R72,\"TRUE\",PACKT08!G72)+SUMIF(PACKT09!$R72,\"TRUE\",PACKT09!G72)+SUMIF(PACKT10!$R72,\"TRUE\",PACKT10!G72)+SUMIF(PACKT11!$R72,\"TRUE\",PACKT11!G72)","v":0},{"$f":"SUMIF(PACKT01!$R72,\"TRUE\",PACKT01!H72)+SUMIF(PACKT02!$R72,\"TRUE\",PACKT02!H72)+SUMIF(PACKT03!$R72,\"TRUE\",PACKT03!H72)+SUMIF(PACKT04!$R72,\"TRUE\",PACKT04!H72)+SUMIF(PACKT05!$R72,\"TRUE\",PACKT05!H72)+SUMIF(PACKT06!$R73,\"TRUE\",PACKT06!H73)+SUMIF(PACKT07!$R72,\"TRUE\",PACKT07!H72)+SUMIF(PACKT08!$R72,\"TRUE\",PACKT08!H72)+SUMIF(PACKT09!$R72,\"TRUE\",PACKT09!H72)+SUMIF(PACKT10!$R72,\"TRUE\",PACKT10!H72)+SUMIF(PACKT11!$R72,\"TRUE\",PACKT11!H72)","v":0},{"$f":"SUMIF(PACKT01!$R72,\"TRUE\",PACKT01!I72)+SUMIF(PACKT02!$R72,\"TRUE\",PACKT02!I72)+SUMIF(PACKT03!$R72,\"TRUE\",PACKT03!I72)+SUMIF(PACKT04!$R72,\"TRUE\",PACKT04!I72)+SUMIF(PACKT05!$R72,\"TRUE\",PACKT05!I72)+SUMIF(PACKT06!$R73,\"TRUE\",PACKT06!I73)+SUMIF(PACKT07!$R72,\"TRUE\",PACKT07!I72)+SUMIF(PACKT08!$R72,\"TRUE\",PACKT08!I72)+SUMIF(PACKT09!$R72,\"TRUE\",PACKT09!I72)+SUMIF(PACKT10!$R72,\"TRUE\",PACKT10!I72)+SUMIF(PACKT11!$R72,\"TRUE\",PACKT11!I72)","v":0},{"$f":"SUMIF(PACKT01!$R72,\"TRUE\",PACKT01!J72)+SUMIF(PACKT02!$R72,\"TRUE\",PACKT02!J72)+SUMIF(PACKT03!$R72,\"TRUE\",PACKT03!J72)+SUMIF(PACKT04!$R72,\"TRUE\",PACKT04!J72)+SUMIF(PACKT05!$R72,\"TRUE\",PACKT05!J72)+SUMIF(PACKT06!$R73,\"TRUE\",PACKT06!J73)+SUMIF(PACKT07!$R72,\"TRUE\",PACKT07!J72)+SUMIF(PACKT08!$R72,\"TRUE\",PACKT08!J72)+SUMIF(PACKT09!$R72,\"TRUE\",PACKT09!J72)+SUMIF(PACKT10!$R72,\"TRUE\",PACKT10!J72)+SUMIF(PACKT11!$R72,\"TRUE\",PACKT11!J72)","v":0},{"$f":"SUMIF(PACKT01!$R72,\"TRUE\",PACKT01!K72)+SUMIF(PACKT02!$R72,\"TRUE\",PACKT02!K72)+SUMIF(PACKT03!$R72,\"TRUE\",PACKT03!K72)+SUMIF(PACKT04!$R72,\"TRUE\",PACKT04!K72)+SUMIF(PACKT05!$R72,\"TRUE\",PACKT05!K72)+SUMIF(PACKT06!$R73,\"TRUE\",PACKT06!K73)+SUMIF(PACKT07!$R72,\"TRUE\",PACKT07!K72)+SUMIF(PACKT08!$R72,\"TRUE\",PACKT08!K72)+SUMIF(PACKT09!$R72,\"TRUE\",PACKT09!K72)+SUMIF(PACKT10!$R72,\"TRUE\",PACKT10!K72)+SUMIF(PACKT11!$R72,\"TRUE\",PACKT11!K72)","v":0},{"$f":"SUMIF(PACKT01!$R72,\"TRUE\",PACKT01!L72)+SUMIF(PACKT02!$R72,\"TRUE\",PACKT02!L72)+SUMIF(PACKT03!$R72,\"TRUE\",PACKT03!L72)+SUMIF(PACKT04!$R72,\"TRUE\",PACKT04!L72)+SUMIF(PACKT05!$R72,\"TRUE\",PACKT05!L72)+SUMIF(PACKT06!$R73,\"TRUE\",PACKT06!L73)+SUMIF(PACKT07!$R72,\"TRUE\",PACKT07!L72)+SUMIF(PACKT08!$R72,\"TRUE\",PACKT08!L72)+SUMIF(PACKT09!$R72,\"TRUE\",PACKT09!L72)+SUMIF(PACKT10!$R72,\"TRUE\",PACKT10!L72)+SUMIF(PACKT11!$R72,\"TRUE\",PACKT11!L72)","v":0},{"$f":"SUMIF(PACKT01!$R72,\"TRUE\",PACKT01!M72)+SUMIF(PACKT02!$R72,\"TRUE\",PACKT02!M72)+SUMIF(PACKT03!$R72,\"TRUE\",PACKT03!M72)+SUMIF(PACKT04!$R72,\"TRUE\",PACKT04!M72)+SUMIF(PACKT05!$R72,\"TRUE\",PACKT05!M72)+SUMIF(PACKT06!$R73,\"TRUE\",PACKT06!M73)+SUMIF(PACKT07!$R72,\"TRUE\",PACKT07!M72)+SUMIF(PACKT08!$R72,\"TRUE\",PACKT08!M72)+SUMIF(PACKT09!$R72,\"TRUE\",PACKT09!M72)+SUMIF(PACKT10!$R72,\"TRUE\",PACKT10!M72)+SUMIF(PACKT11!$R72,\"TRUE\",PACKT11!M72)","v":0},{"$f":"SUMIF(PACKT01!$R72,\"TRUE\",PACKT01!N72)+SUMIF(PACKT02!$R72,\"TRUE\",PACKT02!N72)+SUMIF(PACKT03!$R72,\"TRUE\",PACKT03!N72)+SUMIF(PACKT04!$R72,\"TRUE\",PACKT04!N72)+SUMIF(PACKT05!$R72,\"TRUE\",PACKT05!N72)+SUMIF(PACKT06!$R73,\"TRUE\",PACKT06!N73)+SUMIF(PACKT07!$R72,\"TRUE\",PACKT07!N72)+SUMIF(PACKT08!$R72,\"TRUE\",PACKT08!N72)+SUMIF(PACKT09!$R72,\"TRUE\",PACKT09!N72)+SUMIF(PACKT10!$R72,\"TRUE\",PACKT10!N72)+SUMIF(PACKT11!$R72,\"TRUE\",PACKT11!N72)","v":0},{"$f":"SUMIF(PACKT01!$R72,\"TRUE\",PACKT01!O72)+SUMIF(PACKT02!$R72,\"TRUE\",PACKT02!O72)+SUMIF(PACKT03!$R72,\"TRUE\",PACKT03!O72)+SUMIF(PACKT04!$R72,\"TRUE\",PACKT04!O72)+SUMIF(PACKT05!$R72,\"TRUE\",PACKT05!O72)+SUMIF(PACKT06!$R73,\"TRUE\",PACKT06!O73)+SUMIF(PACKT07!$R72,\"TRUE\",PACKT07!O72)+SUMIF(PACKT08!$R72,\"TRUE\",PACKT08!O72)+SUMIF(PACKT09!$R72,\"TRUE\",PACKT09!O72)+SUMIF(PACKT10!$R72,\"TRUE\",PACKT10!O72)+SUMIF(PACKT11!$R72,\"TRUE\",PACKT11!O72)","v":0},{"$f":"SUMIF(PACKT01!$R72,\"TRUE\",PACKT01!P72)+SUMIF(PACKT02!$R72,\"TRUE\",PACKT02!P72)+SUMIF(PACKT03!$R72,\"TRUE\",PACKT03!P72)+SUMIF(PACKT04!$R72,\"TRUE\",PACKT04!P72)+SUMIF(PACKT05!$R72,\"TRUE\",PACKT05!P72)+SUMIF(PACKT06!$R73,\"TRUE\",PACKT06!P73)+SUMIF(PACKT07!$R72,\"TRUE\",PACKT07!P72)+SUMIF(PACKT08!$R72,\"TRUE\",PACKT08!P72)+SUMIF(PACKT09!$R72,\"TRUE\",PACKT09!P72)+SUMIF(PACKT10!$R72,\"TRUE\",PACKT10!P72)+SUMIF(PACKT11!$R72,\"TRUE\",PACKT11!P72)","v":0},{"$f":"SUMIF(PACKT01!$R72,\"TRUE\",PACKT01!Q72)+SUMIF(PACKT02!$R72,\"TRUE\",PACKT02!Q72)+SUMIF(PACKT03!$R72,\"TRUE\",PACKT03!Q72)+SUMIF(PACKT04!$R72,\"TRUE\",PACKT04!Q72)+SUMIF(PACKT05!$R72,\"TRUE\",PACKT05!Q72)+SUMIF(PACKT06!$R73,\"TRUE\",PACKT06!Q73)+SUMIF(PACKT07!$R72,\"TRUE\",PACKT07!Q72)+SUMIF(PACKT08!$R72,\"TRUE\",PACKT08!Q72)+SUMIF(PACKT09!$R72,\"TRUE\",PACKT09!Q72)+SUMIF(PACKT10!$R72,\"TRUE\",PACKT10!Q72)+SUMIF(PACKT11!$R72,\"TRUE\",PACKT11!Q72)","v":0},0]
[null,"EMP0062",{"$f":"VLOOKUP(HRSummarylTable[[#This Row],[EmployeeID]],EmployeeListLookupTable[],2,FALSE)","v":"EMPN062"},{"$f":"VLOOKUP(HRSummarylTable[[#This Row],[EmployeeID]],EmployeeListLookupTable[],3,FALSE)","v":"Employee Name 62"},{"$f":"VLOOKUP(HRSummarylTable[[#This Row],[EmployeeID]],EmployeeListLookupTable[],4,FALSE)","v":"Employee Job Title 62"},"TCTC001 - Total Cost to Company",{"$f":"LEFT(HRSummarylTable[[#This Row],[PackageItemCode]],7)","v":"TCTC001"},{"$f":"VLOOKUP(HRSummarylTable[[#This Row],[PackageItem]],PackageItemListLookup[],2,FALSE)","v":"Total Cost to Company"},null,{"$f":"SUMIF(PACKT01!$R73,\"TRUE\",PACKT01!F73)+SUMIF(PACKT02!$R73,\"TRUE\",PACKT02!F73)+SUMIF(PACKT03!$R73,\"TRUE\",PACKT03!F73)+SUMIF(PACKT04!$R73,\"TRUE\",PACKT04!F73)+SUMIF(PACKT05!$R73,\"TRUE\",PACKT05!F73)+SUMIF(PACKT06!$R74,\"TRUE\",PACKT06!F74)+SUMIF(PACKT07!$R73,\"TRUE\",PACKT07!F73)+SUMIF(PACKT08!$R73,\"TRUE\",PACKT08!F73)+SUMIF(PACKT09!$R73,\"TRUE\",PACKT09!F73)+SUMIF(PACKT10!$R73,\"TRUE\",PACKT10!F73)+SUMIF(PACKT11!$R73,\"TRUE\",PACKT11!F73)","v":0},{"$f":"SUMIF(PACKT01!$R73,\"TRUE\",PACKT01!G73)+SUMIF(PACKT02!$R73,\"TRUE\",PACKT02!G73)+SUMIF(PACKT03!$R73,\"TRUE\",PACKT03!G73)+SUMIF(PACKT04!$R73,\"TRUE\",PACKT04!G73)+SUMIF(PACKT05!$R73,\"TRUE\",PACKT05!G73)+SUMIF(PACKT06!$R74,\"TRUE\",PACKT06!G74)+SUMIF(PACKT07!$R73,\"TRUE\",PACKT07!G73)+SUMIF(PACKT08!$R73,\"TRUE\",PACKT08!G73)+SUMIF(PACKT09!$R73,\"TRUE\",PACKT09!G73)+SUMIF(PACKT10!$R73,\"TRUE\",PACKT10!G73)+SUMIF(PACKT11!$R73,\"TRUE\",PACKT11!G73)","v":0},{"$f":"SUMIF(PACKT01!$R73,\"TRUE\",PACKT01!H73)+SUMIF(PACKT02!$R73,\"TRUE\",PACKT02!H73)+SUMIF(PACKT03!$R73,\"TRUE\",PACKT03!H73)+SUMIF(PACKT04!$R73,\"TRUE\",PACKT04!H73)+SUMIF(PACKT05!$R73,\"TRUE\",PACKT05!H73)+SUMIF(PACKT06!$R74,\"TRUE\",PACKT06!H74)+SUMIF(PACKT07!$R73,\"TRUE\",PACKT07!H73)+SUMIF(PACKT08!$R73,\"TRUE\",PACKT08!H73)+SUMIF(PACKT09!$R73,\"TRUE\",PACKT09!H73)+SUMIF(PACKT10!$R73,\"TRUE\",PACKT10!H73)+SUMIF(PACKT11!$R73,\"TRUE\",PACKT11!H73)","v":0},{"$f":"SUMIF(PACKT01!$R73,\"TRUE\",PACKT01!I73)+SUMIF(PACKT02!$R73,\"TRUE\",PACKT02!I73)+SUMIF(PACKT03!$R73,\"TRUE\",PACKT03!I73)+SUMIF(PACKT04!$R73,\"TRUE\",PACKT04!I73)+SUMIF(PACKT05!$R73,\"TRUE\",PACKT05!I73)+SUMIF(PACKT06!$R74,\"TRUE\",PACKT06!I74)+SUMIF(PACKT07!$R73,\"TRUE\",PACKT07!I73)+SUMIF(PACKT08!$R73,\"TRUE\",PACKT08!I73)+SUMIF(PACKT09!$R73,\"TRUE\",PACKT09!I73)+SUMIF(PACKT10!$R73,\"TRUE\",PACKT10!I73)+SUMIF(PACKT11!$R73,\"TRUE\",PACKT11!I73)","v":0},{"$f":"SUMIF(PACKT01!$R73,\"TRUE\",PACKT01!J73)+SUMIF(PACKT02!$R73,\"TRUE\",PACKT02!J73)+SUMIF(PACKT03!$R73,\"TRUE\",PACKT03!J73)+SUMIF(PACKT04!$R73,\"TRUE\",PACKT04!J73)+SUMIF(PACKT05!$R73,\"TRUE\",PACKT05!J73)+SUMIF(PACKT06!$R74,\"TRUE\",PACKT06!J74)+SUMIF(PACKT07!$R73,\"TRUE\",PACKT07!J73)+SUMIF(PACKT08!$R73,\"TRUE\",PACKT08!J73)+SUMIF(PACKT09!$R73,\"TRUE\",PACKT09!J73)+SUMIF(PACKT10!$R73,\"TRUE\",PACKT10!J73)+SUMIF(PACKT11!$R73,\"TRUE\",PACKT11!J73)","v":0},{"$f":"SUMIF(PACKT01!$R73,\"TRUE\",PACKT01!K73)+SUMIF(PACKT02!$R73,\"TRUE\",PACKT02!K73)+SUMIF(PACKT03!$R73,\"TRUE\",PACKT03!K73)+SUMIF(PACKT04!$R73,\"TRUE\",PACKT04!K73)+SUMIF(PACKT05!$R73,\"TRUE\",PACKT05!K73)+SUMIF(PACKT06!$R74,\"TRUE\",PACKT06!K74)+SUMIF(PACKT07!$R73,\"TRUE\",PACKT07!K73)+SUMIF(PACKT08!$R73,\"TRUE\",PACKT08!K73)+SUMIF(PACKT09!$R73,\"TRUE\",PACKT09!K73)+SUMIF(PACKT10!$R73,\"TRUE\",PACKT10!K73)+SUMIF(PACKT11!$R73,\"TRUE\",PACKT11!K73)","v":0},{"$f":"SUMIF(PACKT01!$R73,\"TRUE\",PACKT01!L73)+SUMIF(PACKT02!$R73,\"TRUE\",PACKT02!L73)+SUMIF(PACKT03!$R73,\"TRUE\",PACKT03!L73)+SUMIF(PACKT04!$R73,\"TRUE\",PACKT04!L73)+SUMIF(PACKT05!$R73,\"TRUE\",PACKT05!L73)+SUMIF(PACKT06!$R74,\"TRUE\",PACKT06!L74)+SUMIF(PACKT07!$R73,\"TRUE\",PACKT07!L73)+SUMIF(PACKT08!$R73,\"TRUE\",PACKT08!L73)+SUMIF(PACKT09!$R73,\"TRUE\",PACKT09!L73)+SUMIF(PACKT10!$R73,\"TRUE\",PACKT10!L73)+SUMIF(PACKT11!$R73,\"TRUE\",PACKT11!L73)","v":0},{"$f":"SUMIF(PACKT01!$R73,\"TRUE\",PACKT01!M73)+SUMIF(PACKT02!$R73,\"TRUE\",PACKT02!M73)+SUMIF(PACKT03!$R73,\"TRUE\",PACKT03!M73)+SUMIF(PACKT04!$R73,\"TRUE\",PACKT04!M73)+SUMIF(PACKT05!$R73,\"TRUE\",PACKT05!M73)+SUMIF(PACKT06!$R74,\"TRUE\",PACKT06!M74)+SUMIF(PACKT07!$R73,\"TRUE\",PACKT07!M73)+SUMIF(PACKT08!$R73,\"TRUE\",PACKT08!M73)+SUMIF(PACKT09!$R73,\"TRUE\",PACKT09!M73)+SUMIF(PACKT10!$R73,\"TRUE\",PACKT10!M73)+SUMIF(PACKT11!$R73,\"TRUE\",PACKT11!M73)","v":0},{"$f":"SUMIF(PACKT01!$R73,\"TRUE\",PACKT01!N73)+SUMIF(PACKT02!$R73,\"TRUE\",PACKT02!N73)+SUMIF(PACKT03!$R73,\"TRUE\",PACKT03!N73)+SUMIF(PACKT04!$R73,\"TRUE\",PACKT04!N73)+SUMIF(PACKT05!$R73,\"TRUE\",PACKT05!N73)+SUMIF(PACKT06!$R74,\"TRUE\",PACKT06!N74)+SUMIF(PACKT07!$R73,\"TRUE\",PACKT07!N73)+SUMIF(PACKT08!$R73,\"TRUE\",PACKT08!N73)+SUMIF(PACKT09!$R73,\"TRUE\",PACKT09!N73)+SUMIF(PACKT10!$R73,\"TRUE\",PACKT10!N73)+SUMIF(PACKT11!$R73,\"TRUE\",PACKT11!N73)","v":0},{"$f":"SUMIF(PACKT01!$R73,\"TRUE\",PACKT01!O73)+SUMIF(PACKT02!$R73,\"TRUE\",PACKT02!O73)+SUMIF(PACKT03!$R73,\"TRUE\",PACKT03!O73)+SUMIF(PACKT04!$R73,\"TRUE\",PACKT04!O73)+SUMIF(PACKT05!$R73,\"TRUE\",PACKT05!O73)+SUMIF(PACKT06!$R74,\"TRUE\",PACKT06!O74)+SUMIF(PACKT07!$R73,\"TRUE\",PACKT07!O73)+SUMIF(PACKT08!$R73,\"TRUE\",PACKT08!O73)+SUMIF(PACKT09!$R73,\"TRUE\",PACKT09!O73)+SUMIF(PACKT10!$R73,\"TRUE\",PACKT10!O73)+SUMIF(PACKT11!$R73,\"TRUE\",PACKT11!O73)","v":0},{"$f":"SUMIF(PACKT01!$R73,\"TRUE\",PACKT01!P73)+SUMIF(PACKT02!$R73,\"TRUE\",PACKT02!P73)+SUMIF(PACKT03!$R73,\"TRUE\",PACKT03!P73)+SUMIF(PACKT04!$R73,\"TRUE\",PACKT04!P73)+SUMIF(PACKT05!$R73,\"TRUE\",PACKT05!P73)+SUMIF(PACKT06!$R74,\"TRUE\",PACKT06!P74)+SUMIF(PACKT07!$R73,\"TRUE\",PACKT07!P73)+SUMIF(PACKT08!$R73,\"TRUE\",PACKT08!P73)+SUMIF(PACKT09!$R73,\"TRUE\",PACKT09!P73)+SUMIF(PACKT10!$R73,\"TRUE\",PACKT10!P73)+SUMIF(PACKT11!$R73,\"TRUE\",PACKT11!P73)","v":0},{"$f":"SUMIF(PACKT01!$R73,\"TRUE\",PACKT01!Q73)+SUMIF(PACKT02!$R73,\"TRUE\",PACKT02!Q73)+SUMIF(PACKT03!$R73,\"TRUE\",PACKT03!Q73)+SUMIF(PACKT04!$R73,\"TRUE\",PACKT04!Q73)+SUMIF(PACKT05!$R73,\"TRUE\",PACKT05!Q73)+SUMIF(PACKT06!$R74,\"TRUE\",PACKT06!Q74)+SUMIF(PACKT07!$R73,\"TRUE\",PACKT07!Q73)+SUMIF(PACKT08!$R73,\"TRUE\",PACKT08!Q73)+SUMIF(PACKT09!$R73,\"TRUE\",PACKT09!Q73)+SUMIF(PACKT10!$R73,\"TRUE\",PACKT10!Q73)+SUMIF(PACKT11!$R73,\"TRUE\",PACKT11!Q73)","v":0},0]
[null,"EMP0063",{"$f":"VLOOKUP(HRSummarylTable[[#This Row],[EmployeeID]],EmployeeListLookupTable[],2,FALSE)","v":"EMPN063"},{"$f":"VLOOKUP(HRSummarylTable[[#This Row],[EmployeeID]],EmployeeListLookupTable[],3,FALSE)","v":"Employee Name 63"},{"$f":"VLOOKUP(HRSummarylTable[[#This Row],[EmployeeID]],EmployeeListLookupTable[],4,FALSE)","v":"Employee Job Title 63"},"TCTC001 - Total Cost to Company",{"$f":"LEFT(HRSummarylTable[[#This Row],[PackageItemCode]],7)","v":"TCTC001"},{"$f":"VLOOKUP(HRSummarylTable[[#This Row],[PackageItem]],PackageItemListLookup[],2,FALSE)","v":"Total Cost to Company"},null,{"$f":"SUMIF(PACKT01!$R74,\"TRUE\",PACKT01!F74)+SUMIF(PACKT02!$R74,\"TRUE\",PACKT02!F74)+SUMIF(PACKT03!$R74,\"TRUE\",PACKT03!F74)+SUMIF(PACKT04!$R74,\"TRUE\",PACKT04!F74)+SUMIF(PACKT05!$R74,\"TRUE\",PACKT05!F74)+SUMIF(PACKT06!$R75,\"TRUE\",PACKT06!F75)+SUMIF(PACKT07!$R74,\"TRUE\",PACKT07!F74)+SUMIF(PACKT08!$R74,\"TRUE\",PACKT08!F74)+SUMIF(PACKT09!$R74,\"TRUE\",PACKT09!F74)+SUMIF(PACKT10!$R74,\"TRUE\",PACKT10!F74)+SUMIF(PACKT11!$R74,\"TRUE\",PACKT11!F74)","v":0},{"$f":"SUMIF(PACKT01!$R74,\"TRUE\",PACKT01!G74)+SUMIF(PACKT02!$R74,\"TRUE\",PACKT02!G74)+SUMIF(PACKT03!$R74,\"TRUE\",PACKT03!G74)+SUMIF(PACKT04!$R74,\"TRUE\",PACKT04!G74)+SUMIF(PACKT05!$R74,\"TRUE\",PACKT05!G74)+SUMIF(PACKT06!$R75,\"TRUE\",PACKT06!G75)+SUMIF(PACKT07!$R74,\"TRUE\",PACKT07!G74)+SUMIF(PACKT08!$R74,\"TRUE\",PACKT08!G74)+SUMIF(PACKT09!$R74,\"TRUE\",PACKT09!G74)+SUMIF(PACKT10!$R74,\"TRUE\",PACKT10!G74)+SUMIF(PACKT11!$R74,\"TRUE\",PACKT11!G74)","v":0},{"$f":"SUMIF(PACKT01!$R74,\"TRUE\",PACKT01!H74)+SUMIF(PACKT02!$R74,\"TRUE\",PACKT02!H74)+SUMIF(PACKT03!$R74,\"TRUE\",PACKT03!H74)+SUMIF(PACKT04!$R74,\"TRUE\",PACKT04!H74)+SUMIF(PACKT05!$R74,\"TRUE\",PACKT05!H74)+SUMIF(PACKT06!$R75,\"TRUE\",PACKT06!H75)+SUMIF(PACKT07!$R74,\"TRUE\",PACKT07!H74)+SUMIF(PACKT08!$R74,\"TRUE\",PACKT08!H74)+SUMIF(PACKT09!$R74,\"TRUE\",PACKT09!H74)+SUMIF(PACKT10!$R74,\"TRUE\",PACKT10!H74)+SUMIF(PACKT11!$R74,\"TRUE\",PACKT11!H74)","v":0},{"$f":"SUMIF(PACKT01!$R74,\"TRUE\",PACKT01!I74)+SUMIF(PACKT02!$R74,\"TRUE\",PACKT02!I74)+SUMIF(PACKT03!$R74,\"TRUE\",PACKT03!I74)+SUMIF(PACKT04!$R74,\"TRUE\",PACKT04!I74)+SUMIF(PACKT05!$R74,\"TRUE\",PACKT05!I74)+SUMIF(PACKT06!$R75,\"TRUE\",PACKT06!I75)+SUMIF(PACKT07!$R74,\"TRUE\",PACKT07!I74)+SUMIF(PACKT08!$R74,\"TRUE\",PACKT08!I74)+SUMIF(PACKT09!$R74,\"TRUE\",PACKT09!I74)+SUMIF(PACKT10!$R74,\"TRUE\",PACKT10!I74)+SUMIF(PACKT11!$R74,\"TRUE\",PACKT11!I74)","v":0},{"$f":"SUMIF(PACKT01!$R74,\"TRUE\",PACKT01!J74)+SUMIF(PACKT02!$R74,\"TRUE\",PACKT02!J74)+SUMIF(PACKT03!$R74,\"TRUE\",PACKT03!J74)+SUMIF(PACKT04!$R74,\"TRUE\",PACKT04!J74)+SUMIF(PACKT05!$R74,\"TRUE\",PACKT05!J74)+SUMIF(PACKT06!$R75,\"TRUE\",PACKT06!J75)+SUMIF(PACKT07!$R74,\"TRUE\",PACKT07!J74)+SUMIF(PACKT08!$R74,\"TRUE\",PACKT08!J74)+SUMIF(PACKT09!$R74,\"TRUE\",PACKT09!J74)+SUMIF(PACKT10!$R74,\"TRUE\",PACKT10!J74)+SUMIF(PACKT11!$R74,\"TRUE\",PACKT11!J74)","v":0},{"$f":"SUMIF(PACKT01!$R74,\"TRUE\",PACKT01!K74)+SUMIF(PACKT02!$R74,\"TRUE\",PACKT02!K74)+SUMIF(PACKT03!$R74,\"TRUE\",PACKT03!K74)+SUMIF(PACKT04!$R74,\"TRUE\",PACKT04!K74)+SUMIF(PACKT05!$R74,\"TRUE\",PACKT05!K74)+SUMIF(PACKT06!$R75,\"TRUE\",PACKT06!K75)+SUMIF(PACKT07!$R74,\"TRUE\",PACKT07!K74)+SUMIF(PACKT08!$R74,\"TRUE\",PACKT08!K74)+SUMIF(PACKT09!$R74,\"TRUE\",PACKT09!K74)+SUMIF(PACKT10!$R74,\"TRUE\",PACKT10!K74)+SUMIF(PACKT11!$R74,\"TRUE\",PACKT11!K74)","v":0},{"$f":"SUMIF(PACKT01!$R74,\"TRUE\",PACKT01!L74)+SUMIF(PACKT02!$R74,\"TRUE\",PACKT02!L74)+SUMIF(PACKT03!$R74,\"TRUE\",PACKT03!L74)+SUMIF(PACKT04!$R74,\"TRUE\",PACKT04!L74)+SUMIF(PACKT05!$R74,\"TRUE\",PACKT05!L74)+SUMIF(PACKT06!$R75,\"TRUE\",PACKT06!L75)+SUMIF(PACKT07!$R74,\"TRUE\",PACKT07!L74)+SUMIF(PACKT08!$R74,\"TRUE\",PACKT08!L74)+SUMIF(PACKT09!$R74,\"TRUE\",PACKT09!L74)+SUMIF(PACKT10!$R74,\"TRUE\",PACKT10!L74)+SUMIF(PACKT11!$R74,\"TRUE\",PACKT11!L74)","v":0},{"$f":"SUMIF(PACKT01!$R74,\"TRUE\",PACKT01!M74)+SUMIF(PACKT02!$R74,\"TRUE\",PACKT02!M74)+SUMIF(PACKT03!$R74,\"TRUE\",PACKT03!M74)+SUMIF(PACKT04!$R74,\"TRUE\",PACKT04!M74)+SUMIF(PACKT05!$R74,\"TRUE\",PACKT05!M74)+SUMIF(PACKT06!$R75,\"TRUE\",PACKT06!M75)+SUMIF(PACKT07!$R74,\"TRUE\",PACKT07!M74)+SUMIF(PACKT08!$R74,\"TRUE\",PACKT08!M74)+SUMIF(PACKT09!$R74,\"TRUE\",PACKT09!M74)+SUMIF(PACKT10!$R74,\"TRUE\",PACKT10!M74)+SUMIF(PACKT11!$R74,\"TRUE\",PACKT11!M74)","v":0},{"$f":"SUMIF(PACKT01!$R74,\"TRUE\",PACKT01!N74)+SUMIF(PACKT02!$R74,\"TRUE\",PACKT02!N74)+SUMIF(PACKT03!$R74,\"TRUE\",PACKT03!N74)+SUMIF(PACKT04!$R74,\"TRUE\",PACKT04!N74)+SUMIF(PACKT05!$R74,\"TRUE\",PACKT05!N74)+SUMIF(PACKT06!$R75,\"TRUE\",PACKT06!N75)+SUMIF(PACKT07!$R74,\"TRUE\",PACKT07!N74)+SUMIF(PACKT08!$R74,\"TRUE\",PACKT08!N74)+SUMIF(PACKT09!$R74,\"TRUE\",PACKT09!N74)+SUMIF(PACKT10!$R74,\"TRUE\",PACKT10!N74)+SUMIF(PACKT11!$R74,\"TRUE\",PACKT11!N74)","v":0},{"$f":"SUMIF(PACKT01!$R74,\"TRUE\",PACKT01!O74)+SUMIF(PACKT02!$R74,\"TRUE\",PACKT02!O74)+SUMIF(PACKT03!$R74,\"TRUE\",PACKT03!O74)+SUMIF(PACKT04!$R74,\"TRUE\",PACKT04!O74)+SUMIF(PACKT05!$R74,\"TRUE\",PACKT05!O74)+SUMIF(PACKT06!$R75,\"TRUE\",PACKT06!O75)+SUMIF(PACKT07!$R74,\"TRUE\",PACKT07!O74)+SUMIF(PACKT08!$R74,\"TRUE\",PACKT08!O74)+SUMIF(PACKT09!$R74,\"TRUE\",PACKT09!O74)+SUMIF(PACKT10!$R74,\"TRUE\",PACKT10!O74)+SUMIF(PACKT11!$R74,\"TRUE\",PACKT11!O74)","v":0},{"$f":"SUMIF(PACKT01!$R74,\"TRUE\",PACKT01!P74)+SUMIF(PACKT02!$R74,\"TRUE\",PACKT02!P74)+SUMIF(PACKT03!$R74,\"TRUE\",PACKT03!P74)+SUMIF(PACKT04!$R74,\"TRUE\",PACKT04!P74)+SUMIF(PACKT05!$R74,\"TRUE\",PACKT05!P74)+SUMIF(PACKT06!$R75,\"TRUE\",PACKT06!P75)+SUMIF(PACKT07!$R74,\"TRUE\",PACKT07!P74)+SUMIF(PACKT08!$R74,\"TRUE\",PACKT08!P74)+SUMIF(PACKT09!$R74,\"TRUE\",PACKT09!P74)+SUMIF(PACKT10!$R74,\"TRUE\",PACKT10!P74)+SUMIF(PACKT11!$R74,\"TRUE\",PACKT11!P74)","v":0},{"$f":"SUMIF(PACKT01!$R74,\"TRUE\",PACKT01!Q74)+SUMIF(PACKT02!$R74,\"TRUE\",PACKT02!Q74)+SUMIF(PACKT03!$R74,\"TRUE\",PACKT03!Q74)+SUMIF(PACKT04!$R74,\"TRUE\",PACKT04!Q74)+SUMIF(PACKT05!$R74,\"TRUE\",PACKT05!Q74)+SUMIF(PACKT06!$R75,\"TRUE\",PACKT06!Q75)+SUMIF(PACKT07!$R74,\"TRUE\",PACKT07!Q74)+SUMIF(PACKT08!$R74,\"TRUE\",PACKT08!Q74)+SUMIF(PACKT09!$R74,\"TRUE\",PACKT09!Q74)+SUMIF(PACKT10!$R74,\"TRUE\",PACKT10!Q74)+SUMIF(PACKT11!$R74,\"TRUE\",PACKT11!Q74)","v":0},0]
[null,"EMP0064",{"$f":"VLOOKUP(HRSummarylTable[[#This Row],[EmployeeID]],EmployeeListLookupTable[],2,FALSE)","v":"EMPN064"},{"$f":"VLOOKUP(HRSummarylTable[[#This Row],[EmployeeID]],EmployeeListLookupTable[],3,FALSE)","v":"Employee Name 64"},{"$f":"VLOOKUP(HRSummarylTable[[#This Row],[EmployeeID]],EmployeeListLookupTable[],4,FALSE)","v":"Employee Job Title 64"},"TCTC001 - Total Cost to Company",{"$f":"LEFT(HRSummarylTable[[#This Row],[PackageItemCode]],7)","v":"TCTC001"},{"$f":"VLOOKUP(HRSummarylTable[[#This Row],[PackageItem]],PackageItemListLookup[],2,FALSE)","v":"Total Cost to Company"},null,{"$f":"SUMIF(PACKT01!$R75,\"TRUE\",PACKT01!F75)+SUMIF(PACKT02!$R75,\"TRUE\",PACKT02!F75)+SUMIF(PACKT03!$R75,\"TRUE\",PACKT03!F75)+SUMIF(PACKT04!$R75,\"TRUE\",PACKT04!F75)+SUMIF(PACKT05!$R75,\"TRUE\",PACKT05!F75)+SUMIF(PACKT06!$R76,\"TRUE\",PACKT06!F76)+SUMIF(PACKT07!$R75,\"TRUE\",PACKT07!F75)+SUMIF(PACKT08!$R75,\"TRUE\",PACKT08!F75)+SUMIF(PACKT09!$R75,\"TRUE\",PACKT09!F75)+SUMIF(PACKT10!$R75,\"TRUE\",PACKT10!F75)+SUMIF(PACKT11!$R75,\"TRUE\",PACKT11!F75)","v":0},{"$f":"SUMIF(PACKT01!$R75,\"TRUE\",PACKT01!G75)+SUMIF(PACKT02!$R75,\"TRUE\",PACKT02!G75)+SUMIF(PACKT03!$R75,\"TRUE\",PACKT03!G75)+SUMIF(PACKT04!$R75,\"TRUE\",PACKT04!G75)+SUMIF(PACKT05!$R75,\"TRUE\",PACKT05!G75)+SUMIF(PACKT06!$R76,\"TRUE\",PACKT06!G76)+SUMIF(PACKT07!$R75,\"TRUE\",PACKT07!G75)+SUMIF(PACKT08!$R75,\"TRUE\",PACKT08!G75)+SUMIF(PACKT09!$R75,\"TRUE\",PACKT09!G75)+SUMIF(PACKT10!$R75,\"TRUE\",PACKT10!G75)+SUMIF(PACKT11!$R75,\"TRUE\",PACKT11!G75)","v":0},{"$f":"SUMIF(PACKT01!$R75,\"TRUE\",PACKT01!H75)+SUMIF(PACKT02!$R75,\"TRUE\",PACKT02!H75)+SUMIF(PACKT03!$R75,\"TRUE\",PACKT03!H75)+SUMIF(PACKT04!$R75,\"TRUE\",PACKT04!H75)+SUMIF(PACKT05!$R75,\"TRUE\",PACKT05!H75)+SUMIF(PACKT06!$R76,\"TRUE\",PACKT06!H76)+SUMIF(PACKT07!$R75,\"TRUE\",PACKT07!H75)+SUMIF(PACKT08!$R75,\"TRUE\",PACKT08!H75)+SUMIF(PACKT09!$R75,\"TRUE\",PACKT09!H75)+SUMIF(PACKT10!$R75,\"TRUE\",PACKT10!H75)+SUMIF(PACKT11!$R75,\"TRUE\",PACKT11!H75)","v":0},{"$f":"SUMIF(PACKT01!$R75,\"TRUE\",PACKT01!I75)+SUMIF(PACKT02!$R75,\"TRUE\",PACKT02!I75)+SUMIF(PACKT03!$R75,\"TRUE\",PACKT03!I75)+SUMIF(PACKT04!$R75,\"TRUE\",PACKT04!I75)+SUMIF(PACKT05!$R75,\"TRUE\",PACKT05!I75)+SUMIF(PACKT06!$R76,\"TRUE\",PACKT06!I76)+SUMIF(PACKT07!$R75,\"TRUE\",PACKT07!I75)+SUMIF(PACKT08!$R75,\"TRUE\",PACKT08!I75)+SUMIF(PACKT09!$R75,\"TRUE\",PACKT09!I75)+SUMIF(PACKT10!$R75,\"TRUE\",PACKT10!I75)+SUMIF(PACKT11!$R75,\"TRUE\",PACKT11!I75)","v":0},{"$f":"SUMIF(PACKT01!$R75,\"TRUE\",PACKT01!J75)+SUMIF(PACKT02!$R75,\"TRUE\",PACKT02!J75)+SUMIF(PACKT03!$R75,\"TRUE\",PACKT03!J75)+SUMIF(PACKT04!$R75,\"TRUE\",PACKT04!J75)+SUMIF(PACKT05!$R75,\"TRUE\",PACKT05!J75)+SUMIF(PACKT06!$R76,\"TRUE\",PACKT06!J76)+SUMIF(PACKT07!$R75,\"TRUE\",PACKT07!J75)+SUMIF(PACKT08!$R75,\"TRUE\",PACKT08!J75)+SUMIF(PACKT09!$R75,\"TRUE\",PACKT09!J75)+SUMIF(PACKT10!$R75,\"TRUE\",PACKT10!J75)+SUMIF(PACKT11!$R75,\"TRUE\",PACKT11!J75)","v":0},{"$f":"SUMIF(PACKT01!$R75,\"TRUE\",PACKT01!K75)+SUMIF(PACKT02!$R75,\"TRUE\",PACKT02!K75)+SUMIF(PACKT03!$R75,\"TRUE\",PACKT03!K75)+SUMIF(PACKT04!$R75,\"TRUE\",PACKT04!K75)+SUMIF(PACKT05!$R75,\"TRUE\",PACKT05!K75)+SUMIF(PACKT06!$R76,\"TRUE\",PACKT06!K76)+SUMIF(PACKT07!$R75,\"TRUE\",PACKT07!K75)+SUMIF(PACKT08!$R75,\"TRUE\",PACKT08!K75)+SUMIF(PACKT09!$R75,\"TRUE\",PACKT09!K75)+SUMIF(PACKT10!$R75,\"TRUE\",PACKT10!K75)+SUMIF(PACKT11!$R75,\"TRUE\",PACKT11!K75)","v":0},{"$f":"SUMIF(PACKT01!$R75,\"TRUE\",PACKT01!L75)+SUMIF(PACKT02!$R75,\"TRUE\",PACKT02!L75)+SUMIF(PACKT03!$R75,\"TRUE\",PACKT03!L75)+SUMIF(PACKT04!$R75,\"TRUE\",PACKT04!L75)+SUMIF(PACKT05!$R75,\"TRUE\",PACKT05!L75)+SUMIF(PACKT06!$R76,\"TRUE\",PACKT06!L76)+SUMIF(PACKT07!$R75,\"TRUE\",PACKT07!L75)+SUMIF(PACKT08!$R75,\"TRUE\",PACKT08!L75)+SUMIF(PACKT09!$R75,\"TRUE\",PACKT09!L75)+SUMIF(PACKT10!$R75,\"TRUE\",PACKT10!L75)+SUMIF(PACKT11!$R75,\"TRUE\",PACKT11!L75)","v":0},{"$f":"SUMIF(PACKT01!$R75,\"TRUE\",PACKT01!M75)+SUMIF(PACKT02!$R75,\"TRUE\",PACKT02!M75)+SUMIF(PACKT03!$R75,\"TRUE\",PACKT03!M75)+SUMIF(PACKT04!$R75,\"TRUE\",PACKT04!M75)+SUMIF(PACKT05!$R75,\"TRUE\",PACKT05!M75)+SUMIF(PACKT06!$R76,\"TRUE\",PACKT06!M76)+SUMIF(PACKT07!$R75,\"TRUE\",PACKT07!M75)+SUMIF(PACKT08!$R75,\"TRUE\",PACKT08!M75)+SUMIF(PACKT09!$R75,\"TRUE\",PACKT09!M75)+SUMIF(PACKT10!$R75,\"TRUE\",PACKT10!M75)+SUMIF(PACKT11!$R75,\"TRUE\",PACKT11!M75)","v":0},{"$f":"SUMIF(PACKT01!$R75,\"TRUE\",PACKT01!N75)+SUMIF(PACKT02!$R75,\"TRUE\",PACKT02!N75)+SUMIF(PACKT03!$R75,\"TRUE\",PACKT03!N75)+SUMIF(PACKT04!$R75,\"TRUE\",PACKT04!N75)+SUMIF(PACKT05!$R75,\"TRUE\",PACKT05!N75)+SUMIF(PACKT06!$R76,\"TRUE\",PACKT06!N76)+SUMIF(PACKT07!$R75,\"TRUE\",PACKT07!N75)+SUMIF(PACKT08!$R75,\"TRUE\",PACKT08!N75)+SUMIF(PACKT09!$R75,\"TRUE\",PACKT09!N75)+SUMIF(PACKT10!$R75,\"TRUE\",PACKT10!N75)+SUMIF(PACKT11!$R75,\"TRUE\",PACKT11!N75)","v":0},{"$f":"SUMIF(PACKT01!$R75,\"TRUE\",PACKT01!O75)+SUMIF(PACKT02!$R75,\"TRUE\",PACKT02!O75)+SUMIF(PACKT03!$R75,\"TRUE\",PACKT03!O75)+SUMIF(PACKT04!$R75,\"TRUE\",PACKT04!O75)+SUMIF(PACKT05!$R75,\"TRUE\",PACKT05!O75)+SUMIF(PACKT06!$R76,\"TRUE\",PACKT06!O76)+SUMIF(PACKT07!$R75,\"TRUE\",PACKT07!O75)+SUMIF(PACKT08!$R75,\"TRUE\",PACKT08!O75)+SUMIF(PACKT09!$R75,\"TRUE\",PACKT09!O75)+SUMIF(PACKT10!$R75,\"TRUE\",PACKT10!O75)+SUMIF(PACKT11!$R75,\"TRUE\",PACKT11!O75)","v":0},{"$f":"SUMIF(PACKT01!$R75,\"TRUE\",PACKT01!P75)+SUMIF(PACKT02!$R75,\"TRUE\",PACKT02!P75)+SUMIF(PACKT03!$R75,\"TRUE\",PACKT03!P75)+SUMIF(PACKT04!$R75,\"TRUE\",PACKT04!P75)+SUMIF(PACKT05!$R75,\"TRUE\",PACKT05!P75)+SUMIF(PACKT06!$R76,\"TRUE\",PACKT06!P76)+SUMIF(PACKT07!$R75,\"TRUE\",PACKT07!P75)+SUMIF(PACKT08!$R75,\"TRUE\",PACKT08!P75)+SUMIF(PACKT09!$R75,\"TRUE\",PACKT09!P75)+SUMIF(PACKT10!$R75,\"TRUE\",PACKT10!P75)+SUMIF(PACKT11!$R75,\"TRUE\",PACKT11!P75)","v":0},{"$f":"SUMIF(PACKT01!$R75,\"TRUE\",PACKT01!Q75)+SUMIF(PACKT02!$R75,\"TRUE\",PACKT02!Q75)+SUMIF(PACKT03!$R75,\"TRUE\",PACKT03!Q75)+SUMIF(PACKT04!$R75,\"TRUE\",PACKT04!Q75)+SUMIF(PACKT05!$R75,\"TRUE\",PACKT05!Q75)+SUMIF(PACKT06!$R76,\"TRUE\",PACKT06!Q76)+SUMIF(PACKT07!$R75,\"TRUE\",PACKT07!Q75)+SUMIF(PACKT08!$R75,\"TRUE\",PACKT08!Q75)+SUMIF(PACKT09!$R75,\"TRUE\",PACKT09!Q75)+SUMIF(PACKT10!$R75,\"TRUE\",PACKT10!Q75)+SUMIF(PACKT11!$R75,\"TRUE\",PACKT11!Q75)","v":0},0]
[null,"EMP0065",{"$f":"VLOOKUP(HRSummarylTable[[#This Row],[EmployeeID]],EmployeeListLookupTable[],2,FALSE)","v":"EMPN065"},{"$f":"VLOOKUP(HRSummarylTable[[#This Row],[EmployeeID]],EmployeeListLookupTable[],3,FALSE)","v":"Employee Name 65"},{"$f":"VLOOKUP(HRSummarylTable[[#This Row],[EmployeeID]],EmployeeListLookupTable[],4,FALSE)","v":"Employee Job Title 65"},"TCTC001 - Total Cost to Company",{"$f":"LEFT(HRSummarylTable[[#This Row],[PackageItemCode]],7)","v":"TCTC001"},{"$f":"VLOOKUP(HRSummarylTable[[#This Row],[PackageItem]],PackageItemListLookup[],2,FALSE)","v":"Total Cost to Company"},null,{"$f":"SUMIF(PACKT01!$R76,\"TRUE\",PACKT01!F76)+SUMIF(PACKT02!$R76,\"TRUE\",PACKT02!F76)+SUMIF(PACKT03!$R76,\"TRUE\",PACKT03!F76)+SUMIF(PACKT04!$R76,\"TRUE\",PACKT04!F76)+SUMIF(PACKT05!$R76,\"TRUE\",PACKT05!F76)+SUMIF(PACKT06!$R77,\"TRUE\",PACKT06!F77)+SUMIF(PACKT07!$R76,\"TRUE\",PACKT07!F76)+SUMIF(PACKT08!$R76,\"TRUE\",PACKT08!F76)+SUMIF(PACKT09!$R76,\"TRUE\",PACKT09!F76)+SUMIF(PACKT10!$R76,\"TRUE\",PACKT10!F76)+SUMIF(PACKT11!$R76,\"TRUE\",PACKT11!F76)","v":0},{"$f":"SUMIF(PACKT01!$R76,\"TRUE\",PACKT01!G76)+SUMIF(PACKT02!$R76,\"TRUE\",PACKT02!G76)+SUMIF(PACKT03!$R76,\"TRUE\",PACKT03!G76)+SUMIF(PACKT04!$R76,\"TRUE\",PACKT04!G76)+SUMIF(PACKT05!$R76,\"TRUE\",PACKT05!G76)+SUMIF(PACKT06!$R77,\"TRUE\",PACKT06!G77)+SUMIF(PACKT07!$R76,\"TRUE\",PACKT07!G76)+SUMIF(PACKT08!$R76,\"TRUE\",PACKT08!G76)+SUMIF(PACKT09!$R76,\"TRUE\",PACKT09!G76)+SUMIF(PACKT10!$R76,\"TRUE\",PACKT10!G76)+SUMIF(PACKT11!$R76,\"TRUE\",PACKT11!G76)","v":0},{"$f":"SUMIF(PACKT01!$R76,\"TRUE\",PACKT01!H76)+SUMIF(PACKT02!$R76,\"TRUE\",PACKT02!H76)+SUMIF(PACKT03!$R76,\"TRUE\",PACKT03!H76)+SUMIF(PACKT04!$R76,\"TRUE\",PACKT04!H76)+SUMIF(PACKT05!$R76,\"TRUE\",PACKT05!H76)+SUMIF(PACKT06!$R77,\"TRUE\",PACKT06!H77)+SUMIF(PACKT07!$R76,\"TRUE\",PACKT07!H76)+SUMIF(PACKT08!$R76,\"TRUE\",PACKT08!H76)+SUMIF(PACKT09!$R76,\"TRUE\",PACKT09!H76)+SUMIF(PACKT10!$R76,\"TRUE\",PACKT10!H76)+SUMIF(PACKT11!$R76,\"TRUE\",PACKT11!H76)","v":0},{"$f":"SUMIF(PACKT01!$R76,\"TRUE\",PACKT01!I76)+SUMIF(PACKT02!$R76,\"TRUE\",PACKT02!I76)+SUMIF(PACKT03!$R76,\"TRUE\",PACKT03!I76)+SUMIF(PACKT04!$R76,\"TRUE\",PACKT04!I76)+SUMIF(PACKT05!$R76,\"TRUE\",PACKT05!I76)+SUMIF(PACKT06!$R77,\"TRUE\",PACKT06!I77)+SUMIF(PACKT07!$R76,\"TRUE\",PACKT07!I76)+SUMIF(PACKT08!$R76,\"TRUE\",PACKT08!I76)+SUMIF(PACKT09!$R76,\"TRUE\",PACKT09!I76)+SUMIF(PACKT10!$R76,\"TRUE\",PACKT10!I76)+SUMIF(PACKT11!$R76,\"TRUE\",PACKT11!I76)","v":0},{"$f":"SUMIF(PACKT01!$R76,\"TRUE\",PACKT01!J76)+SUMIF(PACKT02!$R76,\"TRUE\",PACKT02!J76)+SUMIF(PACKT03!$R76,\"TRUE\",PACKT03!J76)+SUMIF(PACKT04!$R76,\"TRUE\",PACKT04!J76)+SUMIF(PACKT05!$R76,\"TRUE\",PACKT05!J76)+SUMIF(PACKT06!$R77,\"TRUE\",PACKT06!J77)+SUMIF(PACKT07!$R76,\"TRUE\",PACKT07!J76)+SUMIF(PACKT08!$R76,\"TRUE\",PACKT08!J76)+SUMIF(PACKT09!$R76,\"TRUE\",PACKT09!J76)+SUMIF(PACKT10!$R76,\"TRUE\",PACKT10!J76)+SUMIF(PACKT11!$R76,\"TRUE\",PACKT11!J76)","v":0},{"$f":"SUMIF(PACKT01!$R76,\"TRUE\",PACKT01!K76)+SUMIF(PACKT02!$R76,\"TRUE\",PACKT02!K76)+SUMIF(PACKT03!$R76,\"TRUE\",PACKT03!K76)+SUMIF(PACKT04!$R76,\"TRUE\",PACKT04!K76)+SUMIF(PACKT05!$R76,\"TRUE\",PACKT05!K76)+SUMIF(PACKT06!$R77,\"TRUE\",PACKT06!K77)+SUMIF(PACKT07!$R76,\"TRUE\",PACKT07!K76)+SUMIF(PACKT08!$R76,\"TRUE\",PACKT08!K76)+SUMIF(PACKT09!$R76,\"TRUE\",PACKT09!K76)+SUMIF(PACKT10!$R76,\"TRUE\",PACKT10!K76)+SUMIF(PACKT11!$R76,\"TRUE\",PACKT11!K76)","v":0},{"$f":"SUMIF(PACKT01!$R76,\"TRUE\",PACKT01!L76)+SUMIF(PACKT02!$R76,\"TRUE\",PACKT02!L76)+SUMIF(PACKT03!$R76,\"TRUE\",PACKT03!L76)+SUMIF(PACKT04!$R76,\"TRUE\",PACKT04!L76)+SUMIF(PACKT05!$R76,\"TRUE\",PACKT05!L76)+SUMIF(PACKT06!$R77,\"TRUE\",PACKT06!L77)+SUMIF(PACKT07!$R76,\"TRUE\",PACKT07!L76)+SUMIF(PACKT08!$R76,\"TRUE\",PACKT08!L76)+SUMIF(PACKT09!$R76,\"TRUE\",PACKT09!L76)+SUMIF(PACKT10!$R76,\"TRUE\",PACKT10!L76)+SUMIF(PACKT11!$R76,\"TRUE\",PACKT11!L76)","v":0},{"$f":"SUMIF(PACKT01!$R76,\"TRUE\",PACKT01!M76)+SUMIF(PACKT02!$R76,\"TRUE\",PACKT02!M76)+SUMIF(PACKT03!$R76,\"TRUE\",PACKT03!M76)+SUMIF(PACKT04!$R76,\"TRUE\",PACKT04!M76)+SUMIF(PACKT05!$R76,\"TRUE\",PACKT05!M76)+SUMIF(PACKT06!$R77,\"TRUE\",PACKT06!M77)+SUMIF(PACKT07!$R76,\"TRUE\",PACKT07!M76)+SUMIF(PACKT08!$R76,\"TRUE\",PACKT08!M76)+SUMIF(PACKT09!$R76,\"TRUE\",PACKT09!M76)+SUMIF(PACKT10!$R76,\"TRUE\",PACKT10!M76)+SUMIF(PACKT11!$R76,\"TRUE\",PACKT11!M76)","v":0},{"$f":"SUMIF(PACKT01!$R76,\"TRUE\",PACKT01!N76)+SUMIF(PACKT02!$R76,\"TRUE\",PACKT02!N76)+SUMIF(PACKT03!$R76,\"TRUE\",PACKT03!N76)+SUMIF(PACKT04!$R76,\"TRUE\",PACKT04!N76)+SUMIF(PACKT05!$R76,\"TRUE\",PACKT05!N76)+SUMIF(PACKT06!$R77,\"TRUE\",PACKT06!N77)+SUMIF(PACKT07!$R76,\"TRUE\",PACKT07!N76)+SUMIF(PACKT08!$R76,\"TRUE\",PACKT08!N76)+SUMIF(PACKT09!$R76,\"TRUE\",PACKT09!N76)+SUMIF(PACKT10!$R76,\"TRUE\",PACKT10!N76)+SUMIF(PACKT11!$R76,\"TRUE\",PACKT11!N76)","v":0},{"$f":"SUMIF(PACKT01!$R76,\"TRUE\",PACKT01!O76)+SUMIF(PACKT02!$R76,\"TRUE\",PACKT02!O76)+SUMIF(PACKT03!$R76,\"TRUE\",PACKT03!O76)+SUMIF(PACKT04!$R76,\"TRUE\",PACKT04!O76)+SUMIF(PACKT05!$R76,\"TRUE\",PACKT05!O76)+SUMIF(PACKT06!$R77,\"TRUE\",PACKT06!O77)+SUMIF(PACKT07!$R76,\"TRUE\",PACKT07!O76)+SUMIF(PACKT08!$R76,\"TRUE\",PACKT08!O76)+SUMIF(PACKT09!$R76,\"TRUE\",PACKT09!O76)+SUMIF(PACKT10!$R76,\"TRUE\",PACKT10!O76)+SUMIF(PACKT11!$R76,\"TRUE\",PACKT11!O76)","v":0},{"$f":"SUMIF(PACKT01!$R76,\"TRUE\",PACKT01!P76)+SUMIF(PACKT02!$R76,\"TRUE\",PACKT02!P76)+SUMIF(PACKT03!$R76,\"TRUE\",PACKT03!P76)+SUMIF(PACKT04!$R76,\"TRUE\",PACKT04!P76)+SUMIF(PACKT05!$R76,\"TRUE\",PACKT05!P76)+SUMIF(PACKT06!$R77,\"TRUE\",PACKT06!P77)+SUMIF(PACKT07!$R76,\"TRUE\",PACKT07!P76)+SUMIF(PACKT08!$R76,\"TRUE\",PACKT08!P76)+SUMIF(PACKT09!$R76,\"TRUE\",PACKT09!P76)+SUMIF(PACKT10!$R76,\"TRUE\",PACKT10!P76)+SUMIF(PACKT11!$R76,\"TRUE\",PACKT11!P76)","v":0},{"$f":"SUMIF(PACKT01!$R76,\"TRUE\",PACKT01!Q76)+SUMIF(PACKT02!$R76,\"TRUE\",PACKT02!Q76)+SUMIF(PACKT03!$R76,\"TRUE\",PACKT03!Q76)+SUMIF(PACKT04!$R76,\"TRUE\",PACKT04!Q76)+SUMIF(PACKT05!$R76,\"TRUE\",PACKT05!Q76)+SUMIF(PACKT06!$R77,\"TRUE\",PACKT06!Q77)+SUMIF(PACKT07!$R76,\"TRUE\",PACKT07!Q76)+SUMIF(PACKT08!$R76,\"TRUE\",PACKT08!Q76)+SUMIF(PACKT09!$R76,\"TRUE\",PACKT09!Q76)+SUMIF(PACKT10!$R76,\"TRUE\",PACKT10!Q76)+SUMIF(PACKT11!$R76,\"TRUE\",PACKT11!Q76)","v":0},0]
[null,"EMP0066",{"$f":"VLOOKUP(HRSummarylTable[[#This Row],[EmployeeID]],EmployeeListLookupTable[],2,FALSE)","v":"EMPN066"},{"$f":"VLOOKUP(HRSummarylTable[[#This Row],[EmployeeID]],EmployeeListLookupTable[],3,FALSE)","v":"Employee Name 66"},{"$f":"VLOOKUP(HRSummarylTable[[#This Row],[EmployeeID]],EmployeeListLookupTable[],4,FALSE)","v":"Employee Job Title 66"},"TCTC001 - Total Cost to Company",{"$f":"LEFT(HRSummarylTable[[#This Row],[PackageItemCode]],7)","v":"TCTC001"},{"$f":"VLOOKUP(HRSummarylTable[[#This Row],[PackageItem]],PackageItemListLookup[],2,FALSE)","v":"Total Cost to Company"},null,{"$f":"SUMIF(PACKT01!$R77,\"TRUE\",PACKT01!F77)+SUMIF(PACKT02!$R77,\"TRUE\",PACKT02!F77)+SUMIF(PACKT03!$R77,\"TRUE\",PACKT03!F77)+SUMIF(PACKT04!$R77,\"TRUE\",PACKT04!F77)+SUMIF(PACKT05!$R77,\"TRUE\",PACKT05!F77)+SUMIF(PACKT06!$R78,\"TRUE\",PACKT06!F78)+SUMIF(PACKT07!$R77,\"TRUE\",PACKT07!F77)+SUMIF(PACKT08!$R77,\"TRUE\",PACKT08!F77)+SUMIF(PACKT09!$R77,\"TRUE\",PACKT09!F77)+SUMIF(PACKT10!$R77,\"TRUE\",PACKT10!F77)+SUMIF(PACKT11!$R77,\"TRUE\",PACKT11!F77)","v":0},{"$f":"SUMIF(PACKT01!$R77,\"TRUE\",PACKT01!G77)+SUMIF(PACKT02!$R77,\"TRUE\",PACKT02!G77)+SUMIF(PACKT03!$R77,\"TRUE\",PACKT03!G77)+SUMIF(PACKT04!$R77,\"TRUE\",PACKT04!G77)+SUMIF(PACKT05!$R77,\"TRUE\",PACKT05!G77)+SUMIF(PACKT06!$R78,\"TRUE\",PACKT06!G78)+SUMIF(PACKT07!$R77,\"TRUE\",PACKT07!G77)+SUMIF(PACKT08!$R77,\"TRUE\",PACKT08!G77)+SUMIF(PACKT09!$R77,\"TRUE\",PACKT09!G77)+SUMIF(PACKT10!$R77,\"TRUE\",PACKT10!G77)+SUMIF(PACKT11!$R77,\"TRUE\",PACKT11!G77)","v":0},{"$f":"SUMIF(PACKT01!$R77,\"TRUE\",PACKT01!H77)+SUMIF(PACKT02!$R77,\"TRUE\",PACKT02!H77)+SUMIF(PACKT03!$R77,\"TRUE\",PACKT03!H77)+SUMIF(PACKT04!$R77,\"TRUE\",PACKT04!H77)+SUMIF(PACKT05!$R77,\"TRUE\",PACKT05!H77)+SUMIF(PACKT06!$R78,\"TRUE\",PACKT06!H78)+SUMIF(PACKT07!$R77,\"TRUE\",PACKT07!H77)+SUMIF(PACKT08!$R77,\"TRUE\",PACKT08!H77)+SUMIF(PACKT09!$R77,\"TRUE\",PACKT09!H77)+SUMIF(PACKT10!$R77,\"TRUE\",PACKT10!H77)+SUMIF(PACKT11!$R77,\"TRUE\",PACKT11!H77)","v":0},{"$f":"SUMIF(PACKT01!$R77,\"TRUE\",PACKT01!I77)+SUMIF(PACKT02!$R77,\"TRUE\",PACKT02!I77)+SUMIF(PACKT03!$R77,\"TRUE\",PACKT03!I77)+SUMIF(PACKT04!$R77,\"TRUE\",PACKT04!I77)+SUMIF(PACKT05!$R77,\"TRUE\",PACKT05!I77)+SUMIF(PACKT06!$R78,\"TRUE\",PACKT06!I78)+SUMIF(PACKT07!$R77,\"TRUE\",PACKT07!I77)+SUMIF(PACKT08!$R77,\"TRUE\",PACKT08!I77)+SUMIF(PACKT09!$R77,\"TRUE\",PACKT09!I77)+SUMIF(PACKT10!$R77,\"TRUE\",PACKT10!I77)+SUMIF(PACKT11!$R77,\"TRUE\",PACKT11!I77)","v":0},{"$f":"SUMIF(PACKT01!$R77,\"TRUE\",PACKT01!J77)+SUMIF(PACKT02!$R77,\"TRUE\",PACKT02!J77)+SUMIF(PACKT03!$R77,\"TRUE\",PACKT03!J77)+SUMIF(PACKT04!$R77,\"TRUE\",PACKT04!J77)+SUMIF(PACKT05!$R77,\"TRUE\",PACKT05!J77)+SUMIF(PACKT06!$R78,\"TRUE\",PACKT06!J78)+SUMIF(PACKT07!$R77,\"TRUE\",PACKT07!J77)+SUMIF(PACKT08!$R77,\"TRUE\",PACKT08!J77)+SUMIF(PACKT09!$R77,\"TRUE\",PACKT09!J77)+SUMIF(PACKT10!$R77,\"TRUE\",PACKT10!J77)+SUMIF(PACKT11!$R77,\"TRUE\",PACKT11!J77)","v":0},{"$f":"SUMIF(PACKT01!$R77,\"TRUE\",PACKT01!K77)+SUMIF(PACKT02!$R77,\"TRUE\",PACKT02!K77)+SUMIF(PACKT03!$R77,\"TRUE\",PACKT03!K77)+SUMIF(PACKT04!$R77,\"TRUE\",PACKT04!K77)+SUMIF(PACKT05!$R77,\"TRUE\",PACKT05!K77)+SUMIF(PACKT06!$R78,\"TRUE\",PACKT06!K78)+SUMIF(PACKT07!$R77,\"TRUE\",PACKT07!K77)+SUMIF(PACKT08!$R77,\"TRUE\",PACKT08!K77)+SUMIF(PACKT09!$R77,\"TRUE\",PACKT09!K77)+SUMIF(PACKT10!$R77,\"TRUE\",PACKT10!K77)+SUMIF(PACKT11!$R77,\"TRUE\",PACKT11!K77)","v":0},{"$f":"SUMIF(PACKT01!$R77,\"TRUE\",PACKT01!L77)+SUMIF(PACKT02!$R77,\"TRUE\",PACKT02!L77)+SUMIF(PACKT03!$R77,\"TRUE\",PACKT03!L77)+SUMIF(PACKT04!$R77,\"TRUE\",PACKT04!L77)+SUMIF(PACKT05!$R77,\"TRUE\",PACKT05!L77)+SUMIF(PACKT06!$R78,\"TRUE\",PACKT06!L78)+SUMIF(PACKT07!$R77,\"TRUE\",PACKT07!L77)+SUMIF(PACKT08!$R77,\"TRUE\",PACKT08!L77)+SUMIF(PACKT09!$R77,\"TRUE\",PACKT09!L77)+SUMIF(PACKT10!$R77,\"TRUE\",PACKT10!L77)+SUMIF(PACKT11!$R77,\"TRUE\",PACKT11!L77)","v":0},{"$f":"SUMIF(PACKT01!$R77,\"TRUE\",PACKT01!M77)+SUMIF(PACKT02!$R77,\"TRUE\",PACKT02!M77)+SUMIF(PACKT03!$R77,\"TRUE\",PACKT03!M77)+SUMIF(PACKT04!$R77,\"TRUE\",PACKT04!M77)+SUMIF(PACKT05!$R77,\"TRUE\",PACKT05!M77)+SUMIF(PACKT06!$R78,\"TRUE\",PACKT06!M78)+SUMIF(PACKT07!$R77,\"TRUE\",PACKT07!M77)+SUMIF(PACKT08!$R77,\"TRUE\",PACKT08!M77)+SUMIF(PACKT09!$R77,\"TRUE\",PACKT09!M77)+SUMIF(PACKT10!$R77,\"TRUE\",PACKT10!M77)+SUMIF(PACKT11!$R77,\"TRUE\",PACKT11!M77)","v":0},{"$f":"SUMIF(PACKT01!$R77,\"TRUE\",PACKT01!N77)+SUMIF(PACKT02!$R77,\"TRUE\",PACKT02!N77)+SUMIF(PACKT03!$R77,\"TRUE\",PACKT03!N77)+SUMIF(PACKT04!$R77,\"TRUE\",PACKT04!N77)+SUMIF(PACKT05!$R77,\"TRUE\",PACKT05!N77)+SUMIF(PACKT06!$R78,\"TRUE\",PACKT06!N78)+SUMIF(PACKT07!$R77,\"TRUE\",PACKT07!N77)+SUMIF(PACKT08!$R77,\"TRUE\",PACKT08!N77)+SUMIF(PACKT09!$R77,\"TRUE\",PACKT09!N77)+SUMIF(PACKT10!$R77,\"TRUE\",PACKT10!N77)+SUMIF(PACKT11!$R77,\"TRUE\",PACKT11!N77)","v":0},{"$f":"SUMIF(PACKT01!$R77,\"TRUE\",PACKT01!O77)+SUMIF(PACKT02!$R77,\"TRUE\",PACKT02!O77)+SUMIF(PACKT03!$R77,\"TRUE\",PACKT03!O77)+SUMIF(PACKT04!$R77,\"TRUE\",PACKT04!O77)+SUMIF(PACKT05!$R77,\"TRUE\",PACKT05!O77)+SUMIF(PACKT06!$R78,\"TRUE\",PACKT06!O78)+SUMIF(PACKT07!$R77,\"TRUE\",PACKT07!O77)+SUMIF(PACKT08!$R77,\"TRUE\",PACKT08!O77)+SUMIF(PACKT09!$R77,\"TRUE\",PACKT09!O77)+SUMIF(PACKT10!$R77,\"TRUE\",PACKT10!O77)+SUMIF(PACKT11!$R77,\"TRUE\",PACKT11!O77)","v":0},{"$f":"SUMIF(PACKT01!$R77,\"TRUE\",PACKT01!P77)+SUMIF(PACKT02!$R77,\"TRUE\",PACKT02!P77)+SUMIF(PACKT03!$R77,\"TRUE\",PACKT03!P77)+SUMIF(PACKT04!$R77,\"TRUE\",PACKT04!P77)+SUMIF(PACKT05!$R77,\"TRUE\",PACKT05!P77)+SUMIF(PACKT06!$R78,\"TRUE\",PACKT06!P78)+SUMIF(PACKT07!$R77,\"TRUE\",PACKT07!P77)+SUMIF(PACKT08!$R77,\"TRUE\",PACKT08!P77)+SUMIF(PACKT09!$R77,\"TRUE\",PACKT09!P77)+SUMIF(PACKT10!$R77,\"TRUE\",PACKT10!P77)+SUMIF(PACKT11!$R77,\"TRUE\",PACKT11!P77)","v":0},{"$f":"SUMIF(PACKT01!$R77,\"TRUE\",PACKT01!Q77)+SUMIF(PACKT02!$R77,\"TRUE\",PACKT02!Q77)+SUMIF(PACKT03!$R77,\"TRUE\",PACKT03!Q77)+SUMIF(PACKT04!$R77,\"TRUE\",PACKT04!Q77)+SUMIF(PACKT05!$R77,\"TRUE\",PACKT05!Q77)+SUMIF(PACKT06!$R78,\"TRUE\",PACKT06!Q78)+SUMIF(PACKT07!$R77,\"TRUE\",PACKT07!Q77)+SUMIF(PACKT08!$R77,\"TRUE\",PACKT08!Q77)+SUMIF(PACKT09!$R77,\"TRUE\",PACKT09!Q77)+SUMIF(PACKT10!$R77,\"TRUE\",PACKT10!Q77)+SUMIF(PACKT11!$R77,\"TRUE\",PACKT11!Q77)","v":0},0]
[null,"EMP0067",{"$f":"VLOOKUP(HRSummarylTable[[#This Row],[EmployeeID]],EmployeeListLookupTable[],2,FALSE)","v":"EMPN067"},{"$f":"VLOOKUP(HRSummarylTable[[#This Row],[EmployeeID]],EmployeeListLookupTable[],3,FALSE)","v":"Employee Name 67"},{"$f":"VLOOKUP(HRSummarylTable[[#This Row],[EmployeeID]],EmployeeListLookupTable[],4,FALSE)","v":"Employee Job Title 67"},"TCTC001 - Total Cost to Company",{"$f":"LEFT(HRSummarylTable[[#This Row],[PackageItemCode]],7)","v":"TCTC001"},{"$f":"VLOOKUP(HRSummarylTable[[#This Row],[PackageItem]],PackageItemListLookup[],2,FALSE)","v":"Total Cost to Company"},null,{"$f":"SUMIF(PACKT01!$R78,\"TRUE\",PACKT01!F78)+SUMIF(PACKT02!$R78,\"TRUE\",PACKT02!F78)+SUMIF(PACKT03!$R78,\"TRUE\",PACKT03!F78)+SUMIF(PACKT04!$R78,\"TRUE\",PACKT04!F78)+SUMIF(PACKT05!$R78,\"TRUE\",PACKT05!F78)+SUMIF(PACKT06!$R79,\"TRUE\",PACKT06!F79)+SUMIF(PACKT07!$R78,\"TRUE\",PACKT07!F78)+SUMIF(PACKT08!$R78,\"TRUE\",PACKT08!F78)+SUMIF(PACKT09!$R78,\"TRUE\",PACKT09!F78)+SUMIF(PACKT10!$R78,\"TRUE\",PACKT10!F78)+SUMIF(PACKT11!$R78,\"TRUE\",PACKT11!F78)","v":0},{"$f":"SUMIF(PACKT01!$R78,\"TRUE\",PACKT01!G78)+SUMIF(PACKT02!$R78,\"TRUE\",PACKT02!G78)+SUMIF(PACKT03!$R78,\"TRUE\",PACKT03!G78)+SUMIF(PACKT04!$R78,\"TRUE\",PACKT04!G78)+SUMIF(PACKT05!$R78,\"TRUE\",PACKT05!G78)+SUMIF(PACKT06!$R79,\"TRUE\",PACKT06!G79)+SUMIF(PACKT07!$R78,\"TRUE\",PACKT07!G78)+SUMIF(PACKT08!$R78,\"TRUE\",PACKT08!G78)+SUMIF(PACKT09!$R78,\"TRUE\",PACKT09!G78)+SUMIF(PACKT10!$R78,\"TRUE\",PACKT10!G78)+SUMIF(PACKT11!$R78,\"TRUE\",PACKT11!G78)","v":0},{"$f":"SUMIF(PACKT01!$R78,\"TRUE\",PACKT01!H78)+SUMIF(PACKT02!$R78,\"TRUE\",PACKT02!H78)+SUMIF(PACKT03!$R78,\"TRUE\",PACKT03!H78)+SUMIF(PACKT04!$R78,\"TRUE\",PACKT04!H78)+SUMIF(PACKT05!$R78,\"TRUE\",PACKT05!H78)+SUMIF(PACKT06!$R79,\"TRUE\",PACKT06!H79)+SUMIF(PACKT07!$R78,\"TRUE\",PACKT07!H78)+SUMIF(PACKT08!$R78,\"TRUE\",PACKT08!H78)+SUMIF(PACKT09!$R78,\"TRUE\",PACKT09!H78)+SUMIF(PACKT10!$R78,\"TRUE\",PACKT10!H78)+SUMIF(PACKT11!$R78,\"TRUE\",PACKT11!H78)","v":0},{"$f":"SUMIF(PACKT01!$R78,\"TRUE\",PACKT01!I78)+SUMIF(PACKT02!$R78,\"TRUE\",PACKT02!I78)+SUMIF(PACKT03!$R78,\"TRUE\",PACKT03!I78)+SUMIF(PACKT04!$R78,\"TRUE\",PACKT04!I78)+SUMIF(PACKT05!$R78,\"TRUE\",PACKT05!I78)+SUMIF(PACKT06!$R79,\"TRUE\",PACKT06!I79)+SUMIF(PACKT07!$R78,\"TRUE\",PACKT07!I78)+SUMIF(PACKT08!$R78,\"TRUE\",PACKT08!I78)+SUMIF(PACKT09!$R78,\"TRUE\",PACKT09!I78)+SUMIF(PACKT10!$R78,\"TRUE\",PACKT10!I78)+SUMIF(PACKT11!$R78,\"TRUE\",PACKT11!I78)","v":0},{"$f":"SUMIF(PACKT01!$R78,\"TRUE\",PACKT01!J78)+SUMIF(PACKT02!$R78,\"TRUE\",PACKT02!J78)+SUMIF(PACKT03!$R78,\"TRUE\",PACKT03!J78)+SUMIF(PACKT04!$R78,\"TRUE\",PACKT04!J78)+SUMIF(PACKT05!$R78,\"TRUE\",PACKT05!J78)+SUMIF(PACKT06!$R79,\"TRUE\",PACKT06!J79)+SUMIF(PACKT07!$R78,\"TRUE\",PACKT07!J78)+SUMIF(PACKT08!$R78,\"TRUE\",PACKT08!J78)+SUMIF(PACKT09!$R78,\"TRUE\",PACKT09!J78)+SUMIF(PACKT10!$R78,\"TRUE\",PACKT10!J78)+SUMIF(PACKT11!$R78,\"TRUE\",PACKT11!J78)","v":0},{"$f":"SUMIF(PACKT01!$R78,\"TRUE\",PACKT01!K78)+SUMIF(PACKT02!$R78,\"TRUE\",PACKT02!K78)+SUMIF(PACKT03!$R78,\"TRUE\",PACKT03!K78)+SUMIF(PACKT04!$R78,\"TRUE\",PACKT04!K78)+SUMIF(PACKT05!$R78,\"TRUE\",PACKT05!K78)+SUMIF(PACKT06!$R79,\"TRUE\",PACKT06!K79)+SUMIF(PACKT07!$R78,\"TRUE\",PACKT07!K78)+SUMIF(PACKT08!$R78,\"TRUE\",PACKT08!K78)+SUMIF(PACKT09!$R78,\"TRUE\",PACKT09!K78)+SUMIF(PACKT10!$R78,\"TRUE\",PACKT10!K78)+SUMIF(PACKT11!$R78,\"TRUE\",PACKT11!K78)","v":0},{"$f":"SUMIF(PACKT01!$R78,\"TRUE\",PACKT01!L78)+SUMIF(PACKT02!$R78,\"TRUE\",PACKT02!L78)+SUMIF(PACKT03!$R78,\"TRUE\",PACKT03!L78)+SUMIF(PACKT04!$R78,\"TRUE\",PACKT04!L78)+SUMIF(PACKT05!$R78,\"TRUE\",PACKT05!L78)+SUMIF(PACKT06!$R79,\"TRUE\",PACKT06!L79)+SUMIF(PACKT07!$R78,\"TRUE\",PACKT07!L78)+SUMIF(PACKT08!$R78,\"TRUE\",PACKT08!L78)+SUMIF(PACKT09!$R78,\"TRUE\",PACKT09!L78)+SUMIF(PACKT10!$R78,\"TRUE\",PACKT10!L78)+SUMIF(PACKT11!$R78,\"TRUE\",PACKT11!L78)","v":0},{"$f":"SUMIF(PACKT01!$R78,\"TRUE\",PACKT01!M78)+SUMIF(PACKT02!$R78,\"TRUE\",PACKT02!M78)+SUMIF(PACKT03!$R78,\"TRUE\",PACKT03!M78)+SUMIF(PACKT04!$R78,\"TRUE\",PACKT04!M78)+SUMIF(PACKT05!$R78,\"TRUE\",PACKT05!M78)+SUMIF(PACKT06!$R79,\"TRUE\",PACKT06!M79)+SUMIF(PACKT07!$R78,\"TRUE\",PACKT07!M78)+SUMIF(PACKT08!$R78,\"TRUE\",PACKT08!M78)+SUMIF(PACKT09!$R78,\"TRUE\",PACKT09!M78)+SUMIF(PACKT10!$R78,\"TRUE\",PACKT10!M78)+SUMIF(PACKT11!$R78,\"TRUE\",PACKT11!M78)","v":0},{"$f":"SUMIF(PACKT01!$R78,\"TRUE\",PACKT01!N78)+SUMIF(PACKT02!$R78,\"TRUE\",PACKT02!N78)+SUMIF(PACKT03!$R78,\"TRUE\",PACKT03!N78)+SUMIF(PACKT04!$R78,\"TRUE\",PACKT04!N78)+SUMIF(PACKT05!$R78,\"TRUE\",PACKT05!N78)+SUMIF(PACKT06!$R79,\"TRUE\",PACKT06!N79)+SUMIF(PACKT07!$R78,\"TRUE\",PACKT07!N78)+SUMIF(PACKT08!$R78,\"TRUE\",PACKT08!N78)+SUMIF(PACKT09!$R78,\"TRUE\",PACKT09!N78)+SUMIF(PACKT10!$R78,\"TRUE\",PACKT10!N78)+SUMIF(PACKT11!$R78,\"TRUE\",PACKT11!N78)","v":0},{"$f":"SUMIF(PACKT01!$R78,\"TRUE\",PACKT01!O78)+SUMIF(PACKT02!$R78,\"TRUE\",PACKT02!O78)+SUMIF(PACKT03!$R78,\"TRUE\",PACKT03!O78)+SUMIF(PACKT04!$R78,\"TRUE\",PACKT04!O78)+SUMIF(PACKT05!$R78,\"TRUE\",PACKT05!O78)+SUMIF(PACKT06!$R79,\"TRUE\",PACKT06!O79)+SUMIF(PACKT07!$R78,\"TRUE\",PACKT07!O78)+SUMIF(PACKT08!$R78,\"TRUE\",PACKT08!O78)+SUMIF(PACKT09!$R78,\"TRUE\",PACKT09!O78)+SUMIF(PACKT10!$R78,\"TRUE\",PACKT10!O78)+SUMIF(PACKT11!$R78,\"TRUE\",PACKT11!O78)","v":0},{"$f":"SUMIF(PACKT01!$R78,\"TRUE\",PACKT01!P78)+SUMIF(PACKT02!$R78,\"TRUE\",PACKT02!P78)+SUMIF(PACKT03!$R78,\"TRUE\",PACKT03!P78)+SUMIF(PACKT04!$R78,\"TRUE\",PACKT04!P78)+SUMIF(PACKT05!$R78,\"TRUE\",PACKT05!P78)+SUMIF(PACKT06!$R79,\"TRUE\",PACKT06!P79)+SUMIF(PACKT07!$R78,\"TRUE\",PACKT07!P78)+SUMIF(PACKT08!$R78,\"TRUE\",PACKT08!P78)+SUMIF(PACKT09!$R78,\"TRUE\",PACKT09!P78)+SUMIF(PACKT10!$R78,\"TRUE\",PACKT10!P78)+SUMIF(PACKT11!$R78,\"TRUE\",PACKT11!P78)","v":0},{"$f":"SUMIF(PACKT01!$R78,\"TRUE\",PACKT01!Q78)+SUMIF(PACKT02!$R78,\"TRUE\",PACKT02!Q78)+SUMIF(PACKT03!$R78,\"TRUE\",PACKT03!Q78)+SUMIF(PACKT04!$R78,\"TRUE\",PACKT04!Q78)+SUMIF(PACKT05!$R78,\"TRUE\",PACKT05!Q78)+SUMIF(PACKT06!$R79,\"TRUE\",PACKT06!Q79)+SUMIF(PACKT07!$R78,\"TRUE\",PACKT07!Q78)+SUMIF(PACKT08!$R78,\"TRUE\",PACKT08!Q78)+SUMIF(PACKT09!$R78,\"TRUE\",PACKT09!Q78)+SUMIF(PACKT10!$R78,\"TRUE\",PACKT10!Q78)+SUMIF(PACKT11!$R78,\"TRUE\",PACKT11!Q78)","v":0},0]
[null,"EMP0068",{"$f":"VLOOKUP(HRSummarylTable[[#This Row],[EmployeeID]],EmployeeListLookupTable[],2,FALSE)","v":"EMPN068"},{"$f":"VLOOKUP(HRSummarylTable[[#This Row],[EmployeeID]],EmployeeListLookupTable[],3,FALSE)","v":"Employee Name 68"},{"$f":"VLOOKUP(HRSummarylTable[[#This Row],[EmployeeID]],EmployeeListLookupTable[],4,FALSE)","v":"Employee Job Title 68"},"TCTC001 - Total Cost to Company",{"$f":"LEFT(HRSummarylTable[[#This Row],[PackageItemCode]],7)","v":"TCTC001"},{"$f":"VLOOKUP(HRSummarylTable[[#This Row],[PackageItem]],PackageItemListLookup[],2,FALSE)","v":"Total Cost to Company"},null,{"$f":"SUMIF(PACKT01!$R79,\"TRUE\",PACKT01!F79)+SUMIF(PACKT02!$R79,\"TRUE\",PACKT02!F79)+SUMIF(PACKT03!$R79,\"TRUE\",PACKT03!F79)+SUMIF(PACKT04!$R79,\"TRUE\",PACKT04!F79)+SUMIF(PACKT05!$R79,\"TRUE\",PACKT05!F79)+SUMIF(PACKT06!$R80,\"TRUE\",PACKT06!F80)+SUMIF(PACKT07!$R79,\"TRUE\",PACKT07!F79)+SUMIF(PACKT08!$R79,\"TRUE\",PACKT08!F79)+SUMIF(PACKT09!$R79,\"TRUE\",PACKT09!F79)+SUMIF(PACKT10!$R79,\"TRUE\",PACKT10!F79)+SUMIF(PACKT11!$R79,\"TRUE\",PACKT11!F79)","v":0},{"$f":"SUMIF(PACKT01!$R79,\"TRUE\",PACKT01!G79)+SUMIF(PACKT02!$R79,\"TRUE\",PACKT02!G79)+SUMIF(PACKT03!$R79,\"TRUE\",PACKT03!G79)+SUMIF(PACKT04!$R79,\"TRUE\",PACKT04!G79)+SUMIF(PACKT05!$R79,\"TRUE\",PACKT05!G79)+SUMIF(PACKT06!$R80,\"TRUE\",PACKT06!G80)+SUMIF(PACKT07!$R79,\"TRUE\",PACKT07!G79)+SUMIF(PACKT08!$R79,\"TRUE\",PACKT08!G79)+SUMIF(PACKT09!$R79,\"TRUE\",PACKT09!G79)+SUMIF(PACKT10!$R79,\"TRUE\",PACKT10!G79)+SUMIF(PACKT11!$R79,\"TRUE\",PACKT11!G79)","v":0},{"$f":"SUMIF(PACKT01!$R79,\"TRUE\",PACKT01!H79)+SUMIF(PACKT02!$R79,\"TRUE\",PACKT02!H79)+SUMIF(PACKT03!$R79,\"TRUE\",PACKT03!H79)+SUMIF(PACKT04!$R79,\"TRUE\",PACKT04!H79)+SUMIF(PACKT05!$R79,\"TRUE\",PACKT05!H79)+SUMIF(PACKT06!$R80,\"TRUE\",PACKT06!H80)+SUMIF(PACKT07!$R79,\"TRUE\",PACKT07!H79)+SUMIF(PACKT08!$R79,\"TRUE\",PACKT08!H79)+SUMIF(PACKT09!$R79,\"TRUE\",PACKT09!H79)+SUMIF(PACKT10!$R79,\"TRUE\",PACKT10!H79)+SUMIF(PACKT11!$R79,\"TRUE\",PACKT11!H79)","v":0},{"$f":"SUMIF(PACKT01!$R79,\"TRUE\",PACKT01!I79)+SUMIF(PACKT02!$R79,\"TRUE\",PACKT02!I79)+SUMIF(PACKT03!$R79,\"TRUE\",PACKT03!I79)+SUMIF(PACKT04!$R79,\"TRUE\",PACKT04!I79)+SUMIF(PACKT05!$R79,\"TRUE\",PACKT05!I79)+SUMIF(PACKT06!$R80,\"TRUE\",PACKT06!I80)+SUMIF(PACKT07!$R79,\"TRUE\",PACKT07!I79)+SUMIF(PACKT08!$R79,\"TRUE\",PACKT08!I79)+SUMIF(PACKT09!$R79,\"TRUE\",PACKT09!I79)+SUMIF(PACKT10!$R79,\"TRUE\",PACKT10!I79)+SUMIF(PACKT11!$R79,\"TRUE\",PACKT11!I79)","v":0},{"$f":"SUMIF(PACKT01!$R79,\"TRUE\",PACKT01!J79)+SUMIF(PACKT02!$R79,\"TRUE\",PACKT02!J79)+SUMIF(PACKT03!$R79,\"TRUE\",PACKT03!J79)+SUMIF(PACKT04!$R79,\"TRUE\",PACKT04!J79)+SUMIF(PACKT05!$R79,\"TRUE\",PACKT05!J79)+SUMIF(PACKT06!$R80,\"TRUE\",PACKT06!J80)+SUMIF(PACKT07!$R79,\"TRUE\",PACKT07!J79)+SUMIF(PACKT08!$R79,\"TRUE\",PACKT08!J79)+SUMIF(PACKT09!$R79,\"TRUE\",PACKT09!J79)+SUMIF(PACKT10!$R79,\"TRUE\",PACKT10!J79)+SUMIF(PACKT11!$R79,\"TRUE\",PACKT11!J79)","v":0},{"$f":"SUMIF(PACKT01!$R79,\"TRUE\",PACKT01!K79)+SUMIF(PACKT02!$R79,\"TRUE\",PACKT02!K79)+SUMIF(PACKT03!$R79,\"TRUE\",PACKT03!K79)+SUMIF(PACKT04!$R79,\"TRUE\",PACKT04!K79)+SUMIF(PACKT05!$R79,\"TRUE\",PACKT05!K79)+SUMIF(PACKT06!$R80,\"TRUE\",PACKT06!K80)+SUMIF(PACKT07!$R79,\"TRUE\",PACKT07!K79)+SUMIF(PACKT08!$R79,\"TRUE\",PACKT08!K79)+SUMIF(PACKT09!$R79,\"TRUE\",PACKT09!K79)+SUMIF(PACKT10!$R79,\"TRUE\",PACKT10!K79)+SUMIF(PACKT11!$R79,\"TRUE\",PACKT11!K79)","v":0},{"$f":"SUMIF(PACKT01!$R79,\"TRUE\",PACKT01!L79)+SUMIF(PACKT02!$R79,\"TRUE\",PACKT02!L79)+SUMIF(PACKT03!$R79,\"TRUE\",PACKT03!L79)+SUMIF(PACKT04!$R79,\"TRUE\",PACKT04!L79)+SUMIF(PACKT05!$R79,\"TRUE\",PACKT05!L79)+SUMIF(PACKT06!$R80,\"TRUE\",PACKT06!L80)+SUMIF(PACKT07!$R79,\"TRUE\",PACKT07!L79)+SUMIF(PACKT08!$R79,\"TRUE\",PACKT08!L79)+SUMIF(PACKT09!$R79,\"TRUE\",PACKT09!L79)+SUMIF(PACKT10!$R79,\"TRUE\",PACKT10!L79)+SUMIF(PACKT11!$R79,\"TRUE\",PACKT11!L79)","v":0},{"$f":"SUMIF(PACKT01!$R79,\"TRUE\",PACKT01!M79)+SUMIF(PACKT02!$R79,\"TRUE\",PACKT02!M79)+SUMIF(PACKT03!$R79,\"TRUE\",PACKT03!M79)+SUMIF(PACKT04!$R79,\"TRUE\",PACKT04!M79)+SUMIF(PACKT05!$R79,\"TRUE\",PACKT05!M79)+SUMIF(PACKT06!$R80,\"TRUE\",PACKT06!M80)+SUMIF(PACKT07!$R79,\"TRUE\",PACKT07!M79)+SUMIF(PACKT08!$R79,\"TRUE\",PACKT08!M79)+SUMIF(PACKT09!$R79,\"TRUE\",PACKT09!M79)+SUMIF(PACKT10!$R79,\"TRUE\",PACKT10!M79)+SUMIF(PACKT11!$R79,\"TRUE\",PACKT11!M79)","v":0},{"$f":"SUMIF(PACKT01!$R79,\"TRUE\",PACKT01!N79)+SUMIF(PACKT02!$R79,\"TRUE\",PACKT02!N79)+SUMIF(PACKT03!$R79,\"TRUE\",PACKT03!N79)+SUMIF(PACKT04!$R79,\"TRUE\",PACKT04!N79)+SUMIF(PACKT05!$R79,\"TRUE\",PACKT05!N79)+SUMIF(PACKT06!$R80,\"TRUE\",PACKT06!N80)+SUMIF(PACKT07!$R79,\"TRUE\",PACKT07!N79)+SUMIF(PACKT08!$R79,\"TRUE\",PACKT08!N79)+SUMIF(PACKT09!$R79,\"TRUE\",PACKT09!N79)+SUMIF(PACKT10!$R79,\"TRUE\",PACKT10!N79)+SUMIF(PACKT11!$R79,\"TRUE\",PACKT11!N79)","v":0},{"$f":"SUMIF(PACKT01!$R79,\"TRUE\",PACKT01!O79)+SUMIF(PACKT02!$R79,\"TRUE\",PACKT02!O79)+SUMIF(PACKT03!$R79,\"TRUE\",PACKT03!O79)+SUMIF(PACKT04!$R79,\"TRUE\",PACKT04!O79)+SUMIF(PACKT05!$R79,\"TRUE\",PACKT05!O79)+SUMIF(PACKT06!$R80,\"TRUE\",PACKT06!O80)+SUMIF(PACKT07!$R79,\"TRUE\",PACKT07!O79)+SUMIF(PACKT08!$R79,\"TRUE\",PACKT08!O79)+SUMIF(PACKT09!$R79,\"TRUE\",PACKT09!O79)+SUMIF(PACKT10!$R79,\"TRUE\",PACKT10!O79)+SUMIF(PACKT11!$R79,\"TRUE\",PACKT11!O79)","v":0},{"$f":"SUMIF(PACKT01!$R79,\"TRUE\",PACKT01!P79)+SUMIF(PACKT02!$R79,\"TRUE\",PACKT02!P79)+SUMIF(PACKT03!$R79,\"TRUE\",PACKT03!P79)+SUMIF(PACKT04!$R79,\"TRUE\",PACKT04!P79)+SUMIF(PACKT05!$R79,\"TRUE\",PACKT05!P79)+SUMIF(PACKT06!$R80,\"TRUE\",PACKT06!P80)+SUMIF(PACKT07!$R79,\"TRUE\",PACKT07!P79)+SUMIF(PACKT08!$R79,\"TRUE\",PACKT08!P79)+SUMIF(PACKT09!$R79,\"TRUE\",PACKT09!P79)+SUMIF(PACKT10!$R79,\"TRUE\",PACKT10!P79)+SUMIF(PACKT11!$R79,\"TRUE\",PACKT11!P79)","v":0},{"$f":"SUMIF(PACKT01!$R79,\"TRUE\",PACKT01!Q79)+SUMIF(PACKT02!$R79,\"TRUE\",PACKT02!Q79)+SUMIF(PACKT03!$R79,\"TRUE\",PACKT03!Q79)+SUMIF(PACKT04!$R79,\"TRUE\",PACKT04!Q79)+SUMIF(PACKT05!$R79,\"TRUE\",PACKT05!Q79)+SUMIF(PACKT06!$R80,\"TRUE\",PACKT06!Q80)+SUMIF(PACKT07!$R79,\"TRUE\",PACKT07!Q79)+SUMIF(PACKT08!$R79,\"TRUE\",PACKT08!Q79)+SUMIF(PACKT09!$R79,\"TRUE\",PACKT09!Q79)+SUMIF(PACKT10!$R79,\"TRUE\",PACKT10!Q79)+SUMIF(PACKT11!$R79,\"TRUE\",PACKT11!Q79)","v":0},0]
[null,"EMP0069",{"$f":"VLOOKUP(HRSummarylTable[[#This Row],[EmployeeID]],EmployeeListLookupTable[],2,FALSE)","v":"EMPN069"},{"$f":"VLOOKUP(HRSummarylTable[[#This Row],[EmployeeID]],EmployeeListLookupTable[],3,FALSE)","v":"Employee Name 69"},{"$f":"VLOOKUP(HRSummarylTable[[#This Row],[EmployeeID]],EmployeeListLookupTable[],4,FALSE)","v":"Employee Job Title 69"},"TCTC001 - Total Cost to Company",{"$f":"LEFT(HRSummarylTable[[#This Row],[PackageItemCode]],7)","v":"TCTC001"},{"$f":"VLOOKUP(HRSummarylTable[[#This Row],[PackageItem]],PackageItemListLookup[],2,FALSE)","v":"Total Cost to Company"},null,{"$f":"SUMIF(PACKT01!$R80,\"TRUE\",PACKT01!F80)+SUMIF(PACKT02!$R80,\"TRUE\",PACKT02!F80)+SUMIF(PACKT03!$R80,\"TRUE\",PACKT03!F80)+SUMIF(PACKT04!$R80,\"TRUE\",PACKT04!F80)+SUMIF(PACKT05!$R80,\"TRUE\",PACKT05!F80)+SUMIF(PACKT06!$R81,\"TRUE\",PACKT06!F81)+SUMIF(PACKT07!$R80,\"TRUE\",PACKT07!F80)+SUMIF(PACKT08!$R80,\"TRUE\",PACKT08!F80)+SUMIF(PACKT09!$R80,\"TRUE\",PACKT09!F80)+SUMIF(PACKT10!$R80,\"TRUE\",PACKT10!F80)+SUMIF(PACKT11!$R80,\"TRUE\",PACKT11!F80)","v":0},{"$f":"SUMIF(PACKT01!$R80,\"TRUE\",PACKT01!G80)+SUMIF(PACKT02!$R80,\"TRUE\",PACKT02!G80)+SUMIF(PACKT03!$R80,\"TRUE\",PACKT03!G80)+SUMIF(PACKT04!$R80,\"TRUE\",PACKT04!G80)+SUMIF(PACKT05!$R80,\"TRUE\",PACKT05!G80)+SUMIF(PACKT06!$R81,\"TRUE\",PACKT06!G81)+SUMIF(PACKT07!$R80,\"TRUE\",PACKT07!G80)+SUMIF(PACKT08!$R80,\"TRUE\",PACKT08!G80)+SUMIF(PACKT09!$R80,\"TRUE\",PACKT09!G80)+SUMIF(PACKT10!$R80,\"TRUE\",PACKT10!G80)+SUMIF(PACKT11!$R80,\"TRUE\",PACKT11!G80)","v":0},{"$f":"SUMIF(PACKT01!$R80,\"TRUE\",PACKT01!H80)+SUMIF(PACKT02!$R80,\"TRUE\",PACKT02!H80)+SUMIF(PACKT03!$R80,\"TRUE\",PACKT03!H80)+SUMIF(PACKT04!$R80,\"TRUE\",PACKT04!H80)+SUMIF(PACKT05!$R80,\"TRUE\",PACKT05!H80)+SUMIF(PACKT06!$R81,\"TRUE\",PACKT06!H81)+SUMIF(PACKT07!$R80,\"TRUE\",PACKT07!H80)+SUMIF(PACKT08!$R80,\"TRUE\",PACKT08!H80)+SUMIF(PACKT09!$R80,\"TRUE\",PACKT09!H80)+SUMIF(PACKT10!$R80,\"TRUE\",PACKT10!H80)+SUMIF(PACKT11!$R80,\"TRUE\",PACKT11!H80)","v":0},{"$f":"SUMIF(PACKT01!$R80,\"TRUE\",PACKT01!I80)+SUMIF(PACKT02!$R80,\"TRUE\",PACKT02!I80)+SUMIF(PACKT03!$R80,\"TRUE\",PACKT03!I80)+SUMIF(PACKT04!$R80,\"TRUE\",PACKT04!I80)+SUMIF(PACKT05!$R80,\"TRUE\",PACKT05!I80)+SUMIF(PACKT06!$R81,\"TRUE\",PACKT06!I81)+SUMIF(PACKT07!$R80,\"TRUE\",PACKT07!I80)+SUMIF(PACKT08!$R80,\"TRUE\",PACKT08!I80)+SUMIF(PACKT09!$R80,\"TRUE\",PACKT09!I80)+SUMIF(PACKT10!$R80,\"TRUE\",PACKT10!I80)+SUMIF(PACKT11!$R80,\"TRUE\",PACKT11!I80)","v":0},{"$f":"SUMIF(PACKT01!$R80,\"TRUE\",PACKT01!J80)+SUMIF(PACKT02!$R80,\"TRUE\",PACKT02!J80)+SUMIF(PACKT03!$R80,\"TRUE\",PACKT03!J80)+SUMIF(PACKT04!$R80,\"TRUE\",PACKT04!J80)+SUMIF(PACKT05!$R80,\"TRUE\",PACKT05!J80)+SUMIF(PACKT06!$R81,\"TRUE\",PACKT06!J81)+SUMIF(PACKT07!$R80,\"TRUE\",PACKT07!J80)+SUMIF(PACKT08!$R80,\"TRUE\",PACKT08!J80)+SUMIF(PACKT09!$R80,\"TRUE\",PACKT09!J80)+SUMIF(PACKT10!$R80,\"TRUE\",PACKT10!J80)+SUMIF(PACKT11!$R80,\"TRUE\",PACKT11!J80)","v":0},{"$f":"SUMIF(PACKT01!$R80,\"TRUE\",PACKT01!K80)+SUMIF(PACKT02!$R80,\"TRUE\",PACKT02!K80)+SUMIF(PACKT03!$R80,\"TRUE\",PACKT03!K80)+SUMIF(PACKT04!$R80,\"TRUE\",PACKT04!K80)+SUMIF(PACKT05!$R80,\"TRUE\",PACKT05!K80)+SUMIF(PACKT06!$R81,\"TRUE\",PACKT06!K81)+SUMIF(PACKT07!$R80,\"TRUE\",PACKT07!K80)+SUMIF(PACKT08!$R80,\"TRUE\",PACKT08!K80)+SUMIF(PACKT09!$R80,\"TRUE\",PACKT09!K80)+SUMIF(PACKT10!$R80,\"TRUE\",PACKT10!K80)+SUMIF(PACKT11!$R80,\"TRUE\",PACKT11!K80)","v":0},{"$f":"SUMIF(PACKT01!$R80,\"TRUE\",PACKT01!L80)+SUMIF(PACKT02!$R80,\"TRUE\",PACKT02!L80)+SUMIF(PACKT03!$R80,\"TRUE\",PACKT03!L80)+SUMIF(PACKT04!$R80,\"TRUE\",PACKT04!L80)+SUMIF(PACKT05!$R80,\"TRUE\",PACKT05!L80)+SUMIF(PACKT06!$R81,\"TRUE\",PACKT06!L81)+SUMIF(PACKT07!$R80,\"TRUE\",PACKT07!L80)+SUMIF(PACKT08!$R80,\"TRUE\",PACKT08!L80)+SUMIF(PACKT09!$R80,\"TRUE\",PACKT09!L80)+SUMIF(PACKT10!$R80,\"TRUE\",PACKT10!L80)+SUMIF(PACKT11!$R80,\"TRUE\",PACKT11!L80)","v":0},{"$f":"SUMIF(PACKT01!$R80,\"TRUE\",PACKT01!M80)+SUMIF(PACKT02!$R80,\"TRUE\",PACKT02!M80)+SUMIF(PACKT03!$R80,\"TRUE\",PACKT03!M80)+SUMIF(PACKT04!$R80,\"TRUE\",PACKT04!M80)+SUMIF(PACKT05!$R80,\"TRUE\",PACKT05!M80)+SUMIF(PACKT06!$R81,\"TRUE\",PACKT06!M81)+SUMIF(PACKT07!$R80,\"TRUE\",PACKT07!M80)+SUMIF(PACKT08!$R80,\"TRUE\",PACKT08!M80)+SUMIF(PACKT09!$R80,\"TRUE\",PACKT09!M80)+SUMIF(PACKT10!$R80,\"TRUE\",PACKT10!M80)+SUMIF(PACKT11!$R80,\"TRUE\",PACKT11!M80)","v":0},{"$f":"SUMIF(PACKT01!$R80,\"TRUE\",PACKT01!N80)+SUMIF(PACKT02!$R80,\"TRUE\",PACKT02!N80)+SUMIF(PACKT03!$R80,\"TRUE\",PACKT03!N80)+SUMIF(PACKT04!$R80,\"TRUE\",PACKT04!N80)+SUMIF(PACKT05!$R80,\"TRUE\",PACKT05!N80)+SUMIF(PACKT06!$R81,\"TRUE\",PACKT06!N81)+SUMIF(PACKT07!$R80,\"TRUE\",PACKT07!N80)+SUMIF(PACKT08!$R80,\"TRUE\",PACKT08!N80)+SUMIF(PACKT09!$R80,\"TRUE\",PACKT09!N80)+SUMIF(PACKT10!$R80,\"TRUE\",PACKT10!N80)+SUMIF(PACKT11!$R80,\"TRUE\",PACKT11!N80)","v":0},{"$f":"SUMIF(PACKT01!$R80,\"TRUE\",PACKT01!O80)+SUMIF(PACKT02!$R80,\"TRUE\",PACKT02!O80)+SUMIF(PACKT03!$R80,\"TRUE\",PACKT03!O80)+SUMIF(PACKT04!$R80,\"TRUE\",PACKT04!O80)+SUMIF(PACKT05!$R80,\"TRUE\",PACKT05!O80)+SUMIF(PACKT06!$R81,\"TRUE\",PACKT06!O81)+SUMIF(PACKT07!$R80,\"TRUE\",PACKT07!O80)+SUMIF(PACKT08!$R80,\"TRUE\",PACKT08!O80)+SUMIF(PACKT09!$R80,\"TRUE\",PACKT09!O80)+SUMIF(PACKT10!$R80,\"TRUE\",PACKT10!O80)+SUMIF(PACKT11!$R80,\"TRUE\",PACKT11!O80)","v":0},{"$f":"SUMIF(PACKT01!$R80,\"TRUE\",PACKT01!P80)+SUMIF(PACKT02!$R80,\"TRUE\",PACKT02!P80)+SUMIF(PACKT03!$R80,\"TRUE\",PACKT03!P80)+SUMIF(PACKT04!$R80,\"TRUE\",PACKT04!P80)+SUMIF(PACKT05!$R80,\"TRUE\",PACKT05!P80)+SUMIF(PACKT06!$R81,\"TRUE\",PACKT06!P81)+SUMIF(PACKT07!$R80,\"TRUE\",PACKT07!P80)+SUMIF(PACKT08!$R80,\"TRUE\",PACKT08!P80)+SUMIF(PACKT09!$R80,\"TRUE\",PACKT09!P80)+SUMIF(PACKT10!$R80,\"TRUE\",PACKT10!P80)+SUMIF(PACKT11!$R80,\"TRUE\",PACKT11!P80)","v":0},{"$f":"SUMIF(PACKT01!$R80,\"TRUE\",PACKT01!Q80)+SUMIF(PACKT02!$R80,\"TRUE\",PACKT02!Q80)+SUMIF(PACKT03!$R80,\"TRUE\",PACKT03!Q80)+SUMIF(PACKT04!$R80,\"TRUE\",PACKT04!Q80)+SUMIF(PACKT05!$R80,\"TRUE\",PACKT05!Q80)+SUMIF(PACKT06!$R81,\"TRUE\",PACKT06!Q81)+SUMIF(PACKT07!$R80,\"TRUE\",PACKT07!Q80)+SUMIF(PACKT08!$R80,\"TRUE\",PACKT08!Q80)+SUMIF(PACKT09!$R80,\"TRUE\",PACKT09!Q80)+SUMIF(PACKT10!$R80,\"TRUE\",PACKT10!Q80)+SUMIF(PACKT11!$R80,\"TRUE\",PACKT11!Q80)","v":0},0]
[null,"EMP0070",{"$f":"VLOOKUP(HRSummarylTable[[#This Row],[EmployeeID]],EmployeeListLookupTable[],2,FALSE)","v":"EMPN070"},{"$f":"VLOOKUP(HRSummarylTable[[#This Row],[EmployeeID]],EmployeeListLookupTable[],3,FALSE)","v":"Employee Name 70"},{"$f":"VLOOKUP(HRSummarylTable[[#This Row],[EmployeeID]],EmployeeListLookupTable[],4,FALSE)","v":"Employee Job Title 70"},"TCTC001 - Total Cost to Company",{"$f":"LEFT(HRSummarylTable[[#This Row],[PackageItemCode]],7)","v":"TCTC001"},{"$f":"VLOOKUP(HRSummarylTable[[#This Row],[PackageItem]],PackageItemListLookup[],2,FALSE)","v":"Total Cost to Company"},null,{"$f":"SUMIF(PACKT01!$R81,\"TRUE\",PACKT01!F81)+SUMIF(PACKT02!$R81,\"TRUE\",PACKT02!F81)+SUMIF(PACKT03!$R81,\"TRUE\",PACKT03!F81)+SUMIF(PACKT04!$R81,\"TRUE\",PACKT04!F81)+SUMIF(PACKT05!$R81,\"TRUE\",PACKT05!F81)+SUMIF(PACKT06!$R82,\"TRUE\",PACKT06!F82)+SUMIF(PACKT07!$R81,\"TRUE\",PACKT07!F81)+SUMIF(PACKT08!$R81,\"TRUE\",PACKT08!F81)+SUMIF(PACKT09!$R81,\"TRUE\",PACKT09!F81)+SUMIF(PACKT10!$R81,\"TRUE\",PACKT10!F81)+SUMIF(PACKT11!$R81,\"TRUE\",PACKT11!F81)","v":0},{"$f":"SUMIF(PACKT01!$R81,\"TRUE\",PACKT01!G81)+SUMIF(PACKT02!$R81,\"TRUE\",PACKT02!G81)+SUMIF(PACKT03!$R81,\"TRUE\",PACKT03!G81)+SUMIF(PACKT04!$R81,\"TRUE\",PACKT04!G81)+SUMIF(PACKT05!$R81,\"TRUE\",PACKT05!G81)+SUMIF(PACKT06!$R82,\"TRUE\",PACKT06!G82)+SUMIF(PACKT07!$R81,\"TRUE\",PACKT07!G81)+SUMIF(PACKT08!$R81,\"TRUE\",PACKT08!G81)+SUMIF(PACKT09!$R81,\"TRUE\",PACKT09!G81)+SUMIF(PACKT10!$R81,\"TRUE\",PACKT10!G81)+SUMIF(PACKT11!$R81,\"TRUE\",PACKT11!G81)","v":0},{"$f":"SUMIF(PACKT01!$R81,\"TRUE\",PACKT01!H81)+SUMIF(PACKT02!$R81,\"TRUE\",PACKT02!H81)+SUMIF(PACKT03!$R81,\"TRUE\",PACKT03!H81)+SUMIF(PACKT04!$R81,\"TRUE\",PACKT04!H81)+SUMIF(PACKT05!$R81,\"TRUE\",PACKT05!H81)+SUMIF(PACKT06!$R82,\"TRUE\",PACKT06!H82)+SUMIF(PACKT07!$R81,\"TRUE\",PACKT07!H81)+SUMIF(PACKT08!$R81,\"TRUE\",PACKT08!H81)+SUMIF(PACKT09!$R81,\"TRUE\",PACKT09!H81)+SUMIF(PACKT10!$R81,\"TRUE\",PACKT10!H81)+SUMIF(PACKT11!$R81,\"TRUE\",PACKT11!H81)","v":0},{"$f":"SUMIF(PACKT01!$R81,\"TRUE\",PACKT01!I81)+SUMIF(PACKT02!$R81,\"TRUE\",PACKT02!I81)+SUMIF(PACKT03!$R81,\"TRUE\",PACKT03!I81)+SUMIF(PACKT04!$R81,\"TRUE\",PACKT04!I81)+SUMIF(PACKT05!$R81,\"TRUE\",PACKT05!I81)+SUMIF(PACKT06!$R82,\"TRUE\",PACKT06!I82)+SUMIF(PACKT07!$R81,\"TRUE\",PACKT07!I81)+SUMIF(PACKT08!$R81,\"TRUE\",PACKT08!I81)+SUMIF(PACKT09!$R81,\"TRUE\",PACKT09!I81)+SUMIF(PACKT10!$R81,\"TRUE\",PACKT10!I81)+SUMIF(PACKT11!$R81,\"TRUE\",PACKT11!I81)","v":0},{"$f":"SUMIF(PACKT01!$R81,\"TRUE\",PACKT01!J81)+SUMIF(PACKT02!$R81,\"TRUE\",PACKT02!J81)+SUMIF(PACKT03!$R81,\"TRUE\",PACKT03!J81)+SUMIF(PACKT04!$R81,\"TRUE\",PACKT04!J81)+SUMIF(PACKT05!$R81,\"TRUE\",PACKT05!J81)+SUMIF(PACKT06!$R82,\"TRUE\",PACKT06!J82)+SUMIF(PACKT07!$R81,\"TRUE\",PACKT07!J81)+SUMIF(PACKT08!$R81,\"TRUE\",PACKT08!J81)+SUMIF(PACKT09!$R81,\"TRUE\",PACKT09!J81)+SUMIF(PACKT10!$R81,\"TRUE\",PACKT10!J81)+SUMIF(PACKT11!$R81,\"TRUE\",PACKT11!J81)","v":0},{"$f":"SUMIF(PACKT01!$R81,\"TRUE\",PACKT01!K81)+SUMIF(PACKT02!$R81,\"TRUE\",PACKT02!K81)+SUMIF(PACKT03!$R81,\"TRUE\",PACKT03!K81)+SUMIF(PACKT04!$R81,\"TRUE\",PACKT04!K81)+SUMIF(PACKT05!$R81,\"TRUE\",PACKT05!K81)+SUMIF(PACKT06!$R82,\"TRUE\",PACKT06!K82)+SUMIF(PACKT07!$R81,\"TRUE\",PACKT07!K81)+SUMIF(PACKT08!$R81,\"TRUE\",PACKT08!K81)+SUMIF(PACKT09!$R81,\"TRUE\",PACKT09!K81)+SUMIF(PACKT10!$R81,\"TRUE\",PACKT10!K81)+SUMIF(PACKT11!$R81,\"TRUE\",PACKT11!K81)","v":0},{"$f":"SUMIF(PACKT01!$R81,\"TRUE\",PACKT01!L81)+SUMIF(PACKT02!$R81,\"TRUE\",PACKT02!L81)+SUMIF(PACKT03!$R81,\"TRUE\",PACKT03!L81)+SUMIF(PACKT04!$R81,\"TRUE\",PACKT04!L81)+SUMIF(PACKT05!$R81,\"TRUE\",PACKT05!L81)+SUMIF(PACKT06!$R82,\"TRUE\",PACKT06!L82)+SUMIF(PACKT07!$R81,\"TRUE\",PACKT07!L81)+SUMIF(PACKT08!$R81,\"TRUE\",PACKT08!L81)+SUMIF(PACKT09!$R81,\"TRUE\",PACKT09!L81)+SUMIF(PACKT10!$R81,\"TRUE\",PACKT10!L81)+SUMIF(PACKT11!$R81,\"TRUE\",PACKT11!L81)","v":0},{"$f":"SUMIF(PACKT01!$R81,\"TRUE\",PACKT01!M81)+SUMIF(PACKT02!$R81,\"TRUE\",PACKT02!M81)+SUMIF(PACKT03!$R81,\"TRUE\",PACKT03!M81)+SUMIF(PACKT04!$R81,\"TRUE\",PACKT04!M81)+SUMIF(PACKT05!$R81,\"TRUE\",PACKT05!M81)+SUMIF(PACKT06!$R82,\"TRUE\",PACKT06!M82)+SUMIF(PACKT07!$R81,\"TRUE\",PACKT07!M81)+SUMIF(PACKT08!$R81,\"TRUE\",PACKT08!M81)+SUMIF(PACKT09!$R81,\"TRUE\",PACKT09!M81)+SUMIF(PACKT10!$R81,\"TRUE\",PACKT10!M81)+SUMIF(PACKT11!$R81,\"TRUE\",PACKT11!M81)","v":0},{"$f":"SUMIF(PACKT01!$R81,\"TRUE\",PACKT01!N81)+SUMIF(PACKT02!$R81,\"TRUE\",PACKT02!N81)+SUMIF(PACKT03!$R81,\"TRUE\",PACKT03!N81)+SUMIF(PACKT04!$R81,\"TRUE\",PACKT04!N81)+SUMIF(PACKT05!$R81,\"TRUE\",PACKT05!N81)+SUMIF(PACKT06!$R82,\"TRUE\",PACKT06!N82)+SUMIF(PACKT07!$R81,\"TRUE\",PACKT07!N81)+SUMIF(PACKT08!$R81,\"TRUE\",PACKT08!N81)+SUMIF(PACKT09!$R81,\"TRUE\",PACKT09!N81)+SUMIF(PACKT10!$R81,\"TRUE\",PACKT10!N81)+SUMIF(PACKT11!$R81,\"TRUE\",PACKT11!N81)","v":0},{"$f":"SUMIF(PACKT01!$R81,\"TRUE\",PACKT01!O81)+SUMIF(PACKT02!$R81,\"TRUE\",PACKT02!O81)+SUMIF(PACKT03!$R81,\"TRUE\",PACKT03!O81)+SUMIF(PACKT04!$R81,\"TRUE\",PACKT04!O81)+SUMIF(PACKT05!$R81,\"TRUE\",PACKT05!O81)+SUMIF(PACKT06!$R82,\"TRUE\",PACKT06!O82)+SUMIF(PACKT07!$R81,\"TRUE\",PACKT07!O81)+SUMIF(PACKT08!$R81,\"TRUE\",PACKT08!O81)+SUMIF(PACKT09!$R81,\"TRUE\",PACKT09!O81)+SUMIF(PACKT10!$R81,\"TRUE\",PACKT10!O81)+SUMIF(PACKT11!$R81,\"TRUE\",PACKT11!O81)","v":0},{"$f":"SUMIF(PACKT01!$R81,\"TRUE\",PACKT01!P81)+SUMIF(PACKT02!$R81,\"TRUE\",PACKT02!P81)+SUMIF(PACKT03!$R81,\"TRUE\",PACKT03!P81)+SUMIF(PACKT04!$R81,\"TRUE\",PACKT04!P81)+SUMIF(PACKT05!$R81,\"TRUE\",PACKT05!P81)+SUMIF(PACKT06!$R82,\"TRUE\",PACKT06!P82)+SUMIF(PACKT07!$R81,\"TRUE\",PACKT07!P81)+SUMIF(PACKT08!$R81,\"TRUE\",PACKT08!P81)+SUMIF(PACKT09!$R81,\"TRUE\",PACKT09!P81)+SUMIF(PACKT10!$R81,\"TRUE\",PACKT10!P81)+SUMIF(PACKT11!$R81,\"TRUE\",PACKT11!P81)","v":0},{"$f":"SUMIF(PACKT01!$R81,\"TRUE\",PACKT01!Q81)+SUMIF(PACKT02!$R81,\"TRUE\",PACKT02!Q81)+SUMIF(PACKT03!$R81,\"TRUE\",PACKT03!Q81)+SUMIF(PACKT04!$R81,\"TRUE\",PACKT04!Q81)+SUMIF(PACKT05!$R81,\"TRUE\",PACKT05!Q81)+SUMIF(PACKT06!$R82,\"TRUE\",PACKT06!Q82)+SUMIF(PACKT07!$R81,\"TRUE\",PACKT07!Q81)+SUMIF(PACKT08!$R81,\"TRUE\",PACKT08!Q81)+SUMIF(PACKT09!$R81,\"TRUE\",PACKT09!Q81)+SUMIF(PACKT10!$R81,\"TRUE\",PACKT10!Q81)+SUMIF(PACKT11!$R81,\"TRUE\",PACKT11!Q81)","v":0},0]
[null,"EMP0071",{"$f":"VLOOKUP(HRSummarylTable[[#This Row],[EmployeeID]],EmployeeListLookupTable[],2,FALSE)","v":"EMPN071"},{"$f":"VLOOKUP(HRSummarylTable[[#This Row],[EmployeeID]],EmployeeListLookupTable[],3,FALSE)","v":"Employee Name 71"},{"$f":"VLOOKUP(HRSummarylTable[[#This Row],[EmployeeID]],EmployeeListLookupTable[],4,FALSE)","v":"Employee Job Title 71"},"TCTC001 - Total Cost to Company",{"$f":"LEFT(HRSummarylTable[[#This Row],[PackageItemCode]],7)","v":"TCTC001"},{"$f":"VLOOKUP(HRSummarylTable[[#This Row],[PackageItem]],PackageItemListLookup[],2,FALSE)","v":"Total Cost to Company"},null,{"$f":"SUMIF(PACKT01!$R82,\"TRUE\",PACKT01!F82)+SUMIF(PACKT02!$R82,\"TRUE\",PACKT02!F82)+SUMIF(PACKT03!$R82,\"TRUE\",PACKT03!F82)+SUMIF(PACKT04!$R82,\"TRUE\",PACKT04!F82)+SUMIF(PACKT05!$R82,\"TRUE\",PACKT05!F82)+SUMIF(PACKT06!$R83,\"TRUE\",PACKT06!F83)+SUMIF(PACKT07!$R82,\"TRUE\",PACKT07!F82)+SUMIF(PACKT08!$R82,\"TRUE\",PACKT08!F82)+SUMIF(PACKT09!$R82,\"TRUE\",PACKT09!F82)+SUMIF(PACKT10!$R82,\"TRUE\",PACKT10!F82)+SUMIF(PACKT11!$R82,\"TRUE\",PACKT11!F82)","v":0},{"$f":"SUMIF(PACKT01!$R82,\"TRUE\",PACKT01!G82)+SUMIF(PACKT02!$R82,\"TRUE\",PACKT02!G82)+SUMIF(PACKT03!$R82,\"TRUE\",PACKT03!G82)+SUMIF(PACKT04!$R82,\"TRUE\",PACKT04!G82)+SUMIF(PACKT05!$R82,\"TRUE\",PACKT05!G82)+SUMIF(PACKT06!$R83,\"TRUE\",PACKT06!G83)+SUMIF(PACKT07!$R82,\"TRUE\",PACKT07!G82)+SUMIF(PACKT08!$R82,\"TRUE\",PACKT08!G82)+SUMIF(PACKT09!$R82,\"TRUE\",PACKT09!G82)+SUMIF(PACKT10!$R82,\"TRUE\",PACKT10!G82)+SUMIF(PACKT11!$R82,\"TRUE\",PACKT11!G82)","v":0},{"$f":"SUMIF(PACKT01!$R82,\"TRUE\",PACKT01!H82)+SUMIF(PACKT02!$R82,\"TRUE\",PACKT02!H82)+SUMIF(PACKT03!$R82,\"TRUE\",PACKT03!H82)+SUMIF(PACKT04!$R82,\"TRUE\",PACKT04!H82)+SUMIF(PACKT05!$R82,\"TRUE\",PACKT05!H82)+SUMIF(PACKT06!$R83,\"TRUE\",PACKT06!H83)+SUMIF(PACKT07!$R82,\"TRUE\",PACKT07!H82)+SUMIF(PACKT08!$R82,\"TRUE\",PACKT08!H82)+SUMIF(PACKT09!$R82,\"TRUE\",PACKT09!H82)+SUMIF(PACKT10!$R82,\"TRUE\",PACKT10!H82)+SUMIF(PACKT11!$R82,\"TRUE\",PACKT11!H82)","v":0},{"$f":"SUMIF(PACKT01!$R82,\"TRUE\",PACKT01!I82)+SUMIF(PACKT02!$R82,\"TRUE\",PACKT02!I82)+SUMIF(PACKT03!$R82,\"TRUE\",PACKT03!I82)+SUMIF(PACKT04!$R82,\"TRUE\",PACKT04!I82)+SUMIF(PACKT05!$R82,\"TRUE\",PACKT05!I82)+SUMIF(PACKT06!$R83,\"TRUE\",PACKT06!I83)+SUMIF(PACKT07!$R82,\"TRUE\",PACKT07!I82)+SUMIF(PACKT08!$R82,\"TRUE\",PACKT08!I82)+SUMIF(PACKT09!$R82,\"TRUE\",PACKT09!I82)+SUMIF(PACKT10!$R82,\"TRUE\",PACKT10!I82)+SUMIF(PACKT11!$R82,\"TRUE\",PACKT11!I82)","v":0},{"$f":"SUMIF(PACKT01!$R82,\"TRUE\",PACKT01!J82)+SUMIF(PACKT02!$R82,\"TRUE\",PACKT02!J82)+SUMIF(PACKT03!$R82,\"TRUE\",PACKT03!J82)+SUMIF(PACKT04!$R82,\"TRUE\",PACKT04!J82)+SUMIF(PACKT05!$R82,\"TRUE\",PACKT05!J82)+SUMIF(PACKT06!$R83,\"TRUE\",PACKT06!J83)+SUMIF(PACKT07!$R82,\"TRUE\",PACKT07!J82)+SUMIF(PACKT08!$R82,\"TRUE\",PACKT08!J82)+SUMIF(PACKT09!$R82,\"TRUE\",PACKT09!J82)+SUMIF(PACKT10!$R82,\"TRUE\",PACKT10!J82)+SUMIF(PACKT11!$R82,\"TRUE\",PACKT11!J82)","v":0},{"$f":"SUMIF(PACKT01!$R82,\"TRUE\",PACKT01!K82)+SUMIF(PACKT02!$R82,\"TRUE\",PACKT02!K82)+SUMIF(PACKT03!$R82,\"TRUE\",PACKT03!K82)+SUMIF(PACKT04!$R82,\"TRUE\",PACKT04!K82)+SUMIF(PACKT05!$R82,\"TRUE\",PACKT05!K82)+SUMIF(PACKT06!$R83,\"TRUE\",PACKT06!K83)+SUMIF(PACKT07!$R82,\"TRUE\",PACKT07!K82)+SUMIF(PACKT08!$R82,\"TRUE\",PACKT08!K82)+SUMIF(PACKT09!$R82,\"TRUE\",PACKT09!K82)+SUMIF(PACKT10!$R82,\"TRUE\",PACKT10!K82)+SUMIF(PACKT11!$R82,\"TRUE\",PACKT11!K82)","v":0},{"$f":"SUMIF(PACKT01!$R82,\"TRUE\",PACKT01!L82)+SUMIF(PACKT02!$R82,\"TRUE\",PACKT02!L82)+SUMIF(PACKT03!$R82,\"TRUE\",PACKT03!L82)+SUMIF(PACKT04!$R82,\"TRUE\",PACKT04!L82)+SUMIF(PACKT05!$R82,\"TRUE\",PACKT05!L82)+SUMIF(PACKT06!$R83,\"TRUE\",PACKT06!L83)+SUMIF(PACKT07!$R82,\"TRUE\",PACKT07!L82)+SUMIF(PACKT08!$R82,\"TRUE\",PACKT08!L82)+SUMIF(PACKT09!$R82,\"TRUE\",PACKT09!L82)+SUMIF(PACKT10!$R82,\"TRUE\",PACKT10!L82)+SUMIF(PACKT11!$R82,\"TRUE\",PACKT11!L82)","v":0},{"$f":"SUMIF(PACKT01!$R82,\"TRUE\",PACKT01!M82)+SUMIF(PACKT02!$R82,\"TRUE\",PACKT02!M82)+SUMIF(PACKT03!$R82,\"TRUE\",PACKT03!M82)+SUMIF(PACKT04!$R82,\"TRUE\",PACKT04!M82)+SUMIF(PACKT05!$R82,\"TRUE\",PACKT05!M82)+SUMIF(PACKT06!$R83,\"TRUE\",PACKT06!M83)+SUMIF(PACKT07!$R82,\"TRUE\",PACKT07!M82)+SUMIF(PACKT08!$R82,\"TRUE\",PACKT08!M82)+SUMIF(PACKT09!$R82,\"TRUE\",PACKT09!M82)+SUMIF(PACKT10!$R82,\"TRUE\",PACKT10!M82)+SUMIF(PACKT11!$R82,\"TRUE\",PACKT11!M82)","v":0},{"$f":"SUMIF(PACKT01!$R82,\"TRUE\",PACKT01!N82)+SUMIF(PACKT02!$R82,\"TRUE\",PACKT02!N82)+SUMIF(PACKT03!$R82,\"TRUE\",PACKT03!N82)+SUMIF(PACKT04!$R82,\"TRUE\",PACKT04!N82)+SUMIF(PACKT05!$R82,\"TRUE\",PACKT05!N82)+SUMIF(PACKT06!$R83,\"TRUE\",PACKT06!N83)+SUMIF(PACKT07!$R82,\"TRUE\",PACKT07!N82)+SUMIF(PACKT08!$R82,\"TRUE\",PACKT08!N82)+SUMIF(PACKT09!$R82,\"TRUE\",PACKT09!N82)+SUMIF(PACKT10!$R82,\"TRUE\",PACKT10!N82)+SUMIF(PACKT11!$R82,\"TRUE\",PACKT11!N82)","v":0},{"$f":"SUMIF(PACKT01!$R82,\"TRUE\",PACKT01!O82)+SUMIF(PACKT02!$R82,\"TRUE\",PACKT02!O82)+SUMIF(PACKT03!$R82,\"TRUE\",PACKT03!O82)+SUMIF(PACKT04!$R82,\"TRUE\",PACKT04!O82)+SUMIF(PACKT05!$R82,\"TRUE\",PACKT05!O82)+SUMIF(PACKT06!$R83,\"TRUE\",PACKT06!O83)+SUMIF(PACKT07!$R82,\"TRUE\",PACKT07!O82)+SUMIF(PACKT08!$R82,\"TRUE\",PACKT08!O82)+SUMIF(PACKT09!$R82,\"TRUE\",PACKT09!O82)+SUMIF(PACKT10!$R82,\"TRUE\",PACKT10!O82)+SUMIF(PACKT11!$R82,\"TRUE\",PACKT11!O82)","v":0},{"$f":"SUMIF(PACKT01!$R82,\"TRUE\",PACKT01!P82)+SUMIF(PACKT02!$R82,\"TRUE\",PACKT02!P82)+SUMIF(PACKT03!$R82,\"TRUE\",PACKT03!P82)+SUMIF(PACKT04!$R82,\"TRUE\",PACKT04!P82)+SUMIF(PACKT05!$R82,\"TRUE\",PACKT05!P82)+SUMIF(PACKT06!$R83,\"TRUE\",PACKT06!P83)+SUMIF(PACKT07!$R82,\"TRUE\",PACKT07!P82)+SUMIF(PACKT08!$R82,\"TRUE\",PACKT08!P82)+SUMIF(PACKT09!$R82,\"TRUE\",PACKT09!P82)+SUMIF(PACKT10!$R82,\"TRUE\",PACKT10!P82)+SUMIF(PACKT11!$R82,\"TRUE\",PACKT11!P82)","v":0},{"$f":"SUMIF(PACKT01!$R82,\"TRUE\",PACKT01!Q82)+SUMIF(PACKT02!$R82,\"TRUE\",PACKT02!Q82)+SUMIF(PACKT03!$R82,\"TRUE\",PACKT03!Q82)+SUMIF(PACKT04!$R82,\"TRUE\",PACKT04!Q82)+SUMIF(PACKT05!$R82,\"TRUE\",PACKT05!Q82)+SUMIF(PACKT06!$R83,\"TRUE\",PACKT06!Q83)+SUMIF(PACKT07!$R82,\"TRUE\",PACKT07!Q82)+SUMIF(PACKT08!$R82,\"TRUE\",PACKT08!Q82)+SUMIF(PACKT09!$R82,\"TRUE\",PACKT09!Q82)+SUMIF(PACKT10!$R82,\"TRUE\",PACKT10!Q82)+SUMIF(PACKT11!$R82,\"TRUE\",PACKT11!Q82)","v":0},0]
[null,"EMP0072",{"$f":"VLOOKUP(HRSummarylTable[[#This Row],[EmployeeID]],EmployeeListLookupTable[],2,FALSE)","v":"EMPN072"},{"$f":"VLOOKUP(HRSummarylTable[[#This Row],[EmployeeID]],EmployeeListLookupTable[],3,FALSE)","v":"Employee Name 72"},{"$f":"VLOOKUP(HRSummarylTable[[#This Row],[EmployeeID]],EmployeeListLookupTable[],4,FALSE)","v":"Employee Job Title 72"},"TCTC001 - Total Cost to Company",{"$f":"LEFT(HRSummarylTable[[#This Row],[PackageItemCode]],7)","v":"TCTC001"},{"$f":"VLOOKUP(HRSummarylTable[[#This Row],[PackageItem]],PackageItemListLookup[],2,FALSE)","v":"Total Cost to Company"},null,{"$f":"SUMIF(PACKT01!$R83,\"TRUE\",PACKT01!F83)+SUMIF(PACKT02!$R83,\"TRUE\",PACKT02!F83)+SUMIF(PACKT03!$R83,\"TRUE\",PACKT03!F83)+SUMIF(PACKT04!$R83,\"TRUE\",PACKT04!F83)+SUMIF(PACKT05!$R83,\"TRUE\",PACKT05!F83)+SUMIF(PACKT06!$R84,\"TRUE\",PACKT06!F84)+SUMIF(PACKT07!$R83,\"TRUE\",PACKT07!F83)+SUMIF(PACKT08!$R83,\"TRUE\",PACKT08!F83)+SUMIF(PACKT09!$R83,\"TRUE\",PACKT09!F83)+SUMIF(PACKT10!$R83,\"TRUE\",PACKT10!F83)+SUMIF(PACKT11!$R83,\"TRUE\",PACKT11!F83)","v":0},{"$f":"SUMIF(PACKT01!$R83,\"TRUE\",PACKT01!G83)+SUMIF(PACKT02!$R83,\"TRUE\",PACKT02!G83)+SUMIF(PACKT03!$R83,\"TRUE\",PACKT03!G83)+SUMIF(PACKT04!$R83,\"TRUE\",PACKT04!G83)+SUMIF(PACKT05!$R83,\"TRUE\",PACKT05!G83)+SUMIF(PACKT06!$R84,\"TRUE\",PACKT06!G84)+SUMIF(PACKT07!$R83,\"TRUE\",PACKT07!G83)+SUMIF(PACKT08!$R83,\"TRUE\",PACKT08!G83)+SUMIF(PACKT09!$R83,\"TRUE\",PACKT09!G83)+SUMIF(PACKT10!$R83,\"TRUE\",PACKT10!G83)+SUMIF(PACKT11!$R83,\"TRUE\",PACKT11!G83)","v":0},{"$f":"SUMIF(PACKT01!$R83,\"TRUE\",PACKT01!H83)+SUMIF(PACKT02!$R83,\"TRUE\",PACKT02!H83)+SUMIF(PACKT03!$R83,\"TRUE\",PACKT03!H83)+SUMIF(PACKT04!$R83,\"TRUE\",PACKT04!H83)+SUMIF(PACKT05!$R83,\"TRUE\",PACKT05!H83)+SUMIF(PACKT06!$R84,\"TRUE\",PACKT06!H84)+SUMIF(PACKT07!$R83,\"TRUE\",PACKT07!H83)+SUMIF(PACKT08!$R83,\"TRUE\",PACKT08!H83)+SUMIF(PACKT09!$R83,\"TRUE\",PACKT09!H83)+SUMIF(PACKT10!$R83,\"TRUE\",PACKT10!H83)+SUMIF(PACKT11!$R83,\"TRUE\",PACKT11!H83)","v":0},{"$f":"SUMIF(PACKT01!$R83,\"TRUE\",PACKT01!I83)+SUMIF(PACKT02!$R83,\"TRUE\",PACKT02!I83)+SUMIF(PACKT03!$R83,\"TRUE\",PACKT03!I83)+SUMIF(PACKT04!$R83,\"TRUE\",PACKT04!I83)+SUMIF(PACKT05!$R83,\"TRUE\",PACKT05!I83)+SUMIF(PACKT06!$R84,\"TRUE\",PACKT06!I84)+SUMIF(PACKT07!$R83,\"TRUE\",PACKT07!I83)+SUMIF(PACKT08!$R83,\"TRUE\",PACKT08!I83)+SUMIF(PACKT09!$R83,\"TRUE\",PACKT09!I83)+SUMIF(PACKT10!$R83,\"TRUE\",PACKT10!I83)+SUMIF(PACKT11!$R83,\"TRUE\",PACKT11!I83)","v":0},{"$f":"SUMIF(PACKT01!$R83,\"TRUE\",PACKT01!J83)+SUMIF(PACKT02!$R83,\"TRUE\",PACKT02!J83)+SUMIF(PACKT03!$R83,\"TRUE\",PACKT03!J83)+SUMIF(PACKT04!$R83,\"TRUE\",PACKT04!J83)+SUMIF(PACKT05!$R83,\"TRUE\",PACKT05!J83)+SUMIF(PACKT06!$R84,\"TRUE\",PACKT06!J84)+SUMIF(PACKT07!$R83,\"TRUE\",PACKT07!J83)+SUMIF(PACKT08!$R83,\"TRUE\",PACKT08!J83)+SUMIF(PACKT09!$R83,\"TRUE\",PACKT09!J83)+SUMIF(PACKT10!$R83,\"TRUE\",PACKT10!J83)+SUMIF(PACKT11!$R83,\"TRUE\",PACKT11!J83)","v":0},{"$f":"SUMIF(PACKT01!$R83,\"TRUE\",PACKT01!K83)+SUMIF(PACKT02!$R83,\"TRUE\",PACKT02!K83)+SUMIF(PACKT03!$R83,\"TRUE\",PACKT03!K83)+SUMIF(PACKT04!$R83,\"TRUE\",PACKT04!K83)+SUMIF(PACKT05!$R83,\"TRUE\",PACKT05!K83)+SUMIF(PACKT06!$R84,\"TRUE\",PACKT06!K84)+SUMIF(PACKT07!$R83,\"TRUE\",PACKT07!K83)+SUMIF(PACKT08!$R83,\"TRUE\",PACKT08!K83)+SUMIF(PACKT09!$R83,\"TRUE\",PACKT09!K83)+SUMIF(PACKT10!$R83,\"TRUE\",PACKT10!K83)+SUMIF(PACKT11!$R83,\"TRUE\",PACKT11!K83)","v":0},{"$f":"SUMIF(PACKT01!$R83,\"TRUE\",PACKT01!L83)+SUMIF(PACKT02!$R83,\"TRUE\",PACKT02!L83)+SUMIF(PACKT03!$R83,\"TRUE\",PACKT03!L83)+SUMIF(PACKT04!$R83,\"TRUE\",PACKT04!L83)+SUMIF(PACKT05!$R83,\"TRUE\",PACKT05!L83)+SUMIF(PACKT06!$R84,\"TRUE\",PACKT06!L84)+SUMIF(PACKT07!$R83,\"TRUE\",PACKT07!L83)+SUMIF(PACKT08!$R83,\"TRUE\",PACKT08!L83)+SUMIF(PACKT09!$R83,\"TRUE\",PACKT09!L83)+SUMIF(PACKT10!$R83,\"TRUE\",PACKT10!L83)+SUMIF(PACKT11!$R83,\"TRUE\",PACKT11!L83)","v":0},{"$f":"SUMIF(PACKT01!$R83,\"TRUE\",PACKT01!M83)+SUMIF(PACKT02!$R83,\"TRUE\",PACKT02!M83)+SUMIF(PACKT03!$R83,\"TRUE\",PACKT03!M83)+SUMIF(PACKT04!$R83,\"TRUE\",PACKT04!M83)+SUMIF(PACKT05!$R83,\"TRUE\",PACKT05!M83)+SUMIF(PACKT06!$R84,\"TRUE\",PACKT06!M84)+SUMIF(PACKT07!$R83,\"TRUE\",PACKT07!M83)+SUMIF(PACKT08!$R83,\"TRUE\",PACKT08!M83)+SUMIF(PACKT09!$R83,\"TRUE\",PACKT09!M83)+SUMIF(PACKT10!$R83,\"TRUE\",PACKT10!M83)+SUMIF(PACKT11!$R83,\"TRUE\",PACKT11!M83)","v":0},{"$f":"SUMIF(PACKT01!$R83,\"TRUE\",PACKT01!N83)+SUMIF(PACKT02!$R83,\"TRUE\",PACKT02!N83)+SUMIF(PACKT03!$R83,\"TRUE\",PACKT03!N83)+SUMIF(PACKT04!$R83,\"TRUE\",PACKT04!N83)+SUMIF(PACKT05!$R83,\"TRUE\",PACKT05!N83)+SUMIF(PACKT06!$R84,\"TRUE\",PACKT06!N84)+SUMIF(PACKT07!$R83,\"TRUE\",PACKT07!N83)+SUMIF(PACKT08!$R83,\"TRUE\",PACKT08!N83)+SUMIF(PACKT09!$R83,\"TRUE\",PACKT09!N83)+SUMIF(PACKT10!$R83,\"TRUE\",PACKT10!N83)+SUMIF(PACKT11!$R83,\"TRUE\",PACKT11!N83)","v":0},{"$f":"SUMIF(PACKT01!$R83,\"TRUE\",PACKT01!O83)+SUMIF(PACKT02!$R83,\"TRUE\",PACKT02!O83)+SUMIF(PACKT03!$R83,\"TRUE\",PACKT03!O83)+SUMIF(PACKT04!$R83,\"TRUE\",PACKT04!O83)+SUMIF(PACKT05!$R83,\"TRUE\",PACKT05!O83)+SUMIF(PACKT06!$R84,\"TRUE\",PACKT06!O84)+SUMIF(PACKT07!$R83,\"TRUE\",PACKT07!O83)+SUMIF(PACKT08!$R83,\"TRUE\",PACKT08!O83)+SUMIF(PACKT09!$R83,\"TRUE\",PACKT09!O83)+SUMIF(PACKT10!$R83,\"TRUE\",PACKT10!O83)+SUMIF(PACKT11!$R83,\"TRUE\",PACKT11!O83)","v":0},{"$f":"SUMIF(PACKT01!$R83,\"TRUE\",PACKT01!P83)+SUMIF(PACKT02!$R83,\"TRUE\",PACKT02!P83)+SUMIF(PACKT03!$R83,\"TRUE\",PACKT03!P83)+SUMIF(PACKT04!$R83,\"TRUE\",PACKT04!P83)+SUMIF(PACKT05!$R83,\"TRUE\",PACKT05!P83)+SUMIF(PACKT06!$R84,\"TRUE\",PACKT06!P84)+SUMIF(PACKT07!$R83,\"TRUE\",PACKT07!P83)+SUMIF(PACKT08!$R83,\"TRUE\",PACKT08!P83)+SUMIF(PACKT09!$R83,\"TRUE\",PACKT09!P83)+SUMIF(PACKT10!$R83,\"TRUE\",PACKT10!P83)+SUMIF(PACKT11!$R83,\"TRUE\",PACKT11!P83)","v":0},{"$f":"SUMIF(PACKT01!$R83,\"TRUE\",PACKT01!Q83)+SUMIF(PACKT02!$R83,\"TRUE\",PACKT02!Q83)+SUMIF(PACKT03!$R83,\"TRUE\",PACKT03!Q83)+SUMIF(PACKT04!$R83,\"TRUE\",PACKT04!Q83)+SUMIF(PACKT05!$R83,\"TRUE\",PACKT05!Q83)+SUMIF(PACKT06!$R84,\"TRUE\",PACKT06!Q84)+SUMIF(PACKT07!$R83,\"TRUE\",PACKT07!Q83)+SUMIF(PACKT08!$R83,\"TRUE\",PACKT08!Q83)+SUMIF(PACKT09!$R83,\"TRUE\",PACKT09!Q83)+SUMIF(PACKT10!$R83,\"TRUE\",PACKT10!Q83)+SUMIF(PACKT11!$R83,\"TRUE\",PACKT11!Q83)","v":0},0]
[null,"EMP0073",{"$f":"VLOOKUP(HRSummarylTable[[#This Row],[EmployeeID]],EmployeeListLookupTable[],2,FALSE)","v":"EMPN073"},{"$f":"VLOOKUP(HRSummarylTable[[#This Row],[EmployeeID]],EmployeeListLookupTable[],3,FALSE)","v":"Employee Name 73"},{"$f":"VLOOKUP(HRSummarylTable[[#This Row],[EmployeeID]],EmployeeListLookupTable[],4,FALSE)","v":"Employee Job Title 73"},"TCTC001 - Total Cost to Company",{"$f":"LEFT(HRSummarylTable[[#This Row],[PackageItemCode]],7)","v":"TCTC001"},{"$f":"VLOOKUP(HRSummarylTable[[#This Row],[PackageItem]],PackageItemListLookup[],2,FALSE)","v":"Total Cost to Company"},null,{"$f":"SUMIF(PACKT01!$R84,\"TRUE\",PACKT01!F84)+SUMIF(PACKT02!$R84,\"TRUE\",PACKT02!F84)+SUMIF(PACKT03!$R84,\"TRUE\",PACKT03!F84)+SUMIF(PACKT04!$R84,\"TRUE\",PACKT04!F84)+SUMIF(PACKT05!$R84,\"TRUE\",PACKT05!F84)+SUMIF(PACKT06!$R85,\"TRUE\",PACKT06!F85)+SUMIF(PACKT07!$R84,\"TRUE\",PACKT07!F84)+SUMIF(PACKT08!$R84,\"TRUE\",PACKT08!F84)+SUMIF(PACKT09!$R84,\"TRUE\",PACKT09!F84)+SUMIF(PACKT10!$R84,\"TRUE\",PACKT10!F84)+SUMIF(PACKT11!$R84,\"TRUE\",PACKT11!F84)","v":0},{"$f":"SUMIF(PACKT01!$R84,\"TRUE\",PACKT01!G84)+SUMIF(PACKT02!$R84,\"TRUE\",PACKT02!G84)+SUMIF(PACKT03!$R84,\"TRUE\",PACKT03!G84)+SUMIF(PACKT04!$R84,\"TRUE\",PACKT04!G84)+SUMIF(PACKT05!$R84,\"TRUE\",PACKT05!G84)+SUMIF(PACKT06!$R85,\"TRUE\",PACKT06!G85)+SUMIF(PACKT07!$R84,\"TRUE\",PACKT07!G84)+SUMIF(PACKT08!$R84,\"TRUE\",PACKT08!G84)+SUMIF(PACKT09!$R84,\"TRUE\",PACKT09!G84)+SUMIF(PACKT10!$R84,\"TRUE\",PACKT10!G84)+SUMIF(PACKT11!$R84,\"TRUE\",PACKT11!G84)","v":0},{"$f":"SUMIF(PACKT01!$R84,\"TRUE\",PACKT01!H84)+SUMIF(PACKT02!$R84,\"TRUE\",PACKT02!H84)+SUMIF(PACKT03!$R84,\"TRUE\",PACKT03!H84)+SUMIF(PACKT04!$R84,\"TRUE\",PACKT04!H84)+SUMIF(PACKT05!$R84,\"TRUE\",PACKT05!H84)+SUMIF(PACKT06!$R85,\"TRUE\",PACKT06!H85)+SUMIF(PACKT07!$R84,\"TRUE\",PACKT07!H84)+SUMIF(PACKT08!$R84,\"TRUE\",PACKT08!H84)+SUMIF(PACKT09!$R84,\"TRUE\",PACKT09!H84)+SUMIF(PACKT10!$R84,\"TRUE\",PACKT10!H84)+SUMIF(PACKT11!$R84,\"TRUE\",PACKT11!H84)","v":0},{"$f":"SUMIF(PACKT01!$R84,\"TRUE\",PACKT01!I84)+SUMIF(PACKT02!$R84,\"TRUE\",PACKT02!I84)+SUMIF(PACKT03!$R84,\"TRUE\",PACKT03!I84)+SUMIF(PACKT04!$R84,\"TRUE\",PACKT04!I84)+SUMIF(PACKT05!$R84,\"TRUE\",PACKT05!I84)+SUMIF(PACKT06!$R85,\"TRUE\",PACKT06!I85)+SUMIF(PACKT07!$R84,\"TRUE\",PACKT07!I84)+SUMIF(PACKT08!$R84,\"TRUE\",PACKT08!I84)+SUMIF(PACKT09!$R84,\"TRUE\",PACKT09!I84)+SUMIF(PACKT10!$R84,\"TRUE\",PACKT10!I84)+SUMIF(PACKT11!$R84,\"TRUE\",PACKT11!I84)","v":0},{"$f":"SUMIF(PACKT01!$R84,\"TRUE\",PACKT01!J84)+SUMIF(PACKT02!$R84,\"TRUE\",PACKT02!J84)+SUMIF(PACKT03!$R84,\"TRUE\",PACKT03!J84)+SUMIF(PACKT04!$R84,\"TRUE\",PACKT04!J84)+SUMIF(PACKT05!$R84,\"TRUE\",PACKT05!J84)+SUMIF(PACKT06!$R85,\"TRUE\",PACKT06!J85)+SUMIF(PACKT07!$R84,\"TRUE\",PACKT07!J84)+SUMIF(PACKT08!$R84,\"TRUE\",PACKT08!J84)+SUMIF(PACKT09!$R84,\"TRUE\",PACKT09!J84)+SUMIF(PACKT10!$R84,\"TRUE\",PACKT10!J84)+SUMIF(PACKT11!$R84,\"TRUE\",PACKT11!J84)","v":0},{"$f":"SUMIF(PACKT01!$R84,\"TRUE\",PACKT01!K84)+SUMIF(PACKT02!$R84,\"TRUE\",PACKT02!K84)+SUMIF(PACKT03!$R84,\"TRUE\",PACKT03!K84)+SUMIF(PACKT04!$R84,\"TRUE\",PACKT04!K84)+SUMIF(PACKT05!$R84,\"TRUE\",PACKT05!K84)+SUMIF(PACKT06!$R85,\"TRUE\",PACKT06!K85)+SUMIF(PACKT07!$R84,\"TRUE\",PACKT07!K84)+SUMIF(PACKT08!$R84,\"TRUE\",PACKT08!K84)+SUMIF(PACKT09!$R84,\"TRUE\",PACKT09!K84)+SUMIF(PACKT10!$R84,\"TRUE\",PACKT10!K84)+SUMIF(PACKT11!$R84,\"TRUE\",PACKT11!K84)","v":0},{"$f":"SUMIF(PACKT01!$R84,\"TRUE\",PACKT01!L84)+SUMIF(PACKT02!$R84,\"TRUE\",PACKT02!L84)+SUMIF(PACKT03!$R84,\"TRUE\",PACKT03!L84)+SUMIF(PACKT04!$R84,\"TRUE\",PACKT04!L84)+SUMIF(PACKT05!$R84,\"TRUE\",PACKT05!L84)+SUMIF(PACKT06!$R85,\"TRUE\",PACKT06!L85)+SUMIF(PACKT07!$R84,\"TRUE\",PACKT07!L84)+SUMIF(PACKT08!$R84,\"TRUE\",PACKT08!L84)+SUMIF(PACKT09!$R84,\"TRUE\",PACKT09!L84)+SUMIF(PACKT10!$R84,\"TRUE\",PACKT10!L84)+SUMIF(PACKT11!$R84,\"TRUE\",PACKT11!L84)","v":0},{"$f":"SUMIF(PACKT01!$R84,\"TRUE\",PACKT01!M84)+SUMIF(PACKT02!$R84,\"TRUE\",PACKT02!M84)+SUMIF(PACKT03!$R84,\"TRUE\",PACKT03!M84)+SUMIF(PACKT04!$R84,\"TRUE\",PACKT04!M84)+SUMIF(PACKT05!$R84,\"TRUE\",PACKT05!M84)+SUMIF(PACKT06!$R85,\"TRUE\",PACKT06!M85)+SUMIF(PACKT07!$R84,\"TRUE\",PACKT07!M84)+SUMIF(PACKT08!$R84,\"TRUE\",PACKT08!M84)+SUMIF(PACKT09!$R84,\"TRUE\",PACKT09!M84)+SUMIF(PACKT10!$R84,\"TRUE\",PACKT10!M84)+SUMIF(PACKT11!$R84,\"TRUE\",PACKT11!M84)","v":0},{"$f":"SUMIF(PACKT01!$R84,\"TRUE\",PACKT01!N84)+SUMIF(PACKT02!$R84,\"TRUE\",PACKT02!N84)+SUMIF(PACKT03!$R84,\"TRUE\",PACKT03!N84)+SUMIF(PACKT04!$R84,\"TRUE\",PACKT04!N84)+SUMIF(PACKT05!$R84,\"TRUE\",PACKT05!N84)+SUMIF(PACKT06!$R85,\"TRUE\",PACKT06!N85)+SUMIF(PACKT07!$R84,\"TRUE\",PACKT07!N84)+SUMIF(PACKT08!$R84,\"TRUE\",PACKT08!N84)+SUMIF(PACKT09!$R84,\"TRUE\",PACKT09!N84)+SUMIF(PACKT10!$R84,\"TRUE\",PACKT10!N84)+SUMIF(PACKT11!$R84,\"TRUE\",PACKT11!N84)","v":0},{"$f":"SUMIF(PACKT01!$R84,\"TRUE\",PACKT01!O84)+SUMIF(PACKT02!$R84,\"TRUE\",PACKT02!O84)+SUMIF(PACKT03!$R84,\"TRUE\",PACKT03!O84)+SUMIF(PACKT04!$R84,\"TRUE\",PACKT04!O84)+SUMIF(PACKT05!$R84,\"TRUE\",PACKT05!O84)+SUMIF(PACKT06!$R85,\"TRUE\",PACKT06!O85)+SUMIF(PACKT07!$R84,\"TRUE\",PACKT07!O84)+SUMIF(PACKT08!$R84,\"TRUE\",PACKT08!O84)+SUMIF(PACKT09!$R84,\"TRUE\",PACKT09!O84)+SUMIF(PACKT10!$R84,\"TRUE\",PACKT10!O84)+SUMIF(PACKT11!$R84,\"TRUE\",PACKT11!O84)","v":0},{"$f":"SUMIF(PACKT01!$R84,\"TRUE\",PACKT01!P84)+SUMIF(PACKT02!$R84,\"TRUE\",PACKT02!P84)+SUMIF(PACKT03!$R84,\"TRUE\",PACKT03!P84)+SUMIF(PACKT04!$R84,\"TRUE\",PACKT04!P84)+SUMIF(PACKT05!$R84,\"TRUE\",PACKT05!P84)+SUMIF(PACKT06!$R85,\"TRUE\",PACKT06!P85)+SUMIF(PACKT07!$R84,\"TRUE\",PACKT07!P84)+SUMIF(PACKT08!$R84,\"TRUE\",PACKT08!P84)+SUMIF(PACKT09!$R84,\"TRUE\",PACKT09!P84)+SUMIF(PACKT10!$R84,\"TRUE\",PACKT10!P84)+SUMIF(PACKT11!$R84,\"TRUE\",PACKT11!P84)","v":0},{"$f":"SUMIF(PACKT01!$R84,\"TRUE\",PACKT01!Q84)+SUMIF(PACKT02!$R84,\"TRUE\",PACKT02!Q84)+SUMIF(PACKT03!$R84,\"TRUE\",PACKT03!Q84)+SUMIF(PACKT04!$R84,\"TRUE\",PACKT04!Q84)+SUMIF(PACKT05!$R84,\"TRUE\",PACKT05!Q84)+SUMIF(PACKT06!$R85,\"TRUE\",PACKT06!Q85)+SUMIF(PACKT07!$R84,\"TRUE\",PACKT07!Q84)+SUMIF(PACKT08!$R84,\"TRUE\",PACKT08!Q84)+SUMIF(PACKT09!$R84,\"TRUE\",PACKT09!Q84)+SUMIF(PACKT10!$R84,\"TRUE\",PACKT10!Q84)+SUMIF(PACKT11!$R84,\"TRUE\",PACKT11!Q84)","v":0},0]
[null,"EMP0074",{"$f":"VLOOKUP(HRSummarylTable[[#This Row],[EmployeeID]],EmployeeListLookupTable[],2,FALSE)","v":"EMPN074"},{"$f":"VLOOKUP(HRSummarylTable[[#This Row],[EmployeeID]],EmployeeListLookupTable[],3,FALSE)","v":"Employee Name 74"},{"$f":"VLOOKUP(HRSummarylTable[[#This Row],[EmployeeID]],EmployeeListLookupTable[],4,FALSE)","v":"Employee Job Title 74"},"TCTC001 - Total Cost to Company",{"$f":"LEFT(HRSummarylTable[[#This Row],[PackageItemCode]],7)","v":"TCTC001"},{"$f":"VLOOKUP(HRSummarylTable[[#This Row],[PackageItem]],PackageItemListLookup[],2,FALSE)","v":"Total Cost to Company"},null,{"$f":"SUMIF(PACKT01!$R85,\"TRUE\",PACKT01!F85)+SUMIF(PACKT02!$R85,\"TRUE\",PACKT02!F85)+SUMIF(PACKT03!$R85,\"TRUE\",PACKT03!F85)+SUMIF(PACKT04!$R85,\"TRUE\",PACKT04!F85)+SUMIF(PACKT05!$R85,\"TRUE\",PACKT05!F85)+SUMIF(PACKT06!$R86,\"TRUE\",PACKT06!F86)+SUMIF(PACKT07!$R85,\"TRUE\",PACKT07!F85)+SUMIF(PACKT08!$R85,\"TRUE\",PACKT08!F85)+SUMIF(PACKT09!$R85,\"TRUE\",PACKT09!F85)+SUMIF(PACKT10!$R85,\"TRUE\",PACKT10!F85)+SUMIF(PACKT11!$R85,\"TRUE\",PACKT11!F85)","v":0},{"$f":"SUMIF(PACKT01!$R85,\"TRUE\",PACKT01!G85)+SUMIF(PACKT02!$R85,\"TRUE\",PACKT02!G85)+SUMIF(PACKT03!$R85,\"TRUE\",PACKT03!G85)+SUMIF(PACKT04!$R85,\"TRUE\",PACKT04!G85)+SUMIF(PACKT05!$R85,\"TRUE\",PACKT05!G85)+SUMIF(PACKT06!$R86,\"TRUE\",PACKT06!G86)+SUMIF(PACKT07!$R85,\"TRUE\",PACKT07!G85)+SUMIF(PACKT08!$R85,\"TRUE\",PACKT08!G85)+SUMIF(PACKT09!$R85,\"TRUE\",PACKT09!G85)+SUMIF(PACKT10!$R85,\"TRUE\",PACKT10!G85)+SUMIF(PACKT11!$R85,\"TRUE\",PACKT11!G85)","v":0},{"$f":"SUMIF(PACKT01!$R85,\"TRUE\",PACKT01!H85)+SUMIF(PACKT02!$R85,\"TRUE\",PACKT02!H85)+SUMIF(PACKT03!$R85,\"TRUE\",PACKT03!H85)+SUMIF(PACKT04!$R85,\"TRUE\",PACKT04!H85)+SUMIF(PACKT05!$R85,\"TRUE\",PACKT05!H85)+SUMIF(PACKT06!$R86,\"TRUE\",PACKT06!H86)+SUMIF(PACKT07!$R85,\"TRUE\",PACKT07!H85)+SUMIF(PACKT08!$R85,\"TRUE\",PACKT08!H85)+SUMIF(PACKT09!$R85,\"TRUE\",PACKT09!H85)+SUMIF(PACKT10!$R85,\"TRUE\",PACKT10!H85)+SUMIF(PACKT11!$R85,\"TRUE\",PACKT11!H85)","v":0},{"$f":"SUMIF(PACKT01!$R85,\"TRUE\",PACKT01!I85)+SUMIF(PACKT02!$R85,\"TRUE\",PACKT02!I85)+SUMIF(PACKT03!$R85,\"TRUE\",PACKT03!I85)+SUMIF(PACKT04!$R85,\"TRUE\",PACKT04!I85)+SUMIF(PACKT05!$R85,\"TRUE\",PACKT05!I85)+SUMIF(PACKT06!$R86,\"TRUE\",PACKT06!I86)+SUMIF(PACKT07!$R85,\"TRUE\",PACKT07!I85)+SUMIF(PACKT08!$R85,\"TRUE\",PACKT08!I85)+SUMIF(PACKT09!$R85,\"TRUE\",PACKT09!I85)+SUMIF(PACKT10!$R85,\"TRUE\",PACKT10!I85)+SUMIF(PACKT11!$R85,\"TRUE\",PACKT11!I85)","v":0},{"$f":"SUMIF(PACKT01!$R85,\"TRUE\",PACKT01!J85)+SUMIF(PACKT02!$R85,\"TRUE\",PACKT02!J85)+SUMIF(PACKT03!$R85,\"TRUE\",PACKT03!J85)+SUMIF(PACKT04!$R85,\"TRUE\",PACKT04!J85)+SUMIF(PACKT05!$R85,\"TRUE\",PACKT05!J85)+SUMIF(PACKT06!$R86,\"TRUE\",PACKT06!J86)+SUMIF(PACKT07!$R85,\"TRUE\",PACKT07!J85)+SUMIF(PACKT08!$R85,\"TRUE\",PACKT08!J85)+SUMIF(PACKT09!$R85,\"TRUE\",PACKT09!J85)+SUMIF(PACKT10!$R85,\"TRUE\",PACKT10!J85)+SUMIF(PACKT11!$R85,\"TRUE\",PACKT11!J85)","v":0},{"$f":"SUMIF(PACKT01!$R85,\"TRUE\",PACKT01!K85)+SUMIF(PACKT02!$R85,\"TRUE\",PACKT02!K85)+SUMIF(PACKT03!$R85,\"TRUE\",PACKT03!K85)+SUMIF(PACKT04!$R85,\"TRUE\",PACKT04!K85)+SUMIF(PACKT05!$R85,\"TRUE\",PACKT05!K85)+SUMIF(PACKT06!$R86,\"TRUE\",PACKT06!K86)+SUMIF(PACKT07!$R85,\"TRUE\",PACKT07!K85)+SUMIF(PACKT08!$R85,\"TRUE\",PACKT08!K85)+SUMIF(PACKT09!$R85,\"TRUE\",PACKT09!K85)+SUMIF(PACKT10!$R85,\"TRUE\",PACKT10!K85)+SUMIF(PACKT11!$R85,\"TRUE\",PACKT11!K85)","v":0},{"$f":"SUMIF(PACKT01!$R85,\"TRUE\",PACKT01!L85)+SUMIF(PACKT02!$R85,\"TRUE\",PACKT02!L85)+SUMIF(PACKT03!$R85,\"TRUE\",PACKT03!L85)+SUMIF(PACKT04!$R85,\"TRUE\",PACKT04!L85)+SUMIF(PACKT05!$R85,\"TRUE\",PACKT05!L85)+SUMIF(PACKT06!$R86,\"TRUE\",PACKT06!L86)+SUMIF(PACKT07!$R85,\"TRUE\",PACKT07!L85)+SUMIF(PACKT08!$R85,\"TRUE\",PACKT08!L85)+SUMIF(PACKT09!$R85,\"TRUE\",PACKT09!L85)+SUMIF(PACKT10!$R85,\"TRUE\",PACKT10!L85)+SUMIF(PACKT11!$R85,\"TRUE\",PACKT11!L85)","v":0},{"$f":"SUMIF(PACKT01!$R85,\"TRUE\",PACKT01!M85)+SUMIF(PACKT02!$R85,\"TRUE\",PACKT02!M85)+SUMIF(PACKT03!$R85,\"TRUE\",PACKT03!M85)+SUMIF(PACKT04!$R85,\"TRUE\",PACKT04!M85)+SUMIF(PACKT05!$R85,\"TRUE\",PACKT05!M85)+SUMIF(PACKT06!$R86,\"TRUE\",PACKT06!M86)+SUMIF(PACKT07!$R85,\"TRUE\",PACKT07!M85)+SUMIF(PACKT08!$R85,\"TRUE\",PACKT08!M85)+SUMIF(PACKT09!$R85,\"TRUE\",PACKT09!M85)+SUMIF(PACKT10!$R85,\"TRUE\",PACKT10!M85)+SUMIF(PACKT11!$R85,\"TRUE\",PACKT11!M85)","v":0},{"$f":"SUMIF(PACKT01!$R85,\"TRUE\",PACKT01!N85)+SUMIF(PACKT02!$R85,\"TRUE\",PACKT02!N85)+SUMIF(PACKT03!$R85,\"TRUE\",PACKT03!N85)+SUMIF(PACKT04!$R85,\"TRUE\",PACKT04!N85)+SUMIF(PACKT05!$R85,\"TRUE\",PACKT05!N85)+SUMIF(PACKT06!$R86,\"TRUE\",PACKT06!N86)+SUMIF(PACKT07!$R85,\"TRUE\",PACKT07!N85)+SUMIF(PACKT08!$R85,\"TRUE\",PACKT08!N85)+SUMIF(PACKT09!$R85,\"TRUE\",PACKT09!N85)+SUMIF(PACKT10!$R85,\"TRUE\",PACKT10!N85)+SUMIF(PACKT11!$R85,\"TRUE\",PACKT11!N85)","v":0},{"$f":"SUMIF(PACKT01!$R85,\"TRUE\",PACKT01!O85)+SUMIF(PACKT02!$R85,\"TRUE\",PACKT02!O85)+SUMIF(PACKT03!$R85,\"TRUE\",PACKT03!O85)+SUMIF(PACKT04!$R85,\"TRUE\",PACKT04!O85)+SUMIF(PACKT05!$R85,\"TRUE\",PACKT05!O85)+SUMIF(PACKT06!$R86,\"TRUE\",PACKT06!O86)+SUMIF(PACKT07!$R85,\"TRUE\",PACKT07!O85)+SUMIF(PACKT08!$R85,\"TRUE\",PACKT08!O85)+SUMIF(PACKT09!$R85,\"TRUE\",PACKT09!O85)+SUMIF(PACKT10!$R85,\"TRUE\",PACKT10!O85)+SUMIF(PACKT11!$R85,\"TRUE\",PACKT11!O85)","v":0},{"$f":"SUMIF(PACKT01!$R85,\"TRUE\",PACKT01!P85)+SUMIF(PACKT02!$R85,\"TRUE\",PACKT02!P85)+SUMIF(PACKT03!$R85,\"TRUE\",PACKT03!P85)+SUMIF(PACKT04!$R85,\"TRUE\",PACKT04!P85)+SUMIF(PACKT05!$R85,\"TRUE\",PACKT05!P85)+SUMIF(PACKT06!$R86,\"TRUE\",PACKT06!P86)+SUMIF(PACKT07!$R85,\"TRUE\",PACKT07!P85)+SUMIF(PACKT08!$R85,\"TRUE\",PACKT08!P85)+SUMIF(PACKT09!$R85,\"TRUE\",PACKT09!P85)+SUMIF(PACKT10!$R85,\"TRUE\",PACKT10!P85)+SUMIF(PACKT11!$R85,\"TRUE\",PACKT11!P85)","v":0},{"$f":"SUMIF(PACKT01!$R85,\"TRUE\",PACKT01!Q85)+SUMIF(PACKT02!$R85,\"TRUE\",PACKT02!Q85)+SUMIF(PACKT03!$R85,\"TRUE\",PACKT03!Q85)+SUMIF(PACKT04!$R85,\"TRUE\",PACKT04!Q85)+SUMIF(PACKT05!$R85,\"TRUE\",PACKT05!Q85)+SUMIF(PACKT06!$R86,\"TRUE\",PACKT06!Q86)+SUMIF(PACKT07!$R85,\"TRUE\",PACKT07!Q85)+SUMIF(PACKT08!$R85,\"TRUE\",PACKT08!Q85)+SUMIF(PACKT09!$R85,\"TRUE\",PACKT09!Q85)+SUMIF(PACKT10!$R85,\"TRUE\",PACKT10!Q85)+SUMIF(PACKT11!$R85,\"TRUE\",PACKT11!Q85)","v":0},{"$f":"SUM(L84:U84)","v":0}]
[null,"EMP0075",{"$f":"VLOOKUP(HRSummarylTable[[#This Row],[EmployeeID]],EmployeeListLookupTable[],2,FALSE)","v":"EMPN075"},{"$f":"VLOOKUP(HRSummarylTable[[#This Row],[EmployeeID]],EmployeeListLookupTable[],3,FALSE)","v":"Employee Name 75"},{"$f":"VLOOKUP(HRSummarylTable[[#This Row],[EmployeeID]],EmployeeListLookupTable[],4,FALSE)","v":"Employee Job Title 75"},"TCTC001 - Total Cost to Company",{"$f":"LEFT(HRSummarylTable[[#This Row],[PackageItemCode]],7)","v":"TCTC001"},{"$f":"VLOOKUP(HRSummarylTable[[#This Row],[PackageItem]],PackageItemListLookup[],2,FALSE)","v":"Total Cost to Company"},null,{"$f":"SUMIF(PACKT01!$R86,\"TRUE\",PACKT01!F86)+SUMIF(PACKT02!$R86,\"TRUE\",PACKT02!F86)+SUMIF(PACKT03!$R86,\"TRUE\",PACKT03!F86)+SUMIF(PACKT04!$R86,\"TRUE\",PACKT04!F86)+SUMIF(PACKT05!$R86,\"TRUE\",PACKT05!F86)+SUMIF(PACKT06!$R87,\"TRUE\",PACKT06!F87)+SUMIF(PACKT07!$R86,\"TRUE\",PACKT07!F86)+SUMIF(PACKT08!$R86,\"TRUE\",PACKT08!F86)+SUMIF(PACKT09!$R86,\"TRUE\",PACKT09!F86)+SUMIF(PACKT10!$R86,\"TRUE\",PACKT10!F86)+SUMIF(PACKT11!$R86,\"TRUE\",PACKT11!F86)","v":0},{"$f":"SUMIF(PACKT01!$R86,\"TRUE\",PACKT01!G86)+SUMIF(PACKT02!$R86,\"TRUE\",PACKT02!G86)+SUMIF(PACKT03!$R86,\"TRUE\",PACKT03!G86)+SUMIF(PACKT04!$R86,\"TRUE\",PACKT04!G86)+SUMIF(PACKT05!$R86,\"TRUE\",PACKT05!G86)+SUMIF(PACKT06!$R87,\"TRUE\",PACKT06!G87)+SUMIF(PACKT07!$R86,\"TRUE\",PACKT07!G86)+SUMIF(PACKT08!$R86,\"TRUE\",PACKT08!G86)+SUMIF(PACKT09!$R86,\"TRUE\",PACKT09!G86)+SUMIF(PACKT10!$R86,\"TRUE\",PACKT10!G86)+SUMIF(PACKT11!$R86,\"TRUE\",PACKT11!G86)","v":0},{"$f":"SUMIF(PACKT01!$R86,\"TRUE\",PACKT01!H86)+SUMIF(PACKT02!$R86,\"TRUE\",PACKT02!H86)+SUMIF(PACKT03!$R86,\"TRUE\",PACKT03!H86)+SUMIF(PACKT04!$R86,\"TRUE\",PACKT04!H86)+SUMIF(PACKT05!$R86,\"TRUE\",PACKT05!H86)+SUMIF(PACKT06!$R87,\"TRUE\",PACKT06!H87)+SUMIF(PACKT07!$R86,\"TRUE\",PACKT07!H86)+SUMIF(PACKT08!$R86,\"TRUE\",PACKT08!H86)+SUMIF(PACKT09!$R86,\"TRUE\",PACKT09!H86)+SUMIF(PACKT10!$R86,\"TRUE\",PACKT10!H86)+SUMIF(PACKT11!$R86,\"TRUE\",PACKT11!H86)","v":0},{"$f":"SUMIF(PACKT01!$R86,\"TRUE\",PACKT01!I86)+SUMIF(PACKT02!$R86,\"TRUE\",PACKT02!I86)+SUMIF(PACKT03!$R86,\"TRUE\",PACKT03!I86)+SUMIF(PACKT04!$R86,\"TRUE\",PACKT04!I86)+SUMIF(PACKT05!$R86,\"TRUE\",PACKT05!I86)+SUMIF(PACKT06!$R87,\"TRUE\",PACKT06!I87)+SUMIF(PACKT07!$R86,\"TRUE\",PACKT07!I86)+SUMIF(PACKT08!$R86,\"TRUE\",PACKT08!I86)+SUMIF(PACKT09!$R86,\"TRUE\",PACKT09!I86)+SUMIF(PACKT10!$R86,\"TRUE\",PACKT10!I86)+SUMIF(PACKT11!$R86,\"TRUE\",PACKT11!I86)","v":0},{"$f":"SUMIF(PACKT01!$R86,\"TRUE\",PACKT01!J86)+SUMIF(PACKT02!$R86,\"TRUE\",PACKT02!J86)+SUMIF(PACKT03!$R86,\"TRUE\",PACKT03!J86)+SUMIF(PACKT04!$R86,\"TRUE\",PACKT04!J86)+SUMIF(PACKT05!$R86,\"TRUE\",PACKT05!J86)+SUMIF(PACKT06!$R87,\"TRUE\",PACKT06!J87)+SUMIF(PACKT07!$R86,\"TRUE\",PACKT07!J86)+SUMIF(PACKT08!$R86,\"TRUE\",PACKT08!J86)+SUMIF(PACKT09!$R86,\"TRUE\",PACKT09!J86)+SUMIF(PACKT10!$R86,\"TRUE\",PACKT10!J86)+SUMIF(PACKT11!$R86,\"TRUE\",PACKT11!J86)","v":0},{"$f":"SUMIF(PACKT01!$R86,\"TRUE\",PACKT01!K86)+SUMIF(PACKT02!$R86,\"TRUE\",PACKT02!K86)+SUMIF(PACKT03!$R86,\"TRUE\",PACKT03!K86)+SUMIF(PACKT04!$R86,\"TRUE\",PACKT04!K86)+SUMIF(PACKT05!$R86,\"TRUE\",PACKT05!K86)+SUMIF(PACKT06!$R87,\"TRUE\",PACKT06!K87)+SUMIF(PACKT07!$R86,\"TRUE\",PACKT07!K86)+SUMIF(PACKT08!$R86,\"TRUE\",PACKT08!K86)+SUMIF(PACKT09!$R86,\"TRUE\",PACKT09!K86)+SUMIF(PACKT10!$R86,\"TRUE\",PACKT10!K86)+SUMIF(PACKT11!$R86,\"TRUE\",PACKT11!K86)","v":0},{"$f":"SUMIF(PACKT01!$R86,\"TRUE\",PACKT01!L86)+SUMIF(PACKT02!$R86,\"TRUE\",PACKT02!L86)+SUMIF(PACKT03!$R86,\"TRUE\",PACKT03!L86)+SUMIF(PACKT04!$R86,\"TRUE\",PACKT04!L86)+SUMIF(PACKT05!$R86,\"TRUE\",PACKT05!L86)+SUMIF(PACKT06!$R87,\"TRUE\",PACKT06!L87)+SUMIF(PACKT07!$R86,\"TRUE\",PACKT07!L86)+SUMIF(PACKT08!$R86,\"TRUE\",PACKT08!L86)+SUMIF(PACKT09!$R86,\"TRUE\",PACKT09!L86)+SUMIF(PACKT10!$R86,\"TRUE\",PACKT10!L86)+SUMIF(PACKT11!$R86,\"TRUE\",PACKT11!L86)","v":0},{"$f":"SUMIF(PACKT01!$R86,\"TRUE\",PACKT01!M86)+SUMIF(PACKT02!$R86,\"TRUE\",PACKT02!M86)+SUMIF(PACKT03!$R86,\"TRUE\",PACKT03!M86)+SUMIF(PACKT04!$R86,\"TRUE\",PACKT04!M86)+SUMIF(PACKT05!$R86,\"TRUE\",PACKT05!M86)+SUMIF(PACKT06!$R87,\"TRUE\",PACKT06!M87)+SUMIF(PACKT07!$R86,\"TRUE\",PACKT07!M86)+SUMIF(PACKT08!$R86,\"TRUE\",PACKT08!M86)+SUMIF(PACKT09!$R86,\"TRUE\",PACKT09!M86)+SUMIF(PACKT10!$R86,\"TRUE\",PACKT10!M86)+SUMIF(PACKT11!$R86,\"TRUE\",PACKT11!M86)","v":0},{"$f":"SUMIF(PACKT01!$R86,\"TRUE\",PACKT01!N86)+SUMIF(PACKT02!$R86,\"TRUE\",PACKT02!N86)+SUMIF(PACKT03!$R86,\"TRUE\",PACKT03!N86)+SUMIF(PACKT04!$R86,\"TRUE\",PACKT04!N86)+SUMIF(PACKT05!$R86,\"TRUE\",PACKT05!N86)+SUMIF(PACKT06!$R87,\"TRUE\",PACKT06!N87)+SUMIF(PACKT07!$R86,\"TRUE\",PACKT07!N86)+SUMIF(PACKT08!$R86,\"TRUE\",PACKT08!N86)+SUMIF(PACKT09!$R86,\"TRUE\",PACKT09!N86)+SUMIF(PACKT10!$R86,\"TRUE\",PACKT10!N86)+SUMIF(PACKT11!$R86,\"TRUE\",PACKT11!N86)","v":0},{"$f":"SUMIF(PACKT01!$R86,\"TRUE\",PACKT01!O86)+SUMIF(PACKT02!$R86,\"TRUE\",PACKT02!O86)+SUMIF(PACKT03!$R86,\"TRUE\",PACKT03!O86)+SUMIF(PACKT04!$R86,\"TRUE\",PACKT04!O86)+SUMIF(PACKT05!$R86,\"TRUE\",PACKT05!O86)+SUMIF(PACKT06!$R87,\"TRUE\",PACKT06!O87)+SUMIF(PACKT07!$R86,\"TRUE\",PACKT07!O86)+SUMIF(PACKT08!$R86,\"TRUE\",PACKT08!O86)+SUMIF(PACKT09!$R86,\"TRUE\",PACKT09!O86)+SUMIF(PACKT10!$R86,\"TRUE\",PACKT10!O86)+SUMIF(PACKT11!$R86,\"TRUE\",PACKT11!O86)","v":0},{"$f":"SUMIF(PACKT01!$R86,\"TRUE\",PACKT01!P86)+SUMIF(PACKT02!$R86,\"TRUE\",PACKT02!P86)+SUMIF(PACKT03!$R86,\"TRUE\",PACKT03!P86)+SUMIF(PACKT04!$R86,\"TRUE\",PACKT04!P86)+SUMIF(PACKT05!$R86,\"TRUE\",PACKT05!P86)+SUMIF(PACKT06!$R87,\"TRUE\",PACKT06!P87)+SUMIF(PACKT07!$R86,\"TRUE\",PACKT07!P86)+SUMIF(PACKT08!$R86,\"TRUE\",PACKT08!P86)+SUMIF(PACKT09!$R86,\"TRUE\",PACKT09!P86)+SUMIF(PACKT10!$R86,\"TRUE\",PACKT10!P86)+SUMIF(PACKT11!$R86,\"TRUE\",PACKT11!P86)","v":0},{"$f":"SUMIF(PACKT01!$R86,\"TRUE\",PACKT01!Q86)+SUMIF(PACKT02!$R86,\"TRUE\",PACKT02!Q86)+SUMIF(PACKT03!$R86,\"TRUE\",PACKT03!Q86)+SUMIF(PACKT04!$R86,\"TRUE\",PACKT04!Q86)+SUMIF(PACKT05!$R86,\"TRUE\",PACKT05!Q86)+SUMIF(PACKT06!$R87,\"TRUE\",PACKT06!Q87)+SUMIF(PACKT07!$R86,\"TRUE\",PACKT07!Q86)+SUMIF(PACKT08!$R86,\"TRUE\",PACKT08!Q86)+SUMIF(PACKT09!$R86,\"TRUE\",PACKT09!Q86)+SUMIF(PACKT10!$R86,\"TRUE\",PACKT10!Q86)+SUMIF(PACKT11!$R86,\"TRUE\",PACKT11!Q86)","v":0},0]
[null,"EMP0076",{"$f":"VLOOKUP(HRSummarylTable[[#This Row],[EmployeeID]],EmployeeListLookupTable[],2,FALSE)","v":"EMPN076"},{"$f":"VLOOKUP(HRSummarylTable[[#This Row],[EmployeeID]],EmployeeListLookupTable[],3,FALSE)","v":"Employee Name 76"},{"$f":"VLOOKUP(HRSummarylTable[[#This Row],[EmployeeID]],EmployeeListLookupTable[],4,FALSE)","v":"Employee Job Title 76"},"TCTC001 - Total Cost to Company",{"$f":"LEFT(HRSummarylTable[[#This Row],[PackageItemCode]],7)","v":"TCTC001"},{"$f":"VLOOKUP(HRSummarylTable[[#This Row],[PackageItem]],PackageItemListLookup[],2,FALSE)","v":"Total Cost to Company"},null,{"$f":"SUMIF(PACKT01!$R87,\"TRUE\",PACKT01!F87)+SUMIF(PACKT02!$R87,\"TRUE\",PACKT02!F87)+SUMIF(PACKT03!$R87,\"TRUE\",PACKT03!F87)+SUMIF(PACKT04!$R87,\"TRUE\",PACKT04!F87)+SUMIF(PACKT05!$R87,\"TRUE\",PACKT05!F87)+SUMIF(PACKT06!$R88,\"TRUE\",PACKT06!F88)+SUMIF(PACKT07!$R87,\"TRUE\",PACKT07!F87)+SUMIF(PACKT08!$R87,\"TRUE\",PACKT08!F87)+SUMIF(PACKT09!$R87,\"TRUE\",PACKT09!F87)+SUMIF(PACKT10!$R87,\"TRUE\",PACKT10!F87)+SUMIF(PACKT11!$R87,\"TRUE\",PACKT11!F87)","v":0},{"$f":"SUMIF(PACKT01!$R87,\"TRUE\",PACKT01!G87)+SUMIF(PACKT02!$R87,\"TRUE\",PACKT02!G87)+SUMIF(PACKT03!$R87,\"TRUE\",PACKT03!G87)+SUMIF(PACKT04!$R87,\"TRUE\",PACKT04!G87)+SUMIF(PACKT05!$R87,\"TRUE\",PACKT05!G87)+SUMIF(PACKT06!$R88,\"TRUE\",PACKT06!G88)+SUMIF(PACKT07!$R87,\"TRUE\",PACKT07!G87)+SUMIF(PACKT08!$R87,\"TRUE\",PACKT08!G87)+SUMIF(PACKT09!$R87,\"TRUE\",PACKT09!G87)+SUMIF(PACKT10!$R87,\"TRUE\",PACKT10!G87)+SUMIF(PACKT11!$R87,\"TRUE\",PACKT11!G87)","v":0},{"$f":"SUMIF(PACKT01!$R87,\"TRUE\",PACKT01!H87)+SUMIF(PACKT02!$R87,\"TRUE\",PACKT02!H87)+SUMIF(PACKT03!$R87,\"TRUE\",PACKT03!H87)+SUMIF(PACKT04!$R87,\"TRUE\",PACKT04!H87)+SUMIF(PACKT05!$R87,\"TRUE\",PACKT05!H87)+SUMIF(PACKT06!$R88,\"TRUE\",PACKT06!H88)+SUMIF(PACKT07!$R87,\"TRUE\",PACKT07!H87)+SUMIF(PACKT08!$R87,\"TRUE\",PACKT08!H87)+SUMIF(PACKT09!$R87,\"TRUE\",PACKT09!H87)+SUMIF(PACKT10!$R87,\"TRUE\",PACKT10!H87)+SUMIF(PACKT11!$R87,\"TRUE\",PACKT11!H87)","v":0},{"$f":"SUMIF(PACKT01!$R87,\"TRUE\",PACKT01!I87)+SUMIF(PACKT02!$R87,\"TRUE\",PACKT02!I87)+SUMIF(PACKT03!$R87,\"TRUE\",PACKT03!I87)+SUMIF(PACKT04!$R87,\"TRUE\",PACKT04!I87)+SUMIF(PACKT05!$R87,\"TRUE\",PACKT05!I87)+SUMIF(PACKT06!$R88,\"TRUE\",PACKT06!I88)+SUMIF(PACKT07!$R87,\"TRUE\",PACKT07!I87)+SUMIF(PACKT08!$R87,\"TRUE\",PACKT08!I87)+SUMIF(PACKT09!$R87,\"TRUE\",PACKT09!I87)+SUMIF(PACKT10!$R87,\"TRUE\",PACKT10!I87)+SUMIF(PACKT11!$R87,\"TRUE\",PACKT11!I87)","v":0},{"$f":"SUMIF(PACKT01!$R87,\"TRUE\",PACKT01!J87)+SUMIF(PACKT02!$R87,\"TRUE\",PACKT02!J87)+SUMIF(PACKT03!$R87,\"TRUE\",PACKT03!J87)+SUMIF(PACKT04!$R87,\"TRUE\",PACKT04!J87)+SUMIF(PACKT05!$R87,\"TRUE\",PACKT05!J87)+SUMIF(PACKT06!$R88,\"TRUE\",PACKT06!J88)+SUMIF(PACKT07!$R87,\"TRUE\",PACKT07!J87)+SUMIF(PACKT08!$R87,\"TRUE\",PACKT08!J87)+SUMIF(PACKT09!$R87,\"TRUE\",PACKT09!J87)+SUMIF(PACKT10!$R87,\"TRUE\",PACKT10!J87)+SUMIF(PACKT11!$R87,\"TRUE\",PACKT11!J87)","v":0},{"$f":"SUMIF(PACKT01!$R87,\"TRUE\",PACKT01!K87)+SUMIF(PACKT02!$R87,\"TRUE\",PACKT02!K87)+SUMIF(PACKT03!$R87,\"TRUE\",PACKT03!K87)+SUMIF(PACKT04!$R87,\"TRUE\",PACKT04!K87)+SUMIF(PACKT05!$R87,\"TRUE\",PACKT05!K87)+SUMIF(PACKT06!$R88,\"TRUE\",PACKT06!K88)+SUMIF(PACKT07!$R87,\"TRUE\",PACKT07!K87)+SUMIF(PACKT08!$R87,\"TRUE\",PACKT08!K87)+SUMIF(PACKT09!$R87,\"TRUE\",PACKT09!K87)+SUMIF(PACKT10!$R87,\"TRUE\",PACKT10!K87)+SUMIF(PACKT11!$R87,\"TRUE\",PACKT11!K87)","v":0},{"$f":"SUMIF(PACKT01!$R87,\"TRUE\",PACKT01!L87)+SUMIF(PACKT02!$R87,\"TRUE\",PACKT02!L87)+SUMIF(PACKT03!$R87,\"TRUE\",PACKT03!L87)+SUMIF(PACKT04!$R87,\"TRUE\",PACKT04!L87)+SUMIF(PACKT05!$R87,\"TRUE\",PACKT05!L87)+SUMIF(PACKT06!$R88,\"TRUE\",PACKT06!L88)+SUMIF(PACKT07!$R87,\"TRUE\",PACKT07!L87)+SUMIF(PACKT08!$R87,\"TRUE\",PACKT08!L87)+SUMIF(PACKT09!$R87,\"TRUE\",PACKT09!L87)+SUMIF(PACKT10!$R87,\"TRUE\",PACKT10!L87)+SUMIF(PACKT11!$R87,\"TRUE\",PACKT11!L87)","v":0},{"$f":"SUMIF(PACKT01!$R87,\"TRUE\",PACKT01!M87)+SUMIF(PACKT02!$R87,\"TRUE\",PACKT02!M87)+SUMIF(PACKT03!$R87,\"TRUE\",PACKT03!M87)+SUMIF(PACKT04!$R87,\"TRUE\",PACKT04!M87)+SUMIF(PACKT05!$R87,\"TRUE\",PACKT05!M87)+SUMIF(PACKT06!$R88,\"TRUE\",PACKT06!M88)+SUMIF(PACKT07!$R87,\"TRUE\",PACKT07!M87)+SUMIF(PACKT08!$R87,\"TRUE\",PACKT08!M87)+SUMIF(PACKT09!$R87,\"TRUE\",PACKT09!M87)+SUMIF(PACKT10!$R87,\"TRUE\",PACKT10!M87)+SUMIF(PACKT11!$R87,\"TRUE\",PACKT11!M87)","v":0},{"$f":"SUMIF(PACKT01!$R87,\"TRUE\",PACKT01!N87)+SUMIF(PACKT02!$R87,\"TRUE\",PACKT02!N87)+SUMIF(PACKT03!$R87,\"TRUE\",PACKT03!N87)+SUMIF(PACKT04!$R87,\"TRUE\",PACKT04!N87)+SUMIF(PACKT05!$R87,\"TRUE\",PACKT05!N87)+SUMIF(PACKT06!$R88,\"TRUE\",PACKT06!N88)+SUMIF(PACKT07!$R87,\"TRUE\",PACKT07!N87)+SUMIF(PACKT08!$R87,\"TRUE\",PACKT08!N87)+SUMIF(PACKT09!$R87,\"TRUE\",PACKT09!N87)+SUMIF(PACKT10!$R87,\"TRUE\",PACKT10!N87)+SUMIF(PACKT11!$R87,\"TRUE\",PACKT11!N87)","v":0},{"$f":"SUMIF(PACKT01!$R87,\"TRUE\",PACKT01!O87)+SUMIF(PACKT02!$R87,\"TRUE\",PACKT02!O87)+SUMIF(PACKT03!$R87,\"TRUE\",PACKT03!O87)+SUMIF(PACKT04!$R87,\"TRUE\",PACKT04!O87)+SUMIF(PACKT05!$R87,\"TRUE\",PACKT05!O87)+SUMIF(PACKT06!$R88,\"TRUE\",PACKT06!O88)+SUMIF(PACKT07!$R87,\"TRUE\",PACKT07!O87)+SUMIF(PACKT08!$R87,\"TRUE\",PACKT08!O87)+SUMIF(PACKT09!$R87,\"TRUE\",PACKT09!O87)+SUMIF(PACKT10!$R87,\"TRUE\",PACKT10!O87)+SUMIF(PACKT11!$R87,\"TRUE\",PACKT11!O87)","v":0},{"$f":"SUMIF(PACKT01!$R87,\"TRUE\",PACKT01!P87)+SUMIF(PACKT02!$R87,\"TRUE\",PACKT02!P87)+SUMIF(PACKT03!$R87,\"TRUE\",PACKT03!P87)+SUMIF(PACKT04!$R87,\"TRUE\",PACKT04!P87)+SUMIF(PACKT05!$R87,\"TRUE\",PACKT05!P87)+SUMIF(PACKT06!$R88,\"TRUE\",PACKT06!P88)+SUMIF(PACKT07!$R87,\"TRUE\",PACKT07!P87)+SUMIF(PACKT08!$R87,\"TRUE\",PACKT08!P87)+SUMIF(PACKT09!$R87,\"TRUE\",PACKT09!P87)+SUMIF(PACKT10!$R87,\"TRUE\",PACKT10!P87)+SUMIF(PACKT11!$R87,\"TRUE\",PACKT11!P87)","v":0},{"$f":"SUMIF(PACKT01!$R87,\"TRUE\",PACKT01!Q87)+SUMIF(PACKT02!$R87,\"TRUE\",PACKT02!Q87)+SUMIF(PACKT03!$R87,\"TRUE\",PACKT03!Q87)+SUMIF(PACKT04!$R87,\"TRUE\",PACKT04!Q87)+SUMIF(PACKT05!$R87,\"TRUE\",PACKT05!Q87)+SUMIF(PACKT06!$R88,\"TRUE\",PACKT06!Q88)+SUMIF(PACKT07!$R87,\"TRUE\",PACKT07!Q87)+SUMIF(PACKT08!$R87,\"TRUE\",PACKT08!Q87)+SUMIF(PACKT09!$R87,\"TRUE\",PACKT09!Q87)+SUMIF(PACKT10!$R87,\"TRUE\",PACKT10!Q87)+SUMIF(PACKT11!$R87,\"TRUE\",PACKT11!Q87)","v":0},0]
[null,"EMP0077",{"$f":"VLOOKUP(HRSummarylTable[[#This Row],[EmployeeID]],EmployeeListLookupTable[],2,FALSE)","v":"EMPN077"},{"$f":"VLOOKUP(HRSummarylTable[[#This Row],[EmployeeID]],EmployeeListLookupTable[],3,FALSE)","v":"Employee Name 77"},{"$f":"VLOOKUP(HRSummarylTable[[#This Row],[EmployeeID]],EmployeeListLookupTable[],4,FALSE)","v":"Employee Job Title 77"},"TCTC001 - Total Cost to Company",{"$f":"LEFT(HRSummarylTable[[#This Row],[PackageItemCode]],7)","v":"TCTC001"},{"$f":"VLOOKUP(HRSummarylTable[[#This Row],[PackageItem]],PackageItemListLookup[],2,FALSE)","v":"Total Cost to Company"},null,{"$f":"SUMIF(PACKT01!$R88,\"TRUE\",PACKT01!F88)+SUMIF(PACKT02!$R88,\"TRUE\",PACKT02!F88)+SUMIF(PACKT03!$R88,\"TRUE\",PACKT03!F88)+SUMIF(PACKT04!$R88,\"TRUE\",PACKT04!F88)+SUMIF(PACKT05!$R88,\"TRUE\",PACKT05!F88)+SUMIF(PACKT06!$R89,\"TRUE\",PACKT06!F89)+SUMIF(PACKT07!$R88,\"TRUE\",PACKT07!F88)+SUMIF(PACKT08!$R88,\"TRUE\",PACKT08!F88)+SUMIF(PACKT09!$R88,\"TRUE\",PACKT09!F88)+SUMIF(PACKT10!$R88,\"TRUE\",PACKT10!F88)+SUMIF(PACKT11!$R88,\"TRUE\",PACKT11!F88)","v":0},{"$f":"SUMIF(PACKT01!$R88,\"TRUE\",PACKT01!G88)+SUMIF(PACKT02!$R88,\"TRUE\",PACKT02!G88)+SUMIF(PACKT03!$R88,\"TRUE\",PACKT03!G88)+SUMIF(PACKT04!$R88,\"TRUE\",PACKT04!G88)+SUMIF(PACKT05!$R88,\"TRUE\",PACKT05!G88)+SUMIF(PACKT06!$R89,\"TRUE\",PACKT06!G89)+SUMIF(PACKT07!$R88,\"TRUE\",PACKT07!G88)+SUMIF(PACKT08!$R88,\"TRUE\",PACKT08!G88)+SUMIF(PACKT09!$R88,\"TRUE\",PACKT09!G88)+SUMIF(PACKT10!$R88,\"TRUE\",PACKT10!G88)+SUMIF(PACKT11!$R88,\"TRUE\",PACKT11!G88)","v":0},{"$f":"SUMIF(PACKT01!$R88,\"TRUE\",PACKT01!H88)+SUMIF(PACKT02!$R88,\"TRUE\",PACKT02!H88)+SUMIF(PACKT03!$R88,\"TRUE\",PACKT03!H88)+SUMIF(PACKT04!$R88,\"TRUE\",PACKT04!H88)+SUMIF(PACKT05!$R88,\"TRUE\",PACKT05!H88)+SUMIF(PACKT06!$R89,\"TRUE\",PACKT06!H89)+SUMIF(PACKT07!$R88,\"TRUE\",PACKT07!H88)+SUMIF(PACKT08!$R88,\"TRUE\",PACKT08!H88)+SUMIF(PACKT09!$R88,\"TRUE\",PACKT09!H88)+SUMIF(PACKT10!$R88,\"TRUE\",PACKT10!H88)+SUMIF(PACKT11!$R88,\"TRUE\",PACKT11!H88)","v":0},{"$f":"SUMIF(PACKT01!$R88,\"TRUE\",PACKT01!I88)+SUMIF(PACKT02!$R88,\"TRUE\",PACKT02!I88)+SUMIF(PACKT03!$R88,\"TRUE\",PACKT03!I88)+SUMIF(PACKT04!$R88,\"TRUE\",PACKT04!I88)+SUMIF(PACKT05!$R88,\"TRUE\",PACKT05!I88)+SUMIF(PACKT06!$R89,\"TRUE\",PACKT06!I89)+SUMIF(PACKT07!$R88,\"TRUE\",PACKT07!I88)+SUMIF(PACKT08!$R88,\"TRUE\",PACKT08!I88)+SUMIF(PACKT09!$R88,\"TRUE\",PACKT09!I88)+SUMIF(PACKT10!$R88,\"TRUE\",PACKT10!I88)+SUMIF(PACKT11!$R88,\"TRUE\",PACKT11!I88)","v":0},{"$f":"SUMIF(PACKT01!$R88,\"TRUE\",PACKT01!J88)+SUMIF(PACKT02!$R88,\"TRUE\",PACKT02!J88)+SUMIF(PACKT03!$R88,\"TRUE\",PACKT03!J88)+SUMIF(PACKT04!$R88,\"TRUE\",PACKT04!J88)+SUMIF(PACKT05!$R88,\"TRUE\",PACKT05!J88)+SUMIF(PACKT06!$R89,\"TRUE\",PACKT06!J89)+SUMIF(PACKT07!$R88,\"TRUE\",PACKT07!J88)+SUMIF(PACKT08!$R88,\"TRUE\",PACKT08!J88)+SUMIF(PACKT09!$R88,\"TRUE\",PACKT09!J88)+SUMIF(PACKT10!$R88,\"TRUE\",PACKT10!J88)+SUMIF(PACKT11!$R88,\"TRUE\",PACKT11!J88)","v":0},{"$f":"SUMIF(PACKT01!$R88,\"TRUE\",PACKT01!K88)+SUMIF(PACKT02!$R88,\"TRUE\",PACKT02!K88)+SUMIF(PACKT03!$R88,\"TRUE\",PACKT03!K88)+SUMIF(PACKT04!$R88,\"TRUE\",PACKT04!K88)+SUMIF(PACKT05!$R88,\"TRUE\",PACKT05!K88)+SUMIF(PACKT06!$R89,\"TRUE\",PACKT06!K89)+SUMIF(PACKT07!$R88,\"TRUE\",PACKT07!K88)+SUMIF(PACKT08!$R88,\"TRUE\",PACKT08!K88)+SUMIF(PACKT09!$R88,\"TRUE\",PACKT09!K88)+SUMIF(PACKT10!$R88,\"TRUE\",PACKT10!K88)+SUMIF(PACKT11!$R88,\"TRUE\",PACKT11!K88)","v":0},{"$f":"SUMIF(PACKT01!$R88,\"TRUE\",PACKT01!L88)+SUMIF(PACKT02!$R88,\"TRUE\",PACKT02!L88)+SUMIF(PACKT03!$R88,\"TRUE\",PACKT03!L88)+SUMIF(PACKT04!$R88,\"TRUE\",PACKT04!L88)+SUMIF(PACKT05!$R88,\"TRUE\",PACKT05!L88)+SUMIF(PACKT06!$R89,\"TRUE\",PACKT06!L89)+SUMIF(PACKT07!$R88,\"TRUE\",PACKT07!L88)+SUMIF(PACKT08!$R88,\"TRUE\",PACKT08!L88)+SUMIF(PACKT09!$R88,\"TRUE\",PACKT09!L88)+SUMIF(PACKT10!$R88,\"TRUE\",PACKT10!L88)+SUMIF(PACKT11!$R88,\"TRUE\",PACKT11!L88)","v":0},{"$f":"SUMIF(PACKT01!$R88,\"TRUE\",PACKT01!M88)+SUMIF(PACKT02!$R88,\"TRUE\",PACKT02!M88)+SUMIF(PACKT03!$R88,\"TRUE\",PACKT03!M88)+SUMIF(PACKT04!$R88,\"TRUE\",PACKT04!M88)+SUMIF(PACKT05!$R88,\"TRUE\",PACKT05!M88)+SUMIF(PACKT06!$R89,\"TRUE\",PACKT06!M89)+SUMIF(PACKT07!$R88,\"TRUE\",PACKT07!M88)+SUMIF(PACKT08!$R88,\"TRUE\",PACKT08!M88)+SUMIF(PACKT09!$R88,\"TRUE\",PACKT09!M88)+SUMIF(PACKT10!$R88,\"TRUE\",PACKT10!M88)+SUMIF(PACKT11!$R88,\"TRUE\",PACKT11!M88)","v":0},{"$f":"SUMIF(PACKT01!$R88,\"TRUE\",PACKT01!N88)+SUMIF(PACKT02!$R88,\"TRUE\",PACKT02!N88)+SUMIF(PACKT03!$R88,\"TRUE\",PACKT03!N88)+SUMIF(PACKT04!$R88,\"TRUE\",PACKT04!N88)+SUMIF(PACKT05!$R88,\"TRUE\",PACKT05!N88)+SUMIF(PACKT06!$R89,\"TRUE\",PACKT06!N89)+SUMIF(PACKT07!$R88,\"TRUE\",PACKT07!N88)+SUMIF(PACKT08!$R88,\"TRUE\",PACKT08!N88)+SUMIF(PACKT09!$R88,\"TRUE\",PACKT09!N88)+SUMIF(PACKT10!$R88,\"TRUE\",PACKT10!N88)+SUMIF(PACKT11!$R88,\"TRUE\",PACKT11!N88)","v":0},{"$f":"SUMIF(PACKT01!$R88,\"TRUE\",PACKT01!O88)+SUMIF(PACKT02!$R88,\"TRUE\",PACKT02!O88)+SUMIF(PACKT03!$R88,\"TRUE\",PACKT03!O88)+SUMIF(PACKT04!$R88,\"TRUE\",PACKT04!O88)+SUMIF(PACKT05!$R88,\"TRUE\",PACKT05!O88)+SUMIF(PACKT06!$R89,\"TRUE\",PACKT06!O89)+SUMIF(PACKT07!$R88,\"TRUE\",PACKT07!O88)+SUMIF(PACKT08!$R88,\"TRUE\",PACKT08!O88)+SUMIF(PACKT09!$R88,\"TRUE\",PACKT09!O88)+SUMIF(PACKT10!$R88,\"TRUE\",PACKT10!O88)+SUMIF(PACKT11!$R88,\"TRUE\",PACKT11!O88)","v":0},{"$f":"SUMIF(PACKT01!$R88,\"TRUE\",PACKT01!P88)+SUMIF(PACKT02!$R88,\"TRUE\",PACKT02!P88)+SUMIF(PACKT03!$R88,\"TRUE\",PACKT03!P88)+SUMIF(PACKT04!$R88,\"TRUE\",PACKT04!P88)+SUMIF(PACKT05!$R88,\"TRUE\",PACKT05!P88)+SUMIF(PACKT06!$R89,\"TRUE\",PACKT06!P89)+SUMIF(PACKT07!$R88,\"TRUE\",PACKT07!P88)+SUMIF(PACKT08!$R88,\"TRUE\",PACKT08!P88)+SUMIF(PACKT09!$R88,\"TRUE\",PACKT09!P88)+SUMIF(PACKT10!$R88,\"TRUE\",PACKT10!P88)+SUMIF(PACKT11!$R88,\"TRUE\",PACKT11!P88)","v":0},{"$f":"SUMIF(PACKT01!$R88,\"TRUE\",PACKT01!Q88)+SUMIF(PACKT02!$R88,\"TRUE\",PACKT02!Q88)+SUMIF(PACKT03!$R88,\"TRUE\",PACKT03!Q88)+SUMIF(PACKT04!$R88,\"TRUE\",PACKT04!Q88)+SUMIF(PACKT05!$R88,\"TRUE\",PACKT05!Q88)+SUMIF(PACKT06!$R89,\"TRUE\",PACKT06!Q89)+SUMIF(PACKT07!$R88,\"TRUE\",PACKT07!Q88)+SUMIF(PACKT08!$R88,\"TRUE\",PACKT08!Q88)+SUMIF(PACKT09!$R88,\"TRUE\",PACKT09!Q88)+SUMIF(PACKT10!$R88,\"TRUE\",PACKT10!Q88)+SUMIF(PACKT11!$R88,\"TRUE\",PACKT11!Q88)","v":0},0]
[null,"EMP0078",{"$f":"VLOOKUP(HRSummarylTable[[#This Row],[EmployeeID]],EmployeeListLookupTable[],2,FALSE)","v":"EMPN078"},{"$f":"VLOOKUP(HRSummarylTable[[#This Row],[EmployeeID]],EmployeeListLookupTable[],3,FALSE)","v":"Employee Name 78"},{"$f":"VLOOKUP(HRSummarylTable[[#This Row],[EmployeeID]],EmployeeListLookupTable[],4,FALSE)","v":"Employee Job Title 78"},"TCTC001 - Total Cost to Company",{"$f":"LEFT(HRSummarylTable[[#This Row],[PackageItemCode]],7)","v":"TCTC001"},{"$f":"VLOOKUP(HRSummarylTable[[#This Row],[PackageItem]],PackageItemListLookup[],2,FALSE)","v":"Total Cost to Company"},null,{"$f":"SUMIF(PACKT01!$R89,\"TRUE\",PACKT01!F89)+SUMIF(PACKT02!$R89,\"TRUE\",PACKT02!F89)+SUMIF(PACKT03!$R89,\"TRUE\",PACKT03!F89)+SUMIF(PACKT04!$R89,\"TRUE\",PACKT04!F89)+SUMIF(PACKT05!$R89,\"TRUE\",PACKT05!F89)+SUMIF(PACKT06!$R90,\"TRUE\",PACKT06!F90)+SUMIF(PACKT07!$R89,\"TRUE\",PACKT07!F89)+SUMIF(PACKT08!$R89,\"TRUE\",PACKT08!F89)+SUMIF(PACKT09!$R89,\"TRUE\",PACKT09!F89)+SUMIF(PACKT10!$R89,\"TRUE\",PACKT10!F89)+SUMIF(PACKT11!$R89,\"TRUE\",PACKT11!F89)","v":0},{"$f":"SUMIF(PACKT01!$R89,\"TRUE\",PACKT01!G89)+SUMIF(PACKT02!$R89,\"TRUE\",PACKT02!G89)+SUMIF(PACKT03!$R89,\"TRUE\",PACKT03!G89)+SUMIF(PACKT04!$R89,\"TRUE\",PACKT04!G89)+SUMIF(PACKT05!$R89,\"TRUE\",PACKT05!G89)+SUMIF(PACKT06!$R90,\"TRUE\",PACKT06!G90)+SUMIF(PACKT07!$R89,\"TRUE\",PACKT07!G89)+SUMIF(PACKT08!$R89,\"TRUE\",PACKT08!G89)+SUMIF(PACKT09!$R89,\"TRUE\",PACKT09!G89)+SUMIF(PACKT10!$R89,\"TRUE\",PACKT10!G89)+SUMIF(PACKT11!$R89,\"TRUE\",PACKT11!G89)","v":0},{"$f":"SUMIF(PACKT01!$R89,\"TRUE\",PACKT01!H89)+SUMIF(PACKT02!$R89,\"TRUE\",PACKT02!H89)+SUMIF(PACKT03!$R89,\"TRUE\",PACKT03!H89)+SUMIF(PACKT04!$R89,\"TRUE\",PACKT04!H89)+SUMIF(PACKT05!$R89,\"TRUE\",PACKT05!H89)+SUMIF(PACKT06!$R90,\"TRUE\",PACKT06!H90)+SUMIF(PACKT07!$R89,\"TRUE\",PACKT07!H89)+SUMIF(PACKT08!$R89,\"TRUE\",PACKT08!H89)+SUMIF(PACKT09!$R89,\"TRUE\",PACKT09!H89)+SUMIF(PACKT10!$R89,\"TRUE\",PACKT10!H89)+SUMIF(PACKT11!$R89,\"TRUE\",PACKT11!H89)","v":0},{"$f":"SUMIF(PACKT01!$R89,\"TRUE\",PACKT01!I89)+SUMIF(PACKT02!$R89,\"TRUE\",PACKT02!I89)+SUMIF(PACKT03!$R89,\"TRUE\",PACKT03!I89)+SUMIF(PACKT04!$R89,\"TRUE\",PACKT04!I89)+SUMIF(PACKT05!$R89,\"TRUE\",PACKT05!I89)+SUMIF(PACKT06!$R90,\"TRUE\",PACKT06!I90)+SUMIF(PACKT07!$R89,\"TRUE\",PACKT07!I89)+SUMIF(PACKT08!$R89,\"TRUE\",PACKT08!I89)+SUMIF(PACKT09!$R89,\"TRUE\",PACKT09!I89)+SUMIF(PACKT10!$R89,\"TRUE\",PACKT10!I89)+SUMIF(PACKT11!$R89,\"TRUE\",PACKT11!I89)","v":0},{"$f":"SUMIF(PACKT01!$R89,\"TRUE\",PACKT01!J89)+SUMIF(PACKT02!$R89,\"TRUE\",PACKT02!J89)+SUMIF(PACKT03!$R89,\"TRUE\",PACKT03!J89)+SUMIF(PACKT04!$R89,\"TRUE\",PACKT04!J89)+SUMIF(PACKT05!$R89,\"TRUE\",PACKT05!J89)+SUMIF(PACKT06!$R90,\"TRUE\",PACKT06!J90)+SUMIF(PACKT07!$R89,\"TRUE\",PACKT07!J89)+SUMIF(PACKT08!$R89,\"TRUE\",PACKT08!J89)+SUMIF(PACKT09!$R89,\"TRUE\",PACKT09!J89)+SUMIF(PACKT10!$R89,\"TRUE\",PACKT10!J89)+SUMIF(PACKT11!$R89,\"TRUE\",PACKT11!J89)","v":0},{"$f":"SUMIF(PACKT01!$R89,\"TRUE\",PACKT01!K89)+SUMIF(PACKT02!$R89,\"TRUE\",PACKT02!K89)+SUMIF(PACKT03!$R89,\"TRUE\",PACKT03!K89)+SUMIF(PACKT04!$R89,\"TRUE\",PACKT04!K89)+SUMIF(PACKT05!$R89,\"TRUE\",PACKT05!K89)+SUMIF(PACKT06!$R90,\"TRUE\",PACKT06!K90)+SUMIF(PACKT07!$R89,\"TRUE\",PACKT07!K89)+SUMIF(PACKT08!$R89,\"TRUE\",PACKT08!K89)+SUMIF(PACKT09!$R89,\"TRUE\",PACKT09!K89)+SUMIF(PACKT10!$R89,\"TRUE\",PACKT10!K89)+SUMIF(PACKT11!$R89,\"TRUE\",PACKT11!K89)","v":0},{"$f":"SUMIF(PACKT01!$R89,\"TRUE\",PACKT01!L89)+SUMIF(PACKT02!$R89,\"TRUE\",PACKT02!L89)+SUMIF(PACKT03!$R89,\"TRUE\",PACKT03!L89)+SUMIF(PACKT04!$R89,\"TRUE\",PACKT04!L89)+SUMIF(PACKT05!$R89,\"TRUE\",PACKT05!L89)+SUMIF(PACKT06!$R90,\"TRUE\",PACKT06!L90)+SUMIF(PACKT07!$R89,\"TRUE\",PACKT07!L89)+SUMIF(PACKT08!$R89,\"TRUE\",PACKT08!L89)+SUMIF(PACKT09!$R89,\"TRUE\",PACKT09!L89)+SUMIF(PACKT10!$R89,\"TRUE\",PACKT10!L89)+SUMIF(PACKT11!$R89,\"TRUE\",PACKT11!L89)","v":0},{"$f":"SUMIF(PACKT01!$R89,\"TRUE\",PACKT01!M89)+SUMIF(PACKT02!$R89,\"TRUE\",PACKT02!M89)+SUMIF(PACKT03!$R89,\"TRUE\",PACKT03!M89)+SUMIF(PACKT04!$R89,\"TRUE\",PACKT04!M89)+SUMIF(PACKT05!$R89,\"TRUE\",PACKT05!M89)+SUMIF(PACKT06!$R90,\"TRUE\",PACKT06!M90)+SUMIF(PACKT07!$R89,\"TRUE\",PACKT07!M89)+SUMIF(PACKT08!$R89,\"TRUE\",PACKT08!M89)+SUMIF(PACKT09!$R89,\"TRUE\",PACKT09!M89)+SUMIF(PACKT10!$R89,\"TRUE\",PACKT10!M89)+SUMIF(PACKT11!$R89,\"TRUE\",PACKT11!M89)","v":0},{"$f":"SUMIF(PACKT01!$R89,\"TRUE\",PACKT01!N89)+SUMIF(PACKT02!$R89,\"TRUE\",PACKT02!N89)+SUMIF(PACKT03!$R89,\"TRUE\",PACKT03!N89)+SUMIF(PACKT04!$R89,\"TRUE\",PACKT04!N89)+SUMIF(PACKT05!$R89,\"TRUE\",PACKT05!N89)+SUMIF(PACKT06!$R90,\"TRUE\",PACKT06!N90)+SUMIF(PACKT07!$R89,\"TRUE\",PACKT07!N89)+SUMIF(PACKT08!$R89,\"TRUE\",PACKT08!N89)+SUMIF(PACKT09!$R89,\"TRUE\",PACKT09!N89)+SUMIF(PACKT10!$R89,\"TRUE\",PACKT10!N89)+SUMIF(PACKT11!$R89,\"TRUE\",PACKT11!N89)","v":0},{"$f":"SUMIF(PACKT01!$R89,\"TRUE\",PACKT01!O89)+SUMIF(PACKT02!$R89,\"TRUE\",PACKT02!O89)+SUMIF(PACKT03!$R89,\"TRUE\",PACKT03!O89)+SUMIF(PACKT04!$R89,\"TRUE\",PACKT04!O89)+SUMIF(PACKT05!$R89,\"TRUE\",PACKT05!O89)+SUMIF(PACKT06!$R90,\"TRUE\",PACKT06!O90)+SUMIF(PACKT07!$R89,\"TRUE\",PACKT07!O89)+SUMIF(PACKT08!$R89,\"TRUE\",PACKT08!O89)+SUMIF(PACKT09!$R89,\"TRUE\",PACKT09!O89)+SUMIF(PACKT10!$R89,\"TRUE\",PACKT10!O89)+SUMIF(PACKT11!$R89,\"TRUE\",PACKT11!O89)","v":0},{"$f":"SUMIF(PACKT01!$R89,\"TRUE\",PACKT01!P89)+SUMIF(PACKT02!$R89,\"TRUE\",PACKT02!P89)+SUMIF(PACKT03!$R89,\"TRUE\",PACKT03!P89)+SUMIF(PACKT04!$R89,\"TRUE\",PACKT04!P89)+SUMIF(PACKT05!$R89,\"TRUE\",PACKT05!P89)+SUMIF(PACKT06!$R90,\"TRUE\",PACKT06!P90)+SUMIF(PACKT07!$R89,\"TRUE\",PACKT07!P89)+SUMIF(PACKT08!$R89,\"TRUE\",PACKT08!P89)+SUMIF(PACKT09!$R89,\"TRUE\",PACKT09!P89)+SUMIF(PACKT10!$R89,\"TRUE\",PACKT10!P89)+SUMIF(PACKT11!$R89,\"TRUE\",PACKT11!P89)","v":0},{"$f":"SUMIF(PACKT01!$R89,\"TRUE\",PACKT01!Q89)+SUMIF(PACKT02!$R89,\"TRUE\",PACKT02!Q89)+SUMIF(PACKT03!$R89,\"TRUE\",PACKT03!Q89)+SUMIF(PACKT04!$R89,\"TRUE\",PACKT04!Q89)+SUMIF(PACKT05!$R89,\"TRUE\",PACKT05!Q89)+SUMIF(PACKT06!$R90,\"TRUE\",PACKT06!Q90)+SUMIF(PACKT07!$R89,\"TRUE\",PACKT07!Q89)+SUMIF(PACKT08!$R89,\"TRUE\",PACKT08!Q89)+SUMIF(PACKT09!$R89,\"TRUE\",PACKT09!Q89)+SUMIF(PACKT10!$R89,\"TRUE\",PACKT10!Q89)+SUMIF(PACKT11!$R89,\"TRUE\",PACKT11!Q89)","v":0},0]
[null,"EMP0079",{"$f":"VLOOKUP(HRSummarylTable[[#This Row],[EmployeeID]],EmployeeListLookupTable[],2,FALSE)","v":"EMPN079"},{"$f":"VLOOKUP(HRSummarylTable[[#This Row],[EmployeeID]],EmployeeListLookupTable[],3,FALSE)","v":"Employee Name 79"},{"$f":"VLOOKUP(HRSummarylTable[[#This Row],[EmployeeID]],EmployeeListLookupTable[],4,FALSE)","v":"Employee Job Title 79"},"TCTC001 - Total Cost to Company",{"$f":"LEFT(HRSummarylTable[[#This Row],[PackageItemCode]],7)","v":"TCTC001"},{"$f":"VLOOKUP(HRSummarylTable[[#This Row],[PackageItem]],PackageItemListLookup[],2,FALSE)","v":"Total Cost to Company"},null,{"$f":"SUMIF(PACKT01!$R90,\"TRUE\",PACKT01!F90)+SUMIF(PACKT02!$R90,\"TRUE\",PACKT02!F90)+SUMIF(PACKT03!$R90,\"TRUE\",PACKT03!F90)+SUMIF(PACKT04!$R90,\"TRUE\",PACKT04!F90)+SUMIF(PACKT05!$R90,\"TRUE\",PACKT05!F90)+SUMIF(PACKT06!$R91,\"TRUE\",PACKT06!F91)+SUMIF(PACKT07!$R90,\"TRUE\",PACKT07!F90)+SUMIF(PACKT08!$R90,\"TRUE\",PACKT08!F90)+SUMIF(PACKT09!$R90,\"TRUE\",PACKT09!F90)+SUMIF(PACKT10!$R90,\"TRUE\",PACKT10!F90)+SUMIF(PACKT11!$R90,\"TRUE\",PACKT11!F90)","v":0},{"$f":"SUMIF(PACKT01!$R90,\"TRUE\",PACKT01!G90)+SUMIF(PACKT02!$R90,\"TRUE\",PACKT02!G90)+SUMIF(PACKT03!$R90,\"TRUE\",PACKT03!G90)+SUMIF(PACKT04!$R90,\"TRUE\",PACKT04!G90)+SUMIF(PACKT05!$R90,\"TRUE\",PACKT05!G90)+SUMIF(PACKT06!$R91,\"TRUE\",PACKT06!G91)+SUMIF(PACKT07!$R90,\"TRUE\",PACKT07!G90)+SUMIF(PACKT08!$R90,\"TRUE\",PACKT08!G90)+SUMIF(PACKT09!$R90,\"TRUE\",PACKT09!G90)+SUMIF(PACKT10!$R90,\"TRUE\",PACKT10!G90)+SUMIF(PACKT11!$R90,\"TRUE\",PACKT11!G90)","v":0},{"$f":"SUMIF(PACKT01!$R90,\"TRUE\",PACKT01!H90)+SUMIF(PACKT02!$R90,\"TRUE\",PACKT02!H90)+SUMIF(PACKT03!$R90,\"TRUE\",PACKT03!H90)+SUMIF(PACKT04!$R90,\"TRUE\",PACKT04!H90)+SUMIF(PACKT05!$R90,\"TRUE\",PACKT05!H90)+SUMIF(PACKT06!$R91,\"TRUE\",PACKT06!H91)+SUMIF(PACKT07!$R90,\"TRUE\",PACKT07!H90)+SUMIF(PACKT08!$R90,\"TRUE\",PACKT08!H90)+SUMIF(PACKT09!$R90,\"TRUE\",PACKT09!H90)+SUMIF(PACKT10!$R90,\"TRUE\",PACKT10!H90)+SUMIF(PACKT11!$R90,\"TRUE\",PACKT11!H90)","v":0},{"$f":"SUMIF(PACKT01!$R90,\"TRUE\",PACKT01!I90)+SUMIF(PACKT02!$R90,\"TRUE\",PACKT02!I90)+SUMIF(PACKT03!$R90,\"TRUE\",PACKT03!I90)+SUMIF(PACKT04!$R90,\"TRUE\",PACKT04!I90)+SUMIF(PACKT05!$R90,\"TRUE\",PACKT05!I90)+SUMIF(PACKT06!$R91,\"TRUE\",PACKT06!I91)+SUMIF(PACKT07!$R90,\"TRUE\",PACKT07!I90)+SUMIF(PACKT08!$R90,\"TRUE\",PACKT08!I90)+SUMIF(PACKT09!$R90,\"TRUE\",PACKT09!I90)+SUMIF(PACKT10!$R90,\"TRUE\",PACKT10!I90)+SUMIF(PACKT11!$R90,\"TRUE\",PACKT11!I90)","v":0},{"$f":"SUMIF(PACKT01!$R90,\"TRUE\",PACKT01!J90)+SUMIF(PACKT02!$R90,\"TRUE\",PACKT02!J90)+SUMIF(PACKT03!$R90,\"TRUE\",PACKT03!J90)+SUMIF(PACKT04!$R90,\"TRUE\",PACKT04!J90)+SUMIF(PACKT05!$R90,\"TRUE\",PACKT05!J90)+SUMIF(PACKT06!$R91,\"TRUE\",PACKT06!J91)+SUMIF(PACKT07!$R90,\"TRUE\",PACKT07!J90)+SUMIF(PACKT08!$R90,\"TRUE\",PACKT08!J90)+SUMIF(PACKT09!$R90,\"TRUE\",PACKT09!J90)+SUMIF(PACKT10!$R90,\"TRUE\",PACKT10!J90)+SUMIF(PACKT11!$R90,\"TRUE\",PACKT11!J90)","v":0},{"$f":"SUMIF(PACKT01!$R90,\"TRUE\",PACKT01!K90)+SUMIF(PACKT02!$R90,\"TRUE\",PACKT02!K90)+SUMIF(PACKT03!$R90,\"TRUE\",PACKT03!K90)+SUMIF(PACKT04!$R90,\"TRUE\",PACKT04!K90)+SUMIF(PACKT05!$R90,\"TRUE\",PACKT05!K90)+SUMIF(PACKT06!$R91,\"TRUE\",PACKT06!K91)+SUMIF(PACKT07!$R90,\"TRUE\",PACKT07!K90)+SUMIF(PACKT08!$R90,\"TRUE\",PACKT08!K90)+SUMIF(PACKT09!$R90,\"TRUE\",PACKT09!K90)+SUMIF(PACKT10!$R90,\"TRUE\",PACKT10!K90)+SUMIF(PACKT11!$R90,\"TRUE\",PACKT11!K90)","v":0},{"$f":"SUMIF(PACKT01!$R90,\"TRUE\",PACKT01!L90)+SUMIF(PACKT02!$R90,\"TRUE\",PACKT02!L90)+SUMIF(PACKT03!$R90,\"TRUE\",PACKT03!L90)+SUMIF(PACKT04!$R90,\"TRUE\",PACKT04!L90)+SUMIF(PACKT05!$R90,\"TRUE\",PACKT05!L90)+SUMIF(PACKT06!$R91,\"TRUE\",PACKT06!L91)+SUMIF(PACKT07!$R90,\"TRUE\",PACKT07!L90)+SUMIF(PACKT08!$R90,\"TRUE\",PACKT08!L90)+SUMIF(PACKT09!$R90,\"TRUE\",PACKT09!L90)+SUMIF(PACKT10!$R90,\"TRUE\",PACKT10!L90)+SUMIF(PACKT11!$R90,\"TRUE\",PACKT11!L90)","v":0},{"$f":"SUMIF(PACKT01!$R90,\"TRUE\",PACKT01!M90)+SUMIF(PACKT02!$R90,\"TRUE\",PACKT02!M90)+SUMIF(PACKT03!$R90,\"TRUE\",PACKT03!M90)+SUMIF(PACKT04!$R90,\"TRUE\",PACKT04!M90)+SUMIF(PACKT05!$R90,\"TRUE\",PACKT05!M90)+SUMIF(PACKT06!$R91,\"TRUE\",PACKT06!M91)+SUMIF(PACKT07!$R90,\"TRUE\",PACKT07!M90)+SUMIF(PACKT08!$R90,\"TRUE\",PACKT08!M90)+SUMIF(PACKT09!$R90,\"TRUE\",PACKT09!M90)+SUMIF(PACKT10!$R90,\"TRUE\",PACKT10!M90)+SUMIF(PACKT11!$R90,\"TRUE\",PACKT11!M90)","v":0},{"$f":"SUMIF(PACKT01!$R90,\"TRUE\",PACKT01!N90)+SUMIF(PACKT02!$R90,\"TRUE\",PACKT02!N90)+SUMIF(PACKT03!$R90,\"TRUE\",PACKT03!N90)+SUMIF(PACKT04!$R90,\"TRUE\",PACKT04!N90)+SUMIF(PACKT05!$R90,\"TRUE\",PACKT05!N90)+SUMIF(PACKT06!$R91,\"TRUE\",PACKT06!N91)+SUMIF(PACKT07!$R90,\"TRUE\",PACKT07!N90)+SUMIF(PACKT08!$R90,\"TRUE\",PACKT08!N90)+SUMIF(PACKT09!$R90,\"TRUE\",PACKT09!N90)+SUMIF(PACKT10!$R90,\"TRUE\",PACKT10!N90)+SUMIF(PACKT11!$R90,\"TRUE\",PACKT11!N90)","v":0},{"$f":"SUMIF(PACKT01!$R90,\"TRUE\",PACKT01!O90)+SUMIF(PACKT02!$R90,\"TRUE\",PACKT02!O90)+SUMIF(PACKT03!$R90,\"TRUE\",PACKT03!O90)+SUMIF(PACKT04!$R90,\"TRUE\",PACKT04!O90)+SUMIF(PACKT05!$R90,\"TRUE\",PACKT05!O90)+SUMIF(PACKT06!$R91,\"TRUE\",PACKT06!O91)+SUMIF(PACKT07!$R90,\"TRUE\",PACKT07!O90)+SUMIF(PACKT08!$R90,\"TRUE\",PACKT08!O90)+SUMIF(PACKT09!$R90,\"TRUE\",PACKT09!O90)+SUMIF(PACKT10!$R90,\"TRUE\",PACKT10!O90)+SUMIF(PACKT11!$R90,\"TRUE\",PACKT11!O90)","v":0},{"$f":"SUMIF(PACKT01!$R90,\"TRUE\",PACKT01!P90)+SUMIF(PACKT02!$R90,\"TRUE\",PACKT02!P90)+SUMIF(PACKT03!$R90,\"TRUE\",PACKT03!P90)+SUMIF(PACKT04!$R90,\"TRUE\",PACKT04!P90)+SUMIF(PACKT05!$R90,\"TRUE\",PACKT05!P90)+SUMIF(PACKT06!$R91,\"TRUE\",PACKT06!P91)+SUMIF(PACKT07!$R90,\"TRUE\",PACKT07!P90)+SUMIF(PACKT08!$R90,\"TRUE\",PACKT08!P90)+SUMIF(PACKT09!$R90,\"TRUE\",PACKT09!P90)+SUMIF(PACKT10!$R90,\"TRUE\",PACKT10!P90)+SUMIF(PACKT11!$R90,\"TRUE\",PACKT11!P90)","v":0},{"$f":"SUMIF(PACKT01!$R90,\"TRUE\",PACKT01!Q90)+SUMIF(PACKT02!$R90,\"TRUE\",PACKT02!Q90)+SUMIF(PACKT03!$R90,\"TRUE\",PACKT03!Q90)+SUMIF(PACKT04!$R90,\"TRUE\",PACKT04!Q90)+SUMIF(PACKT05!$R90,\"TRUE\",PACKT05!Q90)+SUMIF(PACKT06!$R91,\"TRUE\",PACKT06!Q91)+SUMIF(PACKT07!$R90,\"TRUE\",PACKT07!Q90)+SUMIF(PACKT08!$R90,\"TRUE\",PACKT08!Q90)+SUMIF(PACKT09!$R90,\"TRUE\",PACKT09!Q90)+SUMIF(PACKT10!$R90,\"TRUE\",PACKT10!Q90)+SUMIF(PACKT11!$R90,\"TRUE\",PACKT11!Q90)","v":0},0]
[null,"EMP0080",{"$f":"VLOOKUP(HRSummarylTable[[#This Row],[EmployeeID]],EmployeeListLookupTable[],2,FALSE)","v":"EMPN080"},{"$f":"VLOOKUP(HRSummarylTable[[#This Row],[EmployeeID]],EmployeeListLookupTable[],3,FALSE)","v":"Employee Name 80"},{"$f":"VLOOKUP(HRSummarylTable[[#This Row],[EmployeeID]],EmployeeListLookupTable[],4,FALSE)","v":"Employee Job Title 80"},"TCTC001 - Total Cost to Company",{"$f":"LEFT(HRSummarylTable[[#This Row],[PackageItemCode]],7)","v":"TCTC001"},{"$f":"VLOOKUP(HRSummarylTable[[#This Row],[PackageItem]],PackageItemListLookup[],2,FALSE)","v":"Total Cost to Company"},null,{"$f":"SUMIF(PACKT01!$R91,\"TRUE\",PACKT01!F91)+SUMIF(PACKT02!$R91,\"TRUE\",PACKT02!F91)+SUMIF(PACKT03!$R91,\"TRUE\",PACKT03!F91)+SUMIF(PACKT04!$R91,\"TRUE\",PACKT04!F91)+SUMIF(PACKT05!$R91,\"TRUE\",PACKT05!F91)+SUMIF(PACKT06!$R92,\"TRUE\",PACKT06!F92)+SUMIF(PACKT07!$R91,\"TRUE\",PACKT07!F91)+SUMIF(PACKT08!$R91,\"TRUE\",PACKT08!F91)+SUMIF(PACKT09!$R91,\"TRUE\",PACKT09!F91)+SUMIF(PACKT10!$R91,\"TRUE\",PACKT10!F91)+SUMIF(PACKT11!$R91,\"TRUE\",PACKT11!F91)","v":0},{"$f":"SUMIF(PACKT01!$R91,\"TRUE\",PACKT01!G91)+SUMIF(PACKT02!$R91,\"TRUE\",PACKT02!G91)+SUMIF(PACKT03!$R91,\"TRUE\",PACKT03!G91)+SUMIF(PACKT04!$R91,\"TRUE\",PACKT04!G91)+SUMIF(PACKT05!$R91,\"TRUE\",PACKT05!G91)+SUMIF(PACKT06!$R92,\"TRUE\",PACKT06!G92)+SUMIF(PACKT07!$R91,\"TRUE\",PACKT07!G91)+SUMIF(PACKT08!$R91,\"TRUE\",PACKT08!G91)+SUMIF(PACKT09!$R91,\"TRUE\",PACKT09!G91)+SUMIF(PACKT10!$R91,\"TRUE\",PACKT10!G91)+SUMIF(PACKT11!$R91,\"TRUE\",PACKT11!G91)","v":0},{"$f":"SUMIF(PACKT01!$R91,\"TRUE\",PACKT01!H91)+SUMIF(PACKT02!$R91,\"TRUE\",PACKT02!H91)+SUMIF(PACKT03!$R91,\"TRUE\",PACKT03!H91)+SUMIF(PACKT04!$R91,\"TRUE\",PACKT04!H91)+SUMIF(PACKT05!$R91,\"TRUE\",PACKT05!H91)+SUMIF(PACKT06!$R92,\"TRUE\",PACKT06!H92)+SUMIF(PACKT07!$R91,\"TRUE\",PACKT07!H91)+SUMIF(PACKT08!$R91,\"TRUE\",PACKT08!H91)+SUMIF(PACKT09!$R91,\"TRUE\",PACKT09!H91)+SUMIF(PACKT10!$R91,\"TRUE\",PACKT10!H91)+SUMIF(PACKT11!$R91,\"TRUE\",PACKT11!H91)","v":0},{"$f":"SUMIF(PACKT01!$R91,\"TRUE\",PACKT01!I91)+SUMIF(PACKT02!$R91,\"TRUE\",PACKT02!I91)+SUMIF(PACKT03!$R91,\"TRUE\",PACKT03!I91)+SUMIF(PACKT04!$R91,\"TRUE\",PACKT04!I91)+SUMIF(PACKT05!$R91,\"TRUE\",PACKT05!I91)+SUMIF(PACKT06!$R92,\"TRUE\",PACKT06!I92)+SUMIF(PACKT07!$R91,\"TRUE\",PACKT07!I91)+SUMIF(PACKT08!$R91,\"TRUE\",PACKT08!I91)+SUMIF(PACKT09!$R91,\"TRUE\",PACKT09!I91)+SUMIF(PACKT10!$R91,\"TRUE\",PACKT10!I91)+SUMIF(PACKT11!$R91,\"TRUE\",PACKT11!I91)","v":0},{"$f":"SUMIF(PACKT01!$R91,\"TRUE\",PACKT01!J91)+SUMIF(PACKT02!$R91,\"TRUE\",PACKT02!J91)+SUMIF(PACKT03!$R91,\"TRUE\",PACKT03!J91)+SUMIF(PACKT04!$R91,\"TRUE\",PACKT04!J91)+SUMIF(PACKT05!$R91,\"TRUE\",PACKT05!J91)+SUMIF(PACKT06!$R92,\"TRUE\",PACKT06!J92)+SUMIF(PACKT07!$R91,\"TRUE\",PACKT07!J91)+SUMIF(PACKT08!$R91,\"TRUE\",PACKT08!J91)+SUMIF(PACKT09!$R91,\"TRUE\",PACKT09!J91)+SUMIF(PACKT10!$R91,\"TRUE\",PACKT10!J91)+SUMIF(PACKT11!$R91,\"TRUE\",PACKT11!J91)","v":0},{"$f":"SUMIF(PACKT01!$R91,\"TRUE\",PACKT01!K91)+SUMIF(PACKT02!$R91,\"TRUE\",PACKT02!K91)+SUMIF(PACKT03!$R91,\"TRUE\",PACKT03!K91)+SUMIF(PACKT04!$R91,\"TRUE\",PACKT04!K91)+SUMIF(PACKT05!$R91,\"TRUE\",PACKT05!K91)+SUMIF(PACKT06!$R92,\"TRUE\",PACKT06!K92)+SUMIF(PACKT07!$R91,\"TRUE\",PACKT07!K91)+SUMIF(PACKT08!$R91,\"TRUE\",PACKT08!K91)+SUMIF(PACKT09!$R91,\"TRUE\",PACKT09!K91)+SUMIF(PACKT10!$R91,\"TRUE\",PACKT10!K91)+SUMIF(PACKT11!$R91,\"TRUE\",PACKT11!K91)","v":0},{"$f":"SUMIF(PACKT01!$R91,\"TRUE\",PACKT01!L91)+SUMIF(PACKT02!$R91,\"TRUE\",PACKT02!L91)+SUMIF(PACKT03!$R91,\"TRUE\",PACKT03!L91)+SUMIF(PACKT04!$R91,\"TRUE\",PACKT04!L91)+SUMIF(PACKT05!$R91,\"TRUE\",PACKT05!L91)+SUMIF(PACKT06!$R92,\"TRUE\",PACKT06!L92)+SUMIF(PACKT07!$R91,\"TRUE\",PACKT07!L91)+SUMIF(PACKT08!$R91,\"TRUE\",PACKT08!L91)+SUMIF(PACKT09!$R91,\"TRUE\",PACKT09!L91)+SUMIF(PACKT10!$R91,\"TRUE\",PACKT10!L91)+SUMIF(PACKT11!$R91,\"TRUE\",PACKT11!L91)","v":0},{"$f":"SUMIF(PACKT01!$R91,\"TRUE\",PACKT01!M91)+SUMIF(PACKT02!$R91,\"TRUE\",PACKT02!M91)+SUMIF(PACKT03!$R91,\"TRUE\",PACKT03!M91)+SUMIF(PACKT04!$R91,\"TRUE\",PACKT04!M91)+SUMIF(PACKT05!$R91,\"TRUE\",PACKT05!M91)+SUMIF(PACKT06!$R92,\"TRUE\",PACKT06!M92)+SUMIF(PACKT07!$R91,\"TRUE\",PACKT07!M91)+SUMIF(PACKT08!$R91,\"TRUE\",PACKT08!M91)+SUMIF(PACKT09!$R91,\"TRUE\",PACKT09!M91)+SUMIF(PACKT10!$R91,\"TRUE\",PACKT10!M91)+SUMIF(PACKT11!$R91,\"TRUE\",PACKT11!M91)","v":0},{"$f":"SUMIF(PACKT01!$R91,\"TRUE\",PACKT01!N91)+SUMIF(PACKT02!$R91,\"TRUE\",PACKT02!N91)+SUMIF(PACKT03!$R91,\"TRUE\",PACKT03!N91)+SUMIF(PACKT04!$R91,\"TRUE\",PACKT04!N91)+SUMIF(PACKT05!$R91,\"TRUE\",PACKT05!N91)+SUMIF(PACKT06!$R92,\"TRUE\",PACKT06!N92)+SUMIF(PACKT07!$R91,\"TRUE\",PACKT07!N91)+SUMIF(PACKT08!$R91,\"TRUE\",PACKT08!N91)+SUMIF(PACKT09!$R91,\"TRUE\",PACKT09!N91)+SUMIF(PACKT10!$R91,\"TRUE\",PACKT10!N91)+SUMIF(PACKT11!$R91,\"TRUE\",PACKT11!N91)","v":0},{"$f":"SUMIF(PACKT01!$R91,\"TRUE\",PACKT01!O91)+SUMIF(PACKT02!$R91,\"TRUE\",PACKT02!O91)+SUMIF(PACKT03!$R91,\"TRUE\",PACKT03!O91)+SUMIF(PACKT04!$R91,\"TRUE\",PACKT04!O91)+SUMIF(PACKT05!$R91,\"TRUE\",PACKT05!O91)+SUMIF(PACKT06!$R92,\"TRUE\",PACKT06!O92)+SUMIF(PACKT07!$R91,\"TRUE\",PACKT07!O91)+SUMIF(PACKT08!$R91,\"TRUE\",PACKT08!O91)+SUMIF(PACKT09!$R91,\"TRUE\",PACKT09!O91)+SUMIF(PACKT10!$R91,\"TRUE\",PACKT10!O91)+SUMIF(PACKT11!$R91,\"TRUE\",PACKT11!O91)","v":0},{"$f":"SUMIF(PACKT01!$R91,\"TRUE\",PACKT01!P91)+SUMIF(PACKT02!$R91,\"TRUE\",PACKT02!P91)+SUMIF(PACKT03!$R91,\"TRUE\",PACKT03!P91)+SUMIF(PACKT04!$R91,\"TRUE\",PACKT04!P91)+SUMIF(PACKT05!$R91,\"TRUE\",PACKT05!P91)+SUMIF(PACKT06!$R92,\"TRUE\",PACKT06!P92)+SUMIF(PACKT07!$R91,\"TRUE\",PACKT07!P91)+SUMIF(PACKT08!$R91,\"TRUE\",PACKT08!P91)+SUMIF(PACKT09!$R91,\"TRUE\",PACKT09!P91)+SUMIF(PACKT10!$R91,\"TRUE\",PACKT10!P91)+SUMIF(PACKT11!$R91,\"TRUE\",PACKT11!P91)","v":0},{"$f":"SUMIF(PACKT01!$R91,\"TRUE\",PACKT01!Q91)+SUMIF(PACKT02!$R91,\"TRUE\",PACKT02!Q91)+SUMIF(PACKT03!$R91,\"TRUE\",PACKT03!Q91)+SUMIF(PACKT04!$R91,\"TRUE\",PACKT04!Q91)+SUMIF(PACKT05!$R91,\"TRUE\",PACKT05!Q91)+SUMIF(PACKT06!$R92,\"TRUE\",PACKT06!Q92)+SUMIF(PACKT07!$R91,\"TRUE\",PACKT07!Q91)+SUMIF(PACKT08!$R91,\"TRUE\",PACKT08!Q91)+SUMIF(PACKT09!$R91,\"TRUE\",PACKT09!Q91)+SUMIF(PACKT10!$R91,\"TRUE\",PACKT10!Q91)+SUMIF(PACKT11!$R91,\"TRUE\",PACKT11!Q91)","v":0},0]
[null,"EMP0081",{"$f":"VLOOKUP(HRSummarylTable[[#This Row],[EmployeeID]],EmployeeListLookupTable[],2,FALSE)","v":"EMPN081"},{"$f":"VLOOKUP(HRSummarylTable[[#This Row],[EmployeeID]],EmployeeListLookupTable[],3,FALSE)","v":"Employee Name 81"},{"$f":"VLOOKUP(HRSummarylTable[[#This Row],[EmployeeID]],EmployeeListLookupTable[],4,FALSE)","v":"Employee Job Title 81"},"TCTC001 - Total Cost to Company",{"$f":"LEFT(HRSummarylTable[[#This Row],[PackageItemCode]],7)","v":"TCTC001"},{"$f":"VLOOKUP(HRSummarylTable[[#This Row],[PackageItem]],PackageItemListLookup[],2,FALSE)","v":"Total Cost to Company"},null,{"$f":"SUMIF(PACKT01!$R92,\"TRUE\",PACKT01!F92)+SUMIF(PACKT02!$R92,\"TRUE\",PACKT02!F92)+SUMIF(PACKT03!$R92,\"TRUE\",PACKT03!F92)+SUMIF(PACKT04!$R92,\"TRUE\",PACKT04!F92)+SUMIF(PACKT05!$R92,\"TRUE\",PACKT05!F92)+SUMIF(PACKT06!$R93,\"TRUE\",PACKT06!F93)+SUMIF(PACKT07!$R92,\"TRUE\",PACKT07!F92)+SUMIF(PACKT08!$R92,\"TRUE\",PACKT08!F92)+SUMIF(PACKT09!$R92,\"TRUE\",PACKT09!F92)+SUMIF(PACKT10!$R92,\"TRUE\",PACKT10!F92)+SUMIF(PACKT11!$R92,\"TRUE\",PACKT11!F92)","v":0},{"$f":"SUMIF(PACKT01!$R92,\"TRUE\",PACKT01!G92)+SUMIF(PACKT02!$R92,\"TRUE\",PACKT02!G92)+SUMIF(PACKT03!$R92,\"TRUE\",PACKT03!G92)+SUMIF(PACKT04!$R92,\"TRUE\",PACKT04!G92)+SUMIF(PACKT05!$R92,\"TRUE\",PACKT05!G92)+SUMIF(PACKT06!$R93,\"TRUE\",PACKT06!G93)+SUMIF(PACKT07!$R92,\"TRUE\",PACKT07!G92)+SUMIF(PACKT08!$R92,\"TRUE\",PACKT08!G92)+SUMIF(PACKT09!$R92,\"TRUE\",PACKT09!G92)+SUMIF(PACKT10!$R92,\"TRUE\",PACKT10!G92)+SUMIF(PACKT11!$R92,\"TRUE\",PACKT11!G92)","v":0},{"$f":"SUMIF(PACKT01!$R92,\"TRUE\",PACKT01!H92)+SUMIF(PACKT02!$R92,\"TRUE\",PACKT02!H92)+SUMIF(PACKT03!$R92,\"TRUE\",PACKT03!H92)+SUMIF(PACKT04!$R92,\"TRUE\",PACKT04!H92)+SUMIF(PACKT05!$R92,\"TRUE\",PACKT05!H92)+SUMIF(PACKT06!$R93,\"TRUE\",PACKT06!H93)+SUMIF(PACKT07!$R92,\"TRUE\",PACKT07!H92)+SUMIF(PACKT08!$R92,\"TRUE\",PACKT08!H92)+SUMIF(PACKT09!$R92,\"TRUE\",PACKT09!H92)+SUMIF(PACKT10!$R92,\"TRUE\",PACKT10!H92)+SUMIF(PACKT11!$R92,\"TRUE\",PACKT11!H92)","v":0},{"$f":"SUMIF(PACKT01!$R92,\"TRUE\",PACKT01!I92)+SUMIF(PACKT02!$R92,\"TRUE\",PACKT02!I92)+SUMIF(PACKT03!$R92,\"TRUE\",PACKT03!I92)+SUMIF(PACKT04!$R92,\"TRUE\",PACKT04!I92)+SUMIF(PACKT05!$R92,\"TRUE\",PACKT05!I92)+SUMIF(PACKT06!$R93,\"TRUE\",PACKT06!I93)+SUMIF(PACKT07!$R92,\"TRUE\",PACKT07!I92)+SUMIF(PACKT08!$R92,\"TRUE\",PACKT08!I92)+SUMIF(PACKT09!$R92,\"TRUE\",PACKT09!I92)+SUMIF(PACKT10!$R92,\"TRUE\",PACKT10!I92)+SUMIF(PACKT11!$R92,\"TRUE\",PACKT11!I92)","v":0},{"$f":"SUMIF(PACKT01!$R92,\"TRUE\",PACKT01!J92)+SUMIF(PACKT02!$R92,\"TRUE\",PACKT02!J92)+SUMIF(PACKT03!$R92,\"TRUE\",PACKT03!J92)+SUMIF(PACKT04!$R92,\"TRUE\",PACKT04!J92)+SUMIF(PACKT05!$R92,\"TRUE\",PACKT05!J92)+SUMIF(PACKT06!$R93,\"TRUE\",PACKT06!J93)+SUMIF(PACKT07!$R92,\"TRUE\",PACKT07!J92)+SUMIF(PACKT08!$R92,\"TRUE\",PACKT08!J92)+SUMIF(PACKT09!$R92,\"TRUE\",PACKT09!J92)+SUMIF(PACKT10!$R92,\"TRUE\",PACKT10!J92)+SUMIF(PACKT11!$R92,\"TRUE\",PACKT11!J92)","v":0},{"$f":"SUMIF(PACKT01!$R92,\"TRUE\",PACKT01!K92)+SUMIF(PACKT02!$R92,\"TRUE\",PACKT02!K92)+SUMIF(PACKT03!$R92,\"TRUE\",PACKT03!K92)+SUMIF(PACKT04!$R92,\"TRUE\",PACKT04!K92)+SUMIF(PACKT05!$R92,\"TRUE\",PACKT05!K92)+SUMIF(PACKT06!$R93,\"TRUE\",PACKT06!K93)+SUMIF(PACKT07!$R92,\"TRUE\",PACKT07!K92)+SUMIF(PACKT08!$R92,\"TRUE\",PACKT08!K92)+SUMIF(PACKT09!$R92,\"TRUE\",PACKT09!K92)+SUMIF(PACKT10!$R92,\"TRUE\",PACKT10!K92)+SUMIF(PACKT11!$R92,\"TRUE\",PACKT11!K92)","v":0},{"$f":"SUMIF(PACKT01!$R92,\"TRUE\",PACKT01!L92)+SUMIF(PACKT02!$R92,\"TRUE\",PACKT02!L92)+SUMIF(PACKT03!$R92,\"TRUE\",PACKT03!L92)+SUMIF(PACKT04!$R92,\"TRUE\",PACKT04!L92)+SUMIF(PACKT05!$R92,\"TRUE\",PACKT05!L92)+SUMIF(PACKT06!$R93,\"TRUE\",PACKT06!L93)+SUMIF(PACKT07!$R92,\"TRUE\",PACKT07!L92)+SUMIF(PACKT08!$R92,\"TRUE\",PACKT08!L92)+SUMIF(PACKT09!$R92,\"TRUE\",PACKT09!L92)+SUMIF(PACKT10!$R92,\"TRUE\",PACKT10!L92)+SUMIF(PACKT11!$R92,\"TRUE\",PACKT11!L92)","v":0},{"$f":"SUMIF(PACKT01!$R92,\"TRUE\",PACKT01!M92)+SUMIF(PACKT02!$R92,\"TRUE\",PACKT02!M92)+SUMIF(PACKT03!$R92,\"TRUE\",PACKT03!M92)+SUMIF(PACKT04!$R92,\"TRUE\",PACKT04!M92)+SUMIF(PACKT05!$R92,\"TRUE\",PACKT05!M92)+SUMIF(PACKT06!$R93,\"TRUE\",PACKT06!M93)+SUMIF(PACKT07!$R92,\"TRUE\",PACKT07!M92)+SUMIF(PACKT08!$R92,\"TRUE\",PACKT08!M92)+SUMIF(PACKT09!$R92,\"TRUE\",PACKT09!M92)+SUMIF(PACKT10!$R92,\"TRUE\",PACKT10!M92)+SUMIF(PACKT11!$R92,\"TRUE\",PACKT11!M92)","v":0},{"$f":"SUMIF(PACKT01!$R92,\"TRUE\",PACKT01!N92)+SUMIF(PACKT02!$R92,\"TRUE\",PACKT02!N92)+SUMIF(PACKT03!$R92,\"TRUE\",PACKT03!N92)+SUMIF(PACKT04!$R92,\"TRUE\",PACKT04!N92)+SUMIF(PACKT05!$R92,\"TRUE\",PACKT05!N92)+SUMIF(PACKT06!$R93,\"TRUE\",PACKT06!N93)+SUMIF(PACKT07!$R92,\"TRUE\",PACKT07!N92)+SUMIF(PACKT08!$R92,\"TRUE\",PACKT08!N92)+SUMIF(PACKT09!$R92,\"TRUE\",PACKT09!N92)+SUMIF(PACKT10!$R92,\"TRUE\",PACKT10!N92)+SUMIF(PACKT11!$R92,\"TRUE\",PACKT11!N92)","v":0},{"$f":"SUMIF(PACKT01!$R92,\"TRUE\",PACKT01!O92)+SUMIF(PACKT02!$R92,\"TRUE\",PACKT02!O92)+SUMIF(PACKT03!$R92,\"TRUE\",PACKT03!O92)+SUMIF(PACKT04!$R92,\"TRUE\",PACKT04!O92)+SUMIF(PACKT05!$R92,\"TRUE\",PACKT05!O92)+SUMIF(PACKT06!$R93,\"TRUE\",PACKT06!O93)+SUMIF(PACKT07!$R92,\"TRUE\",PACKT07!O92)+SUMIF(PACKT08!$R92,\"TRUE\",PACKT08!O92)+SUMIF(PACKT09!$R92,\"TRUE\",PACKT09!O92)+SUMIF(PACKT10!$R92,\"TRUE\",PACKT10!O92)+SUMIF(PACKT11!$R92,\"TRUE\",PACKT11!O92)","v":0},{"$f":"SUMIF(PACKT01!$R92,\"TRUE\",PACKT01!P92)+SUMIF(PACKT02!$R92,\"TRUE\",PACKT02!P92)+SUMIF(PACKT03!$R92,\"TRUE\",PACKT03!P92)+SUMIF(PACKT04!$R92,\"TRUE\",PACKT04!P92)+SUMIF(PACKT05!$R92,\"TRUE\",PACKT05!P92)+SUMIF(PACKT06!$R93,\"TRUE\",PACKT06!P93)+SUMIF(PACKT07!$R92,\"TRUE\",PACKT07!P92)+SUMIF(PACKT08!$R92,\"TRUE\",PACKT08!P92)+SUMIF(PACKT09!$R92,\"TRUE\",PACKT09!P92)+SUMIF(PACKT10!$R92,\"TRUE\",PACKT10!P92)+SUMIF(PACKT11!$R92,\"TRUE\",PACKT11!P92)","v":0},{"$f":"SUMIF(PACKT01!$R92,\"TRUE\",PACKT01!Q92)+SUMIF(PACKT02!$R92,\"TRUE\",PACKT02!Q92)+SUMIF(PACKT03!$R92,\"TRUE\",PACKT03!Q92)+SUMIF(PACKT04!$R92,\"TRUE\",PACKT04!Q92)+SUMIF(PACKT05!$R92,\"TRUE\",PACKT05!Q92)+SUMIF(PACKT06!$R93,\"TRUE\",PACKT06!Q93)+SUMIF(PACKT07!$R92,\"TRUE\",PACKT07!Q92)+SUMIF(PACKT08!$R92,\"TRUE\",PACKT08!Q92)+SUMIF(PACKT09!$R92,\"TRUE\",PACKT09!Q92)+SUMIF(PACKT10!$R92,\"TRUE\",PACKT10!Q92)+SUMIF(PACKT11!$R92,\"TRUE\",PACKT11!Q92)","v":0},0]
[null,"EMP0082",{"$f":"VLOOKUP(HRSummarylTable[[#This Row],[EmployeeID]],EmployeeListLookupTable[],2,FALSE)","v":"EMPN082"},{"$f":"VLOOKUP(HRSummarylTable[[#This Row],[EmployeeID]],EmployeeListLookupTable[],3,FALSE)","v":"Employee Name 82"},{"$f":"VLOOKUP(HRSummarylTable[[#This Row],[EmployeeID]],EmployeeListLookupTable[],4,FALSE)","v":"Employee Job Title 82"},"TCTC001 - Total Cost to Company",{"$f":"LEFT(HRSummarylTable[[#This Row],[PackageItemCode]],7)","v":"TCTC001"},{"$f":"VLOOKUP(HRSummarylTable[[#This Row],[PackageItem]],PackageItemListLookup[],2,FALSE)","v":"Total Cost to Company"},null,{"$f":"SUMIF(PACKT01!$R93,\"TRUE\",PACKT01!F93)+SUMIF(PACKT02!$R93,\"TRUE\",PACKT02!F93)+SUMIF(PACKT03!$R93,\"TRUE\",PACKT03!F93)+SUMIF(PACKT04!$R93,\"TRUE\",PACKT04!F93)+SUMIF(PACKT05!$R93,\"TRUE\",PACKT05!F93)+SUMIF(PACKT06!$R94,\"TRUE\",PACKT06!F94)+SUMIF(PACKT07!$R93,\"TRUE\",PACKT07!F93)+SUMIF(PACKT08!$R93,\"TRUE\",PACKT08!F93)+SUMIF(PACKT09!$R93,\"TRUE\",PACKT09!F93)+SUMIF(PACKT10!$R93,\"TRUE\",PACKT10!F93)+SUMIF(PACKT11!$R93,\"TRUE\",PACKT11!F93)","v":0},{"$f":"SUMIF(PACKT01!$R93,\"TRUE\",PACKT01!G93)+SUMIF(PACKT02!$R93,\"TRUE\",PACKT02!G93)+SUMIF(PACKT03!$R93,\"TRUE\",PACKT03!G93)+SUMIF(PACKT04!$R93,\"TRUE\",PACKT04!G93)+SUMIF(PACKT05!$R93,\"TRUE\",PACKT05!G93)+SUMIF(PACKT06!$R94,\"TRUE\",PACKT06!G94)+SUMIF(PACKT07!$R93,\"TRUE\",PACKT07!G93)+SUMIF(PACKT08!$R93,\"TRUE\",PACKT08!G93)+SUMIF(PACKT09!$R93,\"TRUE\",PACKT09!G93)+SUMIF(PACKT10!$R93,\"TRUE\",PACKT10!G93)+SUMIF(PACKT11!$R93,\"TRUE\",PACKT11!G93)","v":0},{"$f":"SUMIF(PACKT01!$R93,\"TRUE\",PACKT01!H93)+SUMIF(PACKT02!$R93,\"TRUE\",PACKT02!H93)+SUMIF(PACKT03!$R93,\"TRUE\",PACKT03!H93)+SUMIF(PACKT04!$R93,\"TRUE\",PACKT04!H93)+SUMIF(PACKT05!$R93,\"TRUE\",PACKT05!H93)+SUMIF(PACKT06!$R94,\"TRUE\",PACKT06!H94)+SUMIF(PACKT07!$R93,\"TRUE\",PACKT07!H93)+SUMIF(PACKT08!$R93,\"TRUE\",PACKT08!H93)+SUMIF(PACKT09!$R93,\"TRUE\",PACKT09!H93)+SUMIF(PACKT10!$R93,\"TRUE\",PACKT10!H93)+SUMIF(PACKT11!$R93,\"TRUE\",PACKT11!H93)","v":0},{"$f":"SUMIF(PACKT01!$R93,\"TRUE\",PACKT01!I93)+SUMIF(PACKT02!$R93,\"TRUE\",PACKT02!I93)+SUMIF(PACKT03!$R93,\"TRUE\",PACKT03!I93)+SUMIF(PACKT04!$R93,\"TRUE\",PACKT04!I93)+SUMIF(PACKT05!$R93,\"TRUE\",PACKT05!I93)+SUMIF(PACKT06!$R94,\"TRUE\",PACKT06!I94)+SUMIF(PACKT07!$R93,\"TRUE\",PACKT07!I93)+SUMIF(PACKT08!$R93,\"TRUE\",PACKT08!I93)+SUMIF(PACKT09!$R93,\"TRUE\",PACKT09!I93)+SUMIF(PACKT10!$R93,\"TRUE\",PACKT10!I93)+SUMIF(PACKT11!$R93,\"TRUE\",PACKT11!I93)","v":0},{"$f":"SUMIF(PACKT01!$R93,\"TRUE\",PACKT01!J93)+SUMIF(PACKT02!$R93,\"TRUE\",PACKT02!J93)+SUMIF(PACKT03!$R93,\"TRUE\",PACKT03!J93)+SUMIF(PACKT04!$R93,\"TRUE\",PACKT04!J93)+SUMIF(PACKT05!$R93,\"TRUE\",PACKT05!J93)+SUMIF(PACKT06!$R94,\"TRUE\",PACKT06!J94)+SUMIF(PACKT07!$R93,\"TRUE\",PACKT07!J93)+SUMIF(PACKT08!$R93,\"TRUE\",PACKT08!J93)+SUMIF(PACKT09!$R93,\"TRUE\",PACKT09!J93)+SUMIF(PACKT10!$R93,\"TRUE\",PACKT10!J93)+SUMIF(PACKT11!$R93,\"TRUE\",PACKT11!J93)","v":0},{"$f":"SUMIF(PACKT01!$R93,\"TRUE\",PACKT01!K93)+SUMIF(PACKT02!$R93,\"TRUE\",PACKT02!K93)+SUMIF(PACKT03!$R93,\"TRUE\",PACKT03!K93)+SUMIF(PACKT04!$R93,\"TRUE\",PACKT04!K93)+SUMIF(PACKT05!$R93,\"TRUE\",PACKT05!K93)+SUMIF(PACKT06!$R94,\"TRUE\",PACKT06!K94)+SUMIF(PACKT07!$R93,\"TRUE\",PACKT07!K93)+SUMIF(PACKT08!$R93,\"TRUE\",PACKT08!K93)+SUMIF(PACKT09!$R93,\"TRUE\",PACKT09!K93)+SUMIF(PACKT10!$R93,\"TRUE\",PACKT10!K93)+SUMIF(PACKT11!$R93,\"TRUE\",PACKT11!K93)","v":0},{"$f":"SUMIF(PACKT01!$R93,\"TRUE\",PACKT01!L93)+SUMIF(PACKT02!$R93,\"TRUE\",PACKT02!L93)+SUMIF(PACKT03!$R93,\"TRUE\",PACKT03!L93)+SUMIF(PACKT04!$R93,\"TRUE\",PACKT04!L93)+SUMIF(PACKT05!$R93,\"TRUE\",PACKT05!L93)+SUMIF(PACKT06!$R94,\"TRUE\",PACKT06!L94)+SUMIF(PACKT07!$R93,\"TRUE\",PACKT07!L93)+SUMIF(PACKT08!$R93,\"TRUE\",PACKT08!L93)+SUMIF(PACKT09!$R93,\"TRUE\",PACKT09!L93)+SUMIF(PACKT10!$R93,\"TRUE\",PACKT10!L93)+SUMIF(PACKT11!$R93,\"TRUE\",PACKT11!L93)","v":0},{"$f":"SUMIF(PACKT01!$R93,\"TRUE\",PACKT01!M93)+SUMIF(PACKT02!$R93,\"TRUE\",PACKT02!M93)+SUMIF(PACKT03!$R93,\"TRUE\",PACKT03!M93)+SUMIF(PACKT04!$R93,\"TRUE\",PACKT04!M93)+SUMIF(PACKT05!$R93,\"TRUE\",PACKT05!M93)+SUMIF(PACKT06!$R94,\"TRUE\",PACKT06!M94)+SUMIF(PACKT07!$R93,\"TRUE\",PACKT07!M93)+SUMIF(PACKT08!$R93,\"TRUE\",PACKT08!M93)+SUMIF(PACKT09!$R93,\"TRUE\",PACKT09!M93)+SUMIF(PACKT10!$R93,\"TRUE\",PACKT10!M93)+SUMIF(PACKT11!$R93,\"TRUE\",PACKT11!M93)","v":0},{"$f":"SUMIF(PACKT01!$R93,\"TRUE\",PACKT01!N93)+SUMIF(PACKT02!$R93,\"TRUE\",PACKT02!N93)+SUMIF(PACKT03!$R93,\"TRUE\",PACKT03!N93)+SUMIF(PACKT04!$R93,\"TRUE\",PACKT04!N93)+SUMIF(PACKT05!$R93,\"TRUE\",PACKT05!N93)+SUMIF(PACKT06!$R94,\"TRUE\",PACKT06!N94)+SUMIF(PACKT07!$R93,\"TRUE\",PACKT07!N93)+SUMIF(PACKT08!$R93,\"TRUE\",PACKT08!N93)+SUMIF(PACKT09!$R93,\"TRUE\",PACKT09!N93)+SUMIF(PACKT10!$R93,\"TRUE\",PACKT10!N93)+SUMIF(PACKT11!$R93,\"TRUE\",PACKT11!N93)","v":0},{"$f":"SUMIF(PACKT01!$R93,\"TRUE\",PACKT01!O93)+SUMIF(PACKT02!$R93,\"TRUE\",PACKT02!O93)+SUMIF(PACKT03!$R93,\"TRUE\",PACKT03!O93)+SUMIF(PACKT04!$R93,\"TRUE\",PACKT04!O93)+SUMIF(PACKT05!$R93,\"TRUE\",PACKT05!O93)+SUMIF(PACKT06!$R94,\"TRUE\",PACKT06!O94)+SUMIF(PACKT07!$R93,\"TRUE\",PACKT07!O93)+SUMIF(PACKT08!$R93,\"TRUE\",PACKT08!O93)+SUMIF(PACKT09!$R93,\"TRUE\",PACKT09!O93)+SUMIF(PACKT10!$R93,\"TRUE\",PACKT10!O93)+SUMIF(PACKT11!$R93,\"TRUE\",PACKT11!O93)","v":0},{"$f":"SUMIF(PACKT01!$R93,\"TRUE\",PACKT01!P93)+SUMIF(PACKT02!$R93,\"TRUE\",PACKT02!P93)+SUMIF(PACKT03!$R93,\"TRUE\",PACKT03!P93)+SUMIF(PACKT04!$R93,\"TRUE\",PACKT04!P93)+SUMIF(PACKT05!$R93,\"TRUE\",PACKT05!P93)+SUMIF(PACKT06!$R94,\"TRUE\",PACKT06!P94)+SUMIF(PACKT07!$R93,\"TRUE\",PACKT07!P93)+SUMIF(PACKT08!$R93,\"TRUE\",PACKT08!P93)+SUMIF(PACKT09!$R93,\"TRUE\",PACKT09!P93)+SUMIF(PACKT10!$R93,\"TRUE\",PACKT10!P93)+SUMIF(PACKT11!$R93,\"TRUE\",PACKT11!P93)","v":0},{"$f":"SUMIF(PACKT01!$R93,\"TRUE\",PACKT01!Q93)+SUMIF(PACKT02!$R93,\"TRUE\",PACKT02!Q93)+SUMIF(PACKT03!$R93,\"TRUE\",PACKT03!Q93)+SUMIF(PACKT04!$R93,\"TRUE\",PACKT04!Q93)+SUMIF(PACKT05!$R93,\"TRUE\",PACKT05!Q93)+SUMIF(PACKT06!$R94,\"TRUE\",PACKT06!Q94)+SUMIF(PACKT07!$R93,\"TRUE\",PACKT07!Q93)+SUMIF(PACKT08!$R93,\"TRUE\",PACKT08!Q93)+SUMIF(PACKT09!$R93,\"TRUE\",PACKT09!Q93)+SUMIF(PACKT10!$R93,\"TRUE\",PACKT10!Q93)+SUMIF(PACKT11!$R93,\"TRUE\",PACKT11!Q93)","v":0},0]
[null,"EMP0083",{"$f":"VLOOKUP(HRSummarylTable[[#This Row],[EmployeeID]],EmployeeListLookupTable[],2,FALSE)","v":"EMPN083"},{"$f":"VLOOKUP(HRSummarylTable[[#This Row],[EmployeeID]],EmployeeListLookupTable[],3,FALSE)","v":"Employee Name 83"},{"$f":"VLOOKUP(HRSummarylTable[[#This Row],[EmployeeID]],EmployeeListLookupTable[],4,FALSE)","v":"Employee Job Title 83"},"TCTC001 - Total Cost to Company",{"$f":"LEFT(HRSummarylTable[[#This Row],[PackageItemCode]],7)","v":"TCTC001"},{"$f":"VLOOKUP(HRSummarylTable[[#This Row],[PackageItem]],PackageItemListLookup[],2,FALSE)","v":"Total Cost to Company"},null,{"$f":"SUMIF(PACKT01!$R94,\"TRUE\",PACKT01!F94)+SUMIF(PACKT02!$R94,\"TRUE\",PACKT02!F94)+SUMIF(PACKT03!$R94,\"TRUE\",PACKT03!F94)+SUMIF(PACKT04!$R94,\"TRUE\",PACKT04!F94)+SUMIF(PACKT05!$R94,\"TRUE\",PACKT05!F94)+SUMIF(PACKT06!$R95,\"TRUE\",PACKT06!F95)+SUMIF(PACKT07!$R94,\"TRUE\",PACKT07!F94)+SUMIF(PACKT08!$R94,\"TRUE\",PACKT08!F94)+SUMIF(PACKT09!$R94,\"TRUE\",PACKT09!F94)+SUMIF(PACKT10!$R94,\"TRUE\",PACKT10!F94)+SUMIF(PACKT11!$R94,\"TRUE\",PACKT11!F94)","v":0},{"$f":"SUMIF(PACKT01!$R94,\"TRUE\",PACKT01!G94)+SUMIF(PACKT02!$R94,\"TRUE\",PACKT02!G94)+SUMIF(PACKT03!$R94,\"TRUE\",PACKT03!G94)+SUMIF(PACKT04!$R94,\"TRUE\",PACKT04!G94)+SUMIF(PACKT05!$R94,\"TRUE\",PACKT05!G94)+SUMIF(PACKT06!$R95,\"TRUE\",PACKT06!G95)+SUMIF(PACKT07!$R94,\"TRUE\",PACKT07!G94)+SUMIF(PACKT08!$R94,\"TRUE\",PACKT08!G94)+SUMIF(PACKT09!$R94,\"TRUE\",PACKT09!G94)+SUMIF(PACKT10!$R94,\"TRUE\",PACKT10!G94)+SUMIF(PACKT11!$R94,\"TRUE\",PACKT11!G94)","v":0},{"$f":"SUMIF(PACKT01!$R94,\"TRUE\",PACKT01!H94)+SUMIF(PACKT02!$R94,\"TRUE\",PACKT02!H94)+SUMIF(PACKT03!$R94,\"TRUE\",PACKT03!H94)+SUMIF(PACKT04!$R94,\"TRUE\",PACKT04!H94)+SUMIF(PACKT05!$R94,\"TRUE\",PACKT05!H94)+SUMIF(PACKT06!$R95,\"TRUE\",PACKT06!H95)+SUMIF(PACKT07!$R94,\"TRUE\",PACKT07!H94)+SUMIF(PACKT08!$R94,\"TRUE\",PACKT08!H94)+SUMIF(PACKT09!$R94,\"TRUE\",PACKT09!H94)+SUMIF(PACKT10!$R94,\"TRUE\",PACKT10!H94)+SUMIF(PACKT11!$R94,\"TRUE\",PACKT11!H94)","v":0},{"$f":"SUMIF(PACKT01!$R94,\"TRUE\",PACKT01!I94)+SUMIF(PACKT02!$R94,\"TRUE\",PACKT02!I94)+SUMIF(PACKT03!$R94,\"TRUE\",PACKT03!I94)+SUMIF(PACKT04!$R94,\"TRUE\",PACKT04!I94)+SUMIF(PACKT05!$R94,\"TRUE\",PACKT05!I94)+SUMIF(PACKT06!$R95,\"TRUE\",PACKT06!I95)+SUMIF(PACKT07!$R94,\"TRUE\",PACKT07!I94)+SUMIF(PACKT08!$R94,\"TRUE\",PACKT08!I94)+SUMIF(PACKT09!$R94,\"TRUE\",PACKT09!I94)+SUMIF(PACKT10!$R94,\"TRUE\",PACKT10!I94)+SUMIF(PACKT11!$R94,\"TRUE\",PACKT11!I94)","v":0},{"$f":"SUMIF(PACKT01!$R94,\"TRUE\",PACKT01!J94)+SUMIF(PACKT02!$R94,\"TRUE\",PACKT02!J94)+SUMIF(PACKT03!$R94,\"TRUE\",PACKT03!J94)+SUMIF(PACKT04!$R94,\"TRUE\",PACKT04!J94)+SUMIF(PACKT05!$R94,\"TRUE\",PACKT05!J94)+SUMIF(PACKT06!$R95,\"TRUE\",PACKT06!J95)+SUMIF(PACKT07!$R94,\"TRUE\",PACKT07!J94)+SUMIF(PACKT08!$R94,\"TRUE\",PACKT08!J94)+SUMIF(PACKT09!$R94,\"TRUE\",PACKT09!J94)+SUMIF(PACKT10!$R94,\"TRUE\",PACKT10!J94)+SUMIF(PACKT11!$R94,\"TRUE\",PACKT11!J94)","v":0},{"$f":"SUMIF(PACKT01!$R94,\"TRUE\",PACKT01!K94)+SUMIF(PACKT02!$R94,\"TRUE\",PACKT02!K94)+SUMIF(PACKT03!$R94,\"TRUE\",PACKT03!K94)+SUMIF(PACKT04!$R94,\"TRUE\",PACKT04!K94)+SUMIF(PACKT05!$R94,\"TRUE\",PACKT05!K94)+SUMIF(PACKT06!$R95,\"TRUE\",PACKT06!K95)+SUMIF(PACKT07!$R94,\"TRUE\",PACKT07!K94)+SUMIF(PACKT08!$R94,\"TRUE\",PACKT08!K94)+SUMIF(PACKT09!$R94,\"TRUE\",PACKT09!K94)+SUMIF(PACKT10!$R94,\"TRUE\",PACKT10!K94)+SUMIF(PACKT11!$R94,\"TRUE\",PACKT11!K94)","v":0},{"$f":"SUMIF(PACKT01!$R94,\"TRUE\",PACKT01!L94)+SUMIF(PACKT02!$R94,\"TRUE\",PACKT02!L94)+SUMIF(PACKT03!$R94,\"TRUE\",PACKT03!L94)+SUMIF(PACKT04!$R94,\"TRUE\",PACKT04!L94)+SUMIF(PACKT05!$R94,\"TRUE\",PACKT05!L94)+SUMIF(PACKT06!$R95,\"TRUE\",PACKT06!L95)+SUMIF(PACKT07!$R94,\"TRUE\",PACKT07!L94)+SUMIF(PACKT08!$R94,\"TRUE\",PACKT08!L94)+SUMIF(PACKT09!$R94,\"TRUE\",PACKT09!L94)+SUMIF(PACKT10!$R94,\"TRUE\",PACKT10!L94)+SUMIF(PACKT11!$R94,\"TRUE\",PACKT11!L94)","v":0},{"$f":"SUMIF(PACKT01!$R94,\"TRUE\",PACKT01!M94)+SUMIF(PACKT02!$R94,\"TRUE\",PACKT02!M94)+SUMIF(PACKT03!$R94,\"TRUE\",PACKT03!M94)+SUMIF(PACKT04!$R94,\"TRUE\",PACKT04!M94)+SUMIF(PACKT05!$R94,\"TRUE\",PACKT05!M94)+SUMIF(PACKT06!$R95,\"TRUE\",PACKT06!M95)+SUMIF(PACKT07!$R94,\"TRUE\",PACKT07!M94)+SUMIF(PACKT08!$R94,\"TRUE\",PACKT08!M94)+SUMIF(PACKT09!$R94,\"TRUE\",PACKT09!M94)+SUMIF(PACKT10!$R94,\"TRUE\",PACKT10!M94)+SUMIF(PACKT11!$R94,\"TRUE\",PACKT11!M94)","v":0},{"$f":"SUMIF(PACKT01!$R94,\"TRUE\",PACKT01!N94)+SUMIF(PACKT02!$R94,\"TRUE\",PACKT02!N94)+SUMIF(PACKT03!$R94,\"TRUE\",PACKT03!N94)+SUMIF(PACKT04!$R94,\"TRUE\",PACKT04!N94)+SUMIF(PACKT05!$R94,\"TRUE\",PACKT05!N94)+SUMIF(PACKT06!$R95,\"TRUE\",PACKT06!N95)+SUMIF(PACKT07!$R94,\"TRUE\",PACKT07!N94)+SUMIF(PACKT08!$R94,\"TRUE\",PACKT08!N94)+SUMIF(PACKT09!$R94,\"TRUE\",PACKT09!N94)+SUMIF(PACKT10!$R94,\"TRUE\",PACKT10!N94)+SUMIF(PACKT11!$R94,\"TRUE\",PACKT11!N94)","v":0},{"$f":"SUMIF(PACKT01!$R94,\"TRUE\",PACKT01!O94)+SUMIF(PACKT02!$R94,\"TRUE\",PACKT02!O94)+SUMIF(PACKT03!$R94,\"TRUE\",PACKT03!O94)+SUMIF(PACKT04!$R94,\"TRUE\",PACKT04!O94)+SUMIF(PACKT05!$R94,\"TRUE\",PACKT05!O94)+SUMIF(PACKT06!$R95,\"TRUE\",PACKT06!O95)+SUMIF(PACKT07!$R94,\"TRUE\",PACKT07!O94)+SUMIF(PACKT08!$R94,\"TRUE\",PACKT08!O94)+SUMIF(PACKT09!$R94,\"TRUE\",PACKT09!O94)+SUMIF(PACKT10!$R94,\"TRUE\",PACKT10!O94)+SUMIF(PACKT11!$R94,\"TRUE\",PACKT11!O94)","v":0},{"$f":"SUMIF(PACKT01!$R94,\"TRUE\",PACKT01!P94)+SUMIF(PACKT02!$R94,\"TRUE\",PACKT02!P94)+SUMIF(PACKT03!$R94,\"TRUE\",PACKT03!P94)+SUMIF(PACKT04!$R94,\"TRUE\",PACKT04!P94)+SUMIF(PACKT05!$R94,\"TRUE\",PACKT05!P94)+SUMIF(PACKT06!$R95,\"TRUE\",PACKT06!P95)+SUMIF(PACKT07!$R94,\"TRUE\",PACKT07!P94)+SUMIF(PACKT08!$R94,\"TRUE\",PACKT08!P94)+SUMIF(PACKT09!$R94,\"TRUE\",PACKT09!P94)+SUMIF(PACKT10!$R94,\"TRUE\",PACKT10!P94)+SUMIF(PACKT11!$R94,\"TRUE\",PACKT11!P94)","v":0},{"$f":"SUMIF(PACKT01!$R94,\"TRUE\",PACKT01!Q94)+SUMIF(PACKT02!$R94,\"TRUE\",PACKT02!Q94)+SUMIF(PACKT03!$R94,\"TRUE\",PACKT03!Q94)+SUMIF(PACKT04!$R94,\"TRUE\",PACKT04!Q94)+SUMIF(PACKT05!$R94,\"TRUE\",PACKT05!Q94)+SUMIF(PACKT06!$R95,\"TRUE\",PACKT06!Q95)+SUMIF(PACKT07!$R94,\"TRUE\",PACKT07!Q94)+SUMIF(PACKT08!$R94,\"TRUE\",PACKT08!Q94)+SUMIF(PACKT09!$R94,\"TRUE\",PACKT09!Q94)+SUMIF(PACKT10!$R94,\"TRUE\",PACKT10!Q94)+SUMIF(PACKT11!$R94,\"TRUE\",PACKT11!Q94)","v":0},0]
[null,"EMP0084",{"$f":"VLOOKUP(HRSummarylTable[[#This Row],[EmployeeID]],EmployeeListLookupTable[],2,FALSE)","v":"EMPN084"},{"$f":"VLOOKUP(HRSummarylTable[[#This Row],[EmployeeID]],EmployeeListLookupTable[],3,FALSE)","v":"Employee Name 84"},{"$f":"VLOOKUP(HRSummarylTable[[#This Row],[EmployeeID]],EmployeeListLookupTable[],4,FALSE)","v":"Employee Job Title 84"},"TCTC001 - Total Cost to Company",{"$f":"LEFT(HRSummarylTable[[#This Row],[PackageItemCode]],7)","v":"TCTC001"},{"$f":"VLOOKUP(HRSummarylTable[[#This Row],[PackageItem]],PackageItemListLookup[],2,FALSE)","v":"Total Cost to Company"},null,{"$f":"SUMIF(PACKT01!$R95,\"TRUE\",PACKT01!F95)+SUMIF(PACKT02!$R95,\"TRUE\",PACKT02!F95)+SUMIF(PACKT03!$R95,\"TRUE\",PACKT03!F95)+SUMIF(PACKT04!$R95,\"TRUE\",PACKT04!F95)+SUMIF(PACKT05!$R95,\"TRUE\",PACKT05!F95)+SUMIF(PACKT06!$R96,\"TRUE\",PACKT06!F96)+SUMIF(PACKT07!$R95,\"TRUE\",PACKT07!F95)+SUMIF(PACKT08!$R95,\"TRUE\",PACKT08!F95)+SUMIF(PACKT09!$R95,\"TRUE\",PACKT09!F95)+SUMIF(PACKT10!$R95,\"TRUE\",PACKT10!F95)+SUMIF(PACKT11!$R95,\"TRUE\",PACKT11!F95)","v":0},{"$f":"SUMIF(PACKT01!$R95,\"TRUE\",PACKT01!G95)+SUMIF(PACKT02!$R95,\"TRUE\",PACKT02!G95)+SUMIF(PACKT03!$R95,\"TRUE\",PACKT03!G95)+SUMIF(PACKT04!$R95,\"TRUE\",PACKT04!G95)+SUMIF(PACKT05!$R95,\"TRUE\",PACKT05!G95)+SUMIF(PACKT06!$R96,\"TRUE\",PACKT06!G96)+SUMIF(PACKT07!$R95,\"TRUE\",PACKT07!G95)+SUMIF(PACKT08!$R95,\"TRUE\",PACKT08!G95)+SUMIF(PACKT09!$R95,\"TRUE\",PACKT09!G95)+SUMIF(PACKT10!$R95,\"TRUE\",PACKT10!G95)+SUMIF(PACKT11!$R95,\"TRUE\",PACKT11!G95)","v":0},{"$f":"SUMIF(PACKT01!$R95,\"TRUE\",PACKT01!H95)+SUMIF(PACKT02!$R95,\"TRUE\",PACKT02!H95)+SUMIF(PACKT03!$R95,\"TRUE\",PACKT03!H95)+SUMIF(PACKT04!$R95,\"TRUE\",PACKT04!H95)+SUMIF(PACKT05!$R95,\"TRUE\",PACKT05!H95)+SUMIF(PACKT06!$R96,\"TRUE\",PACKT06!H96)+SUMIF(PACKT07!$R95,\"TRUE\",PACKT07!H95)+SUMIF(PACKT08!$R95,\"TRUE\",PACKT08!H95)+SUMIF(PACKT09!$R95,\"TRUE\",PACKT09!H95)+SUMIF(PACKT10!$R95,\"TRUE\",PACKT10!H95)+SUMIF(PACKT11!$R95,\"TRUE\",PACKT11!H95)","v":0},{"$f":"SUMIF(PACKT01!$R95,\"TRUE\",PACKT01!I95)+SUMIF(PACKT02!$R95,\"TRUE\",PACKT02!I95)+SUMIF(PACKT03!$R95,\"TRUE\",PACKT03!I95)+SUMIF(PACKT04!$R95,\"TRUE\",PACKT04!I95)+SUMIF(PACKT05!$R95,\"TRUE\",PACKT05!I95)+SUMIF(PACKT06!$R96,\"TRUE\",PACKT06!I96)+SUMIF(PACKT07!$R95,\"TRUE\",PACKT07!I95)+SUMIF(PACKT08!$R95,\"TRUE\",PACKT08!I95)+SUMIF(PACKT09!$R95,\"TRUE\",PACKT09!I95)+SUMIF(PACKT10!$R95,\"TRUE\",PACKT10!I95)+SUMIF(PACKT11!$R95,\"TRUE\",PACKT11!I95)","v":0},{"$f":"SUMIF(PACKT01!$R95,\"TRUE\",PACKT01!J95)+SUMIF(PACKT02!$R95,\"TRUE\",PACKT02!J95)+SUMIF(PACKT03!$R95,\"TRUE\",PACKT03!J95)+SUMIF(PACKT04!$R95,\"TRUE\",PACKT04!J95)+SUMIF(PACKT05!$R95,\"TRUE\",PACKT05!J95)+SUMIF(PACKT06!$R96,\"TRUE\",PACKT06!J96)+SUMIF(PACKT07!$R95,\"TRUE\",PACKT07!J95)+SUMIF(PACKT08!$R95,\"TRUE\",PACKT08!J95)+SUMIF(PACKT09!$R95,\"TRUE\",PACKT09!J95)+SUMIF(PACKT10!$R95,\"TRUE\",PACKT10!J95)+SUMIF(PACKT11!$R95,\"TRUE\",PACKT11!J95)","v":0},{"$f":"SUMIF(PACKT01!$R95,\"TRUE\",PACKT01!K95)+SUMIF(PACKT02!$R95,\"TRUE\",PACKT02!K95)+SUMIF(PACKT03!$R95,\"TRUE\",PACKT03!K95)+SUMIF(PACKT04!$R95,\"TRUE\",PACKT04!K95)+SUMIF(PACKT05!$R95,\"TRUE\",PACKT05!K95)+SUMIF(PACKT06!$R96,\"TRUE\",PACKT06!K96)+SUMIF(PACKT07!$R95,\"TRUE\",PACKT07!K95)+SUMIF(PACKT08!$R95,\"TRUE\",PACKT08!K95)+SUMIF(PACKT09!$R95,\"TRUE\",PACKT09!K95)+SUMIF(PACKT10!$R95,\"TRUE\",PACKT10!K95)+SUMIF(PACKT11!$R95,\"TRUE\",PACKT11!K95)","v":0},{"$f":"SUMIF(PACKT01!$R95,\"TRUE\",PACKT01!L95)+SUMIF(PACKT02!$R95,\"TRUE\",PACKT02!L95)+SUMIF(PACKT03!$R95,\"TRUE\",PACKT03!L95)+SUMIF(PACKT04!$R95,\"TRUE\",PACKT04!L95)+SUMIF(PACKT05!$R95,\"TRUE\",PACKT05!L95)+SUMIF(PACKT06!$R96,\"TRUE\",PACKT06!L96)+SUMIF(PACKT07!$R95,\"TRUE\",PACKT07!L95)+SUMIF(PACKT08!$R95,\"TRUE\",PACKT08!L95)+SUMIF(PACKT09!$R95,\"TRUE\",PACKT09!L95)+SUMIF(PACKT10!$R95,\"TRUE\",PACKT10!L95)+SUMIF(PACKT11!$R95,\"TRUE\",PACKT11!L95)","v":0},{"$f":"SUMIF(PACKT01!$R95,\"TRUE\",PACKT01!M95)+SUMIF(PACKT02!$R95,\"TRUE\",PACKT02!M95)+SUMIF(PACKT03!$R95,\"TRUE\",PACKT03!M95)+SUMIF(PACKT04!$R95,\"TRUE\",PACKT04!M95)+SUMIF(PACKT05!$R95,\"TRUE\",PACKT05!M95)+SUMIF(PACKT06!$R96,\"TRUE\",PACKT06!M96)+SUMIF(PACKT07!$R95,\"TRUE\",PACKT07!M95)+SUMIF(PACKT08!$R95,\"TRUE\",PACKT08!M95)+SUMIF(PACKT09!$R95,\"TRUE\",PACKT09!M95)+SUMIF(PACKT10!$R95,\"TRUE\",PACKT10!M95)+SUMIF(PACKT11!$R95,\"TRUE\",PACKT11!M95)","v":0},{"$f":"SUMIF(PACKT01!$R95,\"TRUE\",PACKT01!N95)+SUMIF(PACKT02!$R95,\"TRUE\",PACKT02!N95)+SUMIF(PACKT03!$R95,\"TRUE\",PACKT03!N95)+SUMIF(PACKT04!$R95,\"TRUE\",PACKT04!N95)+SUMIF(PACKT05!$R95,\"TRUE\",PACKT05!N95)+SUMIF(PACKT06!$R96,\"TRUE\",PACKT06!N96)+SUMIF(PACKT07!$R95,\"TRUE\",PACKT07!N95)+SUMIF(PACKT08!$R95,\"TRUE\",PACKT08!N95)+SUMIF(PACKT09!$R95,\"TRUE\",PACKT09!N95)+SUMIF(PACKT10!$R95,\"TRUE\",PACKT10!N95)+SUMIF(PACKT11!$R95,\"TRUE\",PACKT11!N95)","v":0},{"$f":"SUMIF(PACKT01!$R95,\"TRUE\",PACKT01!O95)+SUMIF(PACKT02!$R95,\"TRUE\",PACKT02!O95)+SUMIF(PACKT03!$R95,\"TRUE\",PACKT03!O95)+SUMIF(PACKT04!$R95,\"TRUE\",PACKT04!O95)+SUMIF(PACKT05!$R95,\"TRUE\",PACKT05!O95)+SUMIF(PACKT06!$R96,\"TRUE\",PACKT06!O96)+SUMIF(PACKT07!$R95,\"TRUE\",PACKT07!O95)+SUMIF(PACKT08!$R95,\"TRUE\",PACKT08!O95)+SUMIF(PACKT09!$R95,\"TRUE\",PACKT09!O95)+SUMIF(PACKT10!$R95,\"TRUE\",PACKT10!O95)+SUMIF(PACKT11!$R95,\"TRUE\",PACKT11!O95)","v":0},{"$f":"SUMIF(PACKT01!$R95,\"TRUE\",PACKT01!P95)+SUMIF(PACKT02!$R95,\"TRUE\",PACKT02!P95)+SUMIF(PACKT03!$R95,\"TRUE\",PACKT03!P95)+SUMIF(PACKT04!$R95,\"TRUE\",PACKT04!P95)+SUMIF(PACKT05!$R95,\"TRUE\",PACKT05!P95)+SUMIF(PACKT06!$R96,\"TRUE\",PACKT06!P96)+SUMIF(PACKT07!$R95,\"TRUE\",PACKT07!P95)+SUMIF(PACKT08!$R95,\"TRUE\",PACKT08!P95)+SUMIF(PACKT09!$R95,\"TRUE\",PACKT09!P95)+SUMIF(PACKT10!$R95,\"TRUE\",PACKT10!P95)+SUMIF(PACKT11!$R95,\"TRUE\",PACKT11!P95)","v":0},{"$f":"SUMIF(PACKT01!$R95,\"TRUE\",PACKT01!Q95)+SUMIF(PACKT02!$R95,\"TRUE\",PACKT02!Q95)+SUMIF(PACKT03!$R95,\"TRUE\",PACKT03!Q95)+SUMIF(PACKT04!$R95,\"TRUE\",PACKT04!Q95)+SUMIF(PACKT05!$R95,\"TRUE\",PACKT05!Q95)+SUMIF(PACKT06!$R96,\"TRUE\",PACKT06!Q96)+SUMIF(PACKT07!$R95,\"TRUE\",PACKT07!Q95)+SUMIF(PACKT08!$R95,\"TRUE\",PACKT08!Q95)+SUMIF(PACKT09!$R95,\"TRUE\",PACKT09!Q95)+SUMIF(PACKT10!$R95,\"TRUE\",PACKT10!Q95)+SUMIF(PACKT11!$R95,\"TRUE\",PACKT11!Q95)","v":0},0]
[null,"EMP0085",{"$f":"VLOOKUP(HRSummarylTable[[#This Row],[EmployeeID]],EmployeeListLookupTable[],2,FALSE)","v":"EMPN085"},{"$f":"VLOOKUP(HRSummarylTable[[#This Row],[EmployeeID]],EmployeeListLookupTable[],3,FALSE)","v":"Employee Name 85"},{"$f":"VLOOKUP(HRSummarylTable[[#This Row],[EmployeeID]],EmployeeListLookupTable[],4,FALSE)","v":"Employee Job Title 85"},"TCTC001 - Total Cost to Company",{"$f":"LEFT(HRSummarylTable[[#This Row],[PackageItemCode]],7)","v":"TCTC001"},{"$f":"VLOOKUP(HRSummarylTable[[#This Row],[PackageItem]],PackageItemListLookup[],2,FALSE)","v":"Total Cost to Company"},null,{"$f":"SUMIF(PACKT01!$R96,\"TRUE\",PACKT01!F96)+SUMIF(PACKT02!$R96,\"TRUE\",PACKT02!F96)+SUMIF(PACKT03!$R96,\"TRUE\",PACKT03!F96)+SUMIF(PACKT04!$R96,\"TRUE\",PACKT04!F96)+SUMIF(PACKT05!$R96,\"TRUE\",PACKT05!F96)+SUMIF(PACKT06!$R97,\"TRUE\",PACKT06!F97)+SUMIF(PACKT07!$R96,\"TRUE\",PACKT07!F96)+SUMIF(PACKT08!$R96,\"TRUE\",PACKT08!F96)+SUMIF(PACKT09!$R96,\"TRUE\",PACKT09!F96)+SUMIF(PACKT10!$R96,\"TRUE\",PACKT10!F96)+SUMIF(PACKT11!$R96,\"TRUE\",PACKT11!F96)","v":0},{"$f":"SUMIF(PACKT01!$R96,\"TRUE\",PACKT01!G96)+SUMIF(PACKT02!$R96,\"TRUE\",PACKT02!G96)+SUMIF(PACKT03!$R96,\"TRUE\",PACKT03!G96)+SUMIF(PACKT04!$R96,\"TRUE\",PACKT04!G96)+SUMIF(PACKT05!$R96,\"TRUE\",PACKT05!G96)+SUMIF(PACKT06!$R97,\"TRUE\",PACKT06!G97)+SUMIF(PACKT07!$R96,\"TRUE\",PACKT07!G96)+SUMIF(PACKT08!$R96,\"TRUE\",PACKT08!G96)+SUMIF(PACKT09!$R96,\"TRUE\",PACKT09!G96)+SUMIF(PACKT10!$R96,\"TRUE\",PACKT10!G96)+SUMIF(PACKT11!$R96,\"TRUE\",PACKT11!G96)","v":0},{"$f":"SUMIF(PACKT01!$R96,\"TRUE\",PACKT01!H96)+SUMIF(PACKT02!$R96,\"TRUE\",PACKT02!H96)+SUMIF(PACKT03!$R96,\"TRUE\",PACKT03!H96)+SUMIF(PACKT04!$R96,\"TRUE\",PACKT04!H96)+SUMIF(PACKT05!$R96,\"TRUE\",PACKT05!H96)+SUMIF(PACKT06!$R97,\"TRUE\",PACKT06!H97)+SUMIF(PACKT07!$R96,\"TRUE\",PACKT07!H96)+SUMIF(PACKT08!$R96,\"TRUE\",PACKT08!H96)+SUMIF(PACKT09!$R96,\"TRUE\",PACKT09!H96)+SUMIF(PACKT10!$R96,\"TRUE\",PACKT10!H96)+SUMIF(PACKT11!$R96,\"TRUE\",PACKT11!H96)","v":0},{"$f":"SUMIF(PACKT01!$R96,\"TRUE\",PACKT01!I96)+SUMIF(PACKT02!$R96,\"TRUE\",PACKT02!I96)+SUMIF(PACKT03!$R96,\"TRUE\",PACKT03!I96)+SUMIF(PACKT04!$R96,\"TRUE\",PACKT04!I96)+SUMIF(PACKT05!$R96,\"TRUE\",PACKT05!I96)+SUMIF(PACKT06!$R97,\"TRUE\",PACKT06!I97)+SUMIF(PACKT07!$R96,\"TRUE\",PACKT07!I96)+SUMIF(PACKT08!$R96,\"TRUE\",PACKT08!I96)+SUMIF(PACKT09!$R96,\"TRUE\",PACKT09!I96)+SUMIF(PACKT10!$R96,\"TRUE\",PACKT10!I96)+SUMIF(PACKT11!$R96,\"TRUE\",PACKT11!I96)","v":0},{"$f":"SUMIF(PACKT01!$R96,\"TRUE\",PACKT01!J96)+SUMIF(PACKT02!$R96,\"TRUE\",PACKT02!J96)+SUMIF(PACKT03!$R96,\"TRUE\",PACKT03!J96)+SUMIF(PACKT04!$R96,\"TRUE\",PACKT04!J96)+SUMIF(PACKT05!$R96,\"TRUE\",PACKT05!J96)+SUMIF(PACKT06!$R97,\"TRUE\",PACKT06!J97)+SUMIF(PACKT07!$R96,\"TRUE\",PACKT07!J96)+SUMIF(PACKT08!$R96,\"TRUE\",PACKT08!J96)+SUMIF(PACKT09!$R96,\"TRUE\",PACKT09!J96)+SUMIF(PACKT10!$R96,\"TRUE\",PACKT10!J96)+SUMIF(PACKT11!$R96,\"TRUE\",PACKT11!J96)","v":0},{"$f":"SUMIF(PACKT01!$R96,\"TRUE\",PACKT01!K96)+SUMIF(PACKT02!$R96,\"TRUE\",PACKT02!K96)+SUMIF(PACKT03!$R96,\"TRUE\",PACKT03!K96)+SUMIF(PACKT04!$R96,\"TRUE\",PACKT04!K96)+SUMIF(PACKT05!$R96,\"TRUE\",PACKT05!K96)+SUMIF(PACKT06!$R97,\"TRUE\",PACKT06!K97)+SUMIF(PACKT07!$R96,\"TRUE\",PACKT07!K96)+SUMIF(PACKT08!$R96,\"TRUE\",PACKT08!K96)+SUMIF(PACKT09!$R96,\"TRUE\",PACKT09!K96)+SUMIF(PACKT10!$R96,\"TRUE\",PACKT10!K96)+SUMIF(PACKT11!$R96,\"TRUE\",PACKT11!K96)","v":0},{"$f":"SUMIF(PACKT01!$R96,\"TRUE\",PACKT01!L96)+SUMIF(PACKT02!$R96,\"TRUE\",PACKT02!L96)+SUMIF(PACKT03!$R96,\"TRUE\",PACKT03!L96)+SUMIF(PACKT04!$R96,\"TRUE\",PACKT04!L96)+SUMIF(PACKT05!$R96,\"TRUE\",PACKT05!L96)+SUMIF(PACKT06!$R97,\"TRUE\",PACKT06!L97)+SUMIF(PACKT07!$R96,\"TRUE\",PACKT07!L96)+SUMIF(PACKT08!$R96,\"TRUE\",PACKT08!L96)+SUMIF(PACKT09!$R96,\"TRUE\",PACKT09!L96)+SUMIF(PACKT10!$R96,\"TRUE\",PACKT10!L96)+SUMIF(PACKT11!$R96,\"TRUE\",PACKT11!L96)","v":0},{"$f":"SUMIF(PACKT01!$R96,\"TRUE\",PACKT01!M96)+SUMIF(PACKT02!$R96,\"TRUE\",PACKT02!M96)+SUMIF(PACKT03!$R96,\"TRUE\",PACKT03!M96)+SUMIF(PACKT04!$R96,\"TRUE\",PACKT04!M96)+SUMIF(PACKT05!$R96,\"TRUE\",PACKT05!M96)+SUMIF(PACKT06!$R97,\"TRUE\",PACKT06!M97)+SUMIF(PACKT07!$R96,\"TRUE\",PACKT07!M96)+SUMIF(PACKT08!$R96,\"TRUE\",PACKT08!M96)+SUMIF(PACKT09!$R96,\"TRUE\",PACKT09!M96)+SUMIF(PACKT10!$R96,\"TRUE\",PACKT10!M96)+SUMIF(PACKT11!$R96,\"TRUE\",PACKT11!M96)","v":0},{"$f":"SUMIF(PACKT01!$R96,\"TRUE\",PACKT01!N96)+SUMIF(PACKT02!$R96,\"TRUE\",PACKT02!N96)+SUMIF(PACKT03!$R96,\"TRUE\",PACKT03!N96)+SUMIF(PACKT04!$R96,\"TRUE\",PACKT04!N96)+SUMIF(PACKT05!$R96,\"TRUE\",PACKT05!N96)+SUMIF(PACKT06!$R97,\"TRUE\",PACKT06!N97)+SUMIF(PACKT07!$R96,\"TRUE\",PACKT07!N96)+SUMIF(PACKT08!$R96,\"TRUE\",PACKT08!N96)+SUMIF(PACKT09!$R96,\"TRUE\",PACKT09!N96)+SUMIF(PACKT10!$R96,\"TRUE\",PACKT10!N96)+SUMIF(PACKT11!$R96,\"TRUE\",PACKT11!N96)","v":0},{"$f":"SUMIF(PACKT01!$R96,\"TRUE\",PACKT01!O96)+SUMIF(PACKT02!$R96,\"TRUE\",PACKT02!O96)+SUMIF(PACKT03!$R96,\"TRUE\",PACKT03!O96)+SUMIF(PACKT04!$R96,\"TRUE\",PACKT04!O96)+SUMIF(PACKT05!$R96,\"TRUE\",PACKT05!O96)+SUMIF(PACKT06!$R97,\"TRUE\",PACKT06!O97)+SUMIF(PACKT07!$R96,\"TRUE\",PACKT07!O96)+SUMIF(PACKT08!$R96,\"TRUE\",PACKT08!O96)+SUMIF(PACKT09!$R96,\"TRUE\",PACKT09!O96)+SUMIF(PACKT10!$R96,\"TRUE\",PACKT10!O96)+SUMIF(PACKT11!$R96,\"TRUE\",PACKT11!O96)","v":0},{"$f":"SUMIF(PACKT01!$R96,\"TRUE\",PACKT01!P96)+SUMIF(PACKT02!$R96,\"TRUE\",PACKT02!P96)+SUMIF(PACKT03!$R96,\"TRUE\",PACKT03!P96)+SUMIF(PACKT04!$R96,\"TRUE\",PACKT04!P96)+SUMIF(PACKT05!$R96,\"TRUE\",PACKT05!P96)+SUMIF(PACKT06!$R97,\"TRUE\",PACKT06!P97)+SUMIF(PACKT07!$R96,\"TRUE\",PACKT07!P96)+SUMIF(PACKT08!$R96,\"TRUE\",PACKT08!P96)+SUMIF(PACKT09!$R96,\"TRUE\",PACKT09!P96)+SUMIF(PACKT10!$R96,\"TRUE\",PACKT10!P96)+SUMIF(PACKT11!$R96,\"TRUE\",PACKT11!P96)","v":0},{"$f":"SUMIF(PACKT01!$R96,\"TRUE\",PACKT01!Q96)+SUMIF(PACKT02!$R96,\"TRUE\",PACKT02!Q96)+SUMIF(PACKT03!$R96,\"TRUE\",PACKT03!Q96)+SUMIF(PACKT04!$R96,\"TRUE\",PACKT04!Q96)+SUMIF(PACKT05!$R96,\"TRUE\",PACKT05!Q96)+SUMIF(PACKT06!$R97,\"TRUE\",PACKT06!Q97)+SUMIF(PACKT07!$R96,\"TRUE\",PACKT07!Q96)+SUMIF(PACKT08!$R96,\"TRUE\",PACKT08!Q96)+SUMIF(PACKT09!$R96,\"TRUE\",PACKT09!Q96)+SUMIF(PACKT10!$R96,\"TRUE\",PACKT10!Q96)+SUMIF(PACKT11!$R96,\"TRUE\",PACKT11!Q96)","v":0},0]
[null,"EMP0086",{"$f":"VLOOKUP(HRSummarylTable[[#This Row],[EmployeeID]],EmployeeListLookupTable[],2,FALSE)","v":"EMPN086"},{"$f":"VLOOKUP(HRSummarylTable[[#This Row],[EmployeeID]],EmployeeListLookupTable[],3,FALSE)","v":"Employee Name 86"},{"$f":"VLOOKUP(HRSummarylTable[[#This Row],[EmployeeID]],EmployeeListLookupTable[],4,FALSE)","v":"Employee Job Title 86"},"TCTC001 - Total Cost to Company",{"$f":"LEFT(HRSummarylTable[[#This Row],[PackageItemCode]],7)","v":"TCTC001"},{"$f":"VLOOKUP(HRSummarylTable[[#This Row],[PackageItem]],PackageItemListLookup[],2,FALSE)","v":"Total Cost to Company"},null,{"$f":"SUMIF(PACKT01!$R97,\"TRUE\",PACKT01!F97)+SUMIF(PACKT02!$R97,\"TRUE\",PACKT02!F97)+SUMIF(PACKT03!$R97,\"TRUE\",PACKT03!F97)+SUMIF(PACKT04!$R97,\"TRUE\",PACKT04!F97)+SUMIF(PACKT05!$R97,\"TRUE\",PACKT05!F97)+SUMIF(PACKT06!$R98,\"TRUE\",PACKT06!F98)+SUMIF(PACKT07!$R97,\"TRUE\",PACKT07!F97)+SUMIF(PACKT08!$R97,\"TRUE\",PACKT08!F97)+SUMIF(PACKT09!$R97,\"TRUE\",PACKT09!F97)+SUMIF(PACKT10!$R97,\"TRUE\",PACKT10!F97)+SUMIF(PACKT11!$R97,\"TRUE\",PACKT11!F97)","v":0},{"$f":"SUMIF(PACKT01!$R97,\"TRUE\",PACKT01!G97)+SUMIF(PACKT02!$R97,\"TRUE\",PACKT02!G97)+SUMIF(PACKT03!$R97,\"TRUE\",PACKT03!G97)+SUMIF(PACKT04!$R97,\"TRUE\",PACKT04!G97)+SUMIF(PACKT05!$R97,\"TRUE\",PACKT05!G97)+SUMIF(PACKT06!$R98,\"TRUE\",PACKT06!G98)+SUMIF(PACKT07!$R97,\"TRUE\",PACKT07!G97)+SUMIF(PACKT08!$R97,\"TRUE\",PACKT08!G97)+SUMIF(PACKT09!$R97,\"TRUE\",PACKT09!G97)+SUMIF(PACKT10!$R97,\"TRUE\",PACKT10!G97)+SUMIF(PACKT11!$R97,\"TRUE\",PACKT11!G97)","v":0},{"$f":"SUMIF(PACKT01!$R97,\"TRUE\",PACKT01!H97)+SUMIF(PACKT02!$R97,\"TRUE\",PACKT02!H97)+SUMIF(PACKT03!$R97,\"TRUE\",PACKT03!H97)+SUMIF(PACKT04!$R97,\"TRUE\",PACKT04!H97)+SUMIF(PACKT05!$R97,\"TRUE\",PACKT05!H97)+SUMIF(PACKT06!$R98,\"TRUE\",PACKT06!H98)+SUMIF(PACKT07!$R97,\"TRUE\",PACKT07!H97)+SUMIF(PACKT08!$R97,\"TRUE\",PACKT08!H97)+SUMIF(PACKT09!$R97,\"TRUE\",PACKT09!H97)+SUMIF(PACKT10!$R97,\"TRUE\",PACKT10!H97)+SUMIF(PACKT11!$R97,\"TRUE\",PACKT11!H97)","v":0},{"$f":"SUMIF(PACKT01!$R97,\"TRUE\",PACKT01!I97)+SUMIF(PACKT02!$R97,\"TRUE\",PACKT02!I97)+SUMIF(PACKT03!$R97,\"TRUE\",PACKT03!I97)+SUMIF(PACKT04!$R97,\"TRUE\",PACKT04!I97)+SUMIF(PACKT05!$R97,\"TRUE\",PACKT05!I97)+SUMIF(PACKT06!$R98,\"TRUE\",PACKT06!I98)+SUMIF(PACKT07!$R97,\"TRUE\",PACKT07!I97)+SUMIF(PACKT08!$R97,\"TRUE\",PACKT08!I97)+SUMIF(PACKT09!$R97,\"TRUE\",PACKT09!I97)+SUMIF(PACKT10!$R97,\"TRUE\",PACKT10!I97)+SUMIF(PACKT11!$R97,\"TRUE\",PACKT11!I97)","v":0},{"$f":"SUMIF(PACKT01!$R97,\"TRUE\",PACKT01!J97)+SUMIF(PACKT02!$R97,\"TRUE\",PACKT02!J97)+SUMIF(PACKT03!$R97,\"TRUE\",PACKT03!J97)+SUMIF(PACKT04!$R97,\"TRUE\",PACKT04!J97)+SUMIF(PACKT05!$R97,\"TRUE\",PACKT05!J97)+SUMIF(PACKT06!$R98,\"TRUE\",PACKT06!J98)+SUMIF(PACKT07!$R97,\"TRUE\",PACKT07!J97)+SUMIF(PACKT08!$R97,\"TRUE\",PACKT08!J97)+SUMIF(PACKT09!$R97,\"TRUE\",PACKT09!J97)+SUMIF(PACKT10!$R97,\"TRUE\",PACKT10!J97)+SUMIF(PACKT11!$R97,\"TRUE\",PACKT11!J97)","v":0},{"$f":"SUMIF(PACKT01!$R97,\"TRUE\",PACKT01!K97)+SUMIF(PACKT02!$R97,\"TRUE\",PACKT02!K97)+SUMIF(PACKT03!$R97,\"TRUE\",PACKT03!K97)+SUMIF(PACKT04!$R97,\"TRUE\",PACKT04!K97)+SUMIF(PACKT05!$R97,\"TRUE\",PACKT05!K97)+SUMIF(PACKT06!$R98,\"TRUE\",PACKT06!K98)+SUMIF(PACKT07!$R97,\"TRUE\",PACKT07!K97)+SUMIF(PACKT08!$R97,\"TRUE\",PACKT08!K97)+SUMIF(PACKT09!$R97,\"TRUE\",PACKT09!K97)+SUMIF(PACKT10!$R97,\"TRUE\",PACKT10!K97)+SUMIF(PACKT11!$R97,\"TRUE\",PACKT11!K97)","v":0},{"$f":"SUMIF(PACKT01!$R97,\"TRUE\",PACKT01!L97)+SUMIF(PACKT02!$R97,\"TRUE\",PACKT02!L97)+SUMIF(PACKT03!$R97,\"TRUE\",PACKT03!L97)+SUMIF(PACKT04!$R97,\"TRUE\",PACKT04!L97)+SUMIF(PACKT05!$R97,\"TRUE\",PACKT05!L97)+SUMIF(PACKT06!$R98,\"TRUE\",PACKT06!L98)+SUMIF(PACKT07!$R97,\"TRUE\",PACKT07!L97)+SUMIF(PACKT08!$R97,\"TRUE\",PACKT08!L97)+SUMIF(PACKT09!$R97,\"TRUE\",PACKT09!L97)+SUMIF(PACKT10!$R97,\"TRUE\",PACKT10!L97)+SUMIF(PACKT11!$R97,\"TRUE\",PACKT11!L97)","v":0},{"$f":"SUMIF(PACKT01!$R97,\"TRUE\",PACKT01!M97)+SUMIF(PACKT02!$R97,\"TRUE\",PACKT02!M97)+SUMIF(PACKT03!$R97,\"TRUE\",PACKT03!M97)+SUMIF(PACKT04!$R97,\"TRUE\",PACKT04!M97)+SUMIF(PACKT05!$R97,\"TRUE\",PACKT05!M97)+SUMIF(PACKT06!$R98,\"TRUE\",PACKT06!M98)+SUMIF(PACKT07!$R97,\"TRUE\",PACKT07!M97)+SUMIF(PACKT08!$R97,\"TRUE\",PACKT08!M97)+SUMIF(PACKT09!$R97,\"TRUE\",PACKT09!M97)+SUMIF(PACKT10!$R97,\"TRUE\",PACKT10!M97)+SUMIF(PACKT11!$R97,\"TRUE\",PACKT11!M97)","v":0},{"$f":"SUMIF(PACKT01!$R97,\"TRUE\",PACKT01!N97)+SUMIF(PACKT02!$R97,\"TRUE\",PACKT02!N97)+SUMIF(PACKT03!$R97,\"TRUE\",PACKT03!N97)+SUMIF(PACKT04!$R97,\"TRUE\",PACKT04!N97)+SUMIF(PACKT05!$R97,\"TRUE\",PACKT05!N97)+SUMIF(PACKT06!$R98,\"TRUE\",PACKT06!N98)+SUMIF(PACKT07!$R97,\"TRUE\",PACKT07!N97)+SUMIF(PACKT08!$R97,\"TRUE\",PACKT08!N97)+SUMIF(PACKT09!$R97,\"TRUE\",PACKT09!N97)+SUMIF(PACKT10!$R97,\"TRUE\",PACKT10!N97)+SUMIF(PACKT11!$R97,\"TRUE\",PACKT11!N97)","v":0},{"$f":"SUMIF(PACKT01!$R97,\"TRUE\",PACKT01!O97)+SUMIF(PACKT02!$R97,\"TRUE\",PACKT02!O97)+SUMIF(PACKT03!$R97,\"TRUE\",PACKT03!O97)+SUMIF(PACKT04!$R97,\"TRUE\",PACKT04!O97)+SUMIF(PACKT05!$R97,\"TRUE\",PACKT05!O97)+SUMIF(PACKT06!$R98,\"TRUE\",PACKT06!O98)+SUMIF(PACKT07!$R97,\"TRUE\",PACKT07!O97)+SUMIF(PACKT08!$R97,\"TRUE\",PACKT08!O97)+SUMIF(PACKT09!$R97,\"TRUE\",PACKT09!O97)+SUMIF(PACKT10!$R97,\"TRUE\",PACKT10!O97)+SUMIF(PACKT11!$R97,\"TRUE\",PACKT11!O97)","v":0},{"$f":"SUMIF(PACKT01!$R97,\"TRUE\",PACKT01!P97)+SUMIF(PACKT02!$R97,\"TRUE\",PACKT02!P97)+SUMIF(PACKT03!$R97,\"TRUE\",PACKT03!P97)+SUMIF(PACKT04!$R97,\"TRUE\",PACKT04!P97)+SUMIF(PACKT05!$R97,\"TRUE\",PACKT05!P97)+SUMIF(PACKT06!$R98,\"TRUE\",PACKT06!P98)+SUMIF(PACKT07!$R97,\"TRUE\",PACKT07!P97)+SUMIF(PACKT08!$R97,\"TRUE\",PACKT08!P97)+SUMIF(PACKT09!$R97,\"TRUE\",PACKT09!P97)+SUMIF(PACKT10!$R97,\"TRUE\",PACKT10!P97)+SUMIF(PACKT11!$R97,\"TRUE\",PACKT11!P97)","v":0},{"$f":"SUMIF(PACKT01!$R97,\"TRUE\",PACKT01!Q97)+SUMIF(PACKT02!$R97,\"TRUE\",PACKT02!Q97)+SUMIF(PACKT03!$R97,\"TRUE\",PACKT03!Q97)+SUMIF(PACKT04!$R97,\"TRUE\",PACKT04!Q97)+SUMIF(PACKT05!$R97,\"TRUE\",PACKT05!Q97)+SUMIF(PACKT06!$R98,\"TRUE\",PACKT06!Q98)+SUMIF(PACKT07!$R97,\"TRUE\",PACKT07!Q97)+SUMIF(PACKT08!$R97,\"TRUE\",PACKT08!Q97)+SUMIF(PACKT09!$R97,\"TRUE\",PACKT09!Q97)+SUMIF(PACKT10!$R97,\"TRUE\",PACKT10!Q97)+SUMIF(PACKT11!$R97,\"TRUE\",PACKT11!Q97)","v":0},0]
[null,"EMP0087",{"$f":"VLOOKUP(HRSummarylTable[[#This Row],[EmployeeID]],EmployeeListLookupTable[],2,FALSE)","v":"EMPN087"},{"$f":"VLOOKUP(HRSummarylTable[[#This Row],[EmployeeID]],EmployeeListLookupTable[],3,FALSE)","v":"Employee Name 87"},{"$f":"VLOOKUP(HRSummarylTable[[#This Row],[EmployeeID]],EmployeeListLookupTable[],4,FALSE)","v":"Employee Job Title 87"},"TCTC001 - Total Cost to Company",{"$f":"LEFT(HRSummarylTable[[#This Row],[PackageItemCode]],7)","v":"TCTC001"},{"$f":"VLOOKUP(HRSummarylTable[[#This Row],[PackageItem]],PackageItemListLookup[],2,FALSE)","v":"Total Cost to Company"},null,{"$f":"SUMIF(PACKT01!$R98,\"TRUE\",PACKT01!F98)+SUMIF(PACKT02!$R98,\"TRUE\",PACKT02!F98)+SUMIF(PACKT03!$R98,\"TRUE\",PACKT03!F98)+SUMIF(PACKT04!$R98,\"TRUE\",PACKT04!F98)+SUMIF(PACKT05!$R98,\"TRUE\",PACKT05!F98)+SUMIF(PACKT06!$R99,\"TRUE\",PACKT06!F99)+SUMIF(PACKT07!$R98,\"TRUE\",PACKT07!F98)+SUMIF(PACKT08!$R98,\"TRUE\",PACKT08!F98)+SUMIF(PACKT09!$R98,\"TRUE\",PACKT09!F98)+SUMIF(PACKT10!$R98,\"TRUE\",PACKT10!F98)+SUMIF(PACKT11!$R98,\"TRUE\",PACKT11!F98)","v":0},{"$f":"SUMIF(PACKT01!$R98,\"TRUE\",PACKT01!G98)+SUMIF(PACKT02!$R98,\"TRUE\",PACKT02!G98)+SUMIF(PACKT03!$R98,\"TRUE\",PACKT03!G98)+SUMIF(PACKT04!$R98,\"TRUE\",PACKT04!G98)+SUMIF(PACKT05!$R98,\"TRUE\",PACKT05!G98)+SUMIF(PACKT06!$R99,\"TRUE\",PACKT06!G99)+SUMIF(PACKT07!$R98,\"TRUE\",PACKT07!G98)+SUMIF(PACKT08!$R98,\"TRUE\",PACKT08!G98)+SUMIF(PACKT09!$R98,\"TRUE\",PACKT09!G98)+SUMIF(PACKT10!$R98,\"TRUE\",PACKT10!G98)+SUMIF(PACKT11!$R98,\"TRUE\",PACKT11!G98)","v":0},{"$f":"SUMIF(PACKT01!$R98,\"TRUE\",PACKT01!H98)+SUMIF(PACKT02!$R98,\"TRUE\",PACKT02!H98)+SUMIF(PACKT03!$R98,\"TRUE\",PACKT03!H98)+SUMIF(PACKT04!$R98,\"TRUE\",PACKT04!H98)+SUMIF(PACKT05!$R98,\"TRUE\",PACKT05!H98)+SUMIF(PACKT06!$R99,\"TRUE\",PACKT06!H99)+SUMIF(PACKT07!$R98,\"TRUE\",PACKT07!H98)+SUMIF(PACKT08!$R98,\"TRUE\",PACKT08!H98)+SUMIF(PACKT09!$R98,\"TRUE\",PACKT09!H98)+SUMIF(PACKT10!$R98,\"TRUE\",PACKT10!H98)+SUMIF(PACKT11!$R98,\"TRUE\",PACKT11!H98)","v":0},{"$f":"SUMIF(PACKT01!$R98,\"TRUE\",PACKT01!I98)+SUMIF(PACKT02!$R98,\"TRUE\",PACKT02!I98)+SUMIF(PACKT03!$R98,\"TRUE\",PACKT03!I98)+SUMIF(PACKT04!$R98,\"TRUE\",PACKT04!I98)+SUMIF(PACKT05!$R98,\"TRUE\",PACKT05!I98)+SUMIF(PACKT06!$R99,\"TRUE\",PACKT06!I99)+SUMIF(PACKT07!$R98,\"TRUE\",PACKT07!I98)+SUMIF(PACKT08!$R98,\"TRUE\",PACKT08!I98)+SUMIF(PACKT09!$R98,\"TRUE\",PACKT09!I98)+SUMIF(PACKT10!$R98,\"TRUE\",PACKT10!I98)+SUMIF(PACKT11!$R98,\"TRUE\",PACKT11!I98)","v":0},{"$f":"SUMIF(PACKT01!$R98,\"TRUE\",PACKT01!J98)+SUMIF(PACKT02!$R98,\"TRUE\",PACKT02!J98)+SUMIF(PACKT03!$R98,\"TRUE\",PACKT03!J98)+SUMIF(PACKT04!$R98,\"TRUE\",PACKT04!J98)+SUMIF(PACKT05!$R98,\"TRUE\",PACKT05!J98)+SUMIF(PACKT06!$R99,\"TRUE\",PACKT06!J99)+SUMIF(PACKT07!$R98,\"TRUE\",PACKT07!J98)+SUMIF(PACKT08!$R98,\"TRUE\",PACKT08!J98)+SUMIF(PACKT09!$R98,\"TRUE\",PACKT09!J98)+SUMIF(PACKT10!$R98,\"TRUE\",PACKT10!J98)+SUMIF(PACKT11!$R98,\"TRUE\",PACKT11!J98)","v":0},{"$f":"SUMIF(PACKT01!$R98,\"TRUE\",PACKT01!K98)+SUMIF(PACKT02!$R98,\"TRUE\",PACKT02!K98)+SUMIF(PACKT03!$R98,\"TRUE\",PACKT03!K98)+SUMIF(PACKT04!$R98,\"TRUE\",PACKT04!K98)+SUMIF(PACKT05!$R98,\"TRUE\",PACKT05!K98)+SUMIF(PACKT06!$R99,\"TRUE\",PACKT06!K99)+SUMIF(PACKT07!$R98,\"TRUE\",PACKT07!K98)+SUMIF(PACKT08!$R98,\"TRUE\",PACKT08!K98)+SUMIF(PACKT09!$R98,\"TRUE\",PACKT09!K98)+SUMIF(PACKT10!$R98,\"TRUE\",PACKT10!K98)+SUMIF(PACKT11!$R98,\"TRUE\",PACKT11!K98)","v":0},{"$f":"SUMIF(PACKT01!$R98,\"TRUE\",PACKT01!L98)+SUMIF(PACKT02!$R98,\"TRUE\",PACKT02!L98)+SUMIF(PACKT03!$R98,\"TRUE\",PACKT03!L98)+SUMIF(PACKT04!$R98,\"TRUE\",PACKT04!L98)+SUMIF(PACKT05!$R98,\"TRUE\",PACKT05!L98)+SUMIF(PACKT06!$R99,\"TRUE\",PACKT06!L99)+SUMIF(PACKT07!$R98,\"TRUE\",PACKT07!L98)+SUMIF(PACKT08!$R98,\"TRUE\",PACKT08!L98)+SUMIF(PACKT09!$R98,\"TRUE\",PACKT09!L98)+SUMIF(PACKT10!$R98,\"TRUE\",PACKT10!L98)+SUMIF(PACKT11!$R98,\"TRUE\",PACKT11!L98)","v":0},{"$f":"SUMIF(PACKT01!$R98,\"TRUE\",PACKT01!M98)+SUMIF(PACKT02!$R98,\"TRUE\",PACKT02!M98)+SUMIF(PACKT03!$R98,\"TRUE\",PACKT03!M98)+SUMIF(PACKT04!$R98,\"TRUE\",PACKT04!M98)+SUMIF(PACKT05!$R98,\"TRUE\",PACKT05!M98)+SUMIF(PACKT06!$R99,\"TRUE\",PACKT06!M99)+SUMIF(PACKT07!$R98,\"TRUE\",PACKT07!M98)+SUMIF(PACKT08!$R98,\"TRUE\",PACKT08!M98)+SUMIF(PACKT09!$R98,\"TRUE\",PACKT09!M98)+SUMIF(PACKT10!$R98,\"TRUE\",PACKT10!M98)+SUMIF(PACKT11!$R98,\"TRUE\",PACKT11!M98)","v":0},{"$f":"SUMIF(PACKT01!$R98,\"TRUE\",PACKT01!N98)+SUMIF(PACKT02!$R98,\"TRUE\",PACKT02!N98)+SUMIF(PACKT03!$R98,\"TRUE\",PACKT03!N98)+SUMIF(PACKT04!$R98,\"TRUE\",PACKT04!N98)+SUMIF(PACKT05!$R98,\"TRUE\",PACKT05!N98)+SUMIF(PACKT06!$R99,\"TRUE\",PACKT06!N99)+SUMIF(PACKT07!$R98,\"TRUE\",PACKT07!N98)+SUMIF(PACKT08!$R98,\"TRUE\",PACKT08!N98)+SUMIF(PACKT09!$R98,\"TRUE\",PACKT09!N98)+SUMIF(PACKT10!$R98,\"TRUE\",PACKT10!N98)+SUMIF(PACKT11!$R98,\"TRUE\",PACKT11!N98)","v":0},{"$f":"SUMIF(PACKT01!$R98,\"TRUE\",PACKT01!O98)+SUMIF(PACKT02!$R98,\"TRUE\",PACKT02!O98)+SUMIF(PACKT03!$R98,\"TRUE\",PACKT03!O98)+SUMIF(PACKT04!$R98,\"TRUE\",PACKT04!O98)+SUMIF(PACKT05!$R98,\"TRUE\",PACKT05!O98)+SUMIF(PACKT06!$R99,\"TRUE\",PACKT06!O99)+SUMIF(PACKT07!$R98,\"TRUE\",PACKT07!O98)+SUMIF(PACKT08!$R98,\"TRUE\",PACKT08!O98)+SUMIF(PACKT09!$R98,\"TRUE\",PACKT09!O98)+SUMIF(PACKT10!$R98,\"TRUE\",PACKT10!O98)+SUMIF(PACKT11!$R98,\"TRUE\",PACKT11!O98)","v":0},{"$f":"SUMIF(PACKT01!$R98,\"TRUE\",PACKT01!P98)+SUMIF(PACKT02!$R98,\"TRUE\",PACKT02!P98)+SUMIF(PACKT03!$R98,\"TRUE\",PACKT03!P98)+SUMIF(PACKT04!$R98,\"TRUE\",PACKT04!P98)+SUMIF(PACKT05!$R98,\"TRUE\",PACKT05!P98)+SUMIF(PACKT06!$R99,\"TRUE\",PACKT06!P99)+SUMIF(PACKT07!$R98,\"TRUE\",PACKT07!P98)+SUMIF(PACKT08!$R98,\"TRUE\",PACKT08!P98)+SUMIF(PACKT09!$R98,\"TRUE\",PACKT09!P98)+SUMIF(PACKT10!$R98,\"TRUE\",PACKT10!P98)+SUMIF(PACKT11!$R98,\"TRUE\",PACKT11!P98)","v":0},{"$f":"SUMIF(PACKT01!$R98,\"TRUE\",PACKT01!Q98)+SUMIF(PACKT02!$R98,\"TRUE\",PACKT02!Q98)+SUMIF(PACKT03!$R98,\"TRUE\",PACKT03!Q98)+SUMIF(PACKT04!$R98,\"TRUE\",PACKT04!Q98)+SUMIF(PACKT05!$R98,\"TRUE\",PACKT05!Q98)+SUMIF(PACKT06!$R99,\"TRUE\",PACKT06!Q99)+SUMIF(PACKT07!$R98,\"TRUE\",PACKT07!Q98)+SUMIF(PACKT08!$R98,\"TRUE\",PACKT08!Q98)+SUMIF(PACKT09!$R98,\"TRUE\",PACKT09!Q98)+SUMIF(PACKT10!$R98,\"TRUE\",PACKT10!Q98)+SUMIF(PACKT11!$R98,\"TRUE\",PACKT11!Q98)","v":0},0]
[null,"EMP0088",{"$f":"VLOOKUP(HRSummarylTable[[#This Row],[EmployeeID]],EmployeeListLookupTable[],2,FALSE)","v":"EMPN088"},{"$f":"VLOOKUP(HRSummarylTable[[#This Row],[EmployeeID]],EmployeeListLookupTable[],3,FALSE)","v":"Employee Name 88"},{"$f":"VLOOKUP(HRSummarylTable[[#This Row],[EmployeeID]],EmployeeListLookupTable[],4,FALSE)","v":"Employee Job Title 88"},"TCTC001 - Total Cost to Company",{"$f":"LEFT(HRSummarylTable[[#This Row],[PackageItemCode]],7)","v":"TCTC001"},{"$f":"VLOOKUP(HRSummarylTable[[#This Row],[PackageItem]],PackageItemListLookup[],2,FALSE)","v":"Total Cost to Company"},null,{"$f":"SUMIF(PACKT01!$R99,\"TRUE\",PACKT01!F99)+SUMIF(PACKT02!$R99,\"TRUE\",PACKT02!F99)+SUMIF(PACKT03!$R99,\"TRUE\",PACKT03!F99)+SUMIF(PACKT04!$R99,\"TRUE\",PACKT04!F99)+SUMIF(PACKT05!$R99,\"TRUE\",PACKT05!F99)+SUMIF(PACKT06!$R100,\"TRUE\",PACKT06!F100)+SUMIF(PACKT07!$R99,\"TRUE\",PACKT07!F99)+SUMIF(PACKT08!$R99,\"TRUE\",PACKT08!F99)+SUMIF(PACKT09!$R99,\"TRUE\",PACKT09!F99)+SUMIF(PACKT10!$R99,\"TRUE\",PACKT10!F99)+SUMIF(PACKT11!$R99,\"TRUE\",PACKT11!F99)","v":0},{"$f":"SUMIF(PACKT01!$R99,\"TRUE\",PACKT01!G99)+SUMIF(PACKT02!$R99,\"TRUE\",PACKT02!G99)+SUMIF(PACKT03!$R99,\"TRUE\",PACKT03!G99)+SUMIF(PACKT04!$R99,\"TRUE\",PACKT04!G99)+SUMIF(PACKT05!$R99,\"TRUE\",PACKT05!G99)+SUMIF(PACKT06!$R100,\"TRUE\",PACKT06!G100)+SUMIF(PACKT07!$R99,\"TRUE\",PACKT07!G99)+SUMIF(PACKT08!$R99,\"TRUE\",PACKT08!G99)+SUMIF(PACKT09!$R99,\"TRUE\",PACKT09!G99)+SUMIF(PACKT10!$R99,\"TRUE\",PACKT10!G99)+SUMIF(PACKT11!$R99,\"TRUE\",PACKT11!G99)","v":0},{"$f":"SUMIF(PACKT01!$R99,\"TRUE\",PACKT01!H99)+SUMIF(PACKT02!$R99,\"TRUE\",PACKT02!H99)+SUMIF(PACKT03!$R99,\"TRUE\",PACKT03!H99)+SUMIF(PACKT04!$R99,\"TRUE\",PACKT04!H99)+SUMIF(PACKT05!$R99,\"TRUE\",PACKT05!H99)+SUMIF(PACKT06!$R100,\"TRUE\",PACKT06!H100)+SUMIF(PACKT07!$R99,\"TRUE\",PACKT07!H99)+SUMIF(PACKT08!$R99,\"TRUE\",PACKT08!H99)+SUMIF(PACKT09!$R99,\"TRUE\",PACKT09!H99)+SUMIF(PACKT10!$R99,\"TRUE\",PACKT10!H99)+SUMIF(PACKT11!$R99,\"TRUE\",PACKT11!H99)","v":0},{"$f":"SUMIF(PACKT01!$R99,\"TRUE\",PACKT01!I99)+SUMIF(PACKT02!$R99,\"TRUE\",PACKT02!I99)+SUMIF(PACKT03!$R99,\"TRUE\",PACKT03!I99)+SUMIF(PACKT04!$R99,\"TRUE\",PACKT04!I99)+SUMIF(PACKT05!$R99,\"TRUE\",PACKT05!I99)+SUMIF(PACKT06!$R100,\"TRUE\",PACKT06!I100)+SUMIF(PACKT07!$R99,\"TRUE\",PACKT07!I99)+SUMIF(PACKT08!$R99,\"TRUE\",PACKT08!I99)+SUMIF(PACKT09!$R99,\"TRUE\",PACKT09!I99)+SUMIF(PACKT10!$R99,\"TRUE\",PACKT10!I99)+SUMIF(PACKT11!$R99,\"TRUE\",PACKT11!I99)","v":0},{"$f":"SUMIF(PACKT01!$R99,\"TRUE\",PACKT01!J99)+SUMIF(PACKT02!$R99,\"TRUE\",PACKT02!J99)+SUMIF(PACKT03!$R99,\"TRUE\",PACKT03!J99)+SUMIF(PACKT04!$R99,\"TRUE\",PACKT04!J99)+SUMIF(PACKT05!$R99,\"TRUE\",PACKT05!J99)+SUMIF(PACKT06!$R100,\"TRUE\",PACKT06!J100)+SUMIF(PACKT07!$R99,\"TRUE\",PACKT07!J99)+SUMIF(PACKT08!$R99,\"TRUE\",PACKT08!J99)+SUMIF(PACKT09!$R99,\"TRUE\",PACKT09!J99)+SUMIF(PACKT10!$R99,\"TRUE\",PACKT10!J99)+SUMIF(PACKT11!$R99,\"TRUE\",PACKT11!J99)","v":0},{"$f":"SUMIF(PACKT01!$R99,\"TRUE\",PACKT01!K99)+SUMIF(PACKT02!$R99,\"TRUE\",PACKT02!K99)+SUMIF(PACKT03!$R99,\"TRUE\",PACKT03!K99)+SUMIF(PACKT04!$R99,\"TRUE\",PACKT04!K99)+SUMIF(PACKT05!$R99,\"TRUE\",PACKT05!K99)+SUMIF(PACKT06!$R100,\"TRUE\",PACKT06!K100)+SUMIF(PACKT07!$R99,\"TRUE\",PACKT07!K99)+SUMIF(PACKT08!$R99,\"TRUE\",PACKT08!K99)+SUMIF(PACKT09!$R99,\"TRUE\",PACKT09!K99)+SUMIF(PACKT10!$R99,\"TRUE\",PACKT10!K99)+SUMIF(PACKT11!$R99,\"TRUE\",PACKT11!K99)","v":0},{"$f":"SUMIF(PACKT01!$R99,\"TRUE\",PACKT01!L99)+SUMIF(PACKT02!$R99,\"TRUE\",PACKT02!L99)+SUMIF(PACKT03!$R99,\"TRUE\",PACKT03!L99)+SUMIF(PACKT04!$R99,\"TRUE\",PACKT04!L99)+SUMIF(PACKT05!$R99,\"TRUE\",PACKT05!L99)+SUMIF(PACKT06!$R100,\"TRUE\",PACKT06!L100)+SUMIF(PACKT07!$R99,\"TRUE\",PACKT07!L99)+SUMIF(PACKT08!$R99,\"TRUE\",PACKT08!L99)+SUMIF(PACKT09!$R99,\"TRUE\",PACKT09!L99)+SUMIF(PACKT10!$R99,\"TRUE\",PACKT10!L99)+SUMIF(PACKT11!$R99,\"TRUE\",PACKT11!L99)","v":0},{"$f":"SUMIF(PACKT01!$R99,\"TRUE\",PACKT01!M99)+SUMIF(PACKT02!$R99,\"TRUE\",PACKT02!M99)+SUMIF(PACKT03!$R99,\"TRUE\",PACKT03!M99)+SUMIF(PACKT04!$R99,\"TRUE\",PACKT04!M99)+SUMIF(PACKT05!$R99,\"TRUE\",PACKT05!M99)+SUMIF(PACKT06!$R100,\"TRUE\",PACKT06!M100)+SUMIF(PACKT07!$R99,\"TRUE\",PACKT07!M99)+SUMIF(PACKT08!$R99,\"TRUE\",PACKT08!M99)+SUMIF(PACKT09!$R99,\"TRUE\",PACKT09!M99)+SUMIF(PACKT10!$R99,\"TRUE\",PACKT10!M99)+SUMIF(PACKT11!$R99,\"TRUE\",PACKT11!M99)","v":0},{"$f":"SUMIF(PACKT01!$R99,\"TRUE\",PACKT01!N99)+SUMIF(PACKT02!$R99,\"TRUE\",PACKT02!N99)+SUMIF(PACKT03!$R99,\"TRUE\",PACKT03!N99)+SUMIF(PACKT04!$R99,\"TRUE\",PACKT04!N99)+SUMIF(PACKT05!$R99,\"TRUE\",PACKT05!N99)+SUMIF(PACKT06!$R100,\"TRUE\",PACKT06!N100)+SUMIF(PACKT07!$R99,\"TRUE\",PACKT07!N99)+SUMIF(PACKT08!$R99,\"TRUE\",PACKT08!N99)+SUMIF(PACKT09!$R99,\"TRUE\",PACKT09!N99)+SUMIF(PACKT10!$R99,\"TRUE\",PACKT10!N99)+SUMIF(PACKT11!$R99,\"TRUE\",PACKT11!N99)","v":0},{"$f":"SUMIF(PACKT01!$R99,\"TRUE\",PACKT01!O99)+SUMIF(PACKT02!$R99,\"TRUE\",PACKT02!O99)+SUMIF(PACKT03!$R99,\"TRUE\",PACKT03!O99)+SUMIF(PACKT04!$R99,\"TRUE\",PACKT04!O99)+SUMIF(PACKT05!$R99,\"TRUE\",PACKT05!O99)+SUMIF(PACKT06!$R100,\"TRUE\",PACKT06!O100)+SUMIF(PACKT07!$R99,\"TRUE\",PACKT07!O99)+SUMIF(PACKT08!$R99,\"TRUE\",PACKT08!O99)+SUMIF(PACKT09!$R99,\"TRUE\",PACKT09!O99)+SUMIF(PACKT10!$R99,\"TRUE\",PACKT10!O99)+SUMIF(PACKT11!$R99,\"TRUE\",PACKT11!O99)","v":0},{"$f":"SUMIF(PACKT01!$R99,\"TRUE\",PACKT01!P99)+SUMIF(PACKT02!$R99,\"TRUE\",PACKT02!P99)+SUMIF(PACKT03!$R99,\"TRUE\",PACKT03!P99)+SUMIF(PACKT04!$R99,\"TRUE\",PACKT04!P99)+SUMIF(PACKT05!$R99,\"TRUE\",PACKT05!P99)+SUMIF(PACKT06!$R100,\"TRUE\",PACKT06!P100)+SUMIF(PACKT07!$R99,\"TRUE\",PACKT07!P99)+SUMIF(PACKT08!$R99,\"TRUE\",PACKT08!P99)+SUMIF(PACKT09!$R99,\"TRUE\",PACKT09!P99)+SUMIF(PACKT10!$R99,\"TRUE\",PACKT10!P99)+SUMIF(PACKT11!$R99,\"TRUE\",PACKT11!P99)","v":0},{"$f":"SUMIF(PACKT01!$R99,\"TRUE\",PACKT01!Q99)+SUMIF(PACKT02!$R99,\"TRUE\",PACKT02!Q99)+SUMIF(PACKT03!$R99,\"TRUE\",PACKT03!Q99)+SUMIF(PACKT04!$R99,\"TRUE\",PACKT04!Q99)+SUMIF(PACKT05!$R99,\"TRUE\",PACKT05!Q99)+SUMIF(PACKT06!$R100,\"TRUE\",PACKT06!Q100)+SUMIF(PACKT07!$R99,\"TRUE\",PACKT07!Q99)+SUMIF(PACKT08!$R99,\"TRUE\",PACKT08!Q99)+SUMIF(PACKT09!$R99,\"TRUE\",PACKT09!Q99)+SUMIF(PACKT10!$R99,\"TRUE\",PACKT10!Q99)+SUMIF(PACKT11!$R99,\"TRUE\",PACKT11!Q99)","v":0},0]
[null,"EMP0089",{"$f":"VLOOKUP(HRSummarylTable[[#This Row],[EmployeeID]],EmployeeListLookupTable[],2,FALSE)","v":"EMPN089"},{"$f":"VLOOKUP(HRSummarylTable[[#This Row],[EmployeeID]],EmployeeListLookupTable[],3,FALSE)","v":"Employee Name 89"},{"$f":"VLOOKUP(HRSummarylTable[[#This Row],[EmployeeID]],EmployeeListLookupTable[],4,FALSE)","v":"Employee Job Title 89"},"TCTC001 - Total Cost to Company",{"$f":"LEFT(HRSummarylTable[[#This Row],[PackageItemCode]],7)","v":"TCTC001"},{"$f":"VLOOKUP(HRSummarylTable[[#This Row],[PackageItem]],PackageItemListLookup[],2,FALSE)","v":"Total Cost to Company"},null,{"$f":"SUMIF(PACKT01!$R100,\"TRUE\",PACKT01!F100)+SUMIF(PACKT02!$R100,\"TRUE\",PACKT02!F100)+SUMIF(PACKT03!$R100,\"TRUE\",PACKT03!F100)+SUMIF(PACKT04!$R100,\"TRUE\",PACKT04!F100)+SUMIF(PACKT05!$R100,\"TRUE\",PACKT05!F100)+SUMIF(PACKT06!$R101,\"TRUE\",PACKT06!F101)+SUMIF(PACKT07!$R100,\"TRUE\",PACKT07!F100)+SUMIF(PACKT08!$R100,\"TRUE\",PACKT08!F100)+SUMIF(PACKT09!$R100,\"TRUE\",PACKT09!F100)+SUMIF(PACKT10!$R100,\"TRUE\",PACKT10!F100)+SUMIF(PACKT11!$R100,\"TRUE\",PACKT11!F100)","v":0},{"$f":"SUMIF(PACKT01!$R100,\"TRUE\",PACKT01!G100)+SUMIF(PACKT02!$R100,\"TRUE\",PACKT02!G100)+SUMIF(PACKT03!$R100,\"TRUE\",PACKT03!G100)+SUMIF(PACKT04!$R100,\"TRUE\",PACKT04!G100)+SUMIF(PACKT05!$R100,\"TRUE\",PACKT05!G100)+SUMIF(PACKT06!$R101,\"TRUE\",PACKT06!G101)+SUMIF(PACKT07!$R100,\"TRUE\",PACKT07!G100)+SUMIF(PACKT08!$R100,\"TRUE\",PACKT08!G100)+SUMIF(PACKT09!$R100,\"TRUE\",PACKT09!G100)+SUMIF(PACKT10!$R100,\"TRUE\",PACKT10!G100)+SUMIF(PACKT11!$R100,\"TRUE\",PACKT11!G100)","v":0},{"$f":"SUMIF(PACKT01!$R100,\"TRUE\",PACKT01!H100)+SUMIF(PACKT02!$R100,\"TRUE\",PACKT02!H100)+SUMIF(PACKT03!$R100,\"TRUE\",PACKT03!H100)+SUMIF(PACKT04!$R100,\"TRUE\",PACKT04!H100)+SUMIF(PACKT05!$R100,\"TRUE\",PACKT05!H100)+SUMIF(PACKT06!$R101,\"TRUE\",PACKT06!H101)+SUMIF(PACKT07!$R100,\"TRUE\",PACKT07!H100)+SUMIF(PACKT08!$R100,\"TRUE\",PACKT08!H100)+SUMIF(PACKT09!$R100,\"TRUE\",PACKT09!H100)+SUMIF(PACKT10!$R100,\"TRUE\",PACKT10!H100)+SUMIF(PACKT11!$R100,\"TRUE\",PACKT11!H100)","v":0},{"$f":"SUMIF(PACKT01!$R100,\"TRUE\",PACKT01!I100)+SUMIF(PACKT02!$R100,\"TRUE\",PACKT02!I100)+SUMIF(PACKT03!$R100,\"TRUE\",PACKT03!I100)+SUMIF(PACKT04!$R100,\"TRUE\",PACKT04!I100)+SUMIF(PACKT05!$R100,\"TRUE\",PACKT05!I100)+SUMIF(PACKT06!$R101,\"TRUE\",PACKT06!I101)+SUMIF(PACKT07!$R100,\"TRUE\",PACKT07!I100)+SUMIF(PACKT08!$R100,\"TRUE\",PACKT08!I100)+SUMIF(PACKT09!$R100,\"TRUE\",PACKT09!I100)+SUMIF(PACKT10!$R100,\"TRUE\",PACKT10!I100)+SUMIF(PACKT11!$R100,\"TRUE\",PACKT11!I100)","v":0},{"$f":"SUMIF(PACKT01!$R100,\"TRUE\",PACKT01!J100)+SUMIF(PACKT02!$R100,\"TRUE\",PACKT02!J100)+SUMIF(PACKT03!$R100,\"TRUE\",PACKT03!J100)+SUMIF(PACKT04!$R100,\"TRUE\",PACKT04!J100)+SUMIF(PACKT05!$R100,\"TRUE\",PACKT05!J100)+SUMIF(PACKT06!$R101,\"TRUE\",PACKT06!J101)+SUMIF(PACKT07!$R100,\"TRUE\",PACKT07!J100)+SUMIF(PACKT08!$R100,\"TRUE\",PACKT08!J100)+SUMIF(PACKT09!$R100,\"TRUE\",PACKT09!J100)+SUMIF(PACKT10!$R100,\"TRUE\",PACKT10!J100)+SUMIF(PACKT11!$R100,\"TRUE\",PACKT11!J100)","v":0},{"$f":"SUMIF(PACKT01!$R100,\"TRUE\",PACKT01!K100)+SUMIF(PACKT02!$R100,\"TRUE\",PACKT02!K100)+SUMIF(PACKT03!$R100,\"TRUE\",PACKT03!K100)+SUMIF(PACKT04!$R100,\"TRUE\",PACKT04!K100)+SUMIF(PACKT05!$R100,\"TRUE\",PACKT05!K100)+SUMIF(PACKT06!$R101,\"TRUE\",PACKT06!K101)+SUMIF(PACKT07!$R100,\"TRUE\",PACKT07!K100)+SUMIF(PACKT08!$R100,\"TRUE\",PACKT08!K100)+SUMIF(PACKT09!$R100,\"TRUE\",PACKT09!K100)+SUMIF(PACKT10!$R100,\"TRUE\",PACKT10!K100)+SUMIF(PACKT11!$R100,\"TRUE\",PACKT11!K100)","v":0},{"$f":"SUMIF(PACKT01!$R100,\"TRUE\",PACKT01!L100)+SUMIF(PACKT02!$R100,\"TRUE\",PACKT02!L100)+SUMIF(PACKT03!$R100,\"TRUE\",PACKT03!L100)+SUMIF(PACKT04!$R100,\"TRUE\",PACKT04!L100)+SUMIF(PACKT05!$R100,\"TRUE\",PACKT05!L100)+SUMIF(PACKT06!$R101,\"TRUE\",PACKT06!L101)+SUMIF(PACKT07!$R100,\"TRUE\",PACKT07!L100)+SUMIF(PACKT08!$R100,\"TRUE\",PACKT08!L100)+SUMIF(PACKT09!$R100,\"TRUE\",PACKT09!L100)+SUMIF(PACKT10!$R100,\"TRUE\",PACKT10!L100)+SUMIF(PACKT11!$R100,\"TRUE\",PACKT11!L100)","v":0},{"$f":"SUMIF(PACKT01!$R100,\"TRUE\",PACKT01!M100)+SUMIF(PACKT02!$R100,\"TRUE\",PACKT02!M100)+SUMIF(PACKT03!$R100,\"TRUE\",PACKT03!M100)+SUMIF(PACKT04!$R100,\"TRUE\",PACKT04!M100)+SUMIF(PACKT05!$R100,\"TRUE\",PACKT05!M100)+SUMIF(PACKT06!$R101,\"TRUE\",PACKT06!M101)+SUMIF(PACKT07!$R100,\"TRUE\",PACKT07!M100)+SUMIF(PACKT08!$R100,\"TRUE\",PACKT08!M100)+SUMIF(PACKT09!$R100,\"TRUE\",PACKT09!M100)+SUMIF(PACKT10!$R100,\"TRUE\",PACKT10!M100)+SUMIF(PACKT11!$R100,\"TRUE\",PACKT11!M100)","v":0},{"$f":"SUMIF(PACKT01!$R100,\"TRUE\",PACKT01!N100)+SUMIF(PACKT02!$R100,\"TRUE\",PACKT02!N100)+SUMIF(PACKT03!$R100,\"TRUE\",PACKT03!N100)+SUMIF(PACKT04!$R100,\"TRUE\",PACKT04!N100)+SUMIF(PACKT05!$R100,\"TRUE\",PACKT05!N100)+SUMIF(PACKT06!$R101,\"TRUE\",PACKT06!N101)+SUMIF(PACKT07!$R100,\"TRUE\",PACKT07!N100)+SUMIF(PACKT08!$R100,\"TRUE\",PACKT08!N100)+SUMIF(PACKT09!$R100,\"TRUE\",PACKT09!N100)+SUMIF(PACKT10!$R100,\"TRUE\",PACKT10!N100)+SUMIF(PACKT11!$R100,\"TRUE\",PACKT11!N100)","v":0},{"$f":"SUMIF(PACKT01!$R100,\"TRUE\",PACKT01!O100)+SUMIF(PACKT02!$R100,\"TRUE\",PACKT02!O100)+SUMIF(PACKT03!$R100,\"TRUE\",PACKT03!O100)+SUMIF(PACKT04!$R100,\"TRUE\",PACKT04!O100)+SUMIF(PACKT05!$R100,\"TRUE\",PACKT05!O100)+SUMIF(PACKT06!$R101,\"TRUE\",PACKT06!O101)+SUMIF(PACKT07!$R100,\"TRUE\",PACKT07!O100)+SUMIF(PACKT08!$R100,\"TRUE\",PACKT08!O100)+SUMIF(PACKT09!$R100,\"TRUE\",PACKT09!O100)+SUMIF(PACKT10!$R100,\"TRUE\",PACKT10!O100)+SUMIF(PACKT11!$R100,\"TRUE\",PACKT11!O100)","v":0},{"$f":"SUMIF(PACKT01!$R100,\"TRUE\",PACKT01!P100)+SUMIF(PACKT02!$R100,\"TRUE\",PACKT02!P100)+SUMIF(PACKT03!$R100,\"TRUE\",PACKT03!P100)+SUMIF(PACKT04!$R100,\"TRUE\",PACKT04!P100)+SUMIF(PACKT05!$R100,\"TRUE\",PACKT05!P100)+SUMIF(PACKT06!$R101,\"TRUE\",PACKT06!P101)+SUMIF(PACKT07!$R100,\"TRUE\",PACKT07!P100)+SUMIF(PACKT08!$R100,\"TRUE\",PACKT08!P100)+SUMIF(PACKT09!$R100,\"TRUE\",PACKT09!P100)+SUMIF(PACKT10!$R100,\"TRUE\",PACKT10!P100)+SUMIF(PACKT11!$R100,\"TRUE\",PACKT11!P100)","v":0},{"$f":"SUMIF(PACKT01!$R100,\"TRUE\",PACKT01!Q100)+SUMIF(PACKT02!$R100,\"TRUE\",PACKT02!Q100)+SUMIF(PACKT03!$R100,\"TRUE\",PACKT03!Q100)+SUMIF(PACKT04!$R100,\"TRUE\",PACKT04!Q100)+SUMIF(PACKT05!$R100,\"TRUE\",PACKT05!Q100)+SUMIF(PACKT06!$R101,\"TRUE\",PACKT06!Q101)+SUMIF(PACKT07!$R100,\"TRUE\",PACKT07!Q100)+SUMIF(PACKT08!$R100,\"TRUE\",PACKT08!Q100)+SUMIF(PACKT09!$R100,\"TRUE\",PACKT09!Q100)+SUMIF(PACKT10!$R100,\"TRUE\",PACKT10!Q100)+SUMIF(PACKT11!$R100,\"TRUE\",PACKT11!Q100)","v":0},0]
[null,"EMP0090",{"$f":"VLOOKUP(HRSummarylTable[[#This Row],[EmployeeID]],EmployeeListLookupTable[],2,FALSE)","v":"EMPN090"},{"$f":"VLOOKUP(HRSummarylTable[[#This Row],[EmployeeID]],EmployeeListLookupTable[],3,FALSE)","v":"Employee Name 90"},{"$f":"VLOOKUP(HRSummarylTable[[#This Row],[EmployeeID]],EmployeeListLookupTable[],4,FALSE)","v":"Employee Job Title 90"},"TCTC001 - Total Cost to Company",{"$f":"LEFT(HRSummarylTable[[#This Row],[PackageItemCode]],7)","v":"TCTC001"},{"$f":"VLOOKUP(HRSummarylTable[[#This Row],[PackageItem]],PackageItemListLookup[],2,FALSE)","v":"Total Cost to Company"},null,{"$f":"SUMIF(PACKT01!$R101,\"TRUE\",PACKT01!F101)+SUMIF(PACKT02!$R101,\"TRUE\",PACKT02!F101)+SUMIF(PACKT03!$R101,\"TRUE\",PACKT03!F101)+SUMIF(PACKT04!$R101,\"TRUE\",PACKT04!F101)+SUMIF(PACKT05!$R101,\"TRUE\",PACKT05!F101)+SUMIF(PACKT06!$R102,\"TRUE\",PACKT06!F102)+SUMIF(PACKT07!$R101,\"TRUE\",PACKT07!F101)+SUMIF(PACKT08!$R101,\"TRUE\",PACKT08!F101)+SUMIF(PACKT09!$R101,\"TRUE\",PACKT09!F101)+SUMIF(PACKT10!$R101,\"TRUE\",PACKT10!F101)+SUMIF(PACKT11!$R101,\"TRUE\",PACKT11!F101)","v":0},{"$f":"SUMIF(PACKT01!$R101,\"TRUE\",PACKT01!G101)+SUMIF(PACKT02!$R101,\"TRUE\",PACKT02!G101)+SUMIF(PACKT03!$R101,\"TRUE\",PACKT03!G101)+SUMIF(PACKT04!$R101,\"TRUE\",PACKT04!G101)+SUMIF(PACKT05!$R101,\"TRUE\",PACKT05!G101)+SUMIF(PACKT06!$R102,\"TRUE\",PACKT06!G102)+SUMIF(PACKT07!$R101,\"TRUE\",PACKT07!G101)+SUMIF(PACKT08!$R101,\"TRUE\",PACKT08!G101)+SUMIF(PACKT09!$R101,\"TRUE\",PACKT09!G101)+SUMIF(PACKT10!$R101,\"TRUE\",PACKT10!G101)+SUMIF(PACKT11!$R101,\"TRUE\",PACKT11!G101)","v":0},{"$f":"SUMIF(PACKT01!$R101,\"TRUE\",PACKT01!H101)+SUMIF(PACKT02!$R101,\"TRUE\",PACKT02!H101)+SUMIF(PACKT03!$R101,\"TRUE\",PACKT03!H101)+SUMIF(PACKT04!$R101,\"TRUE\",PACKT04!H101)+SUMIF(PACKT05!$R101,\"TRUE\",PACKT05!H101)+SUMIF(PACKT06!$R102,\"TRUE\",PACKT06!H102)+SUMIF(PACKT07!$R101,\"TRUE\",PACKT07!H101)+SUMIF(PACKT08!$R101,\"TRUE\",PACKT08!H101)+SUMIF(PACKT09!$R101,\"TRUE\",PACKT09!H101)+SUMIF(PACKT10!$R101,\"TRUE\",PACKT10!H101)+SUMIF(PACKT11!$R101,\"TRUE\",PACKT11!H101)","v":0},{"$f":"SUMIF(PACKT01!$R101,\"TRUE\",PACKT01!I101)+SUMIF(PACKT02!$R101,\"TRUE\",PACKT02!I101)+SUMIF(PACKT03!$R101,\"TRUE\",PACKT03!I101)+SUMIF(PACKT04!$R101,\"TRUE\",PACKT04!I101)+SUMIF(PACKT05!$R101,\"TRUE\",PACKT05!I101)+SUMIF(PACKT06!$R102,\"TRUE\",PACKT06!I102)+SUMIF(PACKT07!$R101,\"TRUE\",PACKT07!I101)+SUMIF(PACKT08!$R101,\"TRUE\",PACKT08!I101)+SUMIF(PACKT09!$R101,\"TRUE\",PACKT09!I101)+SUMIF(PACKT10!$R101,\"TRUE\",PACKT10!I101)+SUMIF(PACKT11!$R101,\"TRUE\",PACKT11!I101)","v":0},{"$f":"SUMIF(PACKT01!$R101,\"TRUE\",PACKT01!J101)+SUMIF(PACKT02!$R101,\"TRUE\",PACKT02!J101)+SUMIF(PACKT03!$R101,\"TRUE\",PACKT03!J101)+SUMIF(PACKT04!$R101,\"TRUE\",PACKT04!J101)+SUMIF(PACKT05!$R101,\"TRUE\",PACKT05!J101)+SUMIF(PACKT06!$R102,\"TRUE\",PACKT06!J102)+SUMIF(PACKT07!$R101,\"TRUE\",PACKT07!J101)+SUMIF(PACKT08!$R101,\"TRUE\",PACKT08!J101)+SUMIF(PACKT09!$R101,\"TRUE\",PACKT09!J101)+SUMIF(PACKT10!$R101,\"TRUE\",PACKT10!J101)+SUMIF(PACKT11!$R101,\"TRUE\",PACKT11!J101)","v":0},{"$f":"SUMIF(PACKT01!$R101,\"TRUE\",PACKT01!K101)+SUMIF(PACKT02!$R101,\"TRUE\",PACKT02!K101)+SUMIF(PACKT03!$R101,\"TRUE\",PACKT03!K101)+SUMIF(PACKT04!$R101,\"TRUE\",PACKT04!K101)+SUMIF(PACKT05!$R101,\"TRUE\",PACKT05!K101)+SUMIF(PACKT06!$R102,\"TRUE\",PACKT06!K102)+SUMIF(PACKT07!$R101,\"TRUE\",PACKT07!K101)+SUMIF(PACKT08!$R101,\"TRUE\",PACKT08!K101)+SUMIF(PACKT09!$R101,\"TRUE\",PACKT09!K101)+SUMIF(PACKT10!$R101,\"TRUE\",PACKT10!K101)+SUMIF(PACKT11!$R101,\"TRUE\",PACKT11!K101)","v":0},{"$f":"SUMIF(PACKT01!$R101,\"TRUE\",PACKT01!L101)+SUMIF(PACKT02!$R101,\"TRUE\",PACKT02!L101)+SUMIF(PACKT03!$R101,\"TRUE\",PACKT03!L101)+SUMIF(PACKT04!$R101,\"TRUE\",PACKT04!L101)+SUMIF(PACKT05!$R101,\"TRUE\",PACKT05!L101)+SUMIF(PACKT06!$R102,\"TRUE\",PACKT06!L102)+SUMIF(PACKT07!$R101,\"TRUE\",PACKT07!L101)+SUMIF(PACKT08!$R101,\"TRUE\",PACKT08!L101)+SUMIF(PACKT09!$R101,\"TRUE\",PACKT09!L101)+SUMIF(PACKT10!$R101,\"TRUE\",PACKT10!L101)+SUMIF(PACKT11!$R101,\"TRUE\",PACKT11!L101)","v":0},{"$f":"SUMIF(PACKT01!$R101,\"TRUE\",PACKT01!M101)+SUMIF(PACKT02!$R101,\"TRUE\",PACKT02!M101)+SUMIF(PACKT03!$R101,\"TRUE\",PACKT03!M101)+SUMIF(PACKT04!$R101,\"TRUE\",PACKT04!M101)+SUMIF(PACKT05!$R101,\"TRUE\",PACKT05!M101)+SUMIF(PACKT06!$R102,\"TRUE\",PACKT06!M102)+SUMIF(PACKT07!$R101,\"TRUE\",PACKT07!M101)+SUMIF(PACKT08!$R101,\"TRUE\",PACKT08!M101)+SUMIF(PACKT09!$R101,\"TRUE\",PACKT09!M101)+SUMIF(PACKT10!$R101,\"TRUE\",PACKT10!M101)+SUMIF(PACKT11!$R101,\"TRUE\",PACKT11!M101)","v":0},{"$f":"SUMIF(PACKT01!$R101,\"TRUE\",PACKT01!N101)+SUMIF(PACKT02!$R101,\"TRUE\",PACKT02!N101)+SUMIF(PACKT03!$R101,\"TRUE\",PACKT03!N101)+SUMIF(PACKT04!$R101,\"TRUE\",PACKT04!N101)+SUMIF(PACKT05!$R101,\"TRUE\",PACKT05!N101)+SUMIF(PACKT06!$R102,\"TRUE\",PACKT06!N102)+SUMIF(PACKT07!$R101,\"TRUE\",PACKT07!N101)+SUMIF(PACKT08!$R101,\"TRUE\",PACKT08!N101)+SUMIF(PACKT09!$R101,\"TRUE\",PACKT09!N101)+SUMIF(PACKT10!$R101,\"TRUE\",PACKT10!N101)+SUMIF(PACKT11!$R101,\"TRUE\",PACKT11!N101)","v":0},{"$f":"SUMIF(PACKT01!$R101,\"TRUE\",PACKT01!O101)+SUMIF(PACKT02!$R101,\"TRUE\",PACKT02!O101)+SUMIF(PACKT03!$R101,\"TRUE\",PACKT03!O101)+SUMIF(PACKT04!$R101,\"TRUE\",PACKT04!O101)+SUMIF(PACKT05!$R101,\"TRUE\",PACKT05!O101)+SUMIF(PACKT06!$R102,\"TRUE\",PACKT06!O102)+SUMIF(PACKT07!$R101,\"TRUE\",PACKT07!O101)+SUMIF(PACKT08!$R101,\"TRUE\",PACKT08!O101)+SUMIF(PACKT09!$R101,\"TRUE\",PACKT09!O101)+SUMIF(PACKT10!$R101,\"TRUE\",PACKT10!O101)+SUMIF(PACKT11!$R101,\"TRUE\",PACKT11!O101)","v":0},{"$f":"SUMIF(PACKT01!$R101,\"TRUE\",PACKT01!P101)+SUMIF(PACKT02!$R101,\"TRUE\",PACKT02!P101)+SUMIF(PACKT03!$R101,\"TRUE\",PACKT03!P101)+SUMIF(PACKT04!$R101,\"TRUE\",PACKT04!P101)+SUMIF(PACKT05!$R101,\"TRUE\",PACKT05!P101)+SUMIF(PACKT06!$R102,\"TRUE\",PACKT06!P102)+SUMIF(PACKT07!$R101,\"TRUE\",PACKT07!P101)+SUMIF(PACKT08!$R101,\"TRUE\",PACKT08!P101)+SUMIF(PACKT09!$R101,\"TRUE\",PACKT09!P101)+SUMIF(PACKT10!$R101,\"TRUE\",PACKT10!P101)+SUMIF(PACKT11!$R101,\"TRUE\",PACKT11!P101)","v":0},{"$f":"SUMIF(PACKT01!$R101,\"TRUE\",PACKT01!Q101)+SUMIF(PACKT02!$R101,\"TRUE\",PACKT02!Q101)+SUMIF(PACKT03!$R101,\"TRUE\",PACKT03!Q101)+SUMIF(PACKT04!$R101,\"TRUE\",PACKT04!Q101)+SUMIF(PACKT05!$R101,\"TRUE\",PACKT05!Q101)+SUMIF(PACKT06!$R102,\"TRUE\",PACKT06!Q102)+SUMIF(PACKT07!$R101,\"TRUE\",PACKT07!Q101)+SUMIF(PACKT08!$R101,\"TRUE\",PACKT08!Q101)+SUMIF(PACKT09!$R101,\"TRUE\",PACKT09!Q101)+SUMIF(PACKT10!$R101,\"TRUE\",PACKT10!Q101)+SUMIF(PACKT11!$R101,\"TRUE\",PACKT11!Q101)","v":0},0]
[null,"EMP0091",{"$f":"VLOOKUP(HRSummarylTable[[#This Row],[EmployeeID]],EmployeeListLookupTable[],2,FALSE)","v":"EMPN091"},{"$f":"VLOOKUP(HRSummarylTable[[#This Row],[EmployeeID]],EmployeeListLookupTable[],3,FALSE)","v":"Employee Name 91"},{"$f":"VLOOKUP(HRSummarylTable[[#This Row],[EmployeeID]],EmployeeListLookupTable[],4,FALSE)","v":"Employee Job Title 91"},"TCTC001 - Total Cost to Company",{"$f":"LEFT(HRSummarylTable[[#This Row],[PackageItemCode]],7)","v":"TCTC001"},{"$f":"VLOOKUP(HRSummarylTable[[#This Row],[PackageItem]],PackageItemListLookup[],2,FALSE)","v":"Total Cost to Company"},null,{"$f":"SUMIF(PACKT01!$R102,\"TRUE\",PACKT01!F102)+SUMIF(PACKT02!$R102,\"TRUE\",PACKT02!F102)+SUMIF(PACKT03!$R102,\"TRUE\",PACKT03!F102)+SUMIF(PACKT04!$R102,\"TRUE\",PACKT04!F102)+SUMIF(PACKT05!$R102,\"TRUE\",PACKT05!F102)+SUMIF(PACKT06!$R103,\"TRUE\",PACKT06!F103)+SUMIF(PACKT07!$R102,\"TRUE\",PACKT07!F102)+SUMIF(PACKT08!$R102,\"TRUE\",PACKT08!F102)+SUMIF(PACKT09!$R102,\"TRUE\",PACKT09!F102)+SUMIF(PACKT10!$R102,\"TRUE\",PACKT10!F102)+SUMIF(PACKT11!$R102,\"TRUE\",PACKT11!F102)","v":0},{"$f":"SUMIF(PACKT01!$R102,\"TRUE\",PACKT01!G102)+SUMIF(PACKT02!$R102,\"TRUE\",PACKT02!G102)+SUMIF(PACKT03!$R102,\"TRUE\",PACKT03!G102)+SUMIF(PACKT04!$R102,\"TRUE\",PACKT04!G102)+SUMIF(PACKT05!$R102,\"TRUE\",PACKT05!G102)+SUMIF(PACKT06!$R103,\"TRUE\",PACKT06!G103)+SUMIF(PACKT07!$R102,\"TRUE\",PACKT07!G102)+SUMIF(PACKT08!$R102,\"TRUE\",PACKT08!G102)+SUMIF(PACKT09!$R102,\"TRUE\",PACKT09!G102)+SUMIF(PACKT10!$R102,\"TRUE\",PACKT10!G102)+SUMIF(PACKT11!$R102,\"TRUE\",PACKT11!G102)","v":0},{"$f":"SUMIF(PACKT01!$R102,\"TRUE\",PACKT01!H102)+SUMIF(PACKT02!$R102,\"TRUE\",PACKT02!H102)+SUMIF(PACKT03!$R102,\"TRUE\",PACKT03!H102)+SUMIF(PACKT04!$R102,\"TRUE\",PACKT04!H102)+SUMIF(PACKT05!$R102,\"TRUE\",PACKT05!H102)+SUMIF(PACKT06!$R103,\"TRUE\",PACKT06!H103)+SUMIF(PACKT07!$R102,\"TRUE\",PACKT07!H102)+SUMIF(PACKT08!$R102,\"TRUE\",PACKT08!H102)+SUMIF(PACKT09!$R102,\"TRUE\",PACKT09!H102)+SUMIF(PACKT10!$R102,\"TRUE\",PACKT10!H102)+SUMIF(PACKT11!$R102,\"TRUE\",PACKT11!H102)","v":0},{"$f":"SUMIF(PACKT01!$R102,\"TRUE\",PACKT01!I102)+SUMIF(PACKT02!$R102,\"TRUE\",PACKT02!I102)+SUMIF(PACKT03!$R102,\"TRUE\",PACKT03!I102)+SUMIF(PACKT04!$R102,\"TRUE\",PACKT04!I102)+SUMIF(PACKT05!$R102,\"TRUE\",PACKT05!I102)+SUMIF(PACKT06!$R103,\"TRUE\",PACKT06!I103)+SUMIF(PACKT07!$R102,\"TRUE\",PACKT07!I102)+SUMIF(PACKT08!$R102,\"TRUE\",PACKT08!I102)+SUMIF(PACKT09!$R102,\"TRUE\",PACKT09!I102)+SUMIF(PACKT10!$R102,\"TRUE\",PACKT10!I102)+SUMIF(PACKT11!$R102,\"TRUE\",PACKT11!I102)","v":0},{"$f":"SUMIF(PACKT01!$R102,\"TRUE\",PACKT01!J102)+SUMIF(PACKT02!$R102,\"TRUE\",PACKT02!J102)+SUMIF(PACKT03!$R102,\"TRUE\",PACKT03!J102)+SUMIF(PACKT04!$R102,\"TRUE\",PACKT04!J102)+SUMIF(PACKT05!$R102,\"TRUE\",PACKT05!J102)+SUMIF(PACKT06!$R103,\"TRUE\",PACKT06!J103)+SUMIF(PACKT07!$R102,\"TRUE\",PACKT07!J102)+SUMIF(PACKT08!$R102,\"TRUE\",PACKT08!J102)+SUMIF(PACKT09!$R102,\"TRUE\",PACKT09!J102)+SUMIF(PACKT10!$R102,\"TRUE\",PACKT10!J102)+SUMIF(PACKT11!$R102,\"TRUE\",PACKT11!J102)","v":0},{"$f":"SUMIF(PACKT01!$R102,\"TRUE\",PACKT01!K102)+SUMIF(PACKT02!$R102,\"TRUE\",PACKT02!K102)+SUMIF(PACKT03!$R102,\"TRUE\",PACKT03!K102)+SUMIF(PACKT04!$R102,\"TRUE\",PACKT04!K102)+SUMIF(PACKT05!$R102,\"TRUE\",PACKT05!K102)+SUMIF(PACKT06!$R103,\"TRUE\",PACKT06!K103)+SUMIF(PACKT07!$R102,\"TRUE\",PACKT07!K102)+SUMIF(PACKT08!$R102,\"TRUE\",PACKT08!K102)+SUMIF(PACKT09!$R102,\"TRUE\",PACKT09!K102)+SUMIF(PACKT10!$R102,\"TRUE\",PACKT10!K102)+SUMIF(PACKT11!$R102,\"TRUE\",PACKT11!K102)","v":0},{"$f":"SUMIF(PACKT01!$R102,\"TRUE\",PACKT01!L102)+SUMIF(PACKT02!$R102,\"TRUE\",PACKT02!L102)+SUMIF(PACKT03!$R102,\"TRUE\",PACKT03!L102)+SUMIF(PACKT04!$R102,\"TRUE\",PACKT04!L102)+SUMIF(PACKT05!$R102,\"TRUE\",PACKT05!L102)+SUMIF(PACKT06!$R103,\"TRUE\",PACKT06!L103)+SUMIF(PACKT07!$R102,\"TRUE\",PACKT07!L102)+SUMIF(PACKT08!$R102,\"TRUE\",PACKT08!L102)+SUMIF(PACKT09!$R102,\"TRUE\",PACKT09!L102)+SUMIF(PACKT10!$R102,\"TRUE\",PACKT10!L102)+SUMIF(PACKT11!$R102,\"TRUE\",PACKT11!L102)","v":0},{"$f":"SUMIF(PACKT01!$R102,\"TRUE\",PACKT01!M102)+SUMIF(PACKT02!$R102,\"TRUE\",PACKT02!M102)+SUMIF(PACKT03!$R102,\"TRUE\",PACKT03!M102)+SUMIF(PACKT04!$R102,\"TRUE\",PACKT04!M102)+SUMIF(PACKT05!$R102,\"TRUE\",PACKT05!M102)+SUMIF(PACKT06!$R103,\"TRUE\",PACKT06!M103)+SUMIF(PACKT07!$R102,\"TRUE\",PACKT07!M102)+SUMIF(PACKT08!$R102,\"TRUE\",PACKT08!M102)+SUMIF(PACKT09!$R102,\"TRUE\",PACKT09!M102)+SUMIF(PACKT10!$R102,\"TRUE\",PACKT10!M102)+SUMIF(PACKT11!$R102,\"TRUE\",PACKT11!M102)","v":0},{"$f":"SUMIF(PACKT01!$R102,\"TRUE\",PACKT01!N102)+SUMIF(PACKT02!$R102,\"TRUE\",PACKT02!N102)+SUMIF(PACKT03!$R102,\"TRUE\",PACKT03!N102)+SUMIF(PACKT04!$R102,\"TRUE\",PACKT04!N102)+SUMIF(PACKT05!$R102,\"TRUE\",PACKT05!N102)+SUMIF(PACKT06!$R103,\"TRUE\",PACKT06!N103)+SUMIF(PACKT07!$R102,\"TRUE\",PACKT07!N102)+SUMIF(PACKT08!$R102,\"TRUE\",PACKT08!N102)+SUMIF(PACKT09!$R102,\"TRUE\",PACKT09!N102)+SUMIF(PACKT10!$R102,\"TRUE\",PACKT10!N102)+SUMIF(PACKT11!$R102,\"TRUE\",PACKT11!N102)","v":0},{"$f":"SUMIF(PACKT01!$R102,\"TRUE\",PACKT01!O102)+SUMIF(PACKT02!$R102,\"TRUE\",PACKT02!O102)+SUMIF(PACKT03!$R102,\"TRUE\",PACKT03!O102)+SUMIF(PACKT04!$R102,\"TRUE\",PACKT04!O102)+SUMIF(PACKT05!$R102,\"TRUE\",PACKT05!O102)+SUMIF(PACKT06!$R103,\"TRUE\",PACKT06!O103)+SUMIF(PACKT07!$R102,\"TRUE\",PACKT07!O102)+SUMIF(PACKT08!$R102,\"TRUE\",PACKT08!O102)+SUMIF(PACKT09!$R102,\"TRUE\",PACKT09!O102)+SUMIF(PACKT10!$R102,\"TRUE\",PACKT10!O102)+SUMIF(PACKT11!$R102,\"TRUE\",PACKT11!O102)","v":0},{"$f":"SUMIF(PACKT01!$R102,\"TRUE\",PACKT01!P102)+SUMIF(PACKT02!$R102,\"TRUE\",PACKT02!P102)+SUMIF(PACKT03!$R102,\"TRUE\",PACKT03!P102)+SUMIF(PACKT04!$R102,\"TRUE\",PACKT04!P102)+SUMIF(PACKT05!$R102,\"TRUE\",PACKT05!P102)+SUMIF(PACKT06!$R103,\"TRUE\",PACKT06!P103)+SUMIF(PACKT07!$R102,\"TRUE\",PACKT07!P102)+SUMIF(PACKT08!$R102,\"TRUE\",PACKT08!P102)+SUMIF(PACKT09!$R102,\"TRUE\",PACKT09!P102)+SUMIF(PACKT10!$R102,\"TRUE\",PACKT10!P102)+SUMIF(PACKT11!$R102,\"TRUE\",PACKT11!P102)","v":0},{"$f":"SUMIF(PACKT01!$R102,\"TRUE\",PACKT01!Q102)+SUMIF(PACKT02!$R102,\"TRUE\",PACKT02!Q102)+SUMIF(PACKT03!$R102,\"TRUE\",PACKT03!Q102)+SUMIF(PACKT04!$R102,\"TRUE\",PACKT04!Q102)+SUMIF(PACKT05!$R102,\"TRUE\",PACKT05!Q102)+SUMIF(PACKT06!$R103,\"TRUE\",PACKT06!Q103)+SUMIF(PACKT07!$R102,\"TRUE\",PACKT07!Q102)+SUMIF(PACKT08!$R102,\"TRUE\",PACKT08!Q102)+SUMIF(PACKT09!$R102,\"TRUE\",PACKT09!Q102)+SUMIF(PACKT10!$R102,\"TRUE\",PACKT10!Q102)+SUMIF(PACKT11!$R102,\"TRUE\",PACKT11!Q102)","v":0},0]
[null,"EMP0092",{"$f":"VLOOKUP(HRSummarylTable[[#This Row],[EmployeeID]],EmployeeListLookupTable[],2,FALSE)","v":"EMPN092"},{"$f":"VLOOKUP(HRSummarylTable[[#This Row],[EmployeeID]],EmployeeListLookupTable[],3,FALSE)","v":"Employee Name 92"},{"$f":"VLOOKUP(HRSummarylTable[[#This Row],[EmployeeID]],EmployeeListLookupTable[],4,FALSE)","v":"Employee Job Title 92"},"TCTC001 - Total Cost to Company",{"$f":"LEFT(HRSummarylTable[[#This Row],[PackageItemCode]],7)","v":"TCTC001"},{"$f":"VLOOKUP(HRSummarylTable[[#This Row],[PackageItem]],PackageItemListLookup[],2,FALSE)","v":"Total Cost to Company"},null,{"$f":"SUMIF(PACKT01!$R103,\"TRUE\",PACKT01!F103)+SUMIF(PACKT02!$R103,\"TRUE\",PACKT02!F103)+SUMIF(PACKT03!$R103,\"TRUE\",PACKT03!F103)+SUMIF(PACKT04!$R103,\"TRUE\",PACKT04!F103)+SUMIF(PACKT05!$R103,\"TRUE\",PACKT05!F103)+SUMIF(PACKT06!$R104,\"TRUE\",PACKT06!F104)+SUMIF(PACKT07!$R103,\"TRUE\",PACKT07!F103)+SUMIF(PACKT08!$R103,\"TRUE\",PACKT08!F103)+SUMIF(PACKT09!$R103,\"TRUE\",PACKT09!F103)+SUMIF(PACKT10!$R103,\"TRUE\",PACKT10!F103)+SUMIF(PACKT11!$R103,\"TRUE\",PACKT11!F103)","v":0},{"$f":"SUMIF(PACKT01!$R103,\"TRUE\",PACKT01!G103)+SUMIF(PACKT02!$R103,\"TRUE\",PACKT02!G103)+SUMIF(PACKT03!$R103,\"TRUE\",PACKT03!G103)+SUMIF(PACKT04!$R103,\"TRUE\",PACKT04!G103)+SUMIF(PACKT05!$R103,\"TRUE\",PACKT05!G103)+SUMIF(PACKT06!$R104,\"TRUE\",PACKT06!G104)+SUMIF(PACKT07!$R103,\"TRUE\",PACKT07!G103)+SUMIF(PACKT08!$R103,\"TRUE\",PACKT08!G103)+SUMIF(PACKT09!$R103,\"TRUE\",PACKT09!G103)+SUMIF(PACKT10!$R103,\"TRUE\",PACKT10!G103)+SUMIF(PACKT11!$R103,\"TRUE\",PACKT11!G103)","v":0},{"$f":"SUMIF(PACKT01!$R103,\"TRUE\",PACKT01!H103)+SUMIF(PACKT02!$R103,\"TRUE\",PACKT02!H103)+SUMIF(PACKT03!$R103,\"TRUE\",PACKT03!H103)+SUMIF(PACKT04!$R103,\"TRUE\",PACKT04!H103)+SUMIF(PACKT05!$R103,\"TRUE\",PACKT05!H103)+SUMIF(PACKT06!$R104,\"TRUE\",PACKT06!H104)+SUMIF(PACKT07!$R103,\"TRUE\",PACKT07!H103)+SUMIF(PACKT08!$R103,\"TRUE\",PACKT08!H103)+SUMIF(PACKT09!$R103,\"TRUE\",PACKT09!H103)+SUMIF(PACKT10!$R103,\"TRUE\",PACKT10!H103)+SUMIF(PACKT11!$R103,\"TRUE\",PACKT11!H103)","v":0},{"$f":"SUMIF(PACKT01!$R103,\"TRUE\",PACKT01!I103)+SUMIF(PACKT02!$R103,\"TRUE\",PACKT02!I103)+SUMIF(PACKT03!$R103,\"TRUE\",PACKT03!I103)+SUMIF(PACKT04!$R103,\"TRUE\",PACKT04!I103)+SUMIF(PACKT05!$R103,\"TRUE\",PACKT05!I103)+SUMIF(PACKT06!$R104,\"TRUE\",PACKT06!I104)+SUMIF(PACKT07!$R103,\"TRUE\",PACKT07!I103)+SUMIF(PACKT08!$R103,\"TRUE\",PACKT08!I103)+SUMIF(PACKT09!$R103,\"TRUE\",PACKT09!I103)+SUMIF(PACKT10!$R103,\"TRUE\",PACKT10!I103)+SUMIF(PACKT11!$R103,\"TRUE\",PACKT11!I103)","v":0},{"$f":"SUMIF(PACKT01!$R103,\"TRUE\",PACKT01!J103)+SUMIF(PACKT02!$R103,\"TRUE\",PACKT02!J103)+SUMIF(PACKT03!$R103,\"TRUE\",PACKT03!J103)+SUMIF(PACKT04!$R103,\"TRUE\",PACKT04!J103)+SUMIF(PACKT05!$R103,\"TRUE\",PACKT05!J103)+SUMIF(PACKT06!$R104,\"TRUE\",PACKT06!J104)+SUMIF(PACKT07!$R103,\"TRUE\",PACKT07!J103)+SUMIF(PACKT08!$R103,\"TRUE\",PACKT08!J103)+SUMIF(PACKT09!$R103,\"TRUE\",PACKT09!J103)+SUMIF(PACKT10!$R103,\"TRUE\",PACKT10!J103)+SUMIF(PACKT11!$R103,\"TRUE\",PACKT11!J103)","v":0},{"$f":"SUMIF(PACKT01!$R103,\"TRUE\",PACKT01!K103)+SUMIF(PACKT02!$R103,\"TRUE\",PACKT02!K103)+SUMIF(PACKT03!$R103,\"TRUE\",PACKT03!K103)+SUMIF(PACKT04!$R103,\"TRUE\",PACKT04!K103)+SUMIF(PACKT05!$R103,\"TRUE\",PACKT05!K103)+SUMIF(PACKT06!$R104,\"TRUE\",PACKT06!K104)+SUMIF(PACKT07!$R103,\"TRUE\",PACKT07!K103)+SUMIF(PACKT08!$R103,\"TRUE\",PACKT08!K103)+SUMIF(PACKT09!$R103,\"TRUE\",PACKT09!K103)+SUMIF(PACKT10!$R103,\"TRUE\",PACKT10!K103)+SUMIF(PACKT11!$R103,\"TRUE\",PACKT11!K103)","v":0},{"$f":"SUMIF(PACKT01!$R103,\"TRUE\",PACKT01!L103)+SUMIF(PACKT02!$R103,\"TRUE\",PACKT02!L103)+SUMIF(PACKT03!$R103,\"TRUE\",PACKT03!L103)+SUMIF(PACKT04!$R103,\"TRUE\",PACKT04!L103)+SUMIF(PACKT05!$R103,\"TRUE\",PACKT05!L103)+SUMIF(PACKT06!$R104,\"TRUE\",PACKT06!L104)+SUMIF(PACKT07!$R103,\"TRUE\",PACKT07!L103)+SUMIF(PACKT08!$R103,\"TRUE\",PACKT08!L103)+SUMIF(PACKT09!$R103,\"TRUE\",PACKT09!L103)+SUMIF(PACKT10!$R103,\"TRUE\",PACKT10!L103)+SUMIF(PACKT11!$R103,\"TRUE\",PACKT11!L103)","v":0},{"$f":"SUMIF(PACKT01!$R103,\"TRUE\",PACKT01!M103)+SUMIF(PACKT02!$R103,\"TRUE\",PACKT02!M103)+SUMIF(PACKT03!$R103,\"TRUE\",PACKT03!M103)+SUMIF(PACKT04!$R103,\"TRUE\",PACKT04!M103)+SUMIF(PACKT05!$R103,\"TRUE\",PACKT05!M103)+SUMIF(PACKT06!$R104,\"TRUE\",PACKT06!M104)+SUMIF(PACKT07!$R103,\"TRUE\",PACKT07!M103)+SUMIF(PACKT08!$R103,\"TRUE\",PACKT08!M103)+SUMIF(PACKT09!$R103,\"TRUE\",PACKT09!M103)+SUMIF(PACKT10!$R103,\"TRUE\",PACKT10!M103)+SUMIF(PACKT11!$R103,\"TRUE\",PACKT11!M103)","v":0},{"$f":"SUMIF(PACKT01!$R103,\"TRUE\",PACKT01!N103)+SUMIF(PACKT02!$R103,\"TRUE\",PACKT02!N103)+SUMIF(PACKT03!$R103,\"TRUE\",PACKT03!N103)+SUMIF(PACKT04!$R103,\"TRUE\",PACKT04!N103)+SUMIF(PACKT05!$R103,\"TRUE\",PACKT05!N103)+SUMIF(PACKT06!$R104,\"TRUE\",PACKT06!N104)+SUMIF(PACKT07!$R103,\"TRUE\",PACKT07!N103)+SUMIF(PACKT08!$R103,\"TRUE\",PACKT08!N103)+SUMIF(PACKT09!$R103,\"TRUE\",PACKT09!N103)+SUMIF(PACKT10!$R103,\"TRUE\",PACKT10!N103)+SUMIF(PACKT11!$R103,\"TRUE\",PACKT11!N103)","v":0},{"$f":"SUMIF(PACKT01!$R103,\"TRUE\",PACKT01!O103)+SUMIF(PACKT02!$R103,\"TRUE\",PACKT02!O103)+SUMIF(PACKT03!$R103,\"TRUE\",PACKT03!O103)+SUMIF(PACKT04!$R103,\"TRUE\",PACKT04!O103)+SUMIF(PACKT05!$R103,\"TRUE\",PACKT05!O103)+SUMIF(PACKT06!$R104,\"TRUE\",PACKT06!O104)+SUMIF(PACKT07!$R103,\"TRUE\",PACKT07!O103)+SUMIF(PACKT08!$R103,\"TRUE\",PACKT08!O103)+SUMIF(PACKT09!$R103,\"TRUE\",PACKT09!O103)+SUMIF(PACKT10!$R103,\"TRUE\",PACKT10!O103)+SUMIF(PACKT11!$R103,\"TRUE\",PACKT11!O103)","v":0},{"$f":"SUMIF(PACKT01!$R103,\"TRUE\",PACKT01!P103)+SUMIF(PACKT02!$R103,\"TRUE\",PACKT02!P103)+SUMIF(PACKT03!$R103,\"TRUE\",PACKT03!P103)+SUMIF(PACKT04!$R103,\"TRUE\",PACKT04!P103)+SUMIF(PACKT05!$R103,\"TRUE\",PACKT05!P103)+SUMIF(PACKT06!$R104,\"TRUE\",PACKT06!P104)+SUMIF(PACKT07!$R103,\"TRUE\",PACKT07!P103)+SUMIF(PACKT08!$R103,\"TRUE\",PACKT08!P103)+SUMIF(PACKT09!$R103,\"TRUE\",PACKT09!P103)+SUMIF(PACKT10!$R103,\"TRUE\",PACKT10!P103)+SUMIF(PACKT11!$R103,\"TRUE\",PACKT11!P103)","v":0},{"$f":"SUMIF(PACKT01!$R103,\"TRUE\",PACKT01!Q103)+SUMIF(PACKT02!$R103,\"TRUE\",PACKT02!Q103)+SUMIF(PACKT03!$R103,\"TRUE\",PACKT03!Q103)+SUMIF(PACKT04!$R103,\"TRUE\",PACKT04!Q103)+SUMIF(PACKT05!$R103,\"TRUE\",PACKT05!Q103)+SUMIF(PACKT06!$R104,\"TRUE\",PACKT06!Q104)+SUMIF(PACKT07!$R103,\"TRUE\",PACKT07!Q103)+SUMIF(PACKT08!$R103,\"TRUE\",PACKT08!Q103)+SUMIF(PACKT09!$R103,\"TRUE\",PACKT09!Q103)+SUMIF(PACKT10!$R103,\"TRUE\",PACKT10!Q103)+SUMIF(PACKT11!$R103,\"TRUE\",PACKT11!Q103)","v":0},0]
[null,"EMP0093",{"$f":"VLOOKUP(HRSummarylTable[[#This Row],[EmployeeID]],EmployeeListLookupTable[],2,FALSE)","v":"EMPN093"},{"$f":"VLOOKUP(HRSummarylTable[[#This Row],[EmployeeID]],EmployeeListLookupTable[],3,FALSE)","v":"Employee Name 93"},{"$f":"VLOOKUP(HRSummarylTable[[#This Row],[EmployeeID]],EmployeeListLookupTable[],4,FALSE)","v":"Employee Job Title 93"},"TCTC001 - Total Cost to Company",{"$f":"LEFT(HRSummarylTable[[#This Row],[PackageItemCode]],7)","v":"TCTC001"},{"$f":"VLOOKUP(HRSummarylTable[[#This Row],[PackageItem]],PackageItemListLookup[],2,FALSE)","v":"Total Cost to Company"},null,{"$f":"SUMIF(PACKT01!$R104,\"TRUE\",PACKT01!F104)+SUMIF(PACKT02!$R104,\"TRUE\",PACKT02!F104)+SUMIF(PACKT03!$R104,\"TRUE\",PACKT03!F104)+SUMIF(PACKT04!$R104,\"TRUE\",PACKT04!F104)+SUMIF(PACKT05!$R104,\"TRUE\",PACKT05!F104)+SUMIF(PACKT06!$R105,\"TRUE\",PACKT06!F105)+SUMIF(PACKT07!$R104,\"TRUE\",PACKT07!F104)+SUMIF(PACKT08!$R104,\"TRUE\",PACKT08!F104)+SUMIF(PACKT09!$R104,\"TRUE\",PACKT09!F104)+SUMIF(PACKT10!$R104,\"TRUE\",PACKT10!F104)+SUMIF(PACKT11!$R104,\"TRUE\",PACKT11!F104)","v":0},{"$f":"SUMIF(PACKT01!$R104,\"TRUE\",PACKT01!G104)+SUMIF(PACKT02!$R104,\"TRUE\",PACKT02!G104)+SUMIF(PACKT03!$R104,\"TRUE\",PACKT03!G104)+SUMIF(PACKT04!$R104,\"TRUE\",PACKT04!G104)+SUMIF(PACKT05!$R104,\"TRUE\",PACKT05!G104)+SUMIF(PACKT06!$R105,\"TRUE\",PACKT06!G105)+SUMIF(PACKT07!$R104,\"TRUE\",PACKT07!G104)+SUMIF(PACKT08!$R104,\"TRUE\",PACKT08!G104)+SUMIF(PACKT09!$R104,\"TRUE\",PACKT09!G104)+SUMIF(PACKT10!$R104,\"TRUE\",PACKT10!G104)+SUMIF(PACKT11!$R104,\"TRUE\",PACKT11!G104)","v":0},{"$f":"SUMIF(PACKT01!$R104,\"TRUE\",PACKT01!H104)+SUMIF(PACKT02!$R104,\"TRUE\",PACKT02!H104)+SUMIF(PACKT03!$R104,\"TRUE\",PACKT03!H104)+SUMIF(PACKT04!$R104,\"TRUE\",PACKT04!H104)+SUMIF(PACKT05!$R104,\"TRUE\",PACKT05!H104)+SUMIF(PACKT06!$R105,\"TRUE\",PACKT06!H105)+SUMIF(PACKT07!$R104,\"TRUE\",PACKT07!H104)+SUMIF(PACKT08!$R104,\"TRUE\",PACKT08!H104)+SUMIF(PACKT09!$R104,\"TRUE\",PACKT09!H104)+SUMIF(PACKT10!$R104,\"TRUE\",PACKT10!H104)+SUMIF(PACKT11!$R104,\"TRUE\",PACKT11!H104)","v":0},{"$f":"SUMIF(PACKT01!$R104,\"TRUE\",PACKT01!I104)+SUMIF(PACKT02!$R104,\"TRUE\",PACKT02!I104)+SUMIF(PACKT03!$R104,\"TRUE\",PACKT03!I104)+SUMIF(PACKT04!$R104,\"TRUE\",PACKT04!I104)+SUMIF(PACKT05!$R104,\"TRUE\",PACKT05!I104)+SUMIF(PACKT06!$R105,\"TRUE\",PACKT06!I105)+SUMIF(PACKT07!$R104,\"TRUE\",PACKT07!I104)+SUMIF(PACKT08!$R104,\"TRUE\",PACKT08!I104)+SUMIF(PACKT09!$R104,\"TRUE\",PACKT09!I104)+SUMIF(PACKT10!$R104,\"TRUE\",PACKT10!I104)+SUMIF(PACKT11!$R104,\"TRUE\",PACKT11!I104)","v":0},{"$f":"SUMIF(PACKT01!$R104,\"TRUE\",PACKT01!J104)+SUMIF(PACKT02!$R104,\"TRUE\",PACKT02!J104)+SUMIF(PACKT03!$R104,\"TRUE\",PACKT03!J104)+SUMIF(PACKT04!$R104,\"TRUE\",PACKT04!J104)+SUMIF(PACKT05!$R104,\"TRUE\",PACKT05!J104)+SUMIF(PACKT06!$R105,\"TRUE\",PACKT06!J105)+SUMIF(PACKT07!$R104,\"TRUE\",PACKT07!J104)+SUMIF(PACKT08!$R104,\"TRUE\",PACKT08!J104)+SUMIF(PACKT09!$R104,\"TRUE\",PACKT09!J104)+SUMIF(PACKT10!$R104,\"TRUE\",PACKT10!J104)+SUMIF(PACKT11!$R104,\"TRUE\",PACKT11!J104)","v":0},{"$f":"SUMIF(PACKT01!$R104,\"TRUE\",PACKT01!K104)+SUMIF(PACKT02!$R104,\"TRUE\",PACKT02!K104)+SUMIF(PACKT03!$R104,\"TRUE\",PACKT03!K104)+SUMIF(PACKT04!$R104,\"TRUE\",PACKT04!K104)+SUMIF(PACKT05!$R104,\"TRUE\",PACKT05!K104)+SUMIF(PACKT06!$R105,\"TRUE\",PACKT06!K105)+SUMIF(PACKT07!$R104,\"TRUE\",PACKT07!K104)+SUMIF(PACKT08!$R104,\"TRUE\",PACKT08!K104)+SUMIF(PACKT09!$R104,\"TRUE\",PACKT09!K104)+SUMIF(PACKT10!$R104,\"TRUE\",PACKT10!K104)+SUMIF(PACKT11!$R104,\"TRUE\",PACKT11!K104)","v":0},{"$f":"SUMIF(PACKT01!$R104,\"TRUE\",PACKT01!L104)+SUMIF(PACKT02!$R104,\"TRUE\",PACKT02!L104)+SUMIF(PACKT03!$R104,\"TRUE\",PACKT03!L104)+SUMIF(PACKT04!$R104,\"TRUE\",PACKT04!L104)+SUMIF(PACKT05!$R104,\"TRUE\",PACKT05!L104)+SUMIF(PACKT06!$R105,\"TRUE\",PACKT06!L105)+SUMIF(PACKT07!$R104,\"TRUE\",PACKT07!L104)+SUMIF(PACKT08!$R104,\"TRUE\",PACKT08!L104)+SUMIF(PACKT09!$R104,\"TRUE\",PACKT09!L104)+SUMIF(PACKT10!$R104,\"TRUE\",PACKT10!L104)+SUMIF(PACKT11!$R104,\"TRUE\",PACKT11!L104)","v":0},{"$f":"SUMIF(PACKT01!$R104,\"TRUE\",PACKT01!M104)+SUMIF(PACKT02!$R104,\"TRUE\",PACKT02!M104)+SUMIF(PACKT03!$R104,\"TRUE\",PACKT03!M104)+SUMIF(PACKT04!$R104,\"TRUE\",PACKT04!M104)+SUMIF(PACKT05!$R104,\"TRUE\",PACKT05!M104)+SUMIF(PACKT06!$R105,\"TRUE\",PACKT06!M105)+SUMIF(PACKT07!$R104,\"TRUE\",PACKT07!M104)+SUMIF(PACKT08!$R104,\"TRUE\",PACKT08!M104)+SUMIF(PACKT09!$R104,\"TRUE\",PACKT09!M104)+SUMIF(PACKT10!$R104,\"TRUE\",PACKT10!M104)+SUMIF(PACKT11!$R104,\"TRUE\",PACKT11!M104)","v":0},{"$f":"SUMIF(PACKT01!$R104,\"TRUE\",PACKT01!N104)+SUMIF(PACKT02!$R104,\"TRUE\",PACKT02!N104)+SUMIF(PACKT03!$R104,\"TRUE\",PACKT03!N104)+SUMIF(PACKT04!$R104,\"TRUE\",PACKT04!N104)+SUMIF(PACKT05!$R104,\"TRUE\",PACKT05!N104)+SUMIF(PACKT06!$R105,\"TRUE\",PACKT06!N105)+SUMIF(PACKT07!$R104,\"TRUE\",PACKT07!N104)+SUMIF(PACKT08!$R104,\"TRUE\",PACKT08!N104)+SUMIF(PACKT09!$R104,\"TRUE\",PACKT09!N104)+SUMIF(PACKT10!$R104,\"TRUE\",PACKT10!N104)+SUMIF(PACKT11!$R104,\"TRUE\",PACKT11!N104)","v":0},{"$f":"SUMIF(PACKT01!$R104,\"TRUE\",PACKT01!O104)+SUMIF(PACKT02!$R104,\"TRUE\",PACKT02!O104)+SUMIF(PACKT03!$R104,\"TRUE\",PACKT03!O104)+SUMIF(PACKT04!$R104,\"TRUE\",PACKT04!O104)+SUMIF(PACKT05!$R104,\"TRUE\",PACKT05!O104)+SUMIF(PACKT06!$R105,\"TRUE\",PACKT06!O105)+SUMIF(PACKT07!$R104,\"TRUE\",PACKT07!O104)+SUMIF(PACKT08!$R104,\"TRUE\",PACKT08!O104)+SUMIF(PACKT09!$R104,\"TRUE\",PACKT09!O104)+SUMIF(PACKT10!$R104,\"TRUE\",PACKT10!O104)+SUMIF(PACKT11!$R104,\"TRUE\",PACKT11!O104)","v":0},{"$f":"SUMIF(PACKT01!$R104,\"TRUE\",PACKT01!P104)+SUMIF(PACKT02!$R104,\"TRUE\",PACKT02!P104)+SUMIF(PACKT03!$R104,\"TRUE\",PACKT03!P104)+SUMIF(PACKT04!$R104,\"TRUE\",PACKT04!P104)+SUMIF(PACKT05!$R104,\"TRUE\",PACKT05!P104)+SUMIF(PACKT06!$R105,\"TRUE\",PACKT06!P105)+SUMIF(PACKT07!$R104,\"TRUE\",PACKT07!P104)+SUMIF(PACKT08!$R104,\"TRUE\",PACKT08!P104)+SUMIF(PACKT09!$R104,\"TRUE\",PACKT09!P104)+SUMIF(PACKT10!$R104,\"TRUE\",PACKT10!P104)+SUMIF(PACKT11!$R104,\"TRUE\",PACKT11!P104)","v":0},{"$f":"SUMIF(PACKT01!$R104,\"TRUE\",PACKT01!Q104)+SUMIF(PACKT02!$R104,\"TRUE\",PACKT02!Q104)+SUMIF(PACKT03!$R104,\"TRUE\",PACKT03!Q104)+SUMIF(PACKT04!$R104,\"TRUE\",PACKT04!Q104)+SUMIF(PACKT05!$R104,\"TRUE\",PACKT05!Q104)+SUMIF(PACKT06!$R105,\"TRUE\",PACKT06!Q105)+SUMIF(PACKT07!$R104,\"TRUE\",PACKT07!Q104)+SUMIF(PACKT08!$R104,\"TRUE\",PACKT08!Q104)+SUMIF(PACKT09!$R104,\"TRUE\",PACKT09!Q104)+SUMIF(PACKT10!$R104,\"TRUE\",PACKT10!Q104)+SUMIF(PACKT11!$R104,\"TRUE\",PACKT11!Q104)","v":0},0]
[null,"EMP0094",{"$f":"VLOOKUP(HRSummarylTable[[#This Row],[EmployeeID]],EmployeeListLookupTable[],2,FALSE)","v":"EMPN094"},{"$f":"VLOOKUP(HRSummarylTable[[#This Row],[EmployeeID]],EmployeeListLookupTable[],3,FALSE)","v":"Employee Name 94"},{"$f":"VLOOKUP(HRSummarylTable[[#This Row],[EmployeeID]],EmployeeListLookupTable[],4,FALSE)","v":"Employee Job Title 94"},"TCTC001 - Total Cost to Company",{"$f":"LEFT(HRSummarylTable[[#This Row],[PackageItemCode]],7)","v":"TCTC001"},{"$f":"VLOOKUP(HRSummarylTable[[#This Row],[PackageItem]],PackageItemListLookup[],2,FALSE)","v":"Total Cost to Company"},null,{"$f":"SUMIF(PACKT01!$R105,\"TRUE\",PACKT01!F105)+SUMIF(PACKT02!$R105,\"TRUE\",PACKT02!F105)+SUMIF(PACKT03!$R105,\"TRUE\",PACKT03!F105)+SUMIF(PACKT04!$R105,\"TRUE\",PACKT04!F105)+SUMIF(PACKT05!$R105,\"TRUE\",PACKT05!F105)+SUMIF(PACKT06!$R106,\"TRUE\",PACKT06!F106)+SUMIF(PACKT07!$R105,\"TRUE\",PACKT07!F105)+SUMIF(PACKT08!$R105,\"TRUE\",PACKT08!F105)+SUMIF(PACKT09!$R105,\"TRUE\",PACKT09!F105)+SUMIF(PACKT10!$R105,\"TRUE\",PACKT10!F105)+SUMIF(PACKT11!$R105,\"TRUE\",PACKT11!F105)","v":0},{"$f":"SUMIF(PACKT01!$R105,\"TRUE\",PACKT01!G105)+SUMIF(PACKT02!$R105,\"TRUE\",PACKT02!G105)+SUMIF(PACKT03!$R105,\"TRUE\",PACKT03!G105)+SUMIF(PACKT04!$R105,\"TRUE\",PACKT04!G105)+SUMIF(PACKT05!$R105,\"TRUE\",PACKT05!G105)+SUMIF(PACKT06!$R106,\"TRUE\",PACKT06!G106)+SUMIF(PACKT07!$R105,\"TRUE\",PACKT07!G105)+SUMIF(PACKT08!$R105,\"TRUE\",PACKT08!G105)+SUMIF(PACKT09!$R105,\"TRUE\",PACKT09!G105)+SUMIF(PACKT10!$R105,\"TRUE\",PACKT10!G105)+SUMIF(PACKT11!$R105,\"TRUE\",PACKT11!G105)","v":0},{"$f":"SUMIF(PACKT01!$R105,\"TRUE\",PACKT01!H105)+SUMIF(PACKT02!$R105,\"TRUE\",PACKT02!H105)+SUMIF(PACKT03!$R105,\"TRUE\",PACKT03!H105)+SUMIF(PACKT04!$R105,\"TRUE\",PACKT04!H105)+SUMIF(PACKT05!$R105,\"TRUE\",PACKT05!H105)+SUMIF(PACKT06!$R106,\"TRUE\",PACKT06!H106)+SUMIF(PACKT07!$R105,\"TRUE\",PACKT07!H105)+SUMIF(PACKT08!$R105,\"TRUE\",PACKT08!H105)+SUMIF(PACKT09!$R105,\"TRUE\",PACKT09!H105)+SUMIF(PACKT10!$R105,\"TRUE\",PACKT10!H105)+SUMIF(PACKT11!$R105,\"TRUE\",PACKT11!H105)","v":0},{"$f":"SUMIF(PACKT01!$R105,\"TRUE\",PACKT01!I105)+SUMIF(PACKT02!$R105,\"TRUE\",PACKT02!I105)+SUMIF(PACKT03!$R105,\"TRUE\",PACKT03!I105)+SUMIF(PACKT04!$R105,\"TRUE\",PACKT04!I105)+SUMIF(PACKT05!$R105,\"TRUE\",PACKT05!I105)+SUMIF(PACKT06!$R106,\"TRUE\",PACKT06!I106)+SUMIF(PACKT07!$R105,\"TRUE\",PACKT07!I105)+SUMIF(PACKT08!$R105,\"TRUE\",PACKT08!I105)+SUMIF(PACKT09!$R105,\"TRUE\",PACKT09!I105)+SUMIF(PACKT10!$R105,\"TRUE\",PACKT10!I105)+SUMIF(PACKT11!$R105,\"TRUE\",PACKT11!I105)","v":0},{"$f":"SUMIF(PACKT01!$R105,\"TRUE\",PACKT01!J105)+SUMIF(PACKT02!$R105,\"TRUE\",PACKT02!J105)+SUMIF(PACKT03!$R105,\"TRUE\",PACKT03!J105)+SUMIF(PACKT04!$R105,\"TRUE\",PACKT04!J105)+SUMIF(PACKT05!$R105,\"TRUE\",PACKT05!J105)+SUMIF(PACKT06!$R106,\"TRUE\",PACKT06!J106)+SUMIF(PACKT07!$R105,\"TRUE\",PACKT07!J105)+SUMIF(PACKT08!$R105,\"TRUE\",PACKT08!J105)+SUMIF(PACKT09!$R105,\"TRUE\",PACKT09!J105)+SUMIF(PACKT10!$R105,\"TRUE\",PACKT10!J105)+SUMIF(PACKT11!$R105,\"TRUE\",PACKT11!J105)","v":0},{"$f":"SUMIF(PACKT01!$R105,\"TRUE\",PACKT01!K105)+SUMIF(PACKT02!$R105,\"TRUE\",PACKT02!K105)+SUMIF(PACKT03!$R105,\"TRUE\",PACKT03!K105)+SUMIF(PACKT04!$R105,\"TRUE\",PACKT04!K105)+SUMIF(PACKT05!$R105,\"TRUE\",PACKT05!K105)+SUMIF(PACKT06!$R106,\"TRUE\",PACKT06!K106)+SUMIF(PACKT07!$R105,\"TRUE\",PACKT07!K105)+SUMIF(PACKT08!$R105,\"TRUE\",PACKT08!K105)+SUMIF(PACKT09!$R105,\"TRUE\",PACKT09!K105)+SUMIF(PACKT10!$R105,\"TRUE\",PACKT10!K105)+SUMIF(PACKT11!$R105,\"TRUE\",PACKT11!K105)","v":0},{"$f":"SUMIF(PACKT01!$R105,\"TRUE\",PACKT01!L105)+SUMIF(PACKT02!$R105,\"TRUE\",PACKT02!L105)+SUMIF(PACKT03!$R105,\"TRUE\",PACKT03!L105)+SUMIF(PACKT04!$R105,\"TRUE\",PACKT04!L105)+SUMIF(PACKT05!$R105,\"TRUE\",PACKT05!L105)+SUMIF(PACKT06!$R106,\"TRUE\",PACKT06!L106)+SUMIF(PACKT07!$R105,\"TRUE\",PACKT07!L105)+SUMIF(PACKT08!$R105,\"TRUE\",PACKT08!L105)+SUMIF(PACKT09!$R105,\"TRUE\",PACKT09!L105)+SUMIF(PACKT10!$R105,\"TRUE\",PACKT10!L105)+SUMIF(PACKT11!$R105,\"TRUE\",PACKT11!L105)","v":0},{"$f":"SUMIF(PACKT01!$R105,\"TRUE\",PACKT01!M105)+SUMIF(PACKT02!$R105,\"TRUE\",PACKT02!M105)+SUMIF(PACKT03!$R105,\"TRUE\",PACKT03!M105)+SUMIF(PACKT04!$R105,\"TRUE\",PACKT04!M105)+SUMIF(PACKT05!$R105,\"TRUE\",PACKT05!M105)+SUMIF(PACKT06!$R106,\"TRUE\",PACKT06!M106)+SUMIF(PACKT07!$R105,\"TRUE\",PACKT07!M105)+SUMIF(PACKT08!$R105,\"TRUE\",PACKT08!M105)+SUMIF(PACKT09!$R105,\"TRUE\",PACKT09!M105)+SUMIF(PACKT10!$R105,\"TRUE\",PACKT10!M105)+SUMIF(PACKT11!$R105,\"TRUE\",PACKT11!M105)","v":0},{"$f":"SUMIF(PACKT01!$R105,\"TRUE\",PACKT01!N105)+SUMIF(PACKT02!$R105,\"TRUE\",PACKT02!N105)+SUMIF(PACKT03!$R105,\"TRUE\",PACKT03!N105)+SUMIF(PACKT04!$R105,\"TRUE\",PACKT04!N105)+SUMIF(PACKT05!$R105,\"TRUE\",PACKT05!N105)+SUMIF(PACKT06!$R106,\"TRUE\",PACKT06!N106)+SUMIF(PACKT07!$R105,\"TRUE\",PACKT07!N105)+SUMIF(PACKT08!$R105,\"TRUE\",PACKT08!N105)+SUMIF(PACKT09!$R105,\"TRUE\",PACKT09!N105)+SUMIF(PACKT10!$R105,\"TRUE\",PACKT10!N105)+SUMIF(PACKT11!$R105,\"TRUE\",PACKT11!N105)","v":0},{"$f":"SUMIF(PACKT01!$R105,\"TRUE\",PACKT01!O105)+SUMIF(PACKT02!$R105,\"TRUE\",PACKT02!O105)+SUMIF(PACKT03!$R105,\"TRUE\",PACKT03!O105)+SUMIF(PACKT04!$R105,\"TRUE\",PACKT04!O105)+SUMIF(PACKT05!$R105,\"TRUE\",PACKT05!O105)+SUMIF(PACKT06!$R106,\"TRUE\",PACKT06!O106)+SUMIF(PACKT07!$R105,\"TRUE\",PACKT07!O105)+SUMIF(PACKT08!$R105,\"TRUE\",PACKT08!O105)+SUMIF(PACKT09!$R105,\"TRUE\",PACKT09!O105)+SUMIF(PACKT10!$R105,\"TRUE\",PACKT10!O105)+SUMIF(PACKT11!$R105,\"TRUE\",PACKT11!O105)","v":0},{"$f":"SUMIF(PACKT01!$R105,\"TRUE\",PACKT01!P105)+SUMIF(PACKT02!$R105,\"TRUE\",PACKT02!P105)+SUMIF(PACKT03!$R105,\"TRUE\",PACKT03!P105)+SUMIF(PACKT04!$R105,\"TRUE\",PACKT04!P105)+SUMIF(PACKT05!$R105,\"TRUE\",PACKT05!P105)+SUMIF(PACKT06!$R106,\"TRUE\",PACKT06!P106)+SUMIF(PACKT07!$R105,\"TRUE\",PACKT07!P105)+SUMIF(PACKT08!$R105,\"TRUE\",PACKT08!P105)+SUMIF(PACKT09!$R105,\"TRUE\",PACKT09!P105)+SUMIF(PACKT10!$R105,\"TRUE\",PACKT10!P105)+SUMIF(PACKT11!$R105,\"TRUE\",PACKT11!P105)","v":0},{"$f":"SUMIF(PACKT01!$R105,\"TRUE\",PACKT01!Q105)+SUMIF(PACKT02!$R105,\"TRUE\",PACKT02!Q105)+SUMIF(PACKT03!$R105,\"TRUE\",PACKT03!Q105)+SUMIF(PACKT04!$R105,\"TRUE\",PACKT04!Q105)+SUMIF(PACKT05!$R105,\"TRUE\",PACKT05!Q105)+SUMIF(PACKT06!$R106,\"TRUE\",PACKT06!Q106)+SUMIF(PACKT07!$R105,\"TRUE\",PACKT07!Q105)+SUMIF(PACKT08!$R105,\"TRUE\",PACKT08!Q105)+SUMIF(PACKT09!$R105,\"TRUE\",PACKT09!Q105)+SUMIF(PACKT10!$R105,\"TRUE\",PACKT10!Q105)+SUMIF(PACKT11!$R105,\"TRUE\",PACKT11!Q105)","v":0},0]
[null,"EMP0095",{"$f":"VLOOKUP(HRSummarylTable[[#This Row],[EmployeeID]],EmployeeListLookupTable[],2,FALSE)","v":"EMPN095"},{"$f":"VLOOKUP(HRSummarylTable[[#This Row],[EmployeeID]],EmployeeListLookupTable[],3,FALSE)","v":"Employee Name 95"},{"$f":"VLOOKUP(HRSummarylTable[[#This Row],[EmployeeID]],EmployeeListLookupTable[],4,FALSE)","v":"Employee Job Title 95"},"TCTC001 - Total Cost to Company",{"$f":"LEFT(HRSummarylTable[[#This Row],[PackageItemCode]],7)","v":"TCTC001"},{"$f":"VLOOKUP(HRSummarylTable[[#This Row],[PackageItem]],PackageItemListLookup[],2,FALSE)","v":"Total Cost to Company"},null,{"$f":"SUMIF(PACKT01!$R106,\"TRUE\",PACKT01!F106)+SUMIF(PACKT02!$R106,\"TRUE\",PACKT02!F106)+SUMIF(PACKT03!$R106,\"TRUE\",PACKT03!F106)+SUMIF(PACKT04!$R106,\"TRUE\",PACKT04!F106)+SUMIF(PACKT05!$R106,\"TRUE\",PACKT05!F106)+SUMIF(PACKT06!$R107,\"TRUE\",PACKT06!F107)+SUMIF(PACKT07!$R106,\"TRUE\",PACKT07!F106)+SUMIF(PACKT08!$R106,\"TRUE\",PACKT08!F106)+SUMIF(PACKT09!$R106,\"TRUE\",PACKT09!F106)+SUMIF(PACKT10!$R106,\"TRUE\",PACKT10!F106)+SUMIF(PACKT11!$R106,\"TRUE\",PACKT11!F106)","v":0},{"$f":"SUMIF(PACKT01!$R106,\"TRUE\",PACKT01!G106)+SUMIF(PACKT02!$R106,\"TRUE\",PACKT02!G106)+SUMIF(PACKT03!$R106,\"TRUE\",PACKT03!G106)+SUMIF(PACKT04!$R106,\"TRUE\",PACKT04!G106)+SUMIF(PACKT05!$R106,\"TRUE\",PACKT05!G106)+SUMIF(PACKT06!$R107,\"TRUE\",PACKT06!G107)+SUMIF(PACKT07!$R106,\"TRUE\",PACKT07!G106)+SUMIF(PACKT08!$R106,\"TRUE\",PACKT08!G106)+SUMIF(PACKT09!$R106,\"TRUE\",PACKT09!G106)+SUMIF(PACKT10!$R106,\"TRUE\",PACKT10!G106)+SUMIF(PACKT11!$R106,\"TRUE\",PACKT11!G106)","v":0},{"$f":"SUMIF(PACKT01!$R106,\"TRUE\",PACKT01!H106)+SUMIF(PACKT02!$R106,\"TRUE\",PACKT02!H106)+SUMIF(PACKT03!$R106,\"TRUE\",PACKT03!H106)+SUMIF(PACKT04!$R106,\"TRUE\",PACKT04!H106)+SUMIF(PACKT05!$R106,\"TRUE\",PACKT05!H106)+SUMIF(PACKT06!$R107,\"TRUE\",PACKT06!H107)+SUMIF(PACKT07!$R106,\"TRUE\",PACKT07!H106)+SUMIF(PACKT08!$R106,\"TRUE\",PACKT08!H106)+SUMIF(PACKT09!$R106,\"TRUE\",PACKT09!H106)+SUMIF(PACKT10!$R106,\"TRUE\",PACKT10!H106)+SUMIF(PACKT11!$R106,\"TRUE\",PACKT11!H106)","v":0},{"$f":"SUMIF(PACKT01!$R106,\"TRUE\",PACKT01!I106)+SUMIF(PACKT02!$R106,\"TRUE\",PACKT02!I106)+SUMIF(PACKT03!$R106,\"TRUE\",PACKT03!I106)+SUMIF(PACKT04!$R106,\"TRUE\",PACKT04!I106)+SUMIF(PACKT05!$R106,\"TRUE\",PACKT05!I106)+SUMIF(PACKT06!$R107,\"TRUE\",PACKT06!I107)+SUMIF(PACKT07!$R106,\"TRUE\",PACKT07!I106)+SUMIF(PACKT08!$R106,\"TRUE\",PACKT08!I106)+SUMIF(PACKT09!$R106,\"TRUE\",PACKT09!I106)+SUMIF(PACKT10!$R106,\"TRUE\",PACKT10!I106)+SUMIF(PACKT11!$R106,\"TRUE\",PACKT11!I106)","v":0},{"$f":"SUMIF(PACKT01!$R106,\"TRUE\",PACKT01!J106)+SUMIF(PACKT02!$R106,\"TRUE\",PACKT02!J106)+SUMIF(PACKT03!$R106,\"TRUE\",PACKT03!J106)+SUMIF(PACKT04!$R106,\"TRUE\",PACKT04!J106)+SUMIF(PACKT05!$R106,\"TRUE\",PACKT05!J106)+SUMIF(PACKT06!$R107,\"TRUE\",PACKT06!J107)+SUMIF(PACKT07!$R106,\"TRUE\",PACKT07!J106)+SUMIF(PACKT08!$R106,\"TRUE\",PACKT08!J106)+SUMIF(PACKT09!$R106,\"TRUE\",PACKT09!J106)+SUMIF(PACKT10!$R106,\"TRUE\",PACKT10!J106)+SUMIF(PACKT11!$R106,\"TRUE\",PACKT11!J106)","v":0},{"$f":"SUMIF(PACKT01!$R106,\"TRUE\",PACKT01!K106)+SUMIF(PACKT02!$R106,\"TRUE\",PACKT02!K106)+SUMIF(PACKT03!$R106,\"TRUE\",PACKT03!K106)+SUMIF(PACKT04!$R106,\"TRUE\",PACKT04!K106)+SUMIF(PACKT05!$R106,\"TRUE\",PACKT05!K106)+SUMIF(PACKT06!$R107,\"TRUE\",PACKT06!K107)+SUMIF(PACKT07!$R106,\"TRUE\",PACKT07!K106)+SUMIF(PACKT08!$R106,\"TRUE\",PACKT08!K106)+SUMIF(PACKT09!$R106,\"TRUE\",PACKT09!K106)+SUMIF(PACKT10!$R106,\"TRUE\",PACKT10!K106)+SUMIF(PACKT11!$R106,\"TRUE\",PACKT11!K106)","v":0},{"$f":"SUMIF(PACKT01!$R106,\"TRUE\",PACKT01!L106)+SUMIF(PACKT02!$R106,\"TRUE\",PACKT02!L106)+SUMIF(PACKT03!$R106,\"TRUE\",PACKT03!L106)+SUMIF(PACKT04!$R106,\"TRUE\",PACKT04!L106)+SUMIF(PACKT05!$R106,\"TRUE\",PACKT05!L106)+SUMIF(PACKT06!$R107,\"TRUE\",PACKT06!L107)+SUMIF(PACKT07!$R106,\"TRUE\",PACKT07!L106)+SUMIF(PACKT08!$R106,\"TRUE\",PACKT08!L106)+SUMIF(PACKT09!$R106,\"TRUE\",PACKT09!L106)+SUMIF(PACKT10!$R106,\"TRUE\",PACKT10!L106)+SUMIF(PACKT11!$R106,\"TRUE\",PACKT11!L106)","v":0},{"$f":"SUMIF(PACKT01!$R106,\"TRUE\",PACKT01!M106)+SUMIF(PACKT02!$R106,\"TRUE\",PACKT02!M106)+SUMIF(PACKT03!$R106,\"TRUE\",PACKT03!M106)+SUMIF(PACKT04!$R106,\"TRUE\",PACKT04!M106)+SUMIF(PACKT05!$R106,\"TRUE\",PACKT05!M106)+SUMIF(PACKT06!$R107,\"TRUE\",PACKT06!M107)+SUMIF(PACKT07!$R106,\"TRUE\",PACKT07!M106)+SUMIF(PACKT08!$R106,\"TRUE\",PACKT08!M106)+SUMIF(PACKT09!$R106,\"TRUE\",PACKT09!M106)+SUMIF(PACKT10!$R106,\"TRUE\",PACKT10!M106)+SUMIF(PACKT11!$R106,\"TRUE\",PACKT11!M106)","v":0},{"$f":"SUMIF(PACKT01!$R106,\"TRUE\",PACKT01!N106)+SUMIF(PACKT02!$R106,\"TRUE\",PACKT02!N106)+SUMIF(PACKT03!$R106,\"TRUE\",PACKT03!N106)+SUMIF(PACKT04!$R106,\"TRUE\",PACKT04!N106)+SUMIF(PACKT05!$R106,\"TRUE\",PACKT05!N106)+SUMIF(PACKT06!$R107,\"TRUE\",PACKT06!N107)+SUMIF(PACKT07!$R106,\"TRUE\",PACKT07!N106)+SUMIF(PACKT08!$R106,\"TRUE\",PACKT08!N106)+SUMIF(PACKT09!$R106,\"TRUE\",PACKT09!N106)+SUMIF(PACKT10!$R106,\"TRUE\",PACKT10!N106)+SUMIF(PACKT11!$R106,\"TRUE\",PACKT11!N106)","v":0},{"$f":"SUMIF(PACKT01!$R106,\"TRUE\",PACKT01!O106)+SUMIF(PACKT02!$R106,\"TRUE\",PACKT02!O106)+SUMIF(PACKT03!$R106,\"TRUE\",PACKT03!O106)+SUMIF(PACKT04!$R106,\"TRUE\",PACKT04!O106)+SUMIF(PACKT05!$R106,\"TRUE\",PACKT05!O106)+SUMIF(PACKT06!$R107,\"TRUE\",PACKT06!O107)+SUMIF(PACKT07!$R106,\"TRUE\",PACKT07!O106)+SUMIF(PACKT08!$R106,\"TRUE\",PACKT08!O106)+SUMIF(PACKT09!$R106,\"TRUE\",PACKT09!O106)+SUMIF(PACKT10!$R106,\"TRUE\",PACKT10!O106)+SUMIF(PACKT11!$R106,\"TRUE\",PACKT11!O106)","v":0},{"$f":"SUMIF(PACKT01!$R106,\"TRUE\",PACKT01!P106)+SUMIF(PACKT02!$R106,\"TRUE\",PACKT02!P106)+SUMIF(PACKT03!$R106,\"TRUE\",PACKT03!P106)+SUMIF(PACKT04!$R106,\"TRUE\",PACKT04!P106)+SUMIF(PACKT05!$R106,\"TRUE\",PACKT05!P106)+SUMIF(PACKT06!$R107,\"TRUE\",PACKT06!P107)+SUMIF(PACKT07!$R106,\"TRUE\",PACKT07!P106)+SUMIF(PACKT08!$R106,\"TRUE\",PACKT08!P106)+SUMIF(PACKT09!$R106,\"TRUE\",PACKT09!P106)+SUMIF(PACKT10!$R106,\"TRUE\",PACKT10!P106)+SUMIF(PACKT11!$R106,\"TRUE\",PACKT11!P106)","v":0},{"$f":"SUMIF(PACKT01!$R106,\"TRUE\",PACKT01!Q106)+SUMIF(PACKT02!$R106,\"TRUE\",PACKT02!Q106)+SUMIF(PACKT03!$R106,\"TRUE\",PACKT03!Q106)+SUMIF(PACKT04!$R106,\"TRUE\",PACKT04!Q106)+SUMIF(PACKT05!$R106,\"TRUE\",PACKT05!Q106)+SUMIF(PACKT06!$R107,\"TRUE\",PACKT06!Q107)+SUMIF(PACKT07!$R106,\"TRUE\",PACKT07!Q106)+SUMIF(PACKT08!$R106,\"TRUE\",PACKT08!Q106)+SUMIF(PACKT09!$R106,\"TRUE\",PACKT09!Q106)+SUMIF(PACKT10!$R106,\"TRUE\",PACKT10!Q106)+SUMIF(PACKT11!$R106,\"TRUE\",PACKT11!Q106)","v":0},0]
[null,"EMP0096",{"$f":"VLOOKUP(HRSummarylTable[[#This Row],[EmployeeID]],EmployeeListLookupTable[],2,FALSE)","v":"EMPN096"},{"$f":"VLOOKUP(HRSummarylTable[[#This Row],[EmployeeID]],EmployeeListLookupTable[],3,FALSE)","v":"Employee Name 96"},{"$f":"VLOOKUP(HRSummarylTable[[#This Row],[EmployeeID]],EmployeeListLookupTable[],4,FALSE)","v":"Employee Job Title 96"},"TCTC001 - Total Cost to Company",{"$f":"LEFT(HRSummarylTable[[#This Row],[PackageItemCode]],7)","v":"TCTC001"},{"$f":"VLOOKUP(HRSummarylTable[[#This Row],[PackageItem]],PackageItemListLookup[],2,FALSE)","v":"Total Cost to Company"},null,{"$f":"SUMIF(PACKT01!$R107,\"TRUE\",PACKT01!F107)+SUMIF(PACKT02!$R107,\"TRUE\",PACKT02!F107)+SUMIF(PACKT03!$R107,\"TRUE\",PACKT03!F107)+SUMIF(PACKT04!$R107,\"TRUE\",PACKT04!F107)+SUMIF(PACKT05!$R107,\"TRUE\",PACKT05!F107)+SUMIF(PACKT06!$R108,\"TRUE\",PACKT06!F108)+SUMIF(PACKT07!$R107,\"TRUE\",PACKT07!F107)+SUMIF(PACKT08!$R107,\"TRUE\",PACKT08!F107)+SUMIF(PACKT09!$R107,\"TRUE\",PACKT09!F107)+SUMIF(PACKT10!$R107,\"TRUE\",PACKT10!F107)+SUMIF(PACKT11!$R107,\"TRUE\",PACKT11!F107)","v":0},{"$f":"SUMIF(PACKT01!$R107,\"TRUE\",PACKT01!G107)+SUMIF(PACKT02!$R107,\"TRUE\",PACKT02!G107)+SUMIF(PACKT03!$R107,\"TRUE\",PACKT03!G107)+SUMIF(PACKT04!$R107,\"TRUE\",PACKT04!G107)+SUMIF(PACKT05!$R107,\"TRUE\",PACKT05!G107)+SUMIF(PACKT06!$R108,\"TRUE\",PACKT06!G108)+SUMIF(PACKT07!$R107,\"TRUE\",PACKT07!G107)+SUMIF(PACKT08!$R107,\"TRUE\",PACKT08!G107)+SUMIF(PACKT09!$R107,\"TRUE\",PACKT09!G107)+SUMIF(PACKT10!$R107,\"TRUE\",PACKT10!G107)+SUMIF(PACKT11!$R107,\"TRUE\",PACKT11!G107)","v":0},{"$f":"SUMIF(PACKT01!$R107,\"TRUE\",PACKT01!H107)+SUMIF(PACKT02!$R107,\"TRUE\",PACKT02!H107)+SUMIF(PACKT03!$R107,\"TRUE\",PACKT03!H107)+SUMIF(PACKT04!$R107,\"TRUE\",PACKT04!H107)+SUMIF(PACKT05!$R107,\"TRUE\",PACKT05!H107)+SUMIF(PACKT06!$R108,\"TRUE\",PACKT06!H108)+SUMIF(PACKT07!$R107,\"TRUE\",PACKT07!H107)+SUMIF(PACKT08!$R107,\"TRUE\",PACKT08!H107)+SUMIF(PACKT09!$R107,\"TRUE\",PACKT09!H107)+SUMIF(PACKT10!$R107,\"TRUE\",PACKT10!H107)+SUMIF(PACKT11!$R107,\"TRUE\",PACKT11!H107)","v":0},{"$f":"SUMIF(PACKT01!$R107,\"TRUE\",PACKT01!I107)+SUMIF(PACKT02!$R107,\"TRUE\",PACKT02!I107)+SUMIF(PACKT03!$R107,\"TRUE\",PACKT03!I107)+SUMIF(PACKT04!$R107,\"TRUE\",PACKT04!I107)+SUMIF(PACKT05!$R107,\"TRUE\",PACKT05!I107)+SUMIF(PACKT06!$R108,\"TRUE\",PACKT06!I108)+SUMIF(PACKT07!$R107,\"TRUE\",PACKT07!I107)+SUMIF(PACKT08!$R107,\"TRUE\",PACKT08!I107)+SUMIF(PACKT09!$R107,\"TRUE\",PACKT09!I107)+SUMIF(PACKT10!$R107,\"TRUE\",PACKT10!I107)+SUMIF(PACKT11!$R107,\"TRUE\",PACKT11!I107)","v":0},{"$f":"SUMIF(PACKT01!$R107,\"TRUE\",PACKT01!J107)+SUMIF(PACKT02!$R107,\"TRUE\",PACKT02!J107)+SUMIF(PACKT03!$R107,\"TRUE\",PACKT03!J107)+SUMIF(PACKT04!$R107,\"TRUE\",PACKT04!J107)+SUMIF(PACKT05!$R107,\"TRUE\",PACKT05!J107)+SUMIF(PACKT06!$R108,\"TRUE\",PACKT06!J108)+SUMIF(PACKT07!$R107,\"TRUE\",PACKT07!J107)+SUMIF(PACKT08!$R107,\"TRUE\",PACKT08!J107)+SUMIF(PACKT09!$R107,\"TRUE\",PACKT09!J107)+SUMIF(PACKT10!$R107,\"TRUE\",PACKT10!J107)+SUMIF(PACKT11!$R107,\"TRUE\",PACKT11!J107)","v":0},{"$f":"SUMIF(PACKT01!$R107,\"TRUE\",PACKT01!K107)+SUMIF(PACKT02!$R107,\"TRUE\",PACKT02!K107)+SUMIF(PACKT03!$R107,\"TRUE\",PACKT03!K107)+SUMIF(PACKT04!$R107,\"TRUE\",PACKT04!K107)+SUMIF(PACKT05!$R107,\"TRUE\",PACKT05!K107)+SUMIF(PACKT06!$R108,\"TRUE\",PACKT06!K108)+SUMIF(PACKT07!$R107,\"TRUE\",PACKT07!K107)+SUMIF(PACKT08!$R107,\"TRUE\",PACKT08!K107)+SUMIF(PACKT09!$R107,\"TRUE\",PACKT09!K107)+SUMIF(PACKT10!$R107,\"TRUE\",PACKT10!K107)+SUMIF(PACKT11!$R107,\"TRUE\",PACKT11!K107)","v":0},{"$f":"SUMIF(PACKT01!$R107,\"TRUE\",PACKT01!L107)+SUMIF(PACKT02!$R107,\"TRUE\",PACKT02!L107)+SUMIF(PACKT03!$R107,\"TRUE\",PACKT03!L107)+SUMIF(PACKT04!$R107,\"TRUE\",PACKT04!L107)+SUMIF(PACKT05!$R107,\"TRUE\",PACKT05!L107)+SUMIF(PACKT06!$R108,\"TRUE\",PACKT06!L108)+SUMIF(PACKT07!$R107,\"TRUE\",PACKT07!L107)+SUMIF(PACKT08!$R107,\"TRUE\",PACKT08!L107)+SUMIF(PACKT09!$R107,\"TRUE\",PACKT09!L107)+SUMIF(PACKT10!$R107,\"TRUE\",PACKT10!L107)+SUMIF(PACKT11!$R107,\"TRUE\",PACKT11!L107)","v":0},{"$f":"SUMIF(PACKT01!$R107,\"TRUE\",PACKT01!M107)+SUMIF(PACKT02!$R107,\"TRUE\",PACKT02!M107)+SUMIF(PACKT03!$R107,\"TRUE\",PACKT03!M107)+SUMIF(PACKT04!$R107,\"TRUE\",PACKT04!M107)+SUMIF(PACKT05!$R107,\"TRUE\",PACKT05!M107)+SUMIF(PACKT06!$R108,\"TRUE\",PACKT06!M108)+SUMIF(PACKT07!$R107,\"TRUE\",PACKT07!M107)+SUMIF(PACKT08!$R107,\"TRUE\",PACKT08!M107)+SUMIF(PACKT09!$R107,\"TRUE\",PACKT09!M107)+SUMIF(PACKT10!$R107,\"TRUE\",PACKT10!M107)+SUMIF(PACKT11!$R107,\"TRUE\",PACKT11!M107)","v":0},{"$f":"SUMIF(PACKT01!$R107,\"TRUE\",PACKT01!N107)+SUMIF(PACKT02!$R107,\"TRUE\",PACKT02!N107)+SUMIF(PACKT03!$R107,\"TRUE\",PACKT03!N107)+SUMIF(PACKT04!$R107,\"TRUE\",PACKT04!N107)+SUMIF(PACKT05!$R107,\"TRUE\",PACKT05!N107)+SUMIF(PACKT06!$R108,\"TRUE\",PACKT06!N108)+SUMIF(PACKT07!$R107,\"TRUE\",PACKT07!N107)+SUMIF(PACKT08!$R107,\"TRUE\",PACKT08!N107)+SUMIF(PACKT09!$R107,\"TRUE\",PACKT09!N107)+SUMIF(PACKT10!$R107,\"TRUE\",PACKT10!N107)+SUMIF(PACKT11!$R107,\"TRUE\",PACKT11!N107)","v":0},{"$f":"SUMIF(PACKT01!$R107,\"TRUE\",PACKT01!O107)+SUMIF(PACKT02!$R107,\"TRUE\",PACKT02!O107)+SUMIF(PACKT03!$R107,\"TRUE\",PACKT03!O107)+SUMIF(PACKT04!$R107,\"TRUE\",PACKT04!O107)+SUMIF(PACKT05!$R107,\"TRUE\",PACKT05!O107)+SUMIF(PACKT06!$R108,\"TRUE\",PACKT06!O108)+SUMIF(PACKT07!$R107,\"TRUE\",PACKT07!O107)+SUMIF(PACKT08!$R107,\"TRUE\",PACKT08!O107)+SUMIF(PACKT09!$R107,\"TRUE\",PACKT09!O107)+SUMIF(PACKT10!$R107,\"TRUE\",PACKT10!O107)+SUMIF(PACKT11!$R107,\"TRUE\",PACKT11!O107)","v":0},{"$f":"SUMIF(PACKT01!$R107,\"TRUE\",PACKT01!P107)+SUMIF(PACKT02!$R107,\"TRUE\",PACKT02!P107)+SUMIF(PACKT03!$R107,\"TRUE\",PACKT03!P107)+SUMIF(PACKT04!$R107,\"TRUE\",PACKT04!P107)+SUMIF(PACKT05!$R107,\"TRUE\",PACKT05!P107)+SUMIF(PACKT06!$R108,\"TRUE\",PACKT06!P108)+SUMIF(PACKT07!$R107,\"TRUE\",PACKT07!P107)+SUMIF(PACKT08!$R107,\"TRUE\",PACKT08!P107)+SUMIF(PACKT09!$R107,\"TRUE\",PACKT09!P107)+SUMIF(PACKT10!$R107,\"TRUE\",PACKT10!P107)+SUMIF(PACKT11!$R107,\"TRUE\",PACKT11!P107)","v":0},{"$f":"SUMIF(PACKT01!$R107,\"TRUE\",PACKT01!Q107)+SUMIF(PACKT02!$R107,\"TRUE\",PACKT02!Q107)+SUMIF(PACKT03!$R107,\"TRUE\",PACKT03!Q107)+SUMIF(PACKT04!$R107,\"TRUE\",PACKT04!Q107)+SUMIF(PACKT05!$R107,\"TRUE\",PACKT05!Q107)+SUMIF(PACKT06!$R108,\"TRUE\",PACKT06!Q108)+SUMIF(PACKT07!$R107,\"TRUE\",PACKT07!Q107)+SUMIF(PACKT08!$R107,\"TRUE\",PACKT08!Q107)+SUMIF(PACKT09!$R107,\"TRUE\",PACKT09!Q107)+SUMIF(PACKT10!$R107,\"TRUE\",PACKT10!Q107)+SUMIF(PACKT11!$R107,\"TRUE\",PACKT11!Q107)","v":0},0]
[null,"EMP0097",{"$f":"VLOOKUP(HRSummarylTable[[#This Row],[EmployeeID]],EmployeeListLookupTable[],2,FALSE)","v":"EMPN097"},{"$f":"VLOOKUP(HRSummarylTable[[#This Row],[EmployeeID]],EmployeeListLookupTable[],3,FALSE)","v":"Employee Name 97"},{"$f":"VLOOKUP(HRSummarylTable[[#This Row],[EmployeeID]],EmployeeListLookupTable[],4,FALSE)","v":"Employee Job Title 97"},"TCTC001 - Total Cost to Company",{"$f":"LEFT(HRSummarylTable[[#This Row],[PackageItemCode]],7)","v":"TCTC001"},{"$f":"VLOOKUP(HRSummarylTable[[#This Row],[PackageItem]],PackageItemListLookup[],2,FALSE)","v":"Total Cost to Company"},null,{"$f":"SUMIF(PACKT01!$R108,\"TRUE\",PACKT01!F108)+SUMIF(PACKT02!$R108,\"TRUE\",PACKT02!F108)+SUMIF(PACKT03!$R108,\"TRUE\",PACKT03!F108)+SUMIF(PACKT04!$R108,\"TRUE\",PACKT04!F108)+SUMIF(PACKT05!$R108,\"TRUE\",PACKT05!F108)+SUMIF(PACKT06!$R109,\"TRUE\",PACKT06!F109)+SUMIF(PACKT07!$R108,\"TRUE\",PACKT07!F108)+SUMIF(PACKT08!$R108,\"TRUE\",PACKT08!F108)+SUMIF(PACKT09!$R108,\"TRUE\",PACKT09!F108)+SUMIF(PACKT10!$R108,\"TRUE\",PACKT10!F108)+SUMIF(PACKT11!$R108,\"TRUE\",PACKT11!F108)","v":0},{"$f":"SUMIF(PACKT01!$R108,\"TRUE\",PACKT01!G108)+SUMIF(PACKT02!$R108,\"TRUE\",PACKT02!G108)+SUMIF(PACKT03!$R108,\"TRUE\",PACKT03!G108)+SUMIF(PACKT04!$R108,\"TRUE\",PACKT04!G108)+SUMIF(PACKT05!$R108,\"TRUE\",PACKT05!G108)+SUMIF(PACKT06!$R109,\"TRUE\",PACKT06!G109)+SUMIF(PACKT07!$R108,\"TRUE\",PACKT07!G108)+SUMIF(PACKT08!$R108,\"TRUE\",PACKT08!G108)+SUMIF(PACKT09!$R108,\"TRUE\",PACKT09!G108)+SUMIF(PACKT10!$R108,\"TRUE\",PACKT10!G108)+SUMIF(PACKT11!$R108,\"TRUE\",PACKT11!G108)","v":0},{"$f":"SUMIF(PACKT01!$R108,\"TRUE\",PACKT01!H108)+SUMIF(PACKT02!$R108,\"TRUE\",PACKT02!H108)+SUMIF(PACKT03!$R108,\"TRUE\",PACKT03!H108)+SUMIF(PACKT04!$R108,\"TRUE\",PACKT04!H108)+SUMIF(PACKT05!$R108,\"TRUE\",PACKT05!H108)+SUMIF(PACKT06!$R109,\"TRUE\",PACKT06!H109)+SUMIF(PACKT07!$R108,\"TRUE\",PACKT07!H108)+SUMIF(PACKT08!$R108,\"TRUE\",PACKT08!H108)+SUMIF(PACKT09!$R108,\"TRUE\",PACKT09!H108)+SUMIF(PACKT10!$R108,\"TRUE\",PACKT10!H108)+SUMIF(PACKT11!$R108,\"TRUE\",PACKT11!H108)","v":0},{"$f":"SUMIF(PACKT01!$R108,\"TRUE\",PACKT01!I108)+SUMIF(PACKT02!$R108,\"TRUE\",PACKT02!I108)+SUMIF(PACKT03!$R108,\"TRUE\",PACKT03!I108)+SUMIF(PACKT04!$R108,\"TRUE\",PACKT04!I108)+SUMIF(PACKT05!$R108,\"TRUE\",PACKT05!I108)+SUMIF(PACKT06!$R109,\"TRUE\",PACKT06!I109)+SUMIF(PACKT07!$R108,\"TRUE\",PACKT07!I108)+SUMIF(PACKT08!$R108,\"TRUE\",PACKT08!I108)+SUMIF(PACKT09!$R108,\"TRUE\",PACKT09!I108)+SUMIF(PACKT10!$R108,\"TRUE\",PACKT10!I108)+SUMIF(PACKT11!$R108,\"TRUE\",PACKT11!I108)","v":0},{"$f":"SUMIF(PACKT01!$R108,\"TRUE\",PACKT01!J108)+SUMIF(PACKT02!$R108,\"TRUE\",PACKT02!J108)+SUMIF(PACKT03!$R108,\"TRUE\",PACKT03!J108)+SUMIF(PACKT04!$R108,\"TRUE\",PACKT04!J108)+SUMIF(PACKT05!$R108,\"TRUE\",PACKT05!J108)+SUMIF(PACKT06!$R109,\"TRUE\",PACKT06!J109)+SUMIF(PACKT07!$R108,\"TRUE\",PACKT07!J108)+SUMIF(PACKT08!$R108,\"TRUE\",PACKT08!J108)+SUMIF(PACKT09!$R108,\"TRUE\",PACKT09!J108)+SUMIF(PACKT10!$R108,\"TRUE\",PACKT10!J108)+SUMIF(PACKT11!$R108,\"TRUE\",PACKT11!J108)","v":0},{"$f":"SUMIF(PACKT01!$R108,\"TRUE\",PACKT01!K108)+SUMIF(PACKT02!$R108,\"TRUE\",PACKT02!K108)+SUMIF(PACKT03!$R108,\"TRUE\",PACKT03!K108)+SUMIF(PACKT04!$R108,\"TRUE\",PACKT04!K108)+SUMIF(PACKT05!$R108,\"TRUE\",PACKT05!K108)+SUMIF(PACKT06!$R109,\"TRUE\",PACKT06!K109)+SUMIF(PACKT07!$R108,\"TRUE\",PACKT07!K108)+SUMIF(PACKT08!$R108,\"TRUE\",PACKT08!K108)+SUMIF(PACKT09!$R108,\"TRUE\",PACKT09!K108)+SUMIF(PACKT10!$R108,\"TRUE\",PACKT10!K108)+SUMIF(PACKT11!$R108,\"TRUE\",PACKT11!K108)","v":0},{"$f":"SUMIF(PACKT01!$R108,\"TRUE\",PACKT01!L108)+SUMIF(PACKT02!$R108,\"TRUE\",PACKT02!L108)+SUMIF(PACKT03!$R108,\"TRUE\",PACKT03!L108)+SUMIF(PACKT04!$R108,\"TRUE\",PACKT04!L108)+SUMIF(PACKT05!$R108,\"TRUE\",PACKT05!L108)+SUMIF(PACKT06!$R109,\"TRUE\",PACKT06!L109)+SUMIF(PACKT07!$R108,\"TRUE\",PACKT07!L108)+SUMIF(PACKT08!$R108,\"TRUE\",PACKT08!L108)+SUMIF(PACKT09!$R108,\"TRUE\",PACKT09!L108)+SUMIF(PACKT10!$R108,\"TRUE\",PACKT10!L108)+SUMIF(PACKT11!$R108,\"TRUE\",PACKT11!L108)","v":0},{"$f":"SUMIF(PACKT01!$R108,\"TRUE\",PACKT01!M108)+SUMIF(PACKT02!$R108,\"TRUE\",PACKT02!M108)+SUMIF(PACKT03!$R108,\"TRUE\",PACKT03!M108)+SUMIF(PACKT04!$R108,\"TRUE\",PACKT04!M108)+SUMIF(PACKT05!$R108,\"TRUE\",PACKT05!M108)+SUMIF(PACKT06!$R109,\"TRUE\",PACKT06!M109)+SUMIF(PACKT07!$R108,\"TRUE\",PACKT07!M108)+SUMIF(PACKT08!$R108,\"TRUE\",PACKT08!M108)+SUMIF(PACKT09!$R108,\"TRUE\",PACKT09!M108)+SUMIF(PACKT10!$R108,\"TRUE\",PACKT10!M108)+SUMIF(PACKT11!$R108,\"TRUE\",PACKT11!M108)","v":0},{"$f":"SUMIF(PACKT01!$R108,\"TRUE\",PACKT01!N108)+SUMIF(PACKT02!$R108,\"TRUE\",PACKT02!N108)+SUMIF(PACKT03!$R108,\"TRUE\",PACKT03!N108)+SUMIF(PACKT04!$R108,\"TRUE\",PACKT04!N108)+SUMIF(PACKT05!$R108,\"TRUE\",PACKT05!N108)+SUMIF(PACKT06!$R109,\"TRUE\",PACKT06!N109)+SUMIF(PACKT07!$R108,\"TRUE\",PACKT07!N108)+SUMIF(PACKT08!$R108,\"TRUE\",PACKT08!N108)+SUMIF(PACKT09!$R108,\"TRUE\",PACKT09!N108)+SUMIF(PACKT10!$R108,\"TRUE\",PACKT10!N108)+SUMIF(PACKT11!$R108,\"TRUE\",PACKT11!N108)","v":0},{"$f":"SUMIF(PACKT01!$R108,\"TRUE\",PACKT01!O108)+SUMIF(PACKT02!$R108,\"TRUE\",PACKT02!O108)+SUMIF(PACKT03!$R108,\"TRUE\",PACKT03!O108)+SUMIF(PACKT04!$R108,\"TRUE\",PACKT04!O108)+SUMIF(PACKT05!$R108,\"TRUE\",PACKT05!O108)+SUMIF(PACKT06!$R109,\"TRUE\",PACKT06!O109)+SUMIF(PACKT07!$R108,\"TRUE\",PACKT07!O108)+SUMIF(PACKT08!$R108,\"TRUE\",PACKT08!O108)+SUMIF(PACKT09!$R108,\"TRUE\",PACKT09!O108)+SUMIF(PACKT10!$R108,\"TRUE\",PACKT10!O108)+SUMIF(PACKT11!$R108,\"TRUE\",PACKT11!O108)","v":0},{"$f":"SUMIF(PACKT01!$R108,\"TRUE\",PACKT01!P108)+SUMIF(PACKT02!$R108,\"TRUE\",PACKT02!P108)+SUMIF(PACKT03!$R108,\"TRUE\",PACKT03!P108)+SUMIF(PACKT04!$R108,\"TRUE\",PACKT04!P108)+SUMIF(PACKT05!$R108,\"TRUE\",PACKT05!P108)+SUMIF(PACKT06!$R109,\"TRUE\",PACKT06!P109)+SUMIF(PACKT07!$R108,\"TRUE\",PACKT07!P108)+SUMIF(PACKT08!$R108,\"TRUE\",PACKT08!P108)+SUMIF(PACKT09!$R108,\"TRUE\",PACKT09!P108)+SUMIF(PACKT10!$R108,\"TRUE\",PACKT10!P108)+SUMIF(PACKT11!$R108,\"TRUE\",PACKT11!P108)","v":0},{"$f":"SUMIF(PACKT01!$R108,\"TRUE\",PACKT01!Q108)+SUMIF(PACKT02!$R108,\"TRUE\",PACKT02!Q108)+SUMIF(PACKT03!$R108,\"TRUE\",PACKT03!Q108)+SUMIF(PACKT04!$R108,\"TRUE\",PACKT04!Q108)+SUMIF(PACKT05!$R108,\"TRUE\",PACKT05!Q108)+SUMIF(PACKT06!$R109,\"TRUE\",PACKT06!Q109)+SUMIF(PACKT07!$R108,\"TRUE\",PACKT07!Q108)+SUMIF(PACKT08!$R108,\"TRUE\",PACKT08!Q108)+SUMIF(PACKT09!$R108,\"TRUE\",PACKT09!Q108)+SUMIF(PACKT10!$R108,\"TRUE\",PACKT10!Q108)+SUMIF(PACKT11!$R108,\"TRUE\",PACKT11!Q108)","v":0},0]
[null,"EMP0098",{"$f":"VLOOKUP(HRSummarylTable[[#This Row],[EmployeeID]],EmployeeListLookupTable[],2,FALSE)","v":"EMPN098"},{"$f":"VLOOKUP(HRSummarylTable[[#This Row],[EmployeeID]],EmployeeListLookupTable[],3,FALSE)","v":"Employee Name 98"},{"$f":"VLOOKUP(HRSummarylTable[[#This Row],[EmployeeID]],EmployeeListLookupTable[],4,FALSE)","v":"Employee Job Title 98"},"TCTC001 - Total Cost to Company",{"$f":"LEFT(HRSummarylTable[[#This Row],[PackageItemCode]],7)","v":"TCTC001"},{"$f":"VLOOKUP(HRSummarylTable[[#This Row],[PackageItem]],PackageItemListLookup[],2,FALSE)","v":"Total Cost to Company"},null,{"$f":"SUMIF(PACKT01!$R109,\"TRUE\",PACKT01!F109)+SUMIF(PACKT02!$R109,\"TRUE\",PACKT02!F109)+SUMIF(PACKT03!$R109,\"TRUE\",PACKT03!F109)+SUMIF(PACKT04!$R109,\"TRUE\",PACKT04!F109)+SUMIF(PACKT05!$R109,\"TRUE\",PACKT05!F109)+SUMIF(PACKT06!$R110,\"TRUE\",PACKT06!F110)+SUMIF(PACKT07!$R109,\"TRUE\",PACKT07!F109)+SUMIF(PACKT08!$R109,\"TRUE\",PACKT08!F109)+SUMIF(PACKT09!$R109,\"TRUE\",PACKT09!F109)+SUMIF(PACKT10!$R109,\"TRUE\",PACKT10!F109)+SUMIF(PACKT11!$R109,\"TRUE\",PACKT11!F109)","v":0},{"$f":"SUMIF(PACKT01!$R109,\"TRUE\",PACKT01!G109)+SUMIF(PACKT02!$R109,\"TRUE\",PACKT02!G109)+SUMIF(PACKT03!$R109,\"TRUE\",PACKT03!G109)+SUMIF(PACKT04!$R109,\"TRUE\",PACKT04!G109)+SUMIF(PACKT05!$R109,\"TRUE\",PACKT05!G109)+SUMIF(PACKT06!$R110,\"TRUE\",PACKT06!G110)+SUMIF(PACKT07!$R109,\"TRUE\",PACKT07!G109)+SUMIF(PACKT08!$R109,\"TRUE\",PACKT08!G109)+SUMIF(PACKT09!$R109,\"TRUE\",PACKT09!G109)+SUMIF(PACKT10!$R109,\"TRUE\",PACKT10!G109)+SUMIF(PACKT11!$R109,\"TRUE\",PACKT11!G109)","v":0},{"$f":"SUMIF(PACKT01!$R109,\"TRUE\",PACKT01!H109)+SUMIF(PACKT02!$R109,\"TRUE\",PACKT02!H109)+SUMIF(PACKT03!$R109,\"TRUE\",PACKT03!H109)+SUMIF(PACKT04!$R109,\"TRUE\",PACKT04!H109)+SUMIF(PACKT05!$R109,\"TRUE\",PACKT05!H109)+SUMIF(PACKT06!$R110,\"TRUE\",PACKT06!H110)+SUMIF(PACKT07!$R109,\"TRUE\",PACKT07!H109)+SUMIF(PACKT08!$R109,\"TRUE\",PACKT08!H109)+SUMIF(PACKT09!$R109,\"TRUE\",PACKT09!H109)+SUMIF(PACKT10!$R109,\"TRUE\",PACKT10!H109)+SUMIF(PACKT11!$R109,\"TRUE\",PACKT11!H109)","v":0},{"$f":"SUMIF(PACKT01!$R109,\"TRUE\",PACKT01!I109)+SUMIF(PACKT02!$R109,\"TRUE\",PACKT02!I109)+SUMIF(PACKT03!$R109,\"TRUE\",PACKT03!I109)+SUMIF(PACKT04!$R109,\"TRUE\",PACKT04!I109)+SUMIF(PACKT05!$R109,\"TRUE\",PACKT05!I109)+SUMIF(PACKT06!$R110,\"TRUE\",PACKT06!I110)+SUMIF(PACKT07!$R109,\"TRUE\",PACKT07!I109)+SUMIF(PACKT08!$R109,\"TRUE\",PACKT08!I109)+SUMIF(PACKT09!$R109,\"TRUE\",PACKT09!I109)+SUMIF(PACKT10!$R109,\"TRUE\",PACKT10!I109)+SUMIF(PACKT11!$R109,\"TRUE\",PACKT11!I109)","v":0},{"$f":"SUMIF(PACKT01!$R109,\"TRUE\",PACKT01!J109)+SUMIF(PACKT02!$R109,\"TRUE\",PACKT02!J109)+SUMIF(PACKT03!$R109,\"TRUE\",PACKT03!J109)+SUMIF(PACKT04!$R109,\"TRUE\",PACKT04!J109)+SUMIF(PACKT05!$R109,\"TRUE\",PACKT05!J109)+SUMIF(PACKT06!$R110,\"TRUE\",PACKT06!J110)+SUMIF(PACKT07!$R109,\"TRUE\",PACKT07!J109)+SUMIF(PACKT08!$R109,\"TRUE\",PACKT08!J109)+SUMIF(PACKT09!$R109,\"TRUE\",PACKT09!J109)+SUMIF(PACKT10!$R109,\"TRUE\",PACKT10!J109)+SUMIF(PACKT11!$R109,\"TRUE\",PACKT11!J109)","v":0},{"$f":"SUMIF(PACKT01!$R109,\"TRUE\",PACKT01!K109)+SUMIF(PACKT02!$R109,\"TRUE\",PACKT02!K109)+SUMIF(PACKT03!$R109,\"TRUE\",PACKT03!K109)+SUMIF(PACKT04!$R109,\"TRUE\",PACKT04!K109)+SUMIF(PACKT05!$R109,\"TRUE\",PACKT05!K109)+SUMIF(PACKT06!$R110,\"TRUE\",PACKT06!K110)+SUMIF(PACKT07!$R109,\"TRUE\",PACKT07!K109)+SUMIF(PACKT08!$R109,\"TRUE\",PACKT08!K109)+SUMIF(PACKT09!$R109,\"TRUE\",PACKT09!K109)+SUMIF(PACKT10!$R109,\"TRUE\",PACKT10!K109)+SUMIF(PACKT11!$R109,\"TRUE\",PACKT11!K109)","v":0},{"$f":"SUMIF(PACKT01!$R109,\"TRUE\",PACKT01!L109)+SUMIF(PACKT02!$R109,\"TRUE\",PACKT02!L109)+SUMIF(PACKT03!$R109,\"TRUE\",PACKT03!L109)+SUMIF(PACKT04!$R109,\"TRUE\",PACKT04!L109)+SUMIF(PACKT05!$R109,\"TRUE\",PACKT05!L109)+SUMIF(PACKT06!$R110,\"TRUE\",PACKT06!L110)+SUMIF(PACKT07!$R109,\"TRUE\",PACKT07!L109)+SUMIF(PACKT08!$R109,\"TRUE\",PACKT08!L109)+SUMIF(PACKT09!$R109,\"TRUE\",PACKT09!L109)+SUMIF(PACKT10!$R109,\"TRUE\",PACKT10!L109)+SUMIF(PACKT11!$R109,\"TRUE\",PACKT11!L109)","v":0},{"$f":"SUMIF(PACKT01!$R109,\"TRUE\",PACKT01!M109)+SUMIF(PACKT02!$R109,\"TRUE\",PACKT02!M109)+SUMIF(PACKT03!$R109,\"TRUE\",PACKT03!M109)+SUMIF(PACKT04!$R109,\"TRUE\",PACKT04!M109)+SUMIF(PACKT05!$R109,\"TRUE\",PACKT05!M109)+SUMIF(PACKT06!$R110,\"TRUE\",PACKT06!M110)+SUMIF(PACKT07!$R109,\"TRUE\",PACKT07!M109)+SUMIF(PACKT08!$R109,\"TRUE\",PACKT08!M109)+SUMIF(PACKT09!$R109,\"TRUE\",PACKT09!M109)+SUMIF(PACKT10!$R109,\"TRUE\",PACKT10!M109)+SUMIF(PACKT11!$R109,\"TRUE\",PACKT11!M109)","v":0},{"$f":"SUMIF(PACKT01!$R109,\"TRUE\",PACKT01!N109)+SUMIF(PACKT02!$R109,\"TRUE\",PACKT02!N109)+SUMIF(PACKT03!$R109,\"TRUE\",PACKT03!N109)+SUMIF(PACKT04!$R109,\"TRUE\",PACKT04!N109)+SUMIF(PACKT05!$R109,\"TRUE\",PACKT05!N109)+SUMIF(PACKT06!$R110,\"TRUE\",PACKT06!N110)+SUMIF(PACKT07!$R109,\"TRUE\",PACKT07!N109)+SUMIF(PACKT08!$R109,\"TRUE\",PACKT08!N109)+SUMIF(PACKT09!$R109,\"TRUE\",PACKT09!N109)+SUMIF(PACKT10!$R109,\"TRUE\",PACKT10!N109)+SUMIF(PACKT11!$R109,\"TRUE\",PACKT11!N109)","v":0},{"$f":"SUMIF(PACKT01!$R109,\"TRUE\",PACKT01!O109)+SUMIF(PACKT02!$R109,\"TRUE\",PACKT02!O109)+SUMIF(PACKT03!$R109,\"TRUE\",PACKT03!O109)+SUMIF(PACKT04!$R109,\"TRUE\",PACKT04!O109)+SUMIF(PACKT05!$R109,\"TRUE\",PACKT05!O109)+SUMIF(PACKT06!$R110,\"TRUE\",PACKT06!O110)+SUMIF(PACKT07!$R109,\"TRUE\",PACKT07!O109)+SUMIF(PACKT08!$R109,\"TRUE\",PACKT08!O109)+SUMIF(PACKT09!$R109,\"TRUE\",PACKT09!O109)+SUMIF(PACKT10!$R109,\"TRUE\",PACKT10!O109)+SUMIF(PACKT11!$R109,\"TRUE\",PACKT11!O109)","v":0},{"$f":"SUMIF(PACKT01!$R109,\"TRUE\",PACKT01!P109)+SUMIF(PACKT02!$R109,\"TRUE\",PACKT02!P109)+SUMIF(PACKT03!$R109,\"TRUE\",PACKT03!P109)+SUMIF(PACKT04!$R109,\"TRUE\",PACKT04!P109)+SUMIF(PACKT05!$R109,\"TRUE\",PACKT05!P109)+SUMIF(PACKT06!$R110,\"TRUE\",PACKT06!P110)+SUMIF(PACKT07!$R109,\"TRUE\",PACKT07!P109)+SUMIF(PACKT08!$R109,\"TRUE\",PACKT08!P109)+SUMIF(PACKT09!$R109,\"TRUE\",PACKT09!P109)+SUMIF(PACKT10!$R109,\"TRUE\",PACKT10!P109)+SUMIF(PACKT11!$R109,\"TRUE\",PACKT11!P109)","v":0},{"$f":"SUMIF(PACKT01!$R109,\"TRUE\",PACKT01!Q109)+SUMIF(PACKT02!$R109,\"TRUE\",PACKT02!Q109)+SUMIF(PACKT03!$R109,\"TRUE\",PACKT03!Q109)+SUMIF(PACKT04!$R109,\"TRUE\",PACKT04!Q109)+SUMIF(PACKT05!$R109,\"TRUE\",PACKT05!Q109)+SUMIF(PACKT06!$R110,\"TRUE\",PACKT06!Q110)+SUMIF(PACKT07!$R109,\"TRUE\",PACKT07!Q109)+SUMIF(PACKT08!$R109,\"TRUE\",PACKT08!Q109)+SUMIF(PACKT09!$R109,\"TRUE\",PACKT09!Q109)+SUMIF(PACKT10!$R109,\"TRUE\",PACKT10!Q109)+SUMIF(PACKT11!$R109,\"TRUE\",PACKT11!Q109)","v":0},0]
[null,"EMP0099",{"$f":"VLOOKUP(HRSummarylTable[[#This Row],[EmployeeID]],EmployeeListLookupTable[],2,FALSE)","v":"EMPN099"},{"$f":"VLOOKUP(HRSummarylTable[[#This Row],[EmployeeID]],EmployeeListLookupTable[],3,FALSE)","v":"Employee Name 99"},{"$f":"VLOOKUP(HRSummarylTable[[#This Row],[EmployeeID]],EmployeeListLookupTable[],4,FALSE)","v":"Employee Job Title 99"},"TCTC001 - Total Cost to Company",{"$f":"LEFT(HRSummarylTable[[#This Row],[PackageItemCode]],7)","v":"TCTC001"},{"$f":"VLOOKUP(HRSummarylTable[[#This Row],[PackageItem]],PackageItemListLookup[],2,FALSE)","v":"Total Cost to Company"},null,{"$f":"SUMIF(PACKT01!$R110,\"TRUE\",PACKT01!F110)+SUMIF(PACKT02!$R110,\"TRUE\",PACKT02!F110)+SUMIF(PACKT03!$R110,\"TRUE\",PACKT03!F110)+SUMIF(PACKT04!$R110,\"TRUE\",PACKT04!F110)+SUMIF(PACKT05!$R110,\"TRUE\",PACKT05!F110)+SUMIF(PACKT06!$R111,\"TRUE\",PACKT06!F111)+SUMIF(PACKT07!$R110,\"TRUE\",PACKT07!F110)+SUMIF(PACKT08!$R110,\"TRUE\",PACKT08!F110)+SUMIF(PACKT09!$R110,\"TRUE\",PACKT09!F110)+SUMIF(PACKT10!$R110,\"TRUE\",PACKT10!F110)+SUMIF(PACKT11!$R110,\"TRUE\",PACKT11!F110)","v":0},{"$f":"SUMIF(PACKT01!$R110,\"TRUE\",PACKT01!G110)+SUMIF(PACKT02!$R110,\"TRUE\",PACKT02!G110)+SUMIF(PACKT03!$R110,\"TRUE\",PACKT03!G110)+SUMIF(PACKT04!$R110,\"TRUE\",PACKT04!G110)+SUMIF(PACKT05!$R110,\"TRUE\",PACKT05!G110)+SUMIF(PACKT06!$R111,\"TRUE\",PACKT06!G111)+SUMIF(PACKT07!$R110,\"TRUE\",PACKT07!G110)+SUMIF(PACKT08!$R110,\"TRUE\",PACKT08!G110)+SUMIF(PACKT09!$R110,\"TRUE\",PACKT09!G110)+SUMIF(PACKT10!$R110,\"TRUE\",PACKT10!G110)+SUMIF(PACKT11!$R110,\"TRUE\",PACKT11!G110)","v":0},{"$f":"SUMIF(PACKT01!$R110,\"TRUE\",PACKT01!H110)+SUMIF(PACKT02!$R110,\"TRUE\",PACKT02!H110)+SUMIF(PACKT03!$R110,\"TRUE\",PACKT03!H110)+SUMIF(PACKT04!$R110,\"TRUE\",PACKT04!H110)+SUMIF(PACKT05!$R110,\"TRUE\",PACKT05!H110)+SUMIF(PACKT06!$R111,\"TRUE\",PACKT06!H111)+SUMIF(PACKT07!$R110,\"TRUE\",PACKT07!H110)+SUMIF(PACKT08!$R110,\"TRUE\",PACKT08!H110)+SUMIF(PACKT09!$R110,\"TRUE\",PACKT09!H110)+SUMIF(PACKT10!$R110,\"TRUE\",PACKT10!H110)+SUMIF(PACKT11!$R110,\"TRUE\",PACKT11!H110)","v":0},{"$f":"SUMIF(PACKT01!$R110,\"TRUE\",PACKT01!I110)+SUMIF(PACKT02!$R110,\"TRUE\",PACKT02!I110)+SUMIF(PACKT03!$R110,\"TRUE\",PACKT03!I110)+SUMIF(PACKT04!$R110,\"TRUE\",PACKT04!I110)+SUMIF(PACKT05!$R110,\"TRUE\",PACKT05!I110)+SUMIF(PACKT06!$R111,\"TRUE\",PACKT06!I111)+SUMIF(PACKT07!$R110,\"TRUE\",PACKT07!I110)+SUMIF(PACKT08!$R110,\"TRUE\",PACKT08!I110)+SUMIF(PACKT09!$R110,\"TRUE\",PACKT09!I110)+SUMIF(PACKT10!$R110,\"TRUE\",PACKT10!I110)+SUMIF(PACKT11!$R110,\"TRUE\",PACKT11!I110)","v":0},{"$f":"SUMIF(PACKT01!$R110,\"TRUE\",PACKT01!J110)+SUMIF(PACKT02!$R110,\"TRUE\",PACKT02!J110)+SUMIF(PACKT03!$R110,\"TRUE\",PACKT03!J110)+SUMIF(PACKT04!$R110,\"TRUE\",PACKT04!J110)+SUMIF(PACKT05!$R110,\"TRUE\",PACKT05!J110)+SUMIF(PACKT06!$R111,\"TRUE\",PACKT06!J111)+SUMIF(PACKT07!$R110,\"TRUE\",PACKT07!J110)+SUMIF(PACKT08!$R110,\"TRUE\",PACKT08!J110)+SUMIF(PACKT09!$R110,\"TRUE\",PACKT09!J110)+SUMIF(PACKT10!$R110,\"TRUE\",PACKT10!J110)+SUMIF(PACKT11!$R110,\"TRUE\",PACKT11!J110)","v":0},{"$f":"SUMIF(PACKT01!$R110,\"TRUE\",PACKT01!K110)+SUMIF(PACKT02!$R110,\"TRUE\",PACKT02!K110)+SUMIF(PACKT03!$R110,\"TRUE\",PACKT03!K110)+SUMIF(PACKT04!$R110,\"TRUE\",PACKT04!K110)+SUMIF(PACKT05!$R110,\"TRUE\",PACKT05!K110)+SUMIF(PACKT06!$R111,\"TRUE\",PACKT06!K111)+SUMIF(PACKT07!$R110,\"TRUE\",PACKT07!K110)+SUMIF(PACKT08!$R110,\"TRUE\",PACKT08!K110)+SUMIF(PACKT09!$R110,\"TRUE\",PACKT09!K110)+SUMIF(PACKT10!$R110,\"TRUE\",PACKT10!K110)+SUMIF(PACKT11!$R110,\"TRUE\",PACKT11!K110)","v":0},{"$f":"SUMIF(PACKT01!$R110,\"TRUE\",PACKT01!L110)+SUMIF(PACKT02!$R110,\"TRUE\",PACKT02!L110)+SUMIF(PACKT03!$R110,\"TRUE\",PACKT03!L110)+SUMIF(PACKT04!$R110,\"TRUE\",PACKT04!L110)+SUMIF(PACKT05!$R110,\"TRUE\",PACKT05!L110)+SUMIF(PACKT06!$R111,\"TRUE\",PACKT06!L111)+SUMIF(PACKT07!$R110,\"TRUE\",PACKT07!L110)+SUMIF(PACKT08!$R110,\"TRUE\",PACKT08!L110)+SUMIF(PACKT09!$R110,\"TRUE\",PACKT09!L110)+SUMIF(PACKT10!$R110,\"TRUE\",PACKT10!L110)+SUMIF(PACKT11!$R110,\"TRUE\",PACKT11!L110)","v":0},{"$f":"SUMIF(PACKT01!$R110,\"TRUE\",PACKT01!M110)+SUMIF(PACKT02!$R110,\"TRUE\",PACKT02!M110)+SUMIF(PACKT03!$R110,\"TRUE\",PACKT03!M110)+SUMIF(PACKT04!$R110,\"TRUE\",PACKT04!M110)+SUMIF(PACKT05!$R110,\"TRUE\",PACKT05!M110)+SUMIF(PACKT06!$R111,\"TRUE\",PACKT06!M111)+SUMIF(PACKT07!$R110,\"TRUE\",PACKT07!M110)+SUMIF(PACKT08!$R110,\"TRUE\",PACKT08!M110)+SUMIF(PACKT09!$R110,\"TRUE\",PACKT09!M110)+SUMIF(PACKT10!$R110,\"TRUE\",PACKT10!M110)+SUMIF(PACKT11!$R110,\"TRUE\",PACKT11!M110)","v":0},{"$f":"SUMIF(PACKT01!$R110,\"TRUE\",PACKT01!N110)+SUMIF(PACKT02!$R110,\"TRUE\",PACKT02!N110)+SUMIF(PACKT03!$R110,\"TRUE\",PACKT03!N110)+SUMIF(PACKT04!$R110,\"TRUE\",PACKT04!N110)+SUMIF(PACKT05!$R110,\"TRUE\",PACKT05!N110)+SUMIF(PACKT06!$R111,\"TRUE\",PACKT06!N111)+SUMIF(PACKT07!$R110,\"TRUE\",PACKT07!N110)+SUMIF(PACKT08!$R110,\"TRUE\",PACKT08!N110)+SUMIF(PACKT09!$R110,\"TRUE\",PACKT09!N110)+SUMIF(PACKT10!$R110,\"TRUE\",PACKT10!N110)+SUMIF(PACKT11!$R110,\"TRUE\",PACKT11!N110)","v":0},{"$f":"SUMIF(PACKT01!$R110,\"TRUE\",PACKT01!O110)+SUMIF(PACKT02!$R110,\"TRUE\",PACKT02!O110)+SUMIF(PACKT03!$R110,\"TRUE\",PACKT03!O110)+SUMIF(PACKT04!$R110,\"TRUE\",PACKT04!O110)+SUMIF(PACKT05!$R110,\"TRUE\",PACKT05!O110)+SUMIF(PACKT06!$R111,\"TRUE\",PACKT06!O111)+SUMIF(PACKT07!$R110,\"TRUE\",PACKT07!O110)+SUMIF(PACKT08!$R110,\"TRUE\",PACKT08!O110)+SUMIF(PACKT09!$R110,\"TRUE\",PACKT09!O110)+SUMIF(PACKT10!$R110,\"TRUE\",PACKT10!O110)+SUMIF(PACKT11!$R110,\"TRUE\",PACKT11!O110)","v":0},{"$f":"SUMIF(PACKT01!$R110,\"TRUE\",PACKT01!P110)+SUMIF(PACKT02!$R110,\"TRUE\",PACKT02!P110)+SUMIF(PACKT03!$R110,\"TRUE\",PACKT03!P110)+SUMIF(PACKT04!$R110,\"TRUE\",PACKT04!P110)+SUMIF(PACKT05!$R110,\"TRUE\",PACKT05!P110)+SUMIF(PACKT06!$R111,\"TRUE\",PACKT06!P111)+SUMIF(PACKT07!$R110,\"TRUE\",PACKT07!P110)+SUMIF(PACKT08!$R110,\"TRUE\",PACKT08!P110)+SUMIF(PACKT09!$R110,\"TRUE\",PACKT09!P110)+SUMIF(PACKT10!$R110,\"TRUE\",PACKT10!P110)+SUMIF(PACKT11!$R110,\"TRUE\",PACKT11!P110)","v":0},{"$f":"SUMIF(PACKT01!$R110,\"TRUE\",PACKT01!Q110)+SUMIF(PACKT02!$R110,\"TRUE\",PACKT02!Q110)+SUMIF(PACKT03!$R110,\"TRUE\",PACKT03!Q110)+SUMIF(PACKT04!$R110,\"TRUE\",PACKT04!Q110)+SUMIF(PACKT05!$R110,\"TRUE\",PACKT05!Q110)+SUMIF(PACKT06!$R111,\"TRUE\",PACKT06!Q111)+SUMIF(PACKT07!$R110,\"TRUE\",PACKT07!Q110)+SUMIF(PACKT08!$R110,\"TRUE\",PACKT08!Q110)+SUMIF(PACKT09!$R110,\"TRUE\",PACKT09!Q110)+SUMIF(PACKT10!$R110,\"TRUE\",PACKT10!Q110)+SUMIF(PACKT11!$R110,\"TRUE\",PACKT11!Q110)","v":0},0]
[null,"EMP0100",{"$f":"VLOOKUP(HRSummarylTable[[#This Row],[EmployeeID]],EmployeeListLookupTable[],2,FALSE)","v":"EMPN100"},{"$f":"VLOOKUP(HRSummarylTable[[#This Row],[EmployeeID]],EmployeeListLookupTable[],3,FALSE)","v":"Employee Name 100"},{"$f":"VLOOKUP(HRSummarylTable[[#This Row],[EmployeeID]],EmployeeListLookupTable[],4,FALSE)","v":"Employee Job Title 100"},"TCTC001 - Total Cost to Company",{"$f":"LEFT(HRSummarylTable[[#This Row],[PackageItemCode]],7)","v":"TCTC001"},{"$f":"VLOOKUP(HRSummarylTable[[#This Row],[PackageItem]],PackageItemListLookup[],2,FALSE)","v":"Total Cost to Company"},null,{"$f":"SUMIF(PACKT01!$R111,\"TRUE\",PACKT01!F111)+SUMIF(PACKT02!$R111,\"TRUE\",PACKT02!F111)+SUMIF(PACKT03!$R111,\"TRUE\",PACKT03!F111)+SUMIF(PACKT04!$R111,\"TRUE\",PACKT04!F111)+SUMIF(PACKT05!$R111,\"TRUE\",PACKT05!F111)+SUMIF(PACKT06!$R112,\"TRUE\",PACKT06!F112)+SUMIF(PACKT07!$R111,\"TRUE\",PACKT07!F111)+SUMIF(PACKT08!$R111,\"TRUE\",PACKT08!F111)+SUMIF(PACKT09!$R111,\"TRUE\",PACKT09!F111)+SUMIF(PACKT10!$R111,\"TRUE\",PACKT10!F111)+SUMIF(PACKT11!$R111,\"TRUE\",PACKT11!F111)","v":0},{"$f":"SUMIF(PACKT01!$R111,\"TRUE\",PACKT01!G111)+SUMIF(PACKT02!$R111,\"TRUE\",PACKT02!G111)+SUMIF(PACKT03!$R111,\"TRUE\",PACKT03!G111)+SUMIF(PACKT04!$R111,\"TRUE\",PACKT04!G111)+SUMIF(PACKT05!$R111,\"TRUE\",PACKT05!G111)+SUMIF(PACKT06!$R112,\"TRUE\",PACKT06!G112)+SUMIF(PACKT07!$R111,\"TRUE\",PACKT07!G111)+SUMIF(PACKT08!$R111,\"TRUE\",PACKT08!G111)+SUMIF(PACKT09!$R111,\"TRUE\",PACKT09!G111)+SUMIF(PACKT10!$R111,\"TRUE\",PACKT10!G111)+SUMIF(PACKT11!$R111,\"TRUE\",PACKT11!G111)","v":0},{"$f":"SUMIF(PACKT01!$R111,\"TRUE\",PACKT01!H111)+SUMIF(PACKT02!$R111,\"TRUE\",PACKT02!H111)+SUMIF(PACKT03!$R111,\"TRUE\",PACKT03!H111)+SUMIF(PACKT04!$R111,\"TRUE\",PACKT04!H111)+SUMIF(PACKT05!$R111,\"TRUE\",PACKT05!H111)+SUMIF(PACKT06!$R112,\"TRUE\",PACKT06!H112)+SUMIF(PACKT07!$R111,\"TRUE\",PACKT07!H111)+SUMIF(PACKT08!$R111,\"TRUE\",PACKT08!H111)+SUMIF(PACKT09!$R111,\"TRUE\",PACKT09!H111)+SUMIF(PACKT10!$R111,\"TRUE\",PACKT10!H111)+SUMIF(PACKT11!$R111,\"TRUE\",PACKT11!H111)","v":0},{"$f":"SUMIF(PACKT01!$R111,\"TRUE\",PACKT01!I111)+SUMIF(PACKT02!$R111,\"TRUE\",PACKT02!I111)+SUMIF(PACKT03!$R111,\"TRUE\",PACKT03!I111)+SUMIF(PACKT04!$R111,\"TRUE\",PACKT04!I111)+SUMIF(PACKT05!$R111,\"TRUE\",PACKT05!I111)+SUMIF(PACKT06!$R112,\"TRUE\",PACKT06!I112)+SUMIF(PACKT07!$R111,\"TRUE\",PACKT07!I111)+SUMIF(PACKT08!$R111,\"TRUE\",PACKT08!I111)+SUMIF(PACKT09!$R111,\"TRUE\",PACKT09!I111)+SUMIF(PACKT10!$R111,\"TRUE\",PACKT10!I111)+SUMIF(PACKT11!$R111,\"TRUE\",PACKT11!I111)","v":0},{"$f":"SUMIF(PACKT01!$R111,\"TRUE\",PACKT01!J111)+SUMIF(PACKT02!$R111,\"TRUE\",PACKT02!J111)+SUMIF(PACKT03!$R111,\"TRUE\",PACKT03!J111)+SUMIF(PACKT04!$R111,\"TRUE\",PACKT04!J111)+SUMIF(PACKT05!$R111,\"TRUE\",PACKT05!J111)+SUMIF(PACKT06!$R112,\"TRUE\",PACKT06!J112)+SUMIF(PACKT07!$R111,\"TRUE\",PACKT07!J111)+SUMIF(PACKT08!$R111,\"TRUE\",PACKT08!J111)+SUMIF(PACKT09!$R111,\"TRUE\",PACKT09!J111)+SUMIF(PACKT10!$R111,\"TRUE\",PACKT10!J111)+SUMIF(PACKT11!$R111,\"TRUE\",PACKT11!J111)","v":0},{"$f":"SUMIF(PACKT01!$R111,\"TRUE\",PACKT01!K111)+SUMIF(PACKT02!$R111,\"TRUE\",PACKT02!K111)+SUMIF(PACKT03!$R111,\"TRUE\",PACKT03!K111)+SUMIF(PACKT04!$R111,\"TRUE\",PACKT04!K111)+SUMIF(PACKT05!$R111,\"TRUE\",PACKT05!K111)+SUMIF(PACKT06!$R112,\"TRUE\",PACKT06!K112)+SUMIF(PACKT07!$R111,\"TRUE\",PACKT07!K111)+SUMIF(PACKT08!$R111,\"TRUE\",PACKT08!K111)+SUMIF(PACKT09!$R111,\"TRUE\",PACKT09!K111)+SUMIF(PACKT10!$R111,\"TRUE\",PACKT10!K111)+SUMIF(PACKT11!$R111,\"TRUE\",PACKT11!K111)","v":0},{"$f":"SUMIF(PACKT01!$R111,\"TRUE\",PACKT01!L111)+SUMIF(PACKT02!$R111,\"TRUE\",PACKT02!L111)+SUMIF(PACKT03!$R111,\"TRUE\",PACKT03!L111)+SUMIF(PACKT04!$R111,\"TRUE\",PACKT04!L111)+SUMIF(PACKT05!$R111,\"TRUE\",PACKT05!L111)+SUMIF(PACKT06!$R112,\"TRUE\",PACKT06!L112)+SUMIF(PACKT07!$R111,\"TRUE\",PACKT07!L111)+SUMIF(PACKT08!$R111,\"TRUE\",PACKT08!L111)+SUMIF(PACKT09!$R111,\"TRUE\",PACKT09!L111)+SUMIF(PACKT10!$R111,\"TRUE\",PACKT10!L111)+SUMIF(PACKT11!$R111,\"TRUE\",PACKT11!L111)","v":0},{"$f":"SUMIF(PACKT01!$R111,\"TRUE\",PACKT01!M111)+SUMIF(PACKT02!$R111,\"TRUE\",PACKT02!M111)+SUMIF(PACKT03!$R111,\"TRUE\",PACKT03!M111)+SUMIF(PACKT04!$R111,\"TRUE\",PACKT04!M111)+SUMIF(PACKT05!$R111,\"TRUE\",PACKT05!M111)+SUMIF(PACKT06!$R112,\"TRUE\",PACKT06!M112)+SUMIF(PACKT07!$R111,\"TRUE\",PACKT07!M111)+SUMIF(PACKT08!$R111,\"TRUE\",PACKT08!M111)+SUMIF(PACKT09!$R111,\"TRUE\",PACKT09!M111)+SUMIF(PACKT10!$R111,\"TRUE\",PACKT10!M111)+SUMIF(PACKT11!$R111,\"TRUE\",PACKT11!M111)","v":0},{"$f":"SUMIF(PACKT01!$R111,\"TRUE\",PACKT01!N111)+SUMIF(PACKT02!$R111,\"TRUE\",PACKT02!N111)+SUMIF(PACKT03!$R111,\"TRUE\",PACKT03!N111)+SUMIF(PACKT04!$R111,\"TRUE\",PACKT04!N111)+SUMIF(PACKT05!$R111,\"TRUE\",PACKT05!N111)+SUMIF(PACKT06!$R112,\"TRUE\",PACKT06!N112)+SUMIF(PACKT07!$R111,\"TRUE\",PACKT07!N111)+SUMIF(PACKT08!$R111,\"TRUE\",PACKT08!N111)+SUMIF(PACKT09!$R111,\"TRUE\",PACKT09!N111)+SUMIF(PACKT10!$R111,\"TRUE\",PACKT10!N111)+SUMIF(PACKT11!$R111,\"TRUE\",PACKT11!N111)","v":0},{"$f":"SUMIF(PACKT01!$R111,\"TRUE\",PACKT01!O111)+SUMIF(PACKT02!$R111,\"TRUE\",PACKT02!O111)+SUMIF(PACKT03!$R111,\"TRUE\",PACKT03!O111)+SUMIF(PACKT04!$R111,\"TRUE\",PACKT04!O111)+SUMIF(PACKT05!$R111,\"TRUE\",PACKT05!O111)+SUMIF(PACKT06!$R112,\"TRUE\",PACKT06!O112)+SUMIF(PACKT07!$R111,\"TRUE\",PACKT07!O111)+SUMIF(PACKT08!$R111,\"TRUE\",PACKT08!O111)+SUMIF(PACKT09!$R111,\"TRUE\",PACKT09!O111)+SUMIF(PACKT10!$R111,\"TRUE\",PACKT10!O111)+SUMIF(PACKT11!$R111,\"TRUE\",PACKT11!O111)","v":0},{"$f":"SUMIF(PACKT01!$R111,\"TRUE\",PACKT01!P111)+SUMIF(PACKT02!$R111,\"TRUE\",PACKT02!P111)+SUMIF(PACKT03!$R111,\"TRUE\",PACKT03!P111)+SUMIF(PACKT04!$R111,\"TRUE\",PACKT04!P111)+SUMIF(PACKT05!$R111,\"TRUE\",PACKT05!P111)+SUMIF(PACKT06!$R112,\"TRUE\",PACKT06!P112)+SUMIF(PACKT07!$R111,\"TRUE\",PACKT07!P111)+SUMIF(PACKT08!$R111,\"TRUE\",PACKT08!P111)+SUMIF(PACKT09!$R111,\"TRUE\",PACKT09!P111)+SUMIF(PACKT10!$R111,\"TRUE\",PACKT10!P111)+SUMIF(PACKT11!$R111,\"TRUE\",PACKT11!P111)","v":0},{"$f":"SUMIF(PACKT01!$R111,\"TRUE\",PACKT01!Q111)+SUMIF(PACKT02!$R111,\"TRUE\",PACKT02!Q111)+SUMIF(PACKT03!$R111,\"TRUE\",PACKT03!Q111)+SUMIF(PACKT04!$R111,\"TRUE\",PACKT04!Q111)+SUMIF(PACKT05!$R111,\"TRUE\",PACKT05!Q111)+SUMIF(PACKT06!$R112,\"TRUE\",PACKT06!Q112)+SUMIF(PACKT07!$R111,\"TRUE\",PACKT07!Q111)+SUMIF(PACKT08!$R111,\"TRUE\",PACKT08!Q111)+SUMIF(PACKT09!$R111,\"TRUE\",PACKT09!Q111)+SUMIF(PACKT10!$R111,\"TRUE\",PACKT10!Q111)+SUMIF(PACKT11!$R111,\"TRUE\",PACKT11!Q111)","v":0},0]
[null,"Total",null,null,null,null,null,"Total ",null,{"$f":"SUBTOTAL(109,HRSummarylTable[1])","v":0},{"$f":"SUBTOTAL(109,HRSummarylTable[2])","v":0},{"$f":"SUBTOTAL(109,HRSummarylTable[3])","v":0},{"$f":"SUBTOTAL(109,HRSummarylTable[4])","v":0},{"$f":"SUBTOTAL(109,HRSummarylTable[5])","v":0},{"$f":"SUBTOTAL(109,HRSummarylTable[6])","v":0},{"$f":"SUBTOTAL(109,HRSummarylTable[7])","v":0},{"$f":"SUBTOTAL(109,HRSummarylTable[8])","v":0},{"$f":"SUBTOTAL(109,HRSummarylTable[9])","v":0},{"$f":"SUBTOTAL(109,HRSummarylTable[10])","v":0},{"$f":"SUBTOTAL(109,HRSummarylTable[11])","v":0},{"$f":"SUBTOTAL(109,HRSummarylTable[12])","v":0},{"$f":"SUBTOTAL(109,HRSummarylTable[Total])","v":0}]

{"sheet":"Employee Summary","index":8,"n_rows":24,"n_cols":56,"rows_kept":24,"cut":false,"hidden":false,"merged":[[3,1,3,3],[3,4,3,8],[4,1,4,8]]}
[null,null,null,null,1,1,1,1,1,1,1,1,1,1,1,1]
[null,null,null,null,1,2,3,4,5,6,7,8,9,10,11,12]
[null,"Menu"]
[null,{"$f":"EntityName","v":"Company A"},null,null,{"$f":"YearEnd","v":"2013-02-28"},null,null,null,null,null,null,null,null,null,null,null,null,null,null,null,null,null,null,null,null,null,null,null,null,null,null,null,null,null,null,null,null,null,null,null,null,null,null,null,null,null,null,null,null,null,null,null,null,null,null,"Yes"]
[null,"Employee Summary",null,null,null,null,null,null,null,null,null,null,null,null,null,null,null,null,null,null,null,null,null,null,null,null,null,null,null,null,null,null,null,null,null,null,null,null,null,null,null,null,null,null,null,null,null,null,null,null,null,null,null,null,null,"No"]
[]
[null,null,"Select your option:"]
[null,"Employee ID and Name","All Employees"]
[]
[]
[null,null,null,null,{"$f":"VLOOKUP(HRSummarylTable[[#Headers],[1]],CalendarMonthText,5,FALSE)","v":"March"},{"$f":"VLOOKUP(PackageItemTable[[#Headers],[2]],CalendarMonthText,5,FALSE)","v":"April"},{"$f":"VLOOKUP(PackageItemTable[[#Headers],[3]],CalendarMonthText,5,FALSE)","v":"May"},{"$f":"VLOOKUP(PackageItemTable[[#Headers],[4]],CalendarMonthText,5,FALSE)","v":"June"},{"$f":"VLOOKUP(PackageItemTable[[#Headers],[5]],CalendarMonthText,5,FALSE)","v":"July"},{"$f":"VLOOKUP(PackageItemTable[[#Headers],[6]],CalendarMonthText,5,FALSE)","v":"August"},{"$f":"VLOOKUP(PackageItemTable[[#Headers],[7]],CalendarMonthText,5,FALSE)","v":"September"},{"$f":"VLOOKUP(PackageItemTable[[#Headers],[8]],CalendarMonthText,5,FALSE)","v":"October"},{"$f":"VLOOKUP(PackageItemTable[[#Headers],[9]],CalendarMonthText,5,FALSE)","v":"November"},{"$f":"VLOOKUP(PackageItemTable[[#Headers],[10]],CalendarMonthText,5,FALSE)","v":"December"},{"$f":"VLOOKUP(PackageItemTable[[#Headers],[11]],CalendarMonthText,5,FALSE)","v":"January"},{"$f":"VLOOKUP(PackageItemTable[[#Headers],[12]],CalendarMonthText,5,FALSE)","v":"February"}]
[null,"PackageItemCode","PackageItem","EmployeeFullName","1","2","3","4","5","6","7","8","9","10","11","12"]
[null,"PACK001",{"$f":"VLOOKUP(PACKT01Table7[[#This Row],[PackageItemCode]],PackageItemTable[#Data],2,FALSE)","v":"Basic"},{"$f":"$C$8","v":"All Employees"},{"$f":"IF($C$8=\"All Employees\",SUMIF(PACKT01!$R$12:$R$111,TRUE,PACKT01Table[1]),IF(+VLOOKUP($C$8,PACKT01Table[],$E$1+16)=TRUE,+VLOOKUP($C$8,PACKT01Table[],E$2+4),0))","v":0},{"$f":"IF($C$8=\"All Employees\",SUMIF(PACKT01!$R$12:$R$111,TRUE,PACKT01Table[2]),IF(+VLOOKUP($C$8,PACKT01Table[],$E$1+16)=TRUE,+VLOOKUP($C$8,PACKT01Table[],F$2+4),0))","v":0},{"$f":"IF($C$8=\"All Employees\",SUMIF(PACKT01!$R$12:$R$111,TRUE,PACKT01Table[3]),IF(+VLOOKUP($C$8,PACKT01Table[],$E$1+16)=TRUE,+VLOOKUP($C$8,PACKT01Table[],G$2+4),0))","v":0},{"$f":"IF($C$8=\"All Employees\",SUMIF(PACKT01!$R$12:$R$111,TRUE,PACKT01Table[4]),IF(+VLOOKUP($C$8,PACKT01Table[],$E$1+16)=TRUE,+VLOOKUP($C$8,PACKT01Table[],H$2+4),0))","v":0},{"$f":"IF($C$8=\"All Employees\",SUMIF(PACKT01!$R$12:$R$111,TRUE,PACKT01Table[5]),IF(+VLOOKUP($C$8,PACKT01Table[],$E$1+16)=TRUE,+VLOOKUP($C$8,PACKT01Table[],I$2+4),0))","v":0},{"$f":"IF($C$8=\"All Employees\",SUMIF(PACKT01!$R$12:$R$111,TRUE,PACKT01Table[6]),IF(+VLOOKUP($C$8,PACKT01Table[],$E$1+16)=TRUE,+VLOOKUP($C$8,PACKT01Table[],J$2+4),0))","v":0},{"$f":"IF($C$8=\"All Employees\",SUMIF(PACKT01!$R$12:$R$111,TRUE,PACKT01Table[7]),IF(+VLOOKUP($C$8,PACKT01Table[],$E$1+16)=TRUE,+VLOOKUP($C$8,PACKT01Table[],K$2+4),0))","v":0},{"$f":"IF($C$8=\"All Employees\",SUMIF(PACKT01!$R$12:$R$111,TRUE,PACKT01Table[8]),IF(+VLOOKUP($C$8,PACKT01Table[],$E$1+16)=TRUE,+VLOOKUP($C$8,PACKT01Table[],L$2+4),0))","v":0},{"$f":"IF($C$8=\"All Employees\",SUMIF(PACKT01!$R$12:$R$111,TRUE,PACKT01Table[9]),IF(+VLOOKUP($C$8,PACKT01Table[],$E$1+16)=TRUE,+VLOOKUP($C$8,PACKT01Table[],M$2+4),0))","v":0},{"$f":"IF($C$8=\"All Employees\",SUMIF(PACKT01!$R$12:$R$111,TRUE,PACKT01Table[10]),IF(+VLOOKUP($C$8,PACKT01Table[],$E$1+16)=TRUE,+VLOOKUP($C$8,PACKT01Table[],N$2+4),0))","v":0},{"$f":"IF($C$8=\"All Employees\",SUMIF(PACKT01!$R$12:$R$111,TRUE,PACKT01Table[11]),IF(+VLOOKUP($C$8,PACKT01Table[],$E$1+16)=TRUE,+VLOOKUP($C$8,PACKT01Table[],O$2+4),0))","v":0},{"$f":"IF($C$8=\"All Employees\",SUMIF(PACKT01!$R$12:$R$111,TRUE,PACKT01Table[12]),IF(+VLOOKUP($C$8,PACKT01Table[],$E$1+16)=TRUE,+VLOOKUP($C$8,PACKT01Table[],P$2+4),0))","v":0}]
[null,"PACK002",{"$f":"VLOOKUP(PACKT01Table7[[#This Row],[PackageItemCode]],PackageItemTable[#Data],2,FALSE)","v":"Other Income 1"},"All Employees",{"$f":"IF($C$8=\"All Employees\",SUMIF(PACKT02!$R$12:$R$111,TRUE,PACKT02Table[1]),IF(+VLOOKUP($C$8,PACKT02Table[],$E$1+16)=TRUE,+VLOOKUP($C$8,PACKT02Table[],E$2+4),0))","v":0},{"$f":"IF($C$8=\"All Employees\",SUMIF(PACKT02!$R$12:$R$111,TRUE,PACKT02Table[2]),IF(+VLOOKUP($C$8,PACKT02Table[],$E$1+16)=TRUE,+VLOOKUP($C$8,PACKT02Table[],F$2+4),0))","v":0},{"$f":"IF($C$8=\"All Employees\",SUMIF(PACKT02!$R$12:$R$111,TRUE,PACKT02Table[3]),IF(+VLOOKUP($C$8,PACKT02Table[],$E$1+16)=TRUE,+VLOOKUP($C$8,PACKT02Table[],G$2+4),0))","v":0},{"$f":"IF($C$8=\"All Employees\",SUMIF(PACKT02!$R$12:$R$111,TRUE,PACKT02Table[4]),IF(+VLOOKUP($C$8,PACKT02Table[],$E$1+16)=TRUE,+VLOOKUP($C$8,PACKT02Table[],H$2+4),0))","v":0},{"$f":"IF($C$8=\"All Employees\",SUMIF(PACKT02!$R$12:$R$111,TRUE,PACKT02Table[5]),IF(+VLOOKUP($C$8,PACKT02Table[],$E$1+16)=TRUE,+VLOOKUP($C$8,PACKT02Table[],I$2+4),0))","v":0},{"$f":"IF($C$8=\"All Employees\",SUMIF(PACKT02!$R$12:$R$111,TRUE,PACKT02Table[6]),IF(+VLOOKUP($C$8,PACKT02Table[],$E$1+16)=TRUE,+VLOOKUP($C$8,PACKT02Table[],J$2+4),0))","v":0},{"$f":"IF($C$8=\"All Employees\",SUMIF(PACKT02!$R$12:$R$111,TRUE,PACKT02Table[7]),IF(+VLOOKUP($C$8,PACKT02Table[],$E$1+16)=TRUE,+VLOOKUP($C$8,PACKT02Table[],K$2+4),0))","v":0},{"$f":"IF($C$8=\"All Employees\",SUMIF(PACKT02!$R$12:$R$111,TRUE,PACKT02Table[8]),IF(+VLOOKUP($C$8,PACKT02Table[],$E$1+16)=TRUE,+VLOOKUP($C$8,PACKT02Table[],L$2+4),0))","v":0},{"$f":"IF($C$8=\"All Employees\",SUMIF(PACKT02!$R$12:$R$111,TRUE,PACKT02Table[9]),IF(+VLOOKUP($C$8,PACKT02Table[],$E$1+16)=TRUE,+VLOOKUP($C$8,PACKT02Table[],M$2+4),0))","v":0},{"$f":"IF($C$8=\"All Employees\",SUMIF(PACKT02!$R$12:$R$111,TRUE,PACKT02Table[10]),IF(+VLOOKUP($C$8,PACKT02Table[],$E$1+16)=TRUE,+VLOOKUP($C$8,PACKT02Table[],N$2+4),0))","v":0},{"$f":"IF($C$8=\"All Employees\",SUMIF(PACKT02!$R$12:$R$111,TRUE,PACKT02Table[11]),IF(+VLOOKUP($C$8,PACKT02Table[],$E$1+16)=TRUE,+VLOOKUP($C$8,PACKT02Table[],O$2+4),0))","v":0},{"$f":"IF($C$8=\"All Employees\",SUMIF(PACKT02!$R$12:$R$111,TRUE,PACKT02Table[12]),IF(+VLOOKUP($C$8,PACKT02Table[],$E$1+16)=TRUE,+VLOOKUP($C$8,PACKT02Table[],P$2+4),0))","v":0}]
[null,"PACK003",{"$f":"VLOOKUP(PACKT01Table7[[#This Row],[PackageItemCode]],PackageItemTable[#Data],2,FALSE)","v":"Other Income 2"},"All Employees",{"$f":"IF($C$8=\"All Employees\",SUMIF(PACKT03!$R$12:$R$111,TRUE,PACKT03Table[1]),IF(+VLOOKUP($C$8,PACKT03Table[],$E$1+16)=TRUE,+VLOOKUP($C$8,PACKT03Table[],E$2+4),0))","v":0},{"$f":"IF($C$8=\"All Employees\",SUMIF(PACKT03!$R$12:$R$111,TRUE,PACKT03Table[2]),IF(+VLOOKUP($C$8,PACKT03Table[],$E$1+16)=TRUE,+VLOOKUP($C$8,PACKT03Table[],F$2+4),0))","v":0},{"$f":"IF($C$8=\"All Employees\",SUMIF(PACKT03!$R$12:$R$111,TRUE,PACKT03Table[3]),IF(+VLOOKUP($C$8,PACKT03Table[],$E$1+16)=TRUE,+VLOOKUP($C$8,PACKT03Table[],G$2+4),0))","v":0},{"$f":"IF($C$8=\"All Employees\",SUMIF(PACKT03!$R$12:$R$111,TRUE,PACKT03Table[4]),IF(+VLOOKUP($C$8,PACKT03Table[],$E$1+16)=TRUE,+VLOOKUP($C$8,PACKT03Table[],H$2+4),0))","v":0},{"$f":"IF($C$8=\"All Employees\",SUMIF(PACKT03!$R$12:$R$111,TRUE,PACKT03Table[5]),IF(+VLOOKUP($C$8,PACKT03Table[],$E$1+16)=TRUE,+VLOOKUP($C$8,PACKT03Table[],I$2+4),0))","v":0},{"$f":"IF($C$8=\"All Employees\",SUMIF(PACKT03!$R$12:$R$111,TRUE,PACKT03Table[6]),IF(+VLOOKUP($C$8,PACKT03Table[],$E$1+16)=TRUE,+VLOOKUP($C$8,PACKT03Table[],J$2+4),0))","v":0},{"$f":"IF($C$8=\"All Employees\",SUMIF(PACKT03!$R$12:$R$111,TRUE,PACKT03Table[7]),IF(+VLOOKUP($C$8,PACKT03Table[],$E$1+16)=TRUE,+VLOOKUP($C$8,PACKT03Table[],K$2+4),0))","v":0},{"$f":"IF($C$8=\"All Employees\",SUMIF(PACKT03!$R$12:$R$111,TRUE,PACKT03Table[8]),IF(+VLOOKUP($C$8,PACKT03Table[],$E$1+16)=TRUE,+VLOOKUP($C$8,PACKT03Table[],L$2+4),0))","v":0},{"$f":"IF($C$8=\"All Employees\",SUMIF(PACKT03!$R$12:$R$111,TRUE,PACKT03Table[9]),IF(+VLOOKUP($C$8,PACKT03Table[],$E$1+16)=TRUE,+VLOOKUP($C$8,PACKT03Table[],M$2+4),0))","v":0},{"$f":"IF($C$8=\"All Employees\",SUMIF(PACKT03!$R$12:$R$111,TRUE,PACKT03Table[10]),IF(+VLOOKUP($C$8,PACKT03Table[],$E$1+16)=TRUE,+VLOOKUP($C$8,PACKT03Table[],N$2+4),0))","v":0},{"$f":"IF($C$8=\"All Employees\",SUMIF(PACKT03!$R$12:$R$111,TRUE,PACKT03Table[11]),IF(+VLOOKUP($C$8,PACKT03Table[],$E$1+16)=TRUE,+VLOOKUP($C$8,PACKT03Table[],O$2+4),0))","v":0},{"$f":"IF($C$8=\"All Employees\",SUMIF(PACKT03!$R$12:$R$111,TRUE,PACKT03Table[12]),IF(+VLOOKUP($C$8,PACKT03Table[],$E$1+16)=TRUE,+VLOOKUP($C$8,PACKT03Table[],P$2+4),0))","v":0}]
[null,"PACK004",{"$f":"VLOOKUP(PACKT01Table7[[#This Row],[PackageItemCode]],PackageItemTable[#Data],2,FALSE)","v":"Medical Aid"},"All Employees",{"$f":"IF($C$8=\"All Employees\",SUMIF(PACKT04!$R$12:$R$111,TRUE,PACKT04Table[1]),IF(+VLOOKUP($C$8,PACKT04Table[],$E$1+16)=TRUE,+VLOOKUP($C$8,PACKT04Table[],E$2+4),0))","v":0},{"$f":"IF($C$8=\"All Employees\",SUMIF(PACKT04!$R$12:$R$111,TRUE,PACKT04Table[2]),IF(+VLOOKUP($C$8,PACKT04Table[],$E$1+16)=TRUE,+VLOOKUP($C$8,PACKT04Table[],F$2+4),0))","v":0},{"$f":"IF($C$8=\"All Employees\",SUMIF(PACKT04!$R$12:$R$111,TRUE,PACKT04Table[3]),IF(+VLOOKUP($C$8,PACKT04Table[],$E$1+16)=TRUE,+VLOOKUP($C$8,PACKT04Table[],G$2+4),0))","v":0},{"$f":"IF($C$8=\"All Employees\",SUMIF(PACKT04!$R$12:$R$111,TRUE,PACKT04Table[4]),IF(+VLOOKUP($C$8,PACKT04Table[],$E$1+16)=TRUE,+VLOOKUP($C$8,PACKT04Table[],H$2+4),0))","v":0},{"$f":"IF($C$8=\"All Employees\",SUMIF(PACKT04!$R$12:$R$111,TRUE,PACKT04Table[5]),IF(+VLOOKUP($C$8,PACKT04Table[],$E$1+16)=TRUE,+VLOOKUP($C$8,PACKT04Table[],I$2+4),0))","v":0},{"$f":"IF($C$8=\"All Employees\",SUMIF(PACKT04!$R$12:$R$111,TRUE,PACKT04Table[6]),IF(+VLOOKUP($C$8,PACKT04Table[],$E$1+16)=TRUE,+VLOOKUP($C$8,PACKT04Table[],J$2+4),0))","v":0},{"$f":"IF($C$8=\"All Employees\",SUMIF(PACKT04!$R$12:$R$111,TRUE,PACKT04Table[7]),IF(+VLOOKUP($C$8,PACKT04Table[],$E$1+16)=TRUE,+VLOOKUP($C$8,PACKT04Table[],K$2+4),0))","v":0},{"$f":"IF($C$8=\"All Employees\",SUMIF(PACKT04!$R$12:$R$111,TRUE,PACKT04Table[8]),IF(+VLOOKUP($C$8,PACKT04Table[],$E$1+16)=TRUE,+VLOOKUP($C$8,PACKT04Table[],L$2+4),0))","v":0},{"$f":"IF($C$8=\"All Employees\",SUMIF(PACKT04!$R$12:$R$111,TRUE,PACKT04Table[9]),IF(+VLOOKUP($C$8,PACKT04Table[],$E$1+16)=TRUE,+VLOOKUP($C$8,PACKT04Table[],M$2+4),0))","v":0},{"$f":"IF($C$8=\"All Employees\",SUMIF(PACKT04!$R$12:$R$111,TRUE,PACKT04Table[10]),IF(+VLOOKUP($C$8,PACKT04Table[],$E$1+16)=TRUE,+VLOOKUP($C$8,PACKT04Table[],N$2+4),0))","v":0},{"$f":"IF($C$8=\"All Employees\",SUMIF(PACKT04!$R$12:$R$111,TRUE,PACKT04Table[11]),IF(+VLOOKUP($C$8,PACKT04Table[],$E$1+16)=TRUE,+VLOOKUP($C$8,PACKT04Table[],O$2+4),0))","v":0},{"$f":"IF($C$8=\"All Employees\",SUMIF(PACKT04!$R$12:$R$111,TRUE,PACKT04Table[12]),IF(+VLOOKUP($C$8,PACKT04Table[],$E$1+16)=TRUE,+VLOOKUP($C$8,PACKT04Table[],P$2+4),0))","v":0}]
[null,"PACK005",{"$f":"VLOOKUP(PACKT01Table7[[#This Row],[PackageItemCode]],PackageItemTable[#Data],2,FALSE)","v":"SDL"},"All Employees",{"$f":"IF($C$8=\"All Employees\",SUMIF(PACKT05!$R$12:$R$111,TRUE,PACKT05Table[1]),IF(+VLOOKUP($C$8,PACKT05Table[],$E$1+16)=TRUE,+VLOOKUP($C$8,PACKT05Table[],E$2+4),0))","v":0},{"$f":"IF($C$8=\"All Employees\",SUMIF(PACKT05!$R$12:$R$111,TRUE,PACKT05Table[2]),IF(+VLOOKUP($C$8,PACKT05Table[],$E$1+16)=TRUE,+VLOOKUP($C$8,PACKT05Table[],F$2+4),0))","v":0},{"$f":"IF($C$8=\"All Employees\",SUMIF(PACKT05!$R$12:$R$111,TRUE,PACKT05Table[3]),IF(+VLOOKUP($C$8,PACKT05Table[],$E$1+16)=TRUE,+VLOOKUP($C$8,PACKT05Table[],G$2+4),0))","v":0},{"$f":"IF($C$8=\"All Employees\",SUMIF(PACKT05!$R$12:$R$111,TRUE,PACKT05Table[4]),IF(+VLOOKUP($C$8,PACKT05Table[],$E$1+16)=TRUE,+VLOOKUP($C$8,PACKT05Table[],H$2+4),0))","v":0},{"$f":"IF($C$8=\"All Employees\",SUMIF(PACKT05!$R$12:$R$111,TRUE,PACKT05Table[5]),IF(+VLOOKUP($C$8,PACKT05Table[],$E$1+16)=TRUE,+VLOOKUP($C$8,PACKT05Table[],I$2+4),0))","v":0},{"$f":"IF($C$8=\"All Employees\",SUMIF(PACKT05!$R$12:$R$111,TRUE,PACKT05Table[6]),IF(+VLOOKUP($C$8,PACKT05Table[],$E$1+16)=TRUE,+VLOOKUP($C$8,PACKT05Table[],J$2+4),0))","v":0},{"$f":"IF($C$8=\"All Employees\",SUMIF(PACKT05!$R$12:$R$111,TRUE,PACKT05Table[7]),IF(+VLOOKUP($C$8,PACKT05Table[],$E$1+16)=TRUE,+VLOOKUP($C$8,PACKT05Table[],K$2+4),0))","v":0},{"$f":"IF($C$8=\"All Employees\",SUMIF(PACKT05!$R$12:$R$111,TRUE,PACKT05Table[8]),IF(+VLOOKUP($C$8,PACKT05Table[],$E$1+16)=TRUE,+VLOOKUP($C$8,PACKT05Table[],L$2+4),0))","v":0},{"$f":"IF($C$8=\"All Employees\",SUMIF(PACKT05!$R$12:$R$111,TRUE,PACKT05Table[9]),IF(+VLOOKUP($C$8,PACKT05Table[],$E$1+16)=TRUE,+VLOOKUP($C$8,PACKT05Table[],M$2+4),0))","v":0},{"$f":"IF($C$8=\"All Employees\",SUMIF(PACKT05!$R$12:$R$111,TRUE,PACKT05Table[10]),IF(+VLOOKUP($C$8,PACKT05Table[],$E$1+16)=TRUE,+VLOOKUP($C$8,PACKT05Table[],N$2+4),0))","v":0},{"$f":"IF($C$8=\"All Employees\",SUMIF(PACKT05!$R$12:$R$111,TRUE,PACKT05Table[11]),IF(+VLOOKUP($C$8,PACKT05Table[],$E$1+16)=TRUE,+VLOOKUP($C$8,PACKT05Table[],O$2+4),0))","v":0},{"$f":"IF($C$8=\"All Employees\",SUMIF(PACKT05!$R$12:$R$111,TRUE,PACKT05Table[12]),IF(+VLOOKUP($C$8,PACKT05Table[],$E$1+16)=TRUE,+VLOOKUP($C$8,PACKT05Table[],P$2+4),0))","v":0}]
[null,"PACK006",{"$f":"VLOOKUP(PACKT01Table7[[#This Row],[PackageItemCode]],PackageItemTable[#Data],2,FALSE)","v":"UIF"},"All Employees",{"$f":"IF($C$8=\"All Employees\",SUMIF(PACKT06!$R$12:$R$111,TRUE,PACKT06Table[1]),IF(+VLOOKUP($C$8,PACKT06Table[],$E$1+16)=TRUE,+VLOOKUP($C$8,PACKT06Table[],E$2+4),0))","v":0},{"$f":"IF($C$8=\"All Employees\",SUMIF(PACKT06!$R$12:$R$111,TRUE,PACKT06Table[2]),IF(+VLOOKUP($C$8,PACKT06Table[],$E$1+16)=TRUE,+VLOOKUP($C$8,PACKT06Table[],F$2+4),0))","v":0},{"$f":"IF($C$8=\"All Employees\",SUMIF(PACKT06!$R$12:$R$111,TRUE,PACKT06Table[3]),IF(+VLOOKUP($C$8,PACKT06Table[],$E$1+16)=TRUE,+VLOOKUP($C$8,PACKT06Table[],G$2+4),0))","v":0},{"$f":"IF($C$8=\"All Employees\",SUMIF(PACKT06!$R$12:$R$111,TRUE,PACKT06Table[4]),IF(+VLOOKUP($C$8,PACKT06Table[],$E$1+16)=TRUE,+VLOOKUP($C$8,PACKT06Table[],H$2+4),0))","v":0},{"$f":"IF($C$8=\"All Employees\",SUMIF(PACKT06!$R$12:$R$111,TRUE,PACKT06Table[5]),IF(+VLOOKUP($C$8,PACKT06Table[],$E$1+16)=TRUE,+VLOOKUP($C$8,PACKT06Table[],I$2+4),0))","v":0},{"$f":"IF($C$8=\"All Employees\",SUMIF(PACKT06!$R$12:$R$111,TRUE,PACKT06Table[6]),IF(+VLOOKUP($C$8,PACKT06Table[],$E$1+16)=TRUE,+VLOOKUP($C$8,PACKT06Table[],J$2+4),0))","v":0},{"$f":"IF($C$8=\"All Employees\",SUMIF(PACKT06!$R$12:$R$111,TRUE,PACKT06Table[7]),IF(+VLOOKUP($C$8,PACKT06Table[],$E$1+16)=TRUE,+VLOOKUP($C$8,PACKT06Table[],K$2+4),0))","v":0},{"$f":"IF($C$8=\"All Employees\",SUMIF(PACKT06!$R$12:$R$111,TRUE,PACKT06Table[8]),IF(+VLOOKUP($C$8,PACKT06Table[],$E$1+16)=TRUE,+VLOOKUP($C$8,PACKT06Table[],L$2+4),0))","v":0},{"$f":"IF($C$8=\"All Employees\",SUMIF(PACKT06!$R$12:$R$111,TRUE,PACKT06Table[9]),IF(+VLOOKUP($C$8,PACKT06Table[],$E$1+16)=TRUE,+VLOOKUP($C$8,PACKT06Table[],M$2+4),0))","v":0},{"$f":"IF($C$8=\"All Employees\",SUMIF(PACKT06!$R$12:$R$111,TRUE,PACKT06Table[10]),IF(+VLOOKUP($C$8,PACKT06Table[],$E$1+16)=TRUE,+VLOOKUP($C$8,PACKT06Table[],N$2+4),0))","v":0},{"$f":"IF($C$8=\"All Employees\",SUMIF(PACKT06!$R$12:$R$111,TRUE,PACKT06Table[11]),IF(+VLOOKUP($C$8,PACKT06Table[],$E$1+16)=TRUE,+VLOOKUP($C$8,PACKT06Table[],O$2+4),0))","v":0},{"$f":"IF($C$8=\"All Employees\",SUMIF(PACKT06!$R$12:$R$111,TRUE,PACKT06Table[12]),IF(+VLOOKUP($C$8,PACKT06Table[],$E$1+16)=TRUE,+VLOOKUP($C$8,PACKT06Table[],P$2+4),0))","v":0}]
[null,"PACK007",{"$f":"VLOOKUP(PACKT01Table7[[#This Row],[PackageItemCode]],PackageItemTable[#Data],2,FALSE)","v":"Provident Fund"},"All Employees",{"$f":"IF($C$8=\"All Employees\",SUMIF(PACKT07!$R$12:$R$111,TRUE,PACKT07Table[1]),IF(+VLOOKUP($C$8,PACKT07Table[],$E$1+16)=TRUE,+VLOOKUP($C$8,PACKT07Table[],E$2+4),0))","v":0},{"$f":"IF($C$8=\"All Employees\",SUMIF(PACKT07!$R$12:$R$111,TRUE,PACKT07Table[2]),IF(+VLOOKUP($C$8,PACKT07Table[],$E$1+16)=TRUE,+VLOOKUP($C$8,PACKT07Table[],F$2+4),0))","v":0},{"$f":"IF($C$8=\"All Employees\",SUMIF(PACKT07!$R$12:$R$111,TRUE,PACKT07Table[3]),IF(+VLOOKUP($C$8,PACKT07Table[],$E$1+16)=TRUE,+VLOOKUP($C$8,PACKT07Table[],G$2+4),0))","v":0},{"$f":"IF($C$8=\"All Employees\",SUMIF(PACKT07!$R$12:$R$111,TRUE,PACKT07Table[4]),IF(+VLOOKUP($C$8,PACKT07Table[],$E$1+16)=TRUE,+VLOOKUP($C$8,PACKT07Table[],H$2+4),0))","v":0},{"$f":"IF($C$8=\"All Employees\",SUMIF(PACKT07!$R$12:$R$111,TRUE,PACKT07Table[5]),IF(+VLOOKUP($C$8,PACKT07Table[],$E$1+16)=TRUE,+VLOOKUP($C$8,PACKT07Table[],I$2+4),0))","v":0},{"$f":"IF($C$8=\"All Employees\",SUMIF(PACKT07!$R$12:$R$111,TRUE,PACKT07Table[6]),IF(+VLOOKUP($C$8,PACKT07Table[],$E$1+16)=TRUE,+VLOOKUP($C$8,PACKT07Table[],J$2+4),0))","v":0},{"$f":"IF($C$8=\"All Employees\",SUMIF(PACKT07!$R$12:$R$111,TRUE,PACKT07Table[7]),IF(+VLOOKUP($C$8,PACKT07Table[],$E$1+16)=TRUE,+VLOOKUP($C$8,PACKT07Table[],K$2+4),0))","v":0},{"$f":"IF($C$8=\"All Employees\",SUMIF(PACKT07!$R$12:$R$111,TRUE,PACKT07Table[8]),IF(+VLOOKUP($C$8,PACKT07Table[],$E$1+16)=TRUE,+VLOOKUP($C$8,PACKT07Table[],L$2+4),0))","v":0},{"$f":"IF($C$8=\"All Employees\",SUMIF(PACKT07!$R$12:$R$111,TRUE,PACKT07Table[9]),IF(+VLOOKUP($C$8,PACKT07Table[],$E$1+16)=TRUE,+VLOOKUP($C$8,PACKT07Table[],M$2+4),0))","v":0},{"$f":"IF($C$8=\"All Employees\",SUMIF(PACKT07!$R$12:$R$111,TRUE,PACKT07Table[10]),IF(+VLOOKUP($C$8,PACKT07Table[],$E$1+16)=TRUE,+VLOOKUP($C$8,PACKT07Table[],N$2+4),0))","v":0},{"$f":"IF($C$8=\"All Employees\",SUMIF(PACKT07!$R$12:$R$111,TRUE,PACKT07Table[11]),IF(+VLOOKUP($C$8,PACKT07Table[],$E$1+16)=TRUE,+VLOOKUP($C$8,PACKT07Table[],O$2+4),0))","v":0},{"$f":"IF($C$8=\"All Employees\",SUMIF(PACKT07!$R$12:$R$111,TRUE,PACKT07Table[12]),IF(+VLOOKUP($C$8,PACKT07Table[],$E$1+16)=TRUE,+VLOOKUP($C$8,PACKT07Table[],P$2+4),0))","v":0}]
[null,"PACK008",{"$f":"VLOOKUP(PACKT01Table7[[#This Row],[PackageItemCode]],PackageItemTable[#Data],2,FALSE)","v":"Package Item 8"},"All Employees",{"$f":"IF($C$8=\"All Employees\",SUMIF(PACKT08!$R$12:$R$111,TRUE,PACKT08Table[1]),IF(+VLOOKUP($C$8,PACKT08Table[],$E$1+16)=TRUE,+VLOOKUP($C$8,PACKT08Table[],E$2+4),0))","v":0},{"$f":"IF($C$8=\"All Employees\",SUMIF(PACKT08!$R$12:$R$111,TRUE,PACKT08Table[2]),IF(+VLOOKUP($C$8,PACKT08Table[],$E$1+16)=TRUE,+VLOOKUP($C$8,PACKT08Table[],F$2+4),0))","v":0},{"$f":"IF($C$8=\"All Employees\",SUMIF(PACKT08!$R$12:$R$111,TRUE,PACKT08Table[3]),IF(+VLOOKUP($C$8,PACKT08Table[],$E$1+16)=TRUE,+VLOOKUP($C$8,PACKT08Table[],G$2+4),0))","v":0},{"$f":"IF($C$8=\"All Employees\",SUMIF(PACKT08!$R$12:$R$111,TRUE,PACKT08Table[4]),IF(+VLOOKUP($C$8,PACKT08Table[],$E$1+16)=TRUE,+VLOOKUP($C$8,PACKT08Table[],H$2+4),0))","v":0},{"$f":"IF($C$8=\"All Employees\",SUMIF(PACKT08!$R$12:$R$111,TRUE,PACKT08Table[5]),IF(+VLOOKUP($C$8,PACKT08Table[],$E$1+16)=TRUE,+VLOOKUP($C$8,PACKT08Table[],I$2+4),0))","v":0},{"$f":"IF($C$8=\"All Employees\",SUMIF(PACKT08!$R$12:$R$111,TRUE,PACKT08Table[6]),IF(+VLOOKUP($C$8,PACKT08Table[],$E$1+16)=TRUE,+VLOOKUP($C$8,PACKT08Table[],J$2+4),0))","v":0},{"$f":"IF($C$8=\"All Employees\",SUMIF(PACKT08!$R$12:$R$111,TRUE,PACKT08Table[7]),IF(+VLOOKUP($C$8,PACKT08Table[],$E$1+16)=TRUE,+VLOOKUP($C$8,PACKT08Table[],K$2+4),0))","v":0},{"$f":"IF($C$8=\"All Employees\",SUMIF(PACKT08!$R$12:$R$111,TRUE,PACKT08Table[8]),IF(+VLOOKUP($C$8,PACKT08Table[],$E$1+16)=TRUE,+VLOOKUP($C$8,PACKT08Table[],L$2+4),0))","v":0},{"$f":"IF($C$8=\"All Employees\",SUMIF(PACKT08!$R$12:$R$111,TRUE,PACKT08Table[9]),IF(+VLOOKUP($C$8,PACKT08Table[],$E$1+16)=TRUE,+VLOOKUP($C$8,PACKT08Table[],M$2+4),0))","v":0},{"$f":"IF($C$8=\"All Employees\",SUMIF(PACKT08!$R$12:$R$111,TRUE,PACKT08Table[10]),IF(+VLOOKUP($C$8,PACKT08Table[],$E$1+16)=TRUE,+VLOOKUP($C$8,PACKT08Table[],N$2+4),0))","v":0},{"$f":"IF($C$8=\"All Employees\",SUMIF(PACKT08!$R$12:$R$111,TRUE,PACKT08Table[11]),IF(+VLOOKUP($C$8,PACKT08Table[],$E$1+16)=TRUE,+VLOOKUP($C$8,PACKT08Table[],O$2+4),0))","v":0},{"$f":"IF($C$8=\"All Employees\",SUMIF(PACKT08!$R$12:$R$111,TRUE,PACKT08Table[12]),IF(+VLOOKUP($C$8,PACKT08Table[],$E$1+16)=TRUE,+VLOOKUP($C$8,PACKT08Table[],P$2+4),0))","v":0}]
[null,"PACK009",{"$f":"VLOOKUP(PACKT01Table7[[#This Row],[PackageItemCode]],PackageItemTable[#Data],2,FALSE)","v":"Package Item 9"},"All Employees",{"$f":"IF($C$8=\"All Employees\",SUMIF(PACKT09!$R$12:$R$111,TRUE,PACKT09Table[1]),IF(+VLOOKUP($C$8,PACKT09Table[],$E$1+16)=TRUE,+VLOOKUP($C$8,PACKT09Table[],E$2+4),0))","v":0},{"$f":"IF($C$8=\"All Employees\",SUMIF(PACKT09!$R$12:$R$111,TRUE,PACKT09Table[2]),IF(+VLOOKUP($C$8,PACKT09Table[],$E$1+16)=TRUE,+VLOOKUP($C$8,PACKT09Table[],F$2+4),0))","v":0},{"$f":"IF($C$8=\"All Employees\",SUMIF(PACKT09!$R$12:$R$111,TRUE,PACKT09Table[3]),IF(+VLOOKUP($C$8,PACKT09Table[],$E$1+16)=TRUE,+VLOOKUP($C$8,PACKT09Table[],G$2+4),0))","v":0},{"$f":"IF($C$8=\"All Employees\",SUMIF(PACKT09!$R$12:$R$111,TRUE,PACKT09Table[4]),IF(+VLOOKUP($C$8,PACKT09Table[],$E$1+16)=TRUE,+VLOOKUP($C$8,PACKT09Table[],H$2+4),0))","v":0},{"$f":"IF($C$8=\"All Employees\",SUMIF(PACKT09!$R$12:$R$111,TRUE,PACKT09Table[5]),IF(+VLOOKUP($C$8,PACKT09Table[],$E$1+16)=TRUE,+VLOOKUP($C$8,PACKT09Table[],I$2+4),0))","v":0},{"$f":"IF($C$8=\"All Employees\",SUMIF(PACKT09!$R$12:$R$111,TRUE,PACKT09Table[6]),IF(+VLOOKUP($C$8,PACKT09Table[],$E$1+16)=TRUE,+VLOOKUP($C$8,PACKT09Table[],J$2+4),0))","v":0},{"$f":"IF($C$8=\"All Employees\",SUMIF(PACKT09!$R$12:$R$111,TRUE,PACKT09Table[7]),IF(+VLOOKUP($C$8,PACKT09Table[],$E$1+16)=TRUE,+VLOOKUP($C$8,PACKT09Table[],K$2+4),0))","v":0},{"$f":"IF($C$8=\"All Employees\",SUMIF(PACKT09!$R$12:$R$111,TRUE,PACKT09Table[8]),IF(+VLOOKUP($C$8,PACKT09Table[],$E$1+16)=TRUE,+VLOOKUP($C$8,PACKT09Table[],L$2+4),0))","v":0},{"$f":"IF($C$8=\"All Employees\",SUMIF(PACKT09!$R$12:$R$111,TRUE,PACKT09Table[9]),IF(+VLOOKUP($C$8,PACKT09Table[],$E$1+16)=TRUE,+VLOOKUP($C$8,PACKT09Table[],M$2+4),0))","v":0},{"$f":"IF($C$8=\"All Employees\",SUMIF(PACKT09!$R$12:$R$111,TRUE,PACKT09Table[10]),IF(+VLOOKUP($C$8,PACKT09Table[],$E$1+16)=TRUE,+VLOOKUP($C$8,PACKT09Table[],N$2+4),0))","v":0},{"$f":"IF($C$8=\"All Employees\",SUMIF(PACKT09!$R$12:$R$111,TRUE,PACKT09Table[11]),IF(+VLOOKUP($C$8,PACKT09Table[],$E$1+16)=TRUE,+VLOOKUP($C$8,PACKT09Table[],O$2+4),0))","v":0},{"$f":"IF($C$8=\"All Employees\",SUMIF(PACKT09!$R$12:$R$111,TRUE,PACKT09Table[12]),IF(+VLOOKUP($C$8,PACKT09Table[],$E$1+16)=TRUE,+VLOOKUP($C$8,PACKT09Table[],P$2+4),0))","v":0}]
[null,"PACK010",{"$f":"VLOOKUP(PACKT01Table7[[#This Row],[PackageItemCode]],PackageItemTable[#Data],2,FALSE)","v":"Package Item 10"},"All Employees",{"$f":"IF($C$8=\"All Employees\",SUMIF(PACKT10!$R$12:$R$111,TRUE,PACKT10Table[1]),IF(+VLOOKUP($C$8,PACKT10Table[],$E$1+16)=TRUE,+VLOOKUP($C$8,PACKT10Table[],E$2+4),0))","v":0},{"$f":"IF($C$8=\"All Employees\",SUMIF(PACKT10!$R$12:$R$111,TRUE,PACKT10Table[2]),IF(+VLOOKUP($C$8,PACKT10Table[],$E$1+16)=TRUE,+VLOOKUP($C$8,PACKT10Table[],F$2+4),0))","v":0},{"$f":"IF($C$8=\"All Employees\",SUMIF(PACKT10!$R$12:$R$111,TRUE,PACKT10Table[3]),IF(+VLOOKUP($C$8,PACKT10Table[],$E$1+16)=TRUE,+VLOOKUP($C$8,PACKT10Table[],G$2+4),0))","v":0},{"$f":"IF($C$8=\"All Employees\",SUMIF(PACKT10!$R$12:$R$111,TRUE,PACKT10Table[4]),IF(+VLOOKUP($C$8,PACKT10Table[],$E$1+16)=TRUE,+VLOOKUP($C$8,PACKT10Table[],H$2+4),0))","v":0},{"$f":"IF($C$8=\"All Employees\",SUMIF(PACKT10!$R$12:$R$111,TRUE,PACKT10Table[5]),IF(+VLOOKUP($C$8,PACKT10Table[],$E$1+16)=TRUE,+VLOOKUP($C$8,PACKT10Table[],I$2+4),0))","v":0},{"$f":"IF($C$8=\"All Employees\",SUMIF(PACKT10!$R$12:$R$111,TRUE,PACKT10Table[6]),IF(+VLOOKUP($C$8,PACKT10Table[],$E$1+16)=TRUE,+VLOOKUP($C$8,PACKT10Table[],J$2+4),0))","v":0},{"$f":"IF($C$8=\"All Employees\",SUMIF(PACKT10!$R$12:$R$111,TRUE,PACKT10Table[7]),IF(+VLOOKUP($C$8,PACKT10Table[],$E$1+16)=TRUE,+VLOOKUP($C$8,PACKT10Table[],K$2+4),0))","v":0},{"$f":"IF($C$8=\"All Employees\",SUMIF(PACKT10!$R$12:$R$111,TRUE,PACKT10Table[8]),IF(+VLOOKUP($C$8,PACKT10Table[],$E$1+16)=TRUE,+VLOOKUP($C$8,PACKT10Table[],L$2+4),0))","v":0},{"$f":"IF($C$8=\"All Employees\",SUMIF(PACKT10!$R$12:$R$111,TRUE,PACKT10Table[9]),IF(+VLOOKUP($C$8,PACKT10Table[],$E$1+16)=TRUE,+VLOOKUP($C$8,PACKT10Table[],M$2+4),0))","v":0},{"$f":"IF($C$8=\"All Employees\",SUMIF(PACKT10!$R$12:$R$111,TRUE,PACKT10Table[10]),IF(+VLOOKUP($C$8,PACKT10Table[],$E$1+16)=TRUE,+VLOOKUP($C$8,PACKT10Table[],N$2+4),0))","v":0},{"$f":"IF($C$8=\"All Employees\",SUMIF(PACKT10!$R$12:$R$111,TRUE,PACKT10Table[11]),IF(+VLOOKUP($C$8,PACKT10Table[],$E$1+16)=TRUE,+VLOOKUP($C$8,PACKT10Table[],O$2+4),0))","v":0},{"$f":"IF($C$8=\"All Employees\",SUMIF(PACKT10!$R$12:$R$111,TRUE,PACKT10Table[12]),IF(+VLOOKUP($C$8,PACKT10Table[],$E$1+16)=TRUE,+VLOOKUP($C$8,PACKT10Table[],P$2+4),0))","v":0}]
[null,"PACK011",{"$f":"VLOOKUP(PACKT01Table7[[#This Row],[PackageItemCode]],PackageItemTable[#Data],2,FALSE)","v":"Package Item 11"},"All Employees",{"$f":"IF($C$8=\"All Employees\",SUMIF(PACKT11!$R$12:$R$111,TRUE,PACKT11Table[1]),IF(+VLOOKUP($C$8,PACKT11Table[],$E$1+16)=TRUE,+VLOOKUP($C$8,PACKT11Table[],E$2+4),0))","v":0},{"$f":"IF($C$8=\"All Employees\",SUMIF(PACKT11!$R$12:$R$111,TRUE,PACKT11Table[2]),IF(+VLOOKUP($C$8,PACKT11Table[],$E$1+16)=TRUE,+VLOOKUP($C$8,PACKT11Table[],F$2+4),0))","v":0},{"$f":"IF($C$8=\"All Employees\",SUMIF(PACKT11!$R$12:$R$111,TRUE,PACKT11Table[3]),IF(+VLOOKUP($C$8,PACKT11Table[],$E$1+16)=TRUE,+VLOOKUP($C$8,PACKT11Table[],G$2+4),0))","v":0},{"$f":"IF($C$8=\"All Employees\",SUMIF(PACKT11!$R$12:$R$111,TRUE,PACKT11Table[4]),IF(+VLOOKUP($C$8,PACKT11Table[],$E$1+16)=TRUE,+VLOOKUP($C$8,PACKT11Table[],H$2+4),0))","v":0},{"$f":"IF($C$8=\"All Employees\",SUMIF(PACKT11!$R$12:$R$111,TRUE,PACKT11Table[5]),IF(+VLOOKUP($C$8,PACKT11Table[],$E$1+16)=TRUE,+VLOOKUP($C$8,PACKT11Table[],I$2+4),0))","v":0},{"$f":"IF($C$8=\"All Employees\",SUMIF(PACKT11!$R$12:$R$111,TRUE,PACKT11Table[6]),IF(+VLOOKUP($C$8,PACKT11Table[],$E$1+16)=TRUE,+VLOOKUP($C$8,PACKT11Table[],J$2+4),0))","v":0},{"$f":"IF($C$8=\"All Employees\",SUMIF(PACKT11!$R$12:$R$111,TRUE,PACKT11Table[7]),IF(+VLOOKUP($C$8,PACKT11Table[],$E$1+16)=TRUE,+VLOOKUP($C$8,PACKT11Table[],K$2+4),0))","v":0},{"$f":"IF($C$8=\"All Employees\",SUMIF(PACKT11!$R$12:$R$111,TRUE,PACKT11Table[8]),IF(+VLOOKUP($C$8,PACKT11Table[],$E$1+16)=TRUE,+VLOOKUP($C$8,PACKT11Table[],L$2+4),0))","v":0},{"$f":"IF($C$8=\"All Employees\",SUMIF(PACKT11!$R$12:$R$111,TRUE,PACKT11Table[9]),IF(+VLOOKUP($C$8,PACKT11Table[],$E$1+16)=TRUE,+VLOOKUP($C$8,PACKT11Table[],M$2+4),0))","v":0},{"$f":"IF($C$8=\"All Employees\",SUMIF(PACKT11!$R$12:$R$111,TRUE,PACKT11Table[10]),IF(+VLOOKUP($C$8,PACKT11Table[],$E$1+16)=TRUE,+VLOOKUP($C$8,PACKT11Table[],N$2+4),0))","v":0},{"$f":"IF($C$8=\"All Employees\",SUMIF(PACKT11!$R$12:$R$111,TRUE,PACKT11Table[11]),IF(+VLOOKUP($C$8,PACKT11Table[],$E$1+16)=TRUE,+VLOOKUP($C$8,PACKT11Table[],O$2+4),0))","v":0},{"$f":"IF($C$8=\"All Employees\",SUMIF(PACKT11!$R$12:$R$111,TRUE,PACKT11Table[12]),IF(+VLOOKUP($C$8,PACKT11Table[],$E$1+16)=TRUE,+VLOOKUP($C$8,PACKT11Table[],P$2+4),0))","v":0}]
[null,null,null,"Total",{"$f":"SUBTOTAL(9,E13:E23)","v":0},{"$f":"SUBTOTAL(9,F13:F23)","v":0},0,0,0,0,0,0,0,0,0,0]

{"sheet":"PACKT01","index":9,"n_rows":112,"n_cols":18,"rows_kept":112,"cut":false,"hidden":false,"merged":[[1,2,1,4],[1,6,1,10],[2,2,2,10]]}
[null,null,"Menu"]
[null,null,{"$f":"EntityName","v":"Company A"},null,null,null,{"$f":"YearEnd","v":"2013-02-28"}]
[null,null,{"$f":"VLOOKUP(D6,PackageItemListLookup[],4,FALSE)","v":"PACKT01"}]
[]
[]
[null,null,"Package Item code:","PACK001"]
[null,null,"Package Item name:",{"$f":"VLOOKUP(D6,PackageItemListLookup[],2,FALSE)","v":"Basic"}]
[null,null,null,null,"Total",{"$f":"PACKT01Table[[#Totals],[1]]","v":0},{"$f":"PACKT01Table[[#Totals],[2]]","v":0},{"$f":"PACKT01Table[[#Totals],[3]]","v":0},{"$f":"PACKT01Table[[#Totals],[4]]","v":0},{"$f":"PACKT01Table[[#Totals],[5]]","v":0},{"$f":"PACKT01Table[[#Totals],[6]]","v":0},{"$f":"PACKT01Table[[#Totals],[7]]","v":0},{"$f":"PACKT01Table[[#Totals],[8]]","v":0},{"$f":"PACKT01Table[[#Totals],[9]]","v":0},{"$f":"PACKT01Table[[#Totals],[10]]","v":0},{"$f":"PACKT01Table[[#Totals],[11]]","v":0},{"$f":"PACKT01Table[[#Totals],[12]]","v":0}]
[]
[null,null,null,null,null,{"$f":"VLOOKUP(PackageItemTable[[#Headers],[1]],CalendarMonthText,5,FALSE)","v":"March"},{"$f":"VLOOKUP(PackageItemTable[[#Headers],[2]],CalendarMonthText,5,FALSE)","v":"April"},{"$f":"VLOOKUP(PackageItemTable[[#Headers],[3]],CalendarMonthText,5,FALSE)","v":"May"},{"$f":"VLOOKUP(PackageItemTable[[#Headers],[4]],CalendarMonthText,5,FALSE)","v":"June"},{"$f":"VLOOKUP(PackageItemTable[[#Headers],[5]],CalendarMonthText,5,FALSE)","v":"July"},{"$f":"VLOOKUP(PackageItemTable[[#Headers],[6]],CalendarMonthText,5,FALSE)","v":"August"},{"$f":"VLOOKUP(PackageItemTable[[#Headers],[7]],CalendarMonthText,5,FALSE)","v":"September"},{"$f":"VLOOKUP(PackageItemTable[[#Headers],[8]],CalendarMonthText,5,FALSE)","v":"October"},{"$f":"VLOOKUP(PackageItemTable[[#Headers],[9]],CalendarMonthText,5,FALSE)","v":"November"},{"$f":"VLOOKUP(PackageItemTable[[#Headers],[10]],CalendarMonthText,5,FALSE)","v":"December"},{"$f":"VLOOKUP(PackageItemTable[[#Headers],[11]],CalendarMonthText,5,FALSE)","v":"January"},{"$f":"VLOOKUP(PackageItemTable[[#Headers],[12]],CalendarMonthText,5,FALSE)","v":"February"}]
[null,"EmployeeID","EmployeeNumber","EmployeeName","EmployeeJobTitle","1","2","3","4","5","6","7","8","9","10","11","12","Selected"]
[null,"EMP0001",{"$f":"VLOOKUP(PACKT01Table[[#This Row],[EmployeeID]],EmployeeListLookupTable[],2,FALSE)","v":"EMPN001"},{"$f":"VLOOKUP(PACKT01Table[[#This Row],[EmployeeID]],EmployeeListLookupTable[],3,FALSE)","v":"Employee Name 1"},{"$f":"VLOOKUP(PACKT01Table[[#This Row],[EmployeeID]],EmployeeListLookupTable[],4,FALSE)","v":"Employee Job Title 1"},null,null,null,null,null,null,null,null,null,null,null,null,{"$f":"VLOOKUP(PACKT01Table[[#This Row],[EmployeeID]],EmployeeListLookupTable[#All],7,FALSE)=\"Y\"","v":true}]
[null,"EMP0002",{"$f":"VLOOKUP(PACKT01Table[[#This Row],[EmployeeID]],EmployeeListLookupTable[],2,FALSE)","v":"EMPN002"},{"$f":"VLOOKUP(PACKT01Table[[#This Row],[EmployeeID]],EmployeeListLookupTable[],3,FALSE)","v":"Employee Name 2"},{"$f":"VLOOKUP(PACKT01Table[[#This Row],[EmployeeID]],EmployeeListLookupTable[],4,FALSE)","v":"Employee Job Title 2"},null,null,null,null,null,null,null,null,null,null,null,null,{"$f":"VLOOKUP(PACKT01Table[[#This Row],[EmployeeID]],EmployeeListLookupTable[#All],7,FALSE)=\"Y\"","v":true}]
[null,"EMP0003",{"$f":"VLOOKUP(PACKT01Table[[#This Row],[EmployeeID]],EmployeeListLookupTable[],2,FALSE)","v":"EMPN003"},{"$f":"VLOOKUP(PACKT01Table[[#This Row],[EmployeeID]],EmployeeListLookupTable[],3,FALSE)","v":"Employee Name 3"},{"$f":"VLOOKUP(PACKT01Table[[#This Row],[EmployeeID]],EmployeeListLookupTable[],4,FALSE)","v":"Employee Job Title 3"},null,null,null,null,null,null,null,null,null,null,null,null,{"$f":"VLOOKUP(PACKT01Table[[#This Row],[EmployeeID]],EmployeeListLookupTable[#All],7,FALSE)=\"Y\"","v":true}]
[null,"EMP0004",{"$f":"VLOOKUP(PACKT01Table[[#This Row],[EmployeeID]],EmployeeListLookupTable[],2,FALSE)","v":"EMPN004"},{"$f":"VLOOKUP(PACKT01Table[[#This Row],[EmployeeID]],EmployeeListLookupTable[],3,FALSE)","v":"Employee Name 4"},{"$f":"VLOOKUP(PACKT01Table[[#This Row],[EmployeeID]],EmployeeListLookupTable[],4,FALSE)","v":"Employee Job Title 4"},null,null,null,null,null,null,{"$f":"+PACKT01Table[[#This Row],[6]]","v":0},{"$f":"+PACKT01Table[[#This Row],[6]]","v":0},{"$f":"+PACKT01Table[[#This Row],[6]]","v":0},{"$f":"+PACKT01Table[[#This Row],[6]]","v":0},{"$f":"+PACKT01Table[[#This Row],[6]]","v":0},{"$f":"+PACKT01Table[[#This Row],[6]]","v":0},{"$f":"VLOOKUP(PACKT01Table[[#This Row],[EmployeeID]],EmployeeListLookupTable[#All],7,FALSE)=\"Y\"","v":true}]
[null,"EMP0005",{"$f":"VLOOKUP(PACKT01Table[[#This Row],[EmployeeID]],EmployeeListLookupTable[],2,FALSE)","v":"EMPN005"},{"$f":"VLOOKUP(PACKT01Table[[#This Row],[EmployeeID]],EmployeeListLookupTable[],3,FALSE)","v":"Employee Name 5"},{"$f":"VLOOKUP(PACKT01Table[[#This Row],[EmployeeID]],EmployeeListLookupTable[],4,FALSE)","v":"Employee Job Title 5"},null,null,null,null,null,null,{"$f":"+PACKT01Table[[#This Row],[6]]","v":0},{"$f":"+PACKT01Table[[#This Row],[6]]","v":0},{"$f":"+PACKT01Table[[#This Row],[6]]","v":0},{"$f":"+PACKT01Table[[#This Row],[6]]","v":0},{"$f":"+PACKT01Table[[#This Row],[6]]","v":0},{"$f":"+PACKT01Table[[#This Row],[6]]","v":0},{"$f":"VLOOKUP(PACKT01Table[[#This Row],[EmployeeID]],EmployeeListLookupTable[#All],7,FALSE)=\"Y\"","v":true}]
[null,"EMP0006",{"$f":"VLOOKUP(PACKT01Table[[#This Row],[EmployeeID]],EmployeeListLookupTable[],2,FALSE)","v":"EMPN006"},{"$f":"VLOOKUP(PACKT01Table[[#This Row],[EmployeeID]],EmployeeListLookupTable[],3,FALSE)","v":"Employee Name 6"},{"$f":"VLOOKUP(PACKT01Table[[#This Row],[EmployeeID]],EmployeeListLookupTable[],4,FALSE)","v":"Employee Job Title 6"},null,null,null,null,null,null,{"$f":"+PACKT01Table[[#This Row],[6]]","v":0},{"$f":"+PACKT01Table[[#This Row],[6]]","v":0},{"$f":"+PACKT01Table[[#This Row],[6]]","v":0},{"$f":"+PACKT01Table[[#This Row],[6]]","v":0},{"$f":"+PACKT01Table[[#This Row],[6]]","v":0},{"$f":"+PACKT01Table[[#This Row],[6]]","v":0},{"$f":"VLOOKUP(PACKT01Table[[#This Row],[EmployeeID]],EmployeeListLookupTable[#All],7,FALSE)=\"Y\"","v":true}]
[null,"EMP0007",{"$f":"VLOOKUP(PACKT01Table[[#This Row],[EmployeeID]],EmployeeListLookupTable[],2,FALSE)","v":"EMPN007"},{"$f":"VLOOKUP(PACKT01Table[[#This Row],[EmployeeID]],EmployeeListLookupTable[],3,FALSE)","v":"Employee Name 7"},{"$f":"VLOOKUP(PACKT01Table[[#This Row],[EmployeeID]],EmployeeListLookupTable[],4,FALSE)","v":"Employee Job Title 7"},null,null,null,null,null,null,{"$f":"+PACKT01Table[[#This Row],[6]]","v":0},{"$f":"+PACKT01Table[[#This Row],[6]]","v":0},{"$f":"+PACKT01Table[[#This Row],[6]]","v":0},{"$f":"+PACKT01Table[[#This Row],[6]]","v":0},{"$f":"+PACKT01Table[[#This Row],[6]]","v":0},{"$f":"+PACKT01Table[[#This Row],[6]]","v":0},{"$f":"VLOOKUP(PACKT01Table[[#This Row],[EmployeeID]],EmployeeListLookupTable[#All],7,FALSE)=\"Y\"","v":true}]
[null,"EMP0008",{"$f":"VLOOKUP(PACKT01Table[[#This Row],[EmployeeID]],EmployeeListLookupTable[],2,FALSE)","v":"EMPN008"},{"$f":"VLOOKUP(PACKT01Table[[#This Row],[EmployeeID]],EmployeeListLookupTable[],3,FALSE)","v":"Employee Name 8"},{"$f":"VLOOKUP(PACKT01Table[[#This Row],[EmployeeID]],EmployeeListLookupTable[],4,FALSE)","v":"Employee Job Title 8"},null,null,null,null,null,null,{"$f":"+PACKT01Table[[#This Row],[6]]","v":0},{"$f":"+PACKT01Table[[#This Row],[6]]","v":0},{"$f":"+PACKT01Table[[#This Row],[6]]","v":0},{"$f":"+PACKT01Table[[#This Row],[6]]","v":0},{"$f":"+PACKT01Table[[#This Row],[6]]","v":0},{"$f":"+PACKT01Table[[#This Row],[6]]","v":0},{"$f":"VLOOKUP(PACKT01Table[[#This Row],[EmployeeID]],EmployeeListLookupTable[#All],7,FALSE)=\"Y\"","v":true}]
[null,"EMP0009",{"$f":"VLOOKUP(PACKT01Table[[#This Row],[EmployeeID]],EmployeeListLookupTable[],2,FALSE)","v":"EMPN009"},{"$f":"VLOOKUP(PACKT01Table[[#This Row],[EmployeeID]],EmployeeListLookupTable[],3,FALSE)","v":"Employee Name 9"},{"$f":"VLOOKUP(PACKT01Table[[#This Row],[EmployeeID]],EmployeeListLookupTable[],4,FALSE)","v":"Employee Job Title 9"},null,null,null,null,null,null,{"$f":"+PACKT01Table[[#This Row],[6]]","v":0},{"$f":"+PACKT01Table[[#This Row],[6]]","v":0},{"$f":"+PACKT01Table[[#This Row],[6]]","v":0},{"$f":"+PACKT01Table[[#This Row],[6]]","v":0},{"$f":"+PACKT01Table[[#This Row],[6]]","v":0},{"$f":"+PACKT01Table[[#This Row],[6]]","v":0},{"$f":"VLOOKUP(PACKT01Table[[#This Row],[EmployeeID]],EmployeeListLookupTable[#All],7,FALSE)=\"Y\"","v":true}]
[null,"EMP0010",{"$f":"VLOOKUP(PACKT01Table[[#This Row],[EmployeeID]],EmployeeListLookupTable[],2,FALSE)","v":"EMPN010"},{"$f":"VLOOKUP(PACKT01Table[[#This Row],[EmployeeID]],EmployeeListLookupTable[],3,FALSE)","v":"Employee Name 10"},{"$f":"VLOOKUP(PACKT01Table[[#This Row],[EmployeeID]],EmployeeListLookupTable[],4,FALSE)","v":"Employee Job Title 10"},null,null,null,null,null,null,{"$f":"+PACKT01Table[[#This Row],[6]]","v":0},{"$f":"+PACKT01Table[[#This Row],[6]]","v":0},{"$f":"+PACKT01Table[[#This Row],[6]]","v":0},{"$f":"+PACKT01Table[[#This Row],[6]]","v":0},{"$f":"+PACKT01Table[[#This Row],[6]]","v":0},{"$f":"+PACKT01Table[[#This Row],[6]]","v":0},{"$f":"VLOOKUP(PACKT01Table[[#This Row],[EmployeeID]],EmployeeListLookupTable[#All],7,FALSE)=\"Y\"","v":true}]
[null,"EMP0011",{"$f":"VLOOKUP(PACKT01Table[[#This Row],[EmployeeID]],EmployeeListLookupTable[],2,FALSE)","v":"EMPN011"},{"$f":"VLOOKUP(PACKT01Table[[#This Row],[EmployeeID]],EmployeeListLookupTable[],3,FALSE)","v":"Employee Name 11"},{"$f":"VLOOKUP(PACKT01Table[[#This Row],[EmployeeID]],EmployeeListLookupTable[],4,FALSE)","v":"Employee Job Title 11"},null,null,null,null,null,null,{"$f":"+PACKT01Table[[#This Row],[6]]","v":0},{"$f":"+PACKT01Table[[#This Row],[6]]","v":0},{"$f":"+PACKT01Table[[#This Row],[6]]","v":0},{"$f":"+PACKT01Table[[#This Row],[6]]","v":0},{"$f":"+PACKT01Table[[#This Row],[6]]","v":0},{"$f":"+PACKT01Table[[#This Row],[6]]","v":0},{"$f":"VLOOKUP(PACKT01Table[[#This Row],[EmployeeID]],EmployeeListLookupTable[#All],7,FALSE)=\"Y\"","v":true}]
[null,"EMP0012",{"$f":"VLOOKUP(PACKT01Table[[#This Row],[EmployeeID]],EmployeeListLookupTable[],2,FALSE)","v":"EMPN012"},{"$f":"VLOOKUP(PACKT01Table[[#This Row],[EmployeeID]],EmployeeListLookupTable[],3,FALSE)","v":"Employee Name 12"},{"$f":"VLOOKUP(PACKT01Table[[#This Row],[EmployeeID]],EmployeeListLookupTable[],4,FALSE)","v":"Employee Job Title 12"},null,null,null,null,null,null,{"$f":"+PACKT01Table[[#This Row],[6]]","v":0},{"$f":"+PACKT01Table[[#This Row],[6]]","v":0},{"$f":"+PACKT01Table[[#This Row],[6]]","v":0},{"$f":"+PACKT01Table[[#This Row],[6]]","v":0},{"$f":"+PACKT01Table[[#This Row],[6]]","v":0},{"$f":"+PACKT01Table[[#This Row],[6]]","v":0},{"$f":"VLOOKUP(PACKT01Table[[#This Row],[EmployeeID]],EmployeeListLookupTable[#All],7,FALSE)=\"Y\"","v":true}]
[null,"EMP0013",{"$f":"VLOOKUP(PACKT01Table[[#This Row],[EmployeeID]],EmployeeListLookupTable[],2,FALSE)","v":"EMPN013"},{"$f":"VLOOKUP(PACKT01Table[[#This Row],[EmployeeID]],EmployeeListLookupTable[],3,FALSE)","v":"Employee Name 13"},{"$f":"VLOOKUP(PACKT01Table[[#This Row],[EmployeeID]],EmployeeListLookupTable[],4,FALSE)","v":"Employee Job Title 13"},null,null,null,null,null,null,{"$f":"+PACKT01Table[[#This Row],[6]]","v":0},{"$f":"+PACKT01Table[[#This Row],[6]]","v":0},{"$f":"+PACKT01Table[[#This Row],[6]]","v":0},{"$f":"+PACKT01Table[[#This Row],[6]]","v":0},{"$f":"+PACKT01Table[[#This Row],[6]]","v":0},{"$f":"+PACKT01Table[[#This Row],[6]]","v":0},{"$f":"VLOOKUP(PACKT01Table[[#This Row],[EmployeeID]],EmployeeListLookupTable[#All],7,FALSE)=\"Y\"","v":true}]
[null,"EMP0014",{"$f":"VLOOKUP(PACKT01Table[[#This Row],[EmployeeID]],EmployeeListLookupTable[],2,FALSE)","v":"EMPN014"},{"$f":"VLOOKUP(PACKT01Table[[#This Row],[EmployeeID]],EmployeeListLookupTable[],3,FALSE)","v":"Employee Name 14"},{"$f":"VLOOKUP(PACKT01Table[[#This Row],[EmployeeID]],EmployeeListLookupTable[],4,FALSE)","v":"Employee Job Title 14"},null,null,null,null,null,null,{"$f":"+PACKT01Table[[#This Row],[6]]","v":0},{"$f":"+PACKT01Table[[#This Row],[6]]","v":0},{"$f":"+PACKT01Table[[#This Row],[6]]","v":0},{"$f":"+PACKT01Table[[#This Row],[6]]","v":0},{"$f":"+PACKT01Table[[#This Row],[6]]","v":0},{"$f":"+PACKT01Table[[#This Row],[6]]","v":0},{"$f":"VLOOKUP(PACKT01Table[[#This Row],[EmployeeID]],EmployeeListLookupTable[#All],7,FALSE)=\"Y\"","v":true}]
[null,"EMP0015",{"$f":"VLOOKUP(PACKT01Table[[#This Row],[EmployeeID]],EmployeeListLookupTable[],2,FALSE)","v":"EMPN015"},{"$f":"VLOOKUP(PACKT01Table[[#This Row],[EmployeeID]],EmployeeListLookupTable[],3,FALSE)","v":"Employee Name 15"},{"$f":"VLOOKUP(PACKT01Table[[#This Row],[EmployeeID]],EmployeeListLookupTable[],4,FALSE)","v":"Employee Job Title 15"},null,null,null,null,null,null,{"$f":"+PACKT01Table[[#This Row],[6]]","v":0},{"$f":"+PACKT01Table[[#This Row],[6]]","v":0},{"$f":"+PACKT01Table[[#This Row],[6]]","v":0},{"$f":"+PACKT01Table[[#This Row],[6]]","v":0},{"$f":"+PACKT01Table[[#This Row],[6]]","v":0},{"$f":"+PACKT01Table[[#This Row],[6]]","v":0},{"$f":"VLOOKUP(PACKT01Table[[#This Row],[EmployeeID]],EmployeeListLookupTable[#All],7,FALSE)=\"Y\"","v":true}]
[null,"EMP0016",{"$f":"VLOOKUP(PACKT01Table[[#This Row],[EmployeeID]],EmployeeListLookupTable[],2,FALSE)","v":"EMPN016"},{"$f":"VLOOKUP(PACKT01Table[[#This Row],[EmployeeID]],EmployeeListLookupTable[],3,FALSE)","v":"Employee Name 16"},{"$f":"VLOOKUP(PACKT01Table[[#This Row],[EmployeeID]],EmployeeListLookupTable[],4,FALSE)","v":"Employee Job Title 16"},null,null,null,null,null,null,{"$f":"+PACKT01Table[[#This Row],[6]]","v":0},{"$f":"+PACKT01Table[[#This Row],[6]]","v":0},{"$f":"+PACKT01Table[[#This Row],[6]]","v":0},{"$f":"+PACKT01Table[[#This Row],[6]]","v":0},{"$f":"+PACKT01Table[[#This Row],[6]]","v":0},{"$f":"+PACKT01Table[[#This Row],[6]]","v":0},{"$f":"VLOOKUP(PACKT01Table[[#This Row],[EmployeeID]],EmployeeListLookupTable[#All],7,FALSE)=\"Y\"","v":true}]
[null,"EMP0017",{"$f":"VLOOKUP(PACKT01Table[[#This Row],[EmployeeID]],EmployeeListLookupTable[],2,FALSE)","v":"EMPN017"},{"$f":"VLOOKUP(PACKT01Table[[#This Row],[EmployeeID]],EmployeeListLookupTable[],3,FALSE)","v":"Employee Name 17"},{"$f":"VLOOKUP(PACKT01Table[[#This Row],[EmployeeID]],EmployeeListLookupTable[],4,FALSE)","v":"Employee Job Title 17"},null,null,null,null,null,null,{"$f":"+PACKT01Table[[#This Row],[6]]","v":0},{"$f":"+PACKT01Table[[#This Row],[6]]","v":0},{"$f":"+PACKT01Table[[#This Row],[6]]","v":0},{"$f":"+PACKT01Table[[#This Row],[6]]","v":0},{"$f":"+PACKT01Table[[#This Row],[6]]","v":0},{"$f":"+PACKT01Table[[#This Row],[6]]","v":0},{"$f":"VLOOKUP(PACKT01Table[[#This Row],[EmployeeID]],EmployeeListLookupTable[#All],7,FALSE)=\"Y\"","v":true}]
[null,"EMP0018",{"$f":"VLOOKUP(PACKT01Table[[#This Row],[EmployeeID]],EmployeeListLookupTable[],2,FALSE)","v":"EMPN018"},{"$f":"VLOOKUP(PACKT01Table[[#This Row],[EmployeeID]],EmployeeListLookupTable[],3,FALSE)","v":"Employee Name 18"},{"$f":"VLOOKUP(PACKT01Table[[#This Row],[EmployeeID]],EmployeeListLookupTable[],4,FALSE)","v":"Employee Job Title 18"},null,null,null,null,null,null,{"$f":"+PACKT01Table[[#This Row],[6]]","v":0},{"$f":"+PACKT01Table[[#This Row],[6]]","v":0},{"$f":"+PACKT01Table[[#This Row],[6]]","v":0},{"$f":"+PACKT01Table[[#This Row],[6]]","v":0},{"$f":"+PACKT01Table[[#This Row],[6]]","v":0},{"$f":"+PACKT01Table[[#This Row],[6]]","v":0},{"$f":"VLOOKUP(PACKT01Table[[#This Row],[EmployeeID]],EmployeeListLookupTable[#All],7,FALSE)=\"Y\"","v":true}]
[null,"EMP0019",{"$f":"VLOOKUP(PACKT01Table[[#This Row],[EmployeeID]],EmployeeListLookupTable[],2,FALSE)","v":"EMPN019"},{"$f":"VLOOKUP(PACKT01Table[[#This Row],[EmployeeID]],EmployeeListLookupTable[],3,FALSE)","v":"Employee Name 19"},{"$f":"VLOOKUP(PACKT01Table[[#This Row],[EmployeeID]],EmployeeListLookupTable[],4,FALSE)","v":"Employee Job Title 19"},null,null,null,null,null,null,{"$f":"+PACKT01Table[[#This Row],[6]]","v":0},{"$f":"+PACKT01Table[[#This Row],[6]]","v":0},{"$f":"+PACKT01Table[[#This Row],[6]]","v":0},{"$f":"+PACKT01Table[[#This Row],[6]]","v":0},{"$f":"+PACKT01Table[[#This Row],[6]]","v":0},{"$f":"+PACKT01Table[[#This Row],[6]]","v":0},{"$f":"VLOOKUP(PACKT01Table[[#This Row],[EmployeeID]],EmployeeListLookupTable[#All],7,FALSE)=\"Y\"","v":true}]
[null,"EMP0020",{"$f":"VLOOKUP(PACKT01Table[[#This Row],[EmployeeID]],EmployeeListLookupTable[],2,FALSE)","v":"EMPN020"},{"$f":"VLOOKUP(PACKT01Table[[#This Row],[EmployeeID]],EmployeeListLookupTable[],3,FALSE)","v":"Employee Name 20"},{"$f":"VLOOKUP(PACKT01Table[[#This Row],[EmployeeID]],EmployeeListLookupTable[],4,FALSE)","v":"Employee Job Title 20"},null,null,null,null,null,null,{"$f":"+PACKT01Table[[#This Row],[6]]","v":0},{"$f":"+PACKT01Table[[#This Row],[6]]","v":0},{"$f":"+PACKT01Table[[#This Row],[6]]","v":0},{"$f":"+PACKT01Table[[#This Row],[6]]","v":0},{"$f":"+PACKT01Table[[#This Row],[6]]","v":0},{"$f":"+PACKT01Table[[#This Row],[6]]","v":0},{"$f":"VLOOKUP(PACKT01Table[[#This Row],[EmployeeID]],EmployeeListLookupTable[#All],7,FALSE)=\"Y\"","v":true}]
[null,"EMP0021",{"$f":"VLOOKUP(PACKT01Table[[#This Row],[EmployeeID]],EmployeeListLookupTable[],2,FALSE)","v":"EMPN021"},{"$f":"VLOOKUP(PACKT01Table[[#This Row],[EmployeeID]],EmployeeListLookupTable[],3,FALSE)","v":"Employee Name 21"},{"$f":"VLOOKUP(PACKT01Table[[#This Row],[EmployeeID]],EmployeeListLookupTable[],4,FALSE)","v":"Employee Job Title 21"},null,null,null,null,null,null,{"$f":"+PACKT01Table[[#This Row],[6]]","v":0},{"$f":"+PACKT01Table[[#This Row],[6]]","v":0},{"$f":"+PACKT01Table[[#This Row],[6]]","v":0},{"$f":"+PACKT01Table[[#This Row],[6]]","v":0},{"$f":"+PACKT01Table[[#This Row],[6]]","v":0},{"$f":"+PACKT01Table[[#This Row],[6]]","v":0},{"$f":"VLOOKUP(PACKT01Table[[#This Row],[EmployeeID]],EmployeeListLookupTable[#All],7,FALSE)=\"Y\"","v":true}]
[null,"EMP0022",{"$f":"VLOOKUP(PACKT01Table[[#This Row],[EmployeeID]],EmployeeListLookupTable[],2,FALSE)","v":"EMPN022"},{"$f":"VLOOKUP(PACKT01Table[[#This Row],[EmployeeID]],EmployeeListLookupTable[],3,FALSE)","v":"Employee Name 22"},{"$f":"VLOOKUP(PACKT01Table[[#This Row],[EmployeeID]],EmployeeListLookupTable[],4,FALSE)","v":"Employee Job Title 22"},null,null,null,null,null,null,{"$f":"+PACKT01Table[[#This Row],[6]]","v":0},{"$f":"+PACKT01Table[[#This Row],[6]]","v":0},{"$f":"+PACKT01Table[[#This Row],[6]]","v":0},{"$f":"+PACKT01Table[[#This Row],[6]]","v":0},{"$f":"+PACKT01Table[[#This Row],[6]]","v":0},{"$f":"+PACKT01Table[[#This Row],[6]]","v":0},{"$f":"VLOOKUP(PACKT01Table[[#This Row],[EmployeeID]],EmployeeListLookupTable[#All],7,FALSE)=\"Y\"","v":true}]
[null,"EMP0023",{"$f":"VLOOKUP(PACKT01Table[[#This Row],[EmployeeID]],EmployeeListLookupTable[],2,FALSE)","v":"EMPN023"},{"$f":"VLOOKUP(PACKT01Table[[#This Row],[EmployeeID]],EmployeeListLookupTable[],3,FALSE)","v":"Employee Name 23"},{"$f":"VLOOKUP(PACKT01Table[[#This Row],[EmployeeID]],EmployeeListLookupTable[],4,FALSE)","v":"Employee Job Title 23"},null,null,null,null,null,null,{"$f":"+PACKT01Table[[#This Row],[6]]","v":0},{"$f":"+PACKT01Table[[#This Row],[6]]","v":0},{"$f":"+PACKT01Table[[#This Row],[6]]","v":0},{"$f":"+PACKT01Table[[#This Row],[6]]","v":0},{"$f":"+PACKT01Table[[#This Row],[6]]","v":0},{"$f":"+PACKT01Table[[#This Row],[6]]","v":0},{"$f":"VLOOKUP(PACKT01Table[[#This Row],[EmployeeID]],EmployeeListLookupTable[#All],7,FALSE)=\"Y\"","v":true}]
[null,"EMP0024",{"$f":"VLOOKUP(PACKT01Table[[#This Row],[EmployeeID]],EmployeeListLookupTable[],2,FALSE)","v":"EMPN024"},{"$f":"VLOOKUP(PACKT01Table[[#This Row],[EmployeeID]],EmployeeListLookupTable[],3,FALSE)","v":"Employee Name 24"},{"$f":"VLOOKUP(PACKT01Table[[#This Row],[EmployeeID]],EmployeeListLookupTable[],4,FALSE)","v":"Employee Job Title 24"},null,null,null,null,null,null,{"$f":"+PACKT01Table[[#This Row],[6]]","v":0},{"$f":"+PACKT01Table[[#This Row],[6]]","v":0},{"$f":"+PACKT01Table[[#This Row],[6]]","v":0},{"$f":"+PACKT01Table[[#This Row],[6]]","v":0},{"$f":"+PACKT01Table[[#This Row],[6]]","v":0},{"$f":"+PACKT01Table[[#This Row],[6]]","v":0},{"$f":"VLOOKUP(PACKT01Table[[#This Row],[EmployeeID]],EmployeeListLookupTable[#All],7,FALSE)=\"Y\"","v":true}]
[null,"EMP0025",{"$f":"VLOOKUP(PACKT01Table[[#This Row],[EmployeeID]],EmployeeListLookupTable[],2,FALSE)","v":"EMPN025"},{"$f":"VLOOKUP(PACKT01Table[[#This Row],[EmployeeID]],EmployeeListLookupTable[],3,FALSE)","v":"Employee Name 25"},{"$f":"VLOOKUP(PACKT01Table[[#This Row],[EmployeeID]],EmployeeListLookupTable[],4,FALSE)","v":"Employee Job Title 25"},null,null,null,null,null,null,{"$f":"+PACKT01Table[[#This Row],[6]]","v":0},{"$f":"+PACKT01Table[[#This Row],[6]]","v":0},{"$f":"+PACKT01Table[[#This Row],[6]]","v":0},{"$f":"+PACKT01Table[[#This Row],[6]]","v":0},{"$f":"+PACKT01Table[[#This Row],[6]]","v":0},{"$f":"+PACKT01Table[[#This Row],[6]]","v":0},{"$f":"VLOOKUP(PACKT01Table[[#This Row],[EmployeeID]],EmployeeListLookupTable[#All],7,FALSE)=\"Y\"","v":true}]
[null,"EMP0026",{"$f":"VLOOKUP(PACKT01Table[[#This Row],[EmployeeID]],EmployeeListLookupTable[],2,FALSE)","v":"EMPN026"},{"$f":"VLOOKUP(PACKT01Table[[#This Row],[EmployeeID]],EmployeeListLookupTable[],3,FALSE)","v":"Employee Name 26"},{"$f":"VLOOKUP(PACKT01Table[[#This Row],[EmployeeID]],EmployeeListLookupTable[],4,FALSE)","v":"Employee Job Title 26"},null,null,null,null,null,null,{"$f":"+PACKT01Table[[#This Row],[6]]","v":0},{"$f":"+PACKT01Table[[#This Row],[6]]","v":0},{"$f":"+PACKT01Table[[#This Row],[6]]","v":0},{"$f":"+PACKT01Table[[#This Row],[6]]","v":0},{"$f":"+PACKT01Table[[#This Row],[6]]","v":0},{"$f":"+PACKT01Table[[#This Row],[6]]","v":0},{"$f":"VLOOKUP(PACKT01Table[[#This Row],[EmployeeID]],EmployeeListLookupTable[#All],7,FALSE)=\"Y\"","v":true}]
[null,"EMP0027",{"$f":"VLOOKUP(PACKT01Table[[#This Row],[EmployeeID]],EmployeeListLookupTable[],2,FALSE)","v":"EMPN027"},{"$f":"VLOOKUP(PACKT01Table[[#This Row],[EmployeeID]],EmployeeListLookupTable[],3,FALSE)","v":"Employee Name 27"},{"$f":"VLOOKUP(PACKT01Table[[#This Row],[EmployeeID]],EmployeeListLookupTable[],4,FALSE)","v":"Employee Job Title 27"},null,null,null,null,null,null,{"$f":"+PACKT01Table[[#This Row],[6]]","v":0},{"$f":"+PACKT01Table[[#This Row],[6]]","v":0},{"$f":"+PACKT01Table[[#This Row],[6]]","v":0},{"$f":"+PACKT01Table[[#This Row],[6]]","v":0},{"$f":"+PACKT01Table[[#This Row],[6]]","v":0},{"$f":"+PACKT01Table[[#This Row],[6]]","v":0},{"$f":"VLOOKUP(PACKT01Table[[#This Row],[EmployeeID]],EmployeeListLookupTable[#All],7,FALSE)=\"Y\"","v":true}]
[null,"EMP0028",{"$f":"VLOOKUP(PACKT01Table[[#This Row],[EmployeeID]],EmployeeListLookupTable[],2,FALSE)","v":"EMPN028"},{"$f":"VLOOKUP(PACKT01Table[[#This Row],[EmployeeID]],EmployeeListLookupTable[],3,FALSE)","v":"Employee Name 28"},{"$f":"VLOOKUP(PACKT01Table[[#This Row],[EmployeeID]],EmployeeListLookupTable[],4,FALSE)","v":"Employee Job Title 28"},null,null,null,null,null,null,{"$f":"+PACKT01Table[[#This Row],[6]]","v":0},{"$f":"+PACKT01Table[[#This Row],[6]]","v":0},{"$f":"+PACKT01Table[[#This Row],[6]]","v":0},{"$f":"+PACKT01Table[[#This Row],[6]]","v":0},{"$f":"+PACKT01Table[[#This Row],[6]]","v":0},{"$f":"+PACKT01Table[[#This Row],[6]]","v":0},{"$f":"VLOOKUP(PACKT01Table[[#This Row],[EmployeeID]],EmployeeListLookupTable[#All],7,FALSE)=\"Y\"","v":true}]
[null,"EMP0029",{"$f":"VLOOKUP(PACKT01Table[[#This Row],[EmployeeID]],EmployeeListLookupTable[],2,FALSE)","v":"EMPN029"},{"$f":"VLOOKUP(PACKT01Table[[#This Row],[EmployeeID]],EmployeeListLookupTable[],3,FALSE)","v":"Employee Name 29"},{"$f":"VLOOKUP(PACKT01Table[[#This Row],[EmployeeID]],EmployeeListLookupTable[],4,FALSE)","v":"Employee Job Title 29"},null,null,null,null,null,null,{"$f":"+PACKT01Table[[#This Row],[6]]","v":0},{"$f":"+PACKT01Table[[#This Row],[6]]","v":0},{"$f":"+PACKT01Table[[#This Row],[6]]","v":0},{"$f":"+PACKT01Table[[#This Row],[6]]","v":0},{"$f":"+PACKT01Table[[#This Row],[6]]","v":0},{"$f":"+PACKT01Table[[#This Row],[6]]","v":0},{"$f":"VLOOKUP(PACKT01Table[[#This Row],[EmployeeID]],EmployeeListLookupTable[#All],7,FALSE)=\"Y\"","v":true}]
[null,"EMP0030",{"$f":"VLOOKUP(PACKT01Table[[#This Row],[EmployeeID]],EmployeeListLookupTable[],2,FALSE)","v":"EMPN030"},{"$f":"VLOOKUP(PACKT01Table[[#This Row],[EmployeeID]],EmployeeListLookupTable[],3,FALSE)","v":"Employee Name 30"},{"$f":"VLOOKUP(PACKT01Table[[#This Row],[EmployeeID]],EmployeeListLookupTable[],4,FALSE)","v":"Employee Job Title 30"},null,null,null,null,null,null,{"$f":"+PACKT01Table[[#This Row],[6]]","v":0},{"$f":"+PACKT01Table[[#This Row],[6]]","v":0},{"$f":"+PACKT01Table[[#This Row],[6]]","v":0},{"$f":"+PACKT01Table[[#This Row],[6]]","v":0},{"$f":"+PACKT01Table[[#This Row],[6]]","v":0},{"$f":"+PACKT01Table[[#This Row],[6]]","v":0},{"$f":"VLOOKUP(PACKT01Table[[#This Row],[EmployeeID]],EmployeeListLookupTable[#All],7,FALSE)=\"Y\"","v":true}]
[null,"EMP0031",{"$f":"VLOOKUP(PACKT01Table[[#This Row],[EmployeeID]],EmployeeListLookupTable[],2,FALSE)","v":"EMPN031"},{"$f":"VLOOKUP(PACKT01Table[[#This Row],[EmployeeID]],EmployeeListLookupTable[],3,FALSE)","v":"Employee Name 31"},{"$f":"VLOOKUP(PACKT01Table[[#This Row],[EmployeeID]],EmployeeListLookupTable[],4,FALSE)","v":"Employee Job Title 31"},null,null,null,null,null,null,{"$f":"+PACKT01Table[[#This Row],[6]]","v":0},{"$f":"+PACKT01Table[[#This Row],[6]]","v":0},{"$f":"+PACKT01Table[[#This Row],[6]]","v":0},{"$f":"+PACKT01Table[[#This Row],[6]]","v":0},{"$f":"+PACKT01Table[[#This Row],[6]]","v":0},{"$f":"+PACKT01Table[[#This Row],[6]]","v":0},{"$f":"VLOOKUP(PACKT01Table[[#This Row],[EmployeeID]],EmployeeListLookupTable[#All],7,FALSE)=\"Y\"","v":true}]
[null,"EMP0032",{"$f":"VLOOKUP(PACKT01Table[[#This Row],[EmployeeID]],EmployeeListLookupTable[],2,FALSE)","v":"EMPN032"},{"$f":"VLOOKUP(PACKT01Table[[#This Row],[EmployeeID]],EmployeeListLookupTable[],3,FALSE)","v":"Employee Name 32"},{"$f":"VLOOKUP(PACKT01Table[[#This Row],[EmployeeID]],EmployeeListLookupTable[],4,FALSE)","v":"Employee Job Title 32"},null,null,null,null,null,null,{"$f":"+PACKT01Table[[#This Row],[6]]","v":0},{"$f":"+PACKT01Table[[#This Row],[6]]","v":0},{"$f":"+PACKT01Table[[#This Row],[6]]","v":0},{"$f":"+PACKT01Table[[#This Row],[6]]","v":0},{"$f":"+PACKT01Table[[#This Row],[6]]","v":0},{"$f":"+PACKT01Table[[#This Row],[6]]","v":0},{"$f":"VLOOKUP(PACKT01Table[[#This Row],[EmployeeID]],EmployeeListLookupTable[#All],7,FALSE)=\"Y\"","v":true}]
[null,"EMP0033",{"$f":"VLOOKUP(PACKT01Table[[#This Row],[EmployeeID]],EmployeeListLookupTable[],2,FALSE)","v":"EMPN033"},{"$f":"VLOOKUP(PACKT01Table[[#This Row],[EmployeeID]],EmployeeListLookupTable[],3,FALSE)","v":"Employee Name 33"},{"$f":"VLOOKUP(PACKT01Table[[#This Row],[EmployeeID]],EmployeeListLookupTable[],4,FALSE)","v":"Employee Job Title 33"},null,null,null,null,null,null,{"$f":"+PACKT01Table[[#This Row],[6]]","v":0},{"$f":"+PACKT01Table[[#This Row],[6]]","v":0},{"$f":"+PACKT01Table[[#This Row],[6]]","v":0},{"$f":"+PACKT01Table[[#This Row],[6]]","v":0},{"$f":"+PACKT01Table[[#This Row],[6]]","v":0},{"$f":"+PACKT01Table[[#This Row],[6]]","v":0},{"$f":"VLOOKUP(PACKT01Table[[#This Row],[EmployeeID]],EmployeeListLookupTable[#All],7,FALSE)=\"Y\"","v":true}]
[null,"EMP0034",{"$f":"VLOOKUP(PACKT01Table[[#This Row],[EmployeeID]],EmployeeListLookupTable[],2,FALSE)","v":"EMPN034"},{"$f":"VLOOKUP(PACKT01Table[[#This Row],[EmployeeID]],EmployeeListLookupTable[],3,FALSE)","v":"Employee Name 34"},{"$f":"VLOOKUP(PACKT01Table[[#This Row],[EmployeeID]],EmployeeListLookupTable[],4,FALSE)","v":"Employee Job Title 34"},null,null,null,null,null,null,{"$f":"+PACKT01Table[[#This Row],[6]]","v":0},{"$f":"+PACKT01Table[[#This Row],[6]]","v":0},{"$f":"+PACKT01Table[[#This Row],[6]]","v":0},{"$f":"+PACKT01Table[[#This Row],[6]]","v":0},{"$f":"+PACKT01Table[[#This Row],[6]]","v":0},{"$f":"+PACKT01Table[[#This Row],[6]]","v":0},{"$f":"VLOOKUP(PACKT01Table[[#This Row],[EmployeeID]],EmployeeListLookupTable[#All],7,FALSE)=\"Y\"","v":true}]
[null,"EMP0035",{"$f":"VLOOKUP(PACKT01Table[[#This Row],[EmployeeID]],EmployeeListLookupTable[],2,FALSE)","v":"EMPN035"},{"$f":"VLOOKUP(PACKT01Table[[#This Row],[EmployeeID]],EmployeeListLookupTable[],3,FALSE)","v":"Employee Name 35"},{"$f":"VLOOKUP(PACKT01Table[[#This Row],[EmployeeID]],EmployeeListLookupTable[],4,FALSE)","v":"Employee Job Title 35"},null,null,null,null,null,null,{"$f":"+PACKT01Table[[#This Row],[6]]","v":0},{"$f":"+PACKT01Table[[#This Row],[6]]","v":0},{"$f":"+PACKT01Table[[#This Row],[6]]","v":0},{"$f":"+PACKT01Table[[#This Row],[6]]","v":0},{"$f":"+PACKT01Table[[#This Row],[6]]","v":0},{"$f":"+PACKT01Table[[#This Row],[6]]","v":0},{"$f":"VLOOKUP(PACKT01Table[[#This Row],[EmployeeID]],EmployeeListLookupTable[#All],7,FALSE)=\"Y\"","v":true}]
[null,"EMP0036",{"$f":"VLOOKUP(PACKT01Table[[#This Row],[EmployeeID]],EmployeeListLookupTable[],2,FALSE)","v":"EMPN036"},{"$f":"VLOOKUP(PACKT01Table[[#This Row],[EmployeeID]],EmployeeListLookupTable[],3,FALSE)","v":"Employee Name 36"},{"$f":"VLOOKUP(PACKT01Table[[#This Row],[EmployeeID]],EmployeeListLookupTable[],4,FALSE)","v":"Employee Job Title 36"},null,null,null,null,null,null,{"$f":"+PACKT01Table[[#This Row],[6]]","v":0},{"$f":"+PACKT01Table[[#This Row],[6]]","v":0},{"$f":"+PACKT01Table[[#This Row],[6]]","v":0},{"$f":"+PACKT01Table[[#This Row],[6]]","v":0},{"$f":"+PACKT01Table[[#This Row],[6]]","v":0},{"$f":"+PACKT01Table[[#This Row],[6]]","v":0},{"$f":"VLOOKUP(PACKT01Table[[#This Row],[EmployeeID]],EmployeeListLookupTable[#All],7,FALSE)=\"Y\"","v":true}]
[null,"EMP0037",{"$f":"VLOOKUP(PACKT01Table[[#This Row],[EmployeeID]],EmployeeListLookupTable[],2,FALSE)","v":"EMPN037"},{"$f":"VLOOKUP(PACKT01Table[[#This Row],[EmployeeID]],EmployeeListLookupTable[],3,FALSE)","v":"Employee Name 37"},{"$f":"VLOOKUP(PACKT01Table[[#This Row],[EmployeeID]],EmployeeListLookupTable[],4,FALSE)","v":"Employee Job Title 37"},null,null,null,null,null,null,{"$f":"+PACKT01Table[[#This Row],[6]]","v":0},{"$f":"+PACKT01Table[[#This Row],[6]]","v":0},{"$f":"+PACKT01Table[[#This Row],[6]]","v":0},{"$f":"+PACKT01Table[[#This Row],[6]]","v":0},{"$f":"+PACKT01Table[[#This Row],[6]]","v":0},{"$f":"+PACKT01Table[[#This Row],[6]]","v":0},{"$f":"VLOOKUP(PACKT01Table[[#This Row],[EmployeeID]],EmployeeListLookupTable[#All],7,FALSE)=\"Y\"","v":true}]
[null,"EMP0038",{"$f":"VLOOKUP(PACKT01Table[[#This Row],[EmployeeID]],EmployeeListLookupTable[],2,FALSE)","v":"EMPN038"},{"$f":"VLOOKUP(PACKT01Table[[#This Row],[EmployeeID]],EmployeeListLookupTable[],3,FALSE)","v":"Employee Name 38"},{"$f":"VLOOKUP(PACKT01Table[[#This Row],[EmployeeID]],EmployeeListLookupTable[],4,FALSE)","v":"Employee Job Title 38"},null,null,null,null,null,null,{"$f":"+PACKT01Table[[#This Row],[6]]","v":0},{"$f":"+PACKT01Table[[#This Row],[6]]","v":0},{"$f":"+PACKT01Table[[#This Row],[6]]","v":0},{"$f":"+PACKT01Table[[#This Row],[6]]","v":0},{"$f":"+PACKT01Table[[#This Row],[6]]","v":0},{"$f":"+PACKT01Table[[#This Row],[6]]","v":0},{"$f":"VLOOKUP(PACKT01Table[[#This Row],[EmployeeID]],EmployeeListLookupTable[#All],7,FALSE)=\"Y\"","v":true}]
[null,"EMP0039",{"$f":"VLOOKUP(PACKT01Table[[#This Row],[EmployeeID]],EmployeeListLookupTable[],2,FALSE)","v":"EMPN039"},{"$f":"VLOOKUP(PACKT01Table[[#This Row],[EmployeeID]],EmployeeListLookupTable[],3,FALSE)","v":"Employee Name 39"},{"$f":"VLOOKUP(PACKT01Table[[#This Row],[EmployeeID]],EmployeeListLookupTable[],4,FALSE)","v":"Employee Job Title 39"},null,null,null,null,null,null,{"$f":"+PACKT01Table[[#This Row],[6]]","v":0},{"$f":"+PACKT01Table[[#This Row],[6]]","v":0},{"$f":"+PACKT01Table[[#This Row],[6]]","v":0},{"$f":"+PACKT01Table[[#This Row],[6]]","v":0},{"$f":"+PACKT01Table[[#This Row],[6]]","v":0},{"$f":"+PACKT01Table[[#This Row],[6]]","v":0},{"$f":"VLOOKUP(PACKT01Table[[#This Row],[EmployeeID]],EmployeeListLookupTable[#All],7,FALSE)=\"Y\"","v":true}]
[null,"EMP0040",{"$f":"VLOOKUP(PACKT01Table[[#This Row],[EmployeeID]],EmployeeListLookupTable[],2,FALSE)","v":"EMPN040"},{"$f":"VLOOKUP(PACKT01Table[[#This Row],[EmployeeID]],EmployeeListLookupTable[],3,FALSE)","v":"Employee Name 40"},{"$f":"VLOOKUP(PACKT01Table[[#This Row],[EmployeeID]],EmployeeListLookupTable[],4,FALSE)","v":"Employee Job Title 40"},null,null,null,null,null,null,{"$f":"+PACKT01Table[[#This Row],[6]]","v":0},{"$f":"+PACKT01Table[[#This Row],[6]]","v":0},{"$f":"+PACKT01Table[[#This Row],[6]]","v":0},{"$f":"+PACKT01Table[[#This Row],[6]]","v":0},{"$f":"+PACKT01Table[[#This Row],[6]]","v":0},{"$f":"+PACKT01Table[[#This Row],[6]]","v":0},{"$f":"VLOOKUP(PACKT01Table[[#This Row],[EmployeeID]],EmployeeListLookupTable[#All],7,FALSE)=\"Y\"","v":true}]
[null,"EMP0041",{"$f":"VLOOKUP(PACKT01Table[[#This Row],[EmployeeID]],EmployeeListLookupTable[],2,FALSE)","v":"EMPN041"},{"$f":"VLOOKUP(PACKT01Table[[#This Row],[EmployeeID]],EmployeeListLookupTable[],3,FALSE)","v":"Employee Name 41"},{"$f":"VLOOKUP(PACKT01Table[[#This Row],[EmployeeID]],EmployeeListLookupTable[],4,FALSE)","v":"Employee Job Title 41"},null,null,null,null,null,null,{"$f":"+PACKT01Table[[#This Row],[6]]","v":0},{"$f":"+PACKT01Table[[#This Row],[6]]","v":0},{"$f":"+PACKT01Table[[#This Row],[6]]","v":0},{"$f":"+PACKT01Table[[#This Row],[6]]","v":0},{"$f":"+PACKT01Table[[#This Row],[6]]","v":0},{"$f":"+PACKT01Table[[#This Row],[6]]","v":0},{"$f":"VLOOKUP(PACKT01Table[[#This Row],[EmployeeID]],EmployeeListLookupTable[#All],7,FALSE)=\"Y\"","v":true}]
[null,"EMP0042",{"$f":"VLOOKUP(PACKT01Table[[#This Row],[EmployeeID]],EmployeeListLookupTable[],2,FALSE)","v":"EMPN042"},{"$f":"VLOOKUP(PACKT01Table[[#This Row],[EmployeeID]],EmployeeListLookupTable[],3,FALSE)","v":"Employee Name 42"},{"$f":"VLOOKUP(PACKT01Table[[#This Row],[EmployeeID]],EmployeeListLookupTable[],4,FALSE)","v":"Employee Job Title 42"},null,null,null,null,null,null,{"$f":"+PACKT01Table[[#This Row],[6]]","v":0},{"$f":"+PACKT01Table[[#This Row],[6]]","v":0},{"$f":"+PACKT01Table[[#This Row],[6]]","v":0},{"$f":"+PACKT01Table[[#This Row],[6]]","v":0},{"$f":"+PACKT01Table[[#This Row],[6]]","v":0},{"$f":"+PACKT01Table[[#This Row],[6]]","v":0},{"$f":"VLOOKUP(PACKT01Table[[#This Row],[EmployeeID]],EmployeeListLookupTable[#All],7,FALSE)=\"Y\"","v":true}]
[null,"EMP0043",{"$f":"VLOOKUP(PACKT01Table[[#This Row],[EmployeeID]],EmployeeListLookupTable[],2,FALSE)","v":"EMPN043"},{"$f":"VLOOKUP(PACKT01Table[[#This Row],[EmployeeID]],EmployeeListLookupTable[],3,FALSE)","v":"Employee Name 43"},{"$f":"VLOOKUP(PACKT01Table[[#This Row],[EmployeeID]],EmployeeListLookupTable[],4,FALSE)","v":"Employee Job Title 43"},null,null,null,null,null,null,{"$f":"+PACKT01Table[[#This Row],[6]]","v":0},{"$f":"+PACKT01Table[[#This Row],[6]]","v":0},{"$f":"+PACKT01Table[[#This Row],[6]]","v":0},{"$f":"+PACKT01Table[[#This Row],[6]]","v":0},{"$f":"+PACKT01Table[[#This Row],[6]]","v":0},{"$f":"+PACKT01Table[[#This Row],[6]]","v":0},{"$f":"VLOOKUP(PACKT01Table[[#This Row],[EmployeeID]],EmployeeListLookupTable[#All],7,FALSE)=\"Y\"","v":true}]
[null,"EMP0044",{"$f":"VLOOKUP(PACKT01Table[[#This Row],[EmployeeID]],EmployeeListLookupTable[],2,FALSE)","v":"EMPN044"},{"$f":"VLOOKUP(PACKT01Table[[#This Row],[EmployeeID]],EmployeeListLookupTable[],3,FALSE)","v":"Employee Name 44"},{"$f":"VLOOKUP(PACKT01Table[[#This Row],[EmployeeID]],EmployeeListLookupTable[],4,FALSE)","v":"Employee Job Title 44"},null,null,null,null,null,null,{"$f":"+PACKT01Table[[#This Row],[6]]","v":0},{"$f":"+PACKT01Table[[#This Row],[6]]","v":0},{"$f":"+PACKT01Table[[#This Row],[6]]","v":0},{"$f":"+PACKT01Table[[#This Row],[6]]","v":0},{"$f":"+PACKT01Table[[#This Row],[6]]","v":0},{"$f":"+PACKT01Table[[#This Row],[6]]","v":0},{"$f":"VLOOKUP(PACKT01Table[[#This Row],[EmployeeID]],EmployeeListLookupTable[#All],7,FALSE)=\"Y\"","v":true}]
[null,"EMP0045",{"$f":"VLOOKUP(PACKT01Table[[#This Row],[EmployeeID]],EmployeeListLookupTable[],2,FALSE)","v":"EMPN045"},{"$f":"VLOOKUP(PACKT01Table[[#This Row],[EmployeeID]],EmployeeListLookupTable[],3,FALSE)","v":"Employee Name 45"},{"$f":"VLOOKUP(PACKT01Table[[#This Row],[EmployeeID]],EmployeeListLookupTable[],4,FALSE)","v":"Employee Job Title 45"},null,null,null,null,null,null,{"$f":"+PACKT01Table[[#This Row],[6]]","v":0},{"$f":"+PACKT01Table[[#This Row],[6]]","v":0},{"$f":"+PACKT01Table[[#This Row],[6]]","v":0},{"$f":"+PACKT01Table[[#This Row],[6]]","v":0},{"$f":"+PACKT01Table[[#This Row],[6]]","v":0},{"$f":"+PACKT01Table[[#This Row],[6]]","v":0},{"$f":"VLOOKUP(PACKT01Table[[#This Row],[EmployeeID]],EmployeeListLookupTable[#All],7,FALSE)=\"Y\"","v":true}]
[null,"EMP0046",{"$f":"VLOOKUP(PACKT01Table[[#This Row],[EmployeeID]],EmployeeListLookupTable[],2,FALSE)","v":"EMPN046"},{"$f":"VLOOKUP(PACKT01Table[[#This Row],[EmployeeID]],EmployeeListLookupTable[],3,FALSE)","v":"Employee Name 46"},{"$f":"VLOOKUP(PACKT01Table[[#This Row],[EmployeeID]],EmployeeListLookupTable[],4,FALSE)","v":"Employee Job Title 46"},null,null,null,null,null,null,{"$f":"+PACKT01Table[[#This Row],[6]]","v":0},{"$f":"+PACKT01Table[[#This Row],[6]]","v":0},{"$f":"+PACKT01Table[[#This Row],[6]]","v":0},{"$f":"+PACKT01Table[[#This Row],[6]]","v":0},{"$f":"+PACKT01Table[[#This Row],[6]]","v":0},{"$f":"+PACKT01Table[[#This Row],[6]]","v":0},{"$f":"VLOOKUP(PACKT01Table[[#This Row],[EmployeeID]],EmployeeListLookupTable[#All],7,FALSE)=\"Y\"","v":true}]
[null,"EMP0047",{"$f":"VLOOKUP(PACKT01Table[[#This Row],[EmployeeID]],EmployeeListLookupTable[],2,FALSE)","v":"EMPN047"},{"$f":"VLOOKUP(PACKT01Table[[#This Row],[EmployeeID]],EmployeeListLookupTable[],3,FALSE)","v":"Employee Name 47"},{"$f":"VLOOKUP(PACKT01Table[[#This Row],[EmployeeID]],EmployeeListLookupTable[],4,FALSE)","v":"Employee Job Title 47"},null,null,null,null,null,null,{"$f":"+PACKT01Table[[#This Row],[6]]","v":0},{"$f":"+PACKT01Table[[#This Row],[6]]","v":0},{"$f":"+PACKT01Table[[#This Row],[6]]","v":0},{"$f":"+PACKT01Table[[#This Row],[6]]","v":0},{"$f":"+PACKT01Table[[#This Row],[6]]","v":0},{"$f":"+PACKT01Table[[#This Row],[6]]","v":0},{"$f":"VLOOKUP(PACKT01Table[[#This Row],[EmployeeID]],EmployeeListLookupTable[#All],7,FALSE)=\"Y\"","v":true}]
[null,"EMP0048",{"$f":"VLOOKUP(PACKT01Table[[#This Row],[EmployeeID]],EmployeeListLookupTable[],2,FALSE)","v":"EMPN048"},{"$f":"VLOOKUP(PACKT01Table[[#This Row],[EmployeeID]],EmployeeListLookupTable[],3,FALSE)","v":"Employee Name 48"},{"$f":"VLOOKUP(PACKT01Table[[#This Row],[EmployeeID]],EmployeeListLookupTable[],4,FALSE)","v":"Employee Job Title 48"},null,null,null,null,null,null,{"$f":"+PACKT01Table[[#This Row],[6]]","v":0},{"$f":"+PACKT01Table[[#This Row],[6]]","v":0},{"$f":"+PACKT01Table[[#This Row],[6]]","v":0},{"$f":"+PACKT01Table[[#This Row],[6]]","v":0},{"$f":"+PACKT01Table[[#This Row],[6]]","v":0},{"$f":"+PACKT01Table[[#This Row],[6]]","v":0},{"$f":"VLOOKUP(PACKT01Table[[#This Row],[EmployeeID]],EmployeeListLookupTable[#All],7,FALSE)=\"Y\"","v":true}]
[null,"EMP0049",{"$f":"VLOOKUP(PACKT01Table[[#This Row],[EmployeeID]],EmployeeListLookupTable[],2,FALSE)","v":"EMPN049"},{"$f":"VLOOKUP(PACKT01Table[[#This Row],[EmployeeID]],EmployeeListLookupTable[],3,FALSE)","v":"Employee Name 49"},{"$f":"VLOOKUP(PACKT01Table[[#This Row],[EmployeeID]],EmployeeListLookupTable[],4,FALSE)","v":"Employee Job Title 49"},null,null,null,null,null,null,{"$f":"+PACKT01Table[[#This Row],[6]]","v":0},{"$f":"+PACKT01Table[[#This Row],[6]]","v":0},{"$f":"+PACKT01Table[[#This Row],[6]]","v":0},{"$f":"+PACKT01Table[[#This Row],[6]]","v":0},{"$f":"+PACKT01Table[[#This Row],[6]]","v":0},{"$f":"+PACKT01Table[[#This Row],[6]]","v":0},{"$f":"VLOOKUP(PACKT01Table[[#This Row],[EmployeeID]],EmployeeListLookupTable[#All],7,FALSE)=\"Y\"","v":true}]
[null,"EMP0050",{"$f":"VLOOKUP(PACKT01Table[[#This Row],[EmployeeID]],EmployeeListLookupTable[],2,FALSE)","v":"EMPN050"},{"$f":"VLOOKUP(PACKT01Table[[#This Row],[EmployeeID]],EmployeeListLookupTable[],3,FALSE)","v":"Employee Name 50"},{"$f":"VLOOKUP(PACKT01Table[[#This Row],[EmployeeID]],EmployeeListLookupTable[],4,FALSE)","v":"Employee Job Title 50"},null,null,null,null,null,null,{"$f":"+PACKT01Table[[#This Row],[6]]","v":0},{"$f":"+PACKT01Table[[#This Row],[6]]","v":0},{"$f":"+PACKT01Table[[#This Row],[6]]","v":0},{"$f":"+PACKT01Table[[#This Row],[6]]","v":0},{"$f":"+PACKT01Table[[#This Row],[6]]","v":0},{"$f":"+PACKT01Table[[#This Row],[6]]","v":0},{"$f":"VLOOKUP(PACKT01Table[[#This Row],[EmployeeID]],EmployeeListLookupTable[#All],7,FALSE)=\"Y\"","v":true}]
[null,"EMP0051",{"$f":"VLOOKUP(PACKT01Table[[#This Row],[EmployeeID]],EmployeeListLookupTable[],2,FALSE)","v":"EMPN051"},{"$f":"VLOOKUP(PACKT01Table[[#This Row],[EmployeeID]],EmployeeListLookupTable[],3,FALSE)","v":"Employee Name 51"},{"$f":"VLOOKUP(PACKT01Table[[#This Row],[EmployeeID]],EmployeeListLookupTable[],4,FALSE)","v":"Employee Job Title 51"},null,null,null,null,null,null,{"$f":"+PACKT01Table[[#This Row],[6]]","v":0},{"$f":"+PACKT01Table[[#This Row],[6]]","v":0},{"$f":"+PACKT01Table[[#This Row],[6]]","v":0},{"$f":"+PACKT01Table[[#This Row],[6]]","v":0},{"$f":"+PACKT01Table[[#This Row],[6]]","v":0},{"$f":"+PACKT01Table[[#This Row],[6]]","v":0},{"$f":"VLOOKUP(PACKT01Table[[#This Row],[EmployeeID]],EmployeeListLookupTable[#All],7,FALSE)=\"Y\"","v":true}]
[null,"EMP0052",{"$f":"VLOOKUP(PACKT01Table[[#This Row],[EmployeeID]],EmployeeListLookupTable[],2,FALSE)","v":"EMPN052"},{"$f":"VLOOKUP(PACKT01Table[[#This Row],[EmployeeID]],EmployeeListLookupTable[],3,FALSE)","v":"Employee Name 52"},{"$f":"VLOOKUP(PACKT01Table[[#This Row],[EmployeeID]],EmployeeListLookupTable[],4,FALSE)","v":"Employee Job Title 52"},null,null,null,null,null,null,{"$f":"+PACKT01Table[[#This Row],[6]]","v":0},{"$f":"+PACKT01Table[[#This Row],[6]]","v":0},{"$f":"+PACKT01Table[[#This Row],[6]]","v":0},{"$f":"+PACKT01Table[[#This Row],[6]]","v":0},{"$f":"+PACKT01Table[[#This Row],[6]]","v":0},{"$f":"+PACKT01Table[[#This Row],[6]]","v":0},{"$f":"VLOOKUP(PACKT01Table[[#This Row],[EmployeeID]],EmployeeListLookupTable[#All],7,FALSE)=\"Y\"","v":true}]
[null,"EMP0053",{"$f":"VLOOKUP(PACKT01Table[[#This Row],[EmployeeID]],EmployeeListLookupTable[],2,FALSE)","v":"EMPN053"},{"$f":"VLOOKUP(PACKT01Table[[#This Row],[EmployeeID]],EmployeeListLookupTable[],3,FALSE)","v":"Employee Name 53"},{"$f":"VLOOKUP(PACKT01Table[[#This Row],[EmployeeID]],EmployeeListLookupTable[],4,FALSE)","v":"Employee Job Title 53"},null,null,null,null,null,null,{"$f":"+PACKT01Table[[#This Row],[6]]","v":0},{"$f":"+PACKT01Table[[#This Row],[6]]","v":0},{"$f":"+PACKT01Table[[#This Row],[6]]","v":0},{"$f":"+PACKT01Table[[#This Row],[6]]","v":0},{"$f":"+PACKT01Table[[#This Row],[6]]","v":0},{"$f":"+PACKT01Table[[#This Row],[6]]","v":0},{"$f":"VLOOKUP(PACKT01Table[[#This Row],[EmployeeID]],EmployeeListLookupTable[#All],7,FALSE)=\"Y\"","v":true}]
[null,"EMP0054",{"$f":"VLOOKUP(PACKT01Table[[#This Row],[EmployeeID]],EmployeeListLookupTable[],2,FALSE)","v":"EMPN054"},{"$f":"VLOOKUP(PACKT01Table[[#This Row],[EmployeeID]],EmployeeListLookupTable[],3,FALSE)","v":"Employee Name 54"},{"$f":"VLOOKUP(PACKT01Table[[#This Row],[EmployeeID]],EmployeeListLookupTable[],4,FALSE)","v":"Employee Job Title 54"},null,null,null,null,null,null,{"$f":"+PACKT01Table[[#This Row],[6]]","v":0},{"$f":"+PACKT01Table[[#This Row],[6]]","v":0},{"$f":"+PACKT01Table[[#This Row],[6]]","v":0},{"$f":"+PACKT01Table[[#This Row],[6]]","v":0},{"$f":"+PACKT01Table[[#This Row],[6]]","v":0},{"$f":"+PACKT01Table[[#This Row],[6]]","v":0},{"$f":"VLOOKUP(PACKT01Table[[#This Row],[EmployeeID]],EmployeeListLookupTable[#All],7,FALSE)=\"Y\"","v":true}]
[null,"EMP0055",{"$f":"VLOOKUP(PACKT01Table[[#This Row],[EmployeeID]],EmployeeListLookupTable[],2,FALSE)","v":"EMPN055"},{"$f":"VLOOKUP(PACKT01Table[[#This Row],[EmployeeID]],EmployeeListLookupTable[],3,FALSE)","v":"Employee Name 55"},{"$f":"VLOOKUP(PACKT01Table[[#This Row],[EmployeeID]],EmployeeListLookupTable[],4,FALSE)","v":"Employee Job Title 55"},null,null,null,null,null,null,{"$f":"+PACKT01Table[[#This Row],[6]]","v":0},{"$f":"+PACKT01Table[[#This Row],[6]]","v":0},{"$f":"+PACKT01Table[[#This Row],[6]]","v":0},{"$f":"+PACKT01Table[[#This Row],[6]]","v":0},{"$f":"+PACKT01Table[[#This Row],[6]]","v":0},{"$f":"+PACKT01Table[[#This Row],[6]]","v":0},{"$f":"VLOOKUP(PACKT01Table[[#This Row],[EmployeeID]],EmployeeListLookupTable[#All],7,FALSE)=\"Y\"","v":true}]
[null,"EMP0056",{"$f":"VLOOKUP(PACKT01Table[[#This Row],[EmployeeID]],EmployeeListLookupTable[],2,FALSE)","v":"EMPN056"},{"$f":"VLOOKUP(PACKT01Table[[#This Row],[EmployeeID]],EmployeeListLookupTable[],3,FALSE)","v":"Employee Name 56"},{"$f":"VLOOKUP(PACKT01Table[[#This Row],[EmployeeID]],EmployeeListLookupTable[],4,FALSE)","v":"Employee Job Title 56"},null,null,null,null,null,null,{"$f":"+PACKT01Table[[#This Row],[6]]","v":0},{"$f":"+PACKT01Table[[#This Row],[6]]","v":0},{"$f":"+PACKT01Table[[#This Row],[6]]","v":0},{"$f":"+PACKT01Table[[#This Row],[6]]","v":0},{"$f":"+PACKT01Table[[#This Row],[6]]","v":0},{"$f":"+PACKT01Table[[#This Row],[6]]","v":0},{"$f":"VLOOKUP(PACKT01Table[[#This Row],[EmployeeID]],EmployeeListLookupTable[#All],7,FALSE)=\"Y\"","v":true}]
[null,"EMP0057",{"$f":"VLOOKUP(PACKT01Table[[#This Row],[EmployeeID]],EmployeeListLookupTable[],2,FALSE)","v":"EMPN057"},{"$f":"VLOOKUP(PACKT01Table[[#This Row],[EmployeeID]],EmployeeListLookupTable[],3,FALSE)","v":"Employee Name 57"},{"$f":"VLOOKUP(PACKT01Table[[#This Row],[EmployeeID]],EmployeeListLookupTable[],4,FALSE)","v":"Employee Job Title 57"},null,null,null,null,null,null,{"$f":"+PACKT01Table[[#This Row],[6]]","v":0},{"$f":"+PACKT01Table[[#This Row],[6]]","v":0},{"$f":"+PACKT01Table[[#This Row],[6]]","v":0},{"$f":"+PACKT01Table[[#This Row],[6]]","v":0},{"$f":"+PACKT01Table[[#This Row],[6]]","v":0},{"$f":"+PACKT01Table[[#This Row],[6]]","v":0},{"$f":"VLOOKUP(PACKT01Table[[#This Row],[EmployeeID]],EmployeeListLookupTable[#All],7,FALSE)=\"Y\"","v":true}]
[null,"EMP0058",{"$f":"VLOOKUP(PACKT01Table[[#This Row],[EmployeeID]],EmployeeListLookupTable[],2,FALSE)","v":"EMPN058"},{"$f":"VLOOKUP(PACKT01Table[[#This Row],[EmployeeID]],EmployeeListLookupTable[],3,FALSE)","v":"Employee Name 58"},{"$f":"VLOOKUP(PACKT01Table[[#This Row],[EmployeeID]],EmployeeListLookupTable[],4,FALSE)","v":"Employee Job Title 58"},null,null,null,null,null,null,{"$f":"+PACKT01Table[[#This Row],[6]]","v":0},{"$f":"+PACKT01Table[[#This Row],[6]]","v":0},{"$f":"+PACKT01Table[[#This Row],[6]]","v":0},{"$f":"+PACKT01Table[[#This Row],[6]]","v":0},{"$f":"+PACKT01Table[[#This Row],[6]]","v":0},{"$f":"+PACKT01Table[[#This Row],[6]]","v":0},{"$f":"VLOOKUP(PACKT01Table[[#This Row],[EmployeeID]],EmployeeListLookupTable[#All],7,FALSE)=\"Y\"","v":true}]
[null,"EMP0059",{"$f":"VLOOKUP(PACKT01Table[[#This Row],[EmployeeID]],EmployeeListLookupTable[],2,FALSE)","v":"EMPN059"},{"$f":"VLOOKUP(PACKT01Table[[#This Row],[EmployeeID]],EmployeeListLookupTable[],3,FALSE)","v":"Employee Name 59"},{"$f":"VLOOKUP(PACKT01Table[[#This Row],[EmployeeID]],EmployeeListLookupTable[],4,FALSE)","v":"Employee Job Title 59"},null,null,null,null,null,null,{"$f":"+PACKT01Table[[#This Row],[6]]","v":0},{"$f":"+PACKT01Table[[#This Row],[6]]","v":0},{"$f":"+PACKT01Table[[#This Row],[6]]","v":0},{"$f":"+PACKT01Table[[#This Row],[6]]","v":0},{"$f":"+PACKT01Table[[#This Row],[6]]","v":0},{"$f":"+PACKT01Table[[#This Row],[6]]","v":0},{"$f":"VLOOKUP(PACKT01Table[[#This Row],[EmployeeID]],EmployeeListLookupTable[#All],7,FALSE)=\"Y\"","v":true}]
[null,"EMP0060",{"$f":"VLOOKUP(PACKT01Table[[#This Row],[EmployeeID]],EmployeeListLookupTable[],2,FALSE)","v":"EMPN060"},{"$f":"VLOOKUP(PACKT01Table[[#This Row],[EmployeeID]],EmployeeListLookupTable[],3,FALSE)","v":"Employee Name 60"},{"$f":"VLOOKUP(PACKT01Table[[#This Row],[EmployeeID]],EmployeeListLookupTable[],4,FALSE)","v":"Employee Job Title 60"},null,null,null,null,null,null,{"$f":"+PACKT01Table[[#This Row],[6]]","v":0},{"$f":"+PACKT01Table[[#This Row],[6]]","v":0},{"$f":"+PACKT01Table[[#This Row],[6]]","v":0},{"$f":"+PACKT01Table[[#This Row],[6]]","v":0},{"$f":"+PACKT01Table[[#This Row],[6]]","v":0},{"$f":"+PACKT01Table[[#This Row],[6]]","v":0},{"$f":"VLOOKUP(PACKT01Table[[#This Row],[EmployeeID]],EmployeeListLookupTable[#All],7,FALSE)=\"Y\"","v":true}]
[null,"EMP0061",{"$f":"VLOOKUP(PACKT01Table[[#This Row],[EmployeeID]],EmployeeListLookupTable[],2,FALSE)","v":"EMPN061"},{"$f":"VLOOKUP(PACKT01Table[[#This Row],[EmployeeID]],EmployeeListLookupTable[],3,FALSE)","v":"Employee Name 61"},{"$f":"VLOOKUP(PACKT01Table[[#This Row],[EmployeeID]],EmployeeListLookupTable[],4,FALSE)","v":"Employee Job Title 61"},null,null,null,null,null,null,{"$f":"+PACKT01Table[[#This Row],[6]]","v":0},{"$f":"+PACKT01Table[[#This Row],[6]]","v":0},{"$f":"+PACKT01Table[[#This Row],[6]]","v":0},{"$f":"+PACKT01Table[[#This Row],[6]]","v":0},{"$f":"+PACKT01Table[[#This Row],[6]]","v":0},{"$f":"+PACKT01Table[[#This Row],[6]]","v":0},{"$f":"VLOOKUP(PACKT01Table[[#This Row],[EmployeeID]],EmployeeListLookupTable[#All],7,FALSE)=\"Y\"","v":true}]
[null,"EMP0062",{"$f":"VLOOKUP(PACKT01Table[[#This Row],[EmployeeID]],EmployeeListLookupTable[],2,FALSE)","v":"EMPN062"},{"$f":"VLOOKUP(PACKT01Table[[#This Row],[EmployeeID]],EmployeeListLookupTable[],3,FALSE)","v":"Employee Name 62"},{"$f":"VLOOKUP(PACKT01Table[[#This Row],[EmployeeID]],EmployeeListLookupTable[],4,FALSE)","v":"Employee Job Title 62"},null,null,null,null,null,null,{"$f":"+PACKT01Table[[#This Row],[6]]","v":0},{"$f":"+PACKT01Table[[#This Row],[6]]","v":0},{"$f":"+PACKT01Table[[#This Row],[6]]","v":0},{"$f":"+PACKT01Table[[#This Row],[6]]","v":0},{"$f":"+PACKT01Table[[#This Row],[6]]","v":0},{"$f":"+PACKT01Table[[#This Row],[6]]","v":0},{"$f":"VLOOKUP(PACKT01Table[[#This Row],[EmployeeID]],EmployeeListLookupTable[#All],7,FALSE)=\"Y\"","v":true}]
[null,"EMP0063",{"$f":"VLOOKUP(PACKT01Table[[#This Row],[EmployeeID]],EmployeeListLookupTable[],2,FALSE)","v":"EMPN063"},{"$f":"VLOOKUP(PACKT01Table[[#This Row],[EmployeeID]],EmployeeListLookupTable[],3,FALSE)","v":"Employee Name 63"},{"$f":"VLOOKUP(PACKT01Table[[#This Row],[EmployeeID]],EmployeeListLookupTable[],4,FALSE)","v":"Employee Job Title 63"},null,null,null,null,null,null,{"$f":"+PACKT01Table[[#This Row],[6]]","v":0},{"$f":"+PACKT01Table[[#This Row],[6]]","v":0},{"$f":"+PACKT01Table[[#This Row],[6]]","v":0},{"$f":"+PACKT01Table[[#This Row],[6]]","v":0},{"$f":"+PACKT01Table[[#This Row],[6]]","v":0},{"$f":"+PACKT01Table[[#This Row],[6]]","v":0},{"$f":"VLOOKUP(PACKT01Table[[#This Row],[EmployeeID]],EmployeeListLookupTable[#All],7,FALSE)=\"Y\"","v":true}]
[null,"EMP0064",{"$f":"VLOOKUP(PACKT01Table[[#This Row],[EmployeeID]],EmployeeListLookupTable[],2,FALSE)","v":"EMPN064"},{"$f":"VLOOKUP(PACKT01Table[[#This Row],[EmployeeID]],EmployeeListLookupTable[],3,FALSE)","v":"Employee Name 64"},{"$f":"VLOOKUP(PACKT01Table[[#This Row],[EmployeeID]],EmployeeListLookupTable[],4,FALSE)","v":"Employee Job Title 64"},null,null,null,null,null,null,{"$f":"+PACKT01Table[[#This Row],[6]]","v":0},{"$f":"+PACKT01Table[[#This Row],[6]]","v":0},{"$f":"+PACKT01Table[[#This Row],[6]]","v":0},{"$f":"+PACKT01Table[[#This Row],[6]]","v":0},{"$f":"+PACKT01Table[[#This Row],[6]]","v":0},{"$f":"+PACKT01Table[[#This Row],[6]]","v":0},{"$f":"VLOOKUP(PACKT01Table[[#This Row],[EmployeeID]],EmployeeListLookupTable[#All],7,FALSE)=\"Y\"","v":true}]
[null,"EMP0065",{"$f":"VLOOKUP(PACKT01Table[[#This Row],[EmployeeID]],EmployeeListLookupTable[],2,FALSE)","v":"EMPN065"},{"$f":"VLOOKUP(PACKT01Table[[#This Row],[EmployeeID]],EmployeeListLookupTable[],3,FALSE)","v":"Employee Name 65"},{"$f":"VLOOKUP(PACKT01Table[[#This Row],[EmployeeID]],EmployeeListLookupTable[],4,FALSE)","v":"Employee Job Title 65"},null,null,null,null,null,null,{"$f":"+PACKT01Table[[#This Row],[6]]","v":0},{"$f":"+PACKT01Table[[#This Row],[6]]","v":0},{"$f":"+PACKT01Table[[#This Row],[6]]","v":0},{"$f":"+PACKT01Table[[#This Row],[6]]","v":0},{"$f":"+PACKT01Table[[#This Row],[6]]","v":0},{"$f":"+PACKT01Table[[#This Row],[6]]","v":0},{"$f":"VLOOKUP(PACKT01Table[[#This Row],[EmployeeID]],EmployeeListLookupTable[#All],7,FALSE)=\"Y\"","v":true}]
[null,"EMP0066",{"$f":"VLOOKUP(PACKT01Table[[#This Row],[EmployeeID]],EmployeeListLookupTable[],2,FALSE)","v":"EMPN066"},{"$f":"VLOOKUP(PACKT01Table[[#This Row],[EmployeeID]],EmployeeListLookupTable[],3,FALSE)","v":"Employee Name 66"},{"$f":"VLOOKUP(PACKT01Table[[#This Row],[EmployeeID]],EmployeeListLookupTable[],4,FALSE)","v":"Employee Job Title 66"},null,null,null,null,null,null,{"$f":"+PACKT01Table[[#This Row],[6]]","v":0},{"$f":"+PACKT01Table[[#This Row],[6]]","v":0},{"$f":"+PACKT01Table[[#This Row],[6]]","v":0},{"$f":"+PACKT01Table[[#This Row],[6]]","v":0},{"$f":"+PACKT01Table[[#This Row],[6]]","v":0},{"$f":"+PACKT01Table[[#This Row],[6]]","v":0},{"$f":"VLOOKUP(PACKT01Table[[#This Row],[EmployeeID]],EmployeeListLookupTable[#All],7,FALSE)=\"Y\"","v":true}]
[null,"EMP0067",{"$f":"VLOOKUP(PACKT01Table[[#This Row],[EmployeeID]],EmployeeListLookupTable[],2,FALSE)","v":"EMPN067"},{"$f":"VLOOKUP(PACKT01Table[[#This Row],[EmployeeID]],EmployeeListLookupTable[],3,FALSE)","v":"Employee Name 67"},{"$f":"VLOOKUP(PACKT01Table[[#This Row],[EmployeeID]],EmployeeListLookupTable[],4,FALSE)","v":"Employee Job Title 67"},null,null,null,null,null,null,{"$f":"+PACKT01Table[[#This Row],[6]]","v":0},{"$f":"+PACKT01Table[[#This Row],[6]]","v":0},{"$f":"+PACKT01Table[[#This Row],[6]]","v":0},{"$f":"+PACKT01Table[[#This Row],[6]]","v":0},{"$f":"+PACKT01Table[[#This Row],[6]]","v":0},{"$f":"+PACKT01Table[[#This Row],[6]]","v":0},{"$f":"VLOOKUP(PACKT01Table[[#This Row],[EmployeeID]],EmployeeListLookupTable[#All],7,FALSE)=\"Y\"","v":true}]
[null,"EMP0068",{"$f":"VLOOKUP(PACKT01Table[[#This Row],[EmployeeID]],EmployeeListLookupTable[],2,FALSE)","v":"EMPN068"},{"$f":"VLOOKUP(PACKT01Table[[#This Row],[EmployeeID]],EmployeeListLookupTable[],3,FALSE)","v":"Employee Name 68"},{"$f":"VLOOKUP(PACKT01Table[[#This Row],[EmployeeID]],EmployeeListLookupTable[],4,FALSE)","v":"Employee Job Title 68"},null,null,null,null,null,null,{"$f":"+PACKT01Table[[#This Row],[6]]","v":0},{"$f":"+PACKT01Table[[#This Row],[6]]","v":0},{"$f":"+PACKT01Table[[#This Row],[6]]","v":0},{"$f":"+PACKT01Table[[#This Row],[6]]","v":0},{"$f":"+PACKT01Table[[#This Row],[6]]","v":0},{"$f":"+PACKT01Table[[#This Row],[6]]","v":0},{"$f":"VLOOKUP(PACKT01Table[[#This Row],[EmployeeID]],EmployeeListLookupTable[#All],7,FALSE)=\"Y\"","v":true}]
[null,"EMP0069",{"$f":"VLOOKUP(PACKT01Table[[#This Row],[EmployeeID]],EmployeeListLookupTable[],2,FALSE)","v":"EMPN069"},{"$f":"VLOOKUP(PACKT01Table[[#This Row],[EmployeeID]],EmployeeListLookupTable[],3,FALSE)","v":"Employee Name 69"},{"$f":"VLOOKUP(PACKT01Table[[#This Row],[EmployeeID]],EmployeeListLookupTable[],4,FALSE)","v":"Employee Job Title 69"},null,null,null,null,null,null,{"$f":"+PACKT01Table[[#This Row],[6]]","v":0},{"$f":"+PACKT01Table[[#This Row],[6]]","v":0},{"$f":"+PACKT01Table[[#This Row],[6]]","v":0},{"$f":"+PACKT01Table[[#This Row],[6]]","v":0},{"$f":"+PACKT01Table[[#This Row],[6]]","v":0},{"$f":"+PACKT01Table[[#This Row],[6]]","v":0},{"$f":"VLOOKUP(PACKT01Table[[#This Row],[EmployeeID]],EmployeeListLookupTable[#All],7,FALSE)=\"Y\"","v":true}]
[null,"EMP0070",{"$f":"VLOOKUP(PACKT01Table[[#This Row],[EmployeeID]],EmployeeListLookupTable[],2,FALSE)","v":"EMPN070"},{"$f":"VLOOKUP(PACKT01Table[[#This Row],[EmployeeID]],EmployeeListLookupTable[],3,FALSE)","v":"Employee Name 70"},{"$f":"VLOOKUP(PACKT01Table[[#This Row],[EmployeeID]],EmployeeListLookupTable[],4,FALSE)","v":"Employee Job Title 70"},null,null,null,null,null,null,{"$f":"+PACKT01Table[[#This Row],[6]]","v":0},{"$f":"+PACKT01Table[[#This Row],[6]]","v":0},{"$f":"+PACKT01Table[[#This Row],[6]]","v":0},{"$f":"+PACKT01Table[[#This Row],[6]]","v":0},{"$f":"+PACKT01Table[[#This Row],[6]]","v":0},{"$f":"+PACKT01Table[[#This Row],[6]]","v":0},{"$f":"VLOOKUP(PACKT01Table[[#This Row],[EmployeeID]],EmployeeListLookupTable[#All],7,FALSE)=\"Y\"","v":true}]
[null,"EMP0071",{"$f":"VLOOKUP(PACKT01Table[[#This Row],[EmployeeID]],EmployeeListLookupTable[],2,FALSE)","v":"EMPN071"},{"$f":"VLOOKUP(PACKT01Table[[#This Row],[EmployeeID]],EmployeeListLookupTable[],3,FALSE)","v":"Employee Name 71"},{"$f":"VLOOKUP(PACKT01Table[[#This Row],[EmployeeID]],EmployeeListLookupTable[],4,FALSE)","v":"Employee Job Title 71"},null,null,null,null,null,null,{"$f":"+PACKT01Table[[#This Row],[6]]","v":0},{"$f":"+PACKT01Table[[#This Row],[6]]","v":0},{"$f":"+PACKT01Table[[#This Row],[6]]","v":0},{"$f":"+PACKT01Table[[#This Row],[6]]","v":0},{"$f":"+PACKT01Table[[#This Row],[6]]","v":0},{"$f":"+PACKT01Table[[#This Row],[6]]","v":0},{"$f":"VLOOKUP(PACKT01Table[[#This Row],[EmployeeID]],EmployeeListLookupTable[#All],7,FALSE)=\"Y\"","v":true}]
[null,"EMP0072",{"$f":"VLOOKUP(PACKT01Table[[#This Row],[EmployeeID]],EmployeeListLookupTable[],2,FALSE)","v":"EMPN072"},{"$f":"VLOOKUP(PACKT01Table[[#This Row],[EmployeeID]],EmployeeListLookupTable[],3,FALSE)","v":"Employee Name 72"},{"$f":"VLOOKUP(PACKT01Table[[#This Row],[EmployeeID]],EmployeeListLookupTable[],4,FALSE)","v":"Employee Job Title 72"},null,null,null,null,null,null,{"$f":"+PACKT01Table[[#This Row],[6]]","v":0},{"$f":"+PACKT01Table[[#This Row],[6]]","v":0},{"$f":"+PACKT01Table[[#This Row],[6]]","v":0},{"$f":"+PACKT01Table[[#This Row],[6]]","v":0},{"$f":"+PACKT01Table[[#This Row],[6]]","v":0},{"$f":"+PACKT01Table[[#This Row],[6]]","v":0},{"$f":"VLOOKUP(PACKT01Table[[#This Row],[EmployeeID]],EmployeeListLookupTable[#All],7,FALSE)=\"Y\"","v":true}]
[null,"EMP0073",{"$f":"VLOOKUP(PACKT01Table[[#This Row],[EmployeeID]],EmployeeListLookupTable[],2,FALSE)","v":"EMPN073"},{"$f":"VLOOKUP(PACKT01Table[[#This Row],[EmployeeID]],EmployeeListLookupTable[],3,FALSE)","v":"Employee Name 73"},{"$f":"VLOOKUP(PACKT01Table[[#This Row],[EmployeeID]],EmployeeListLookupTable[],4,FALSE)","v":"Employee Job Title 73"},null,null,null,null,null,null,{"$f":"+PACKT01Table[[#This Row],[6]]","v":0},{"$f":"+PACKT01Table[[#This Row],[6]]","v":0},{"$f":"+PACKT01Table[[#This Row],[6]]","v":0},{"$f":"+PACKT01Table[[#This Row],[6]]","v":0},{"$f":"+PACKT01Table[[#This Row],[6]]","v":0},{"$f":"+PACKT01Table[[#This Row],[6]]","v":0},{"$f":"VLOOKUP(PACKT01Table[[#This Row],[EmployeeID]],EmployeeListLookupTable[#All],7,FALSE)=\"Y\"","v":true}]
[null,"EMP0074",{"$f":"VLOOKUP(PACKT01Table[[#This Row],[EmployeeID]],EmployeeListLookupTable[],2,FALSE)","v":"EMPN074"},{"$f":"VLOOKUP(PACKT01Table[[#This Row],[EmployeeID]],EmployeeListLookupTable[],3,FALSE)","v":"Employee Name 74"},{"$f":"VLOOKUP(PACKT01Table[[#This Row],[EmployeeID]],EmployeeListLookupTable[],4,FALSE)","v":"Employee Job Title 74"},null,null,null,null,null,null,{"$f":"+PACKT01Table[[#This Row],[6]]","v":0},{"$f":"+PACKT01Table[[#This Row],[6]]","v":0},{"$f":"+PACKT01Table[[#This Row],[6]]","v":0},{"$f":"+PACKT01Table[[#This Row],[6]]","v":0},{"$f":"+PACKT01Table[[#This Row],[6]]","v":0},{"$f":"+PACKT01Table[[#This Row],[6]]","v":0},{"$f":"VLOOKUP(PACKT01Table[[#This Row],[EmployeeID]],EmployeeListLookupTable[#All],7,FALSE)=\"Y\"","v":true}]
[null,"EMP0075",{"$f":"VLOOKUP(PACKT01Table[[#This Row],[EmployeeID]],EmployeeListLookupTable[],2,FALSE)","v":"EMPN075"},{"$f":"VLOOKUP(PACKT01Table[[#This Row],[EmployeeID]],EmployeeListLookupTable[],3,FALSE)","v":"Employee Name 75"},{"$f":"VLOOKUP(PACKT01Table[[#This Row],[EmployeeID]],EmployeeListLookupTable[],4,FALSE)","v":"Employee Job Title 75"},null,null,null,null,null,null,{"$f":"+PACKT01Table[[#This Row],[6]]","v":0},{"$f":"+PACKT01Table[[#This Row],[6]]","v":0},{"$f":"+PACKT01Table[[#This Row],[6]]","v":0},{"$f":"+PACKT01Table[[#This Row],[6]]","v":0},{"$f":"+PACKT01Table[[#This Row],[6]]","v":0},{"$f":"+PACKT01Table[[#This Row],[6]]","v":0},{"$f":"VLOOKUP(PACKT01Table[[#This Row],[EmployeeID]],EmployeeListLookupTable[#All],7,FALSE)=\"Y\"","v":true}]
[null,"EMP0076",{"$f":"VLOOKUP(PACKT01Table[[#This Row],[EmployeeID]],EmployeeListLookupTable[],2,FALSE)","v":"EMPN076"},{"$f":"VLOOKUP(PACKT01Table[[#This Row],[EmployeeID]],EmployeeListLookupTable[],3,FALSE)","v":"Employee Name 76"},{"$f":"VLOOKUP(PACKT01Table[[#This Row],[EmployeeID]],EmployeeListLookupTable[],4,FALSE)","v":"Employee Job Title 76"},null,null,null,null,null,null,{"$f":"+PACKT01Table[[#This Row],[6]]","v":0},{"$f":"+PACKT01Table[[#This Row],[6]]","v":0},{"$f":"+PACKT01Table[[#This Row],[6]]","v":0},{"$f":"+PACKT01Table[[#This Row],[6]]","v":0},{"$f":"+PACKT01Table[[#This Row],[6]]","v":0},{"$f":"+PACKT01Table[[#This Row],[6]]","v":0},{"$f":"VLOOKUP(PACKT01Table[[#This Row],[EmployeeID]],EmployeeListLookupTable[#All],7,FALSE)=\"Y\"","v":true}]
[null,"EMP0077",{"$f":"VLOOKUP(PACKT01Table[[#This Row],[EmployeeID]],EmployeeListLookupTable[],2,FALSE)","v":"EMPN077"},{"$f":"VLOOKUP(PACKT01Table[[#This Row],[EmployeeID]],EmployeeListLookupTable[],3,FALSE)","v":"Employee Name 77"},{"$f":"VLOOKUP(PACKT01Table[[#This Row],[EmployeeID]],EmployeeListLookupTable[],4,FALSE)","v":"Employee Job Title 77"},null,null,null,null,null,null,{"$f":"+PACKT01Table[[#This Row],[6]]","v":0},{"$f":"+PACKT01Table[[#This Row],[6]]","v":0},{"$f":"+PACKT01Table[[#This Row],[6]]","v":0},{"$f":"+PACKT01Table[[#This Row],[6]]","v":0},{"$f":"+PACKT01Table[[#This Row],[6]]","v":0},{"$f":"+PACKT01Table[[#This Row],[6]]","v":0},{"$f":"VLOOKUP(PACKT01Table[[#This Row],[EmployeeID]],EmployeeListLookupTable[#All],7,FALSE)=\"Y\"","v":true}]
[null,"EMP0078",{"$f":"VLOOKUP(PACKT01Table[[#This Row],[EmployeeID]],EmployeeListLookupTable[],2,FALSE)","v":"EMPN078"},{"$f":"VLOOKUP(PACKT01Table[[#This Row],[EmployeeID]],EmployeeListLookupTable[],3,FALSE)","v":"Employee Name 78"},{"$f":"VLOOKUP(PACKT01Table[[#This Row],[EmployeeID]],EmployeeListLookupTable[],4,FALSE)","v":"Employee Job Title 78"},null,null,null,null,null,null,{"$f":"+PACKT01Table[[#This Row],[6]]","v":0},{"$f":"+PACKT01Table[[#This Row],[6]]","v":0},{"$f":"+PACKT01Table[[#This Row],[6]]","v":0},{"$f":"+PACKT01Table[[#This Row],[6]]","v":0},{"$f":"+PACKT01Table[[#This Row],[6]]","v":0},{"$f":"+PACKT01Table[[#This Row],[6]]","v":0},{"$f":"VLOOKUP(PACKT01Table[[#This Row],[EmployeeID]],EmployeeListLookupTable[#All],7,FALSE)=\"Y\"","v":true}]
[null,"EMP0079",{"$f":"VLOOKUP(PACKT01Table[[#This Row],[EmployeeID]],EmployeeListLookupTable[],2,FALSE)","v":"EMPN079"},{"$f":"VLOOKUP(PACKT01Table[[#This Row],[EmployeeID]],EmployeeListLookupTable[],3,FALSE)","v":"Employee Name 79"},{"$f":"VLOOKUP(PACKT01Table[[#This Row],[EmployeeID]],EmployeeListLookupTable[],4,FALSE)","v":"Employee Job Title 79"},null,null,null,null,null,null,{"$f":"+PACKT01Table[[#This Row],[6]]","v":0},{"$f":"+PACKT01Table[[#This Row],[6]]","v":0},{"$f":"+PACKT01Table[[#This Row],[6]]","v":0},{"$f":"+PACKT01Table[[#This Row],[6]]","v":0},{"$f":"+PACKT01Table[[#This Row],[6]]","v":0},{"$f":"+PACKT01Table[[#This Row],[6]]","v":0},{"$f":"VLOOKUP(PACKT01Table[[#This Row],[EmployeeID]],EmployeeListLookupTable[#All],7,FALSE)=\"Y\"","v":true}]
[null,"EMP0080",{"$f":"VLOOKUP(PACKT01Table[[#This Row],[EmployeeID]],EmployeeListLookupTable[],2,FALSE)","v":"EMPN080"},{"$f":"VLOOKUP(PACKT01Table[[#This Row],[EmployeeID]],EmployeeListLookupTable[],3,FALSE)","v":"Employee Name 80"},{"$f":"VLOOKUP(PACKT01Table[[#This Row],[EmployeeID]],EmployeeListLookupTable[],4,FALSE)","v":"Employee Job Title 80"},null,null,null,null,null,null,{"$f":"+PACKT01Table[[#This Row],[6]]","v":0},{"$f":"+PACKT01Table[[#This Row],[6]]","v":0},{"$f":"+PACKT01Table[[#This Row],[6]]","v":0},{"$f":"+PACKT01Table[[#This Row],[6]]","v":0},{"$f":"+PACKT01Table[[#This Row],[6]]","v":0},{"$f":"+PACKT01Table[[#This Row],[6]]","v":0},{"$f":"VLOOKUP(PACKT01Table[[#This Row],[EmployeeID]],EmployeeListLookupTable[#All],7,FALSE)=\"Y\"","v":true}]
[null,"EMP0081",{"$f":"VLOOKUP(PACKT01Table[[#This Row],[EmployeeID]],EmployeeListLookupTable[],2,FALSE)","v":"EMPN081"},{"$f":"VLOOKUP(PACKT01Table[[#This Row],[EmployeeID]],EmployeeListLookupTable[],3,FALSE)","v":"Employee Name 81"},{"$f":"VLOOKUP(PACKT01Table[[#This Row],[EmployeeID]],EmployeeListLookupTable[],4,FALSE)","v":"Employee Job Title 81"},null,null,null,null,null,null,{"$f":"+PACKT01Table[[#This Row],[6]]","v":0},{"$f":"+PACKT01Table[[#This Row],[6]]","v":0},{"$f":"+PACKT01Table[[#This Row],[6]]","v":0},{"$f":"+PACKT01Table[[#This Row],[6]]","v":0},{"$f":"+PACKT01Table[[#This Row],[6]]","v":0},{"$f":"+PACKT01Table[[#This Row],[6]]","v":0},{"$f":"VLOOKUP(PACKT01Table[[#This Row],[EmployeeID]],EmployeeListLookupTable[#All],7,FALSE)=\"Y\"","v":true}]
[null,"EMP0082",{"$f":"VLOOKUP(PACKT01Table[[#This Row],[EmployeeID]],EmployeeListLookupTable[],2,FALSE)","v":"EMPN082"},{"$f":"VLOOKUP(PACKT01Table[[#This Row],[EmployeeID]],EmployeeListLookupTable[],3,FALSE)","v":"Employee Name 82"},{"$f":"VLOOKUP(PACKT01Table[[#This Row],[EmployeeID]],EmployeeListLookupTable[],4,FALSE)","v":"Employee Job Title 82"},null,null,null,null,null,null,{"$f":"+PACKT01Table[[#This Row],[6]]","v":0},{"$f":"+PACKT01Table[[#This Row],[6]]","v":0},{"$f":"+PACKT01Table[[#This Row],[6]]","v":0},{"$f":"+PACKT01Table[[#This Row],[6]]","v":0},{"$f":"+PACKT01Table[[#This Row],[6]]","v":0},{"$f":"+PACKT01Table[[#This Row],[6]]","v":0},{"$f":"VLOOKUP(PACKT01Table[[#This Row],[EmployeeID]],EmployeeListLookupTable[#All],7,FALSE)=\"Y\"","v":true}]
[null,"EMP0083",{"$f":"VLOOKUP(PACKT01Table[[#This Row],[EmployeeID]],EmployeeListLookupTable[],2,FALSE)","v":"EMPN083"},{"$f":"VLOOKUP(PACKT01Table[[#This Row],[EmployeeID]],EmployeeListLookupTable[],3,FALSE)","v":"Employee Name 83"},{"$f":"VLOOKUP(PACKT01Table[[#This Row],[EmployeeID]],EmployeeListLookupTable[],4,FALSE)","v":"Employee Job Title 83"},null,null,null,null,null,null,{"$f":"+PACKT01Table[[#This Row],[6]]","v":0},{"$f":"+PACKT01Table[[#This Row],[6]]","v":0},{"$f":"+PACKT01Table[[#This Row],[6]]","v":0},{"$f":"+PACKT01Table[[#This Row],[6]]","v":0},{"$f":"+PACKT01Table[[#This Row],[6]]","v":0},{"$f":"+PACKT01Table[[#This Row],[6]]","v":0},{"$f":"VLOOKUP(PACKT01Table[[#This Row],[EmployeeID]],EmployeeListLookupTable[#All],7,FALSE)=\"Y\"","v":true}]
[null,"EMP0084",{"$f":"VLOOKUP(PACKT01Table[[#This Row],[EmployeeID]],EmployeeListLookupTable[],2,FALSE)","v":"EMPN084"},{"$f":"VLOOKUP(PACKT01Table[[#This Row],[EmployeeID]],EmployeeListLookupTable[],3,FALSE)","v":"Employee Name 84"},{"$f":"VLOOKUP(PACKT01Table[[#This Row],[EmployeeID]],EmployeeListLookupTable[],4,FALSE)","v":"Employee Job Title 84"},null,null,null,null,null,null,{"$f":"+PACKT01Table[[#This Row],[6]]","v":0},{"$f":"+PACKT01Table[[#This Row],[6]]","v":0},{"$f":"+PACKT01Table[[#This Row],[6]]","v":0},{"$f":"+PACKT01Table[[#This Row],[6]]","v":0},{"$f":"+PACKT01Table[[#This Row],[6]]","v":0},{"$f":"+PACKT01Table[[#This Row],[6]]","v":0},{"$f":"VLOOKUP(PACKT01Table[[#This Row],[EmployeeID]],EmployeeListLookupTable[#All],7,FALSE)=\"Y\"","v":true}]
[null,"EMP0085",{"$f":"VLOOKUP(PACKT01Table[[#This Row],[EmployeeID]],EmployeeListLookupTable[],2,FALSE)","v":"EMPN085"},{"$f":"VLOOKUP(PACKT01Table[[#This Row],[EmployeeID]],EmployeeListLookupTable[],3,FALSE)","v":"Employee Name 85"},{"$f":"VLOOKUP(PACKT01Table[[#This Row],[EmployeeID]],EmployeeListLookupTable[],4,FALSE)","v":"Employee Job Title 85"},null,null,null,null,null,null,{"$f":"+PACKT01Table[[#This Row],[6]]","v":0},{"$f":"+PACKT01Table[[#This Row],[6]]","v":0},{"$f":"+PACKT01Table[[#This Row],[6]]","v":0},{"$f":"+PACKT01Table[[#This Row],[6]]","v":0},{"$f":"+PACKT01Table[[#This Row],[6]]","v":0},{"$f":"+PACKT01Table[[#This Row],[6]]","v":0},{"$f":"VLOOKUP(PACKT01Table[[#This Row],[EmployeeID]],EmployeeListLookupTable[#All],7,FALSE)=\"Y\"","v":true}]
[null,"EMP0086",{"$f":"VLOOKUP(PACKT01Table[[#This Row],[EmployeeID]],EmployeeListLookupTable[],2,FALSE)","v":"EMPN086"},{"$f":"VLOOKUP(PACKT01Table[[#This Row],[EmployeeID]],EmployeeListLookupTable[],3,FALSE)","v":"Employee Name 86"},{"$f":"VLOOKUP(PACKT01Table[[#This Row],[EmployeeID]],EmployeeListLookupTable[],4,FALSE)","v":"Employee Job Title 86"},null,null,null,null,null,null,{"$f":"+PACKT01Table[[#This Row],[6]]","v":0},{"$f":"+PACKT01Table[[#This Row],[6]]","v":0},{"$f":"+PACKT01Table[[#This Row],[6]]","v":0},{"$f":"+PACKT01Table[[#This Row],[6]]","v":0},{"$f":"+PACKT01Table[[#This Row],[6]]","v":0},{"$f":"+PACKT01Table[[#This Row],[6]]","v":0},{"$f":"VLOOKUP(PACKT01Table[[#This Row],[EmployeeID]],EmployeeListLookupTable[#All],7,FALSE)=\"Y\"","v":true}]
[null,"EMP0087",{"$f":"VLOOKUP(PACKT01Table[[#This Row],[EmployeeID]],EmployeeListLookupTable[],2,FALSE)","v":"EMPN087"},{"$f":"VLOOKUP(PACKT01Table[[#This Row],[EmployeeID]],EmployeeListLookupTable[],3,FALSE)","v":"Employee Name 87"},{"$f":"VLOOKUP(PACKT01Table[[#This Row],[EmployeeID]],EmployeeListLookupTable[],4,FALSE)","v":"Employee Job Title 87"},null,null,null,null,null,null,{"$f":"+PACKT01Table[[#This Row],[6]]","v":0},{"$f":"+PACKT01Table[[#This Row],[6]]","v":0},{"$f":"+PACKT01Table[[#This Row],[6]]","v":0},{"$f":"+PACKT01Table[[#This Row],[6]]","v":0},{"$f":"+PACKT01Table[[#This Row],[6]]","v":0},{"$f":"+PACKT01Table[[#This Row],[6]]","v":0},{"$f":"VLOOKUP(PACKT01Table[[#This Row],[EmployeeID]],EmployeeListLookupTable[#All],7,FALSE)=\"Y\"","v":true}]
[null,"EMP0088",{"$f":"VLOOKUP(PACKT01Table[[#This Row],[EmployeeID]],EmployeeListLookupTable[],2,FALSE)","v":"EMPN088"},{"$f":"VLOOKUP(PACKT01Table[[#This Row],[EmployeeID]],EmployeeListLookupTable[],3,FALSE)","v":"Employee Name 88"},{"$f":"VLOOKUP(PACKT01Table[[#This Row],[EmployeeID]],EmployeeListLookupTable[],4,FALSE)","v":"Employee Job Title 88"},null,null,null,null,null,null,{"$f":"+PACKT01Table[[#This Row],[6]]","v":0},{"$f":"+PACKT01Table[[#This Row],[6]]","v":0},{"$f":"+PACKT01Table[[#This Row],[6]]","v":0},{"$f":"+PACKT01Table[[#This Row],[6]]","v":0},{"$f":"+PACKT01Table[[#This Row],[6]]","v":0},{"$f":"+PACKT01Table[[#This Row],[6]]","v":0},{"$f":"VLOOKUP(PACKT01Table[[#This Row],[EmployeeID]],EmployeeListLookupTable[#All],7,FALSE)=\"Y\"","v":true}]
[null,"EMP0089",{"$f":"VLOOKUP(PACKT01Table[[#This Row],[EmployeeID]],EmployeeListLookupTable[],2,FALSE)","v":"EMPN089"},{"$f":"VLOOKUP(PACKT01Table[[#This Row],[EmployeeID]],EmployeeListLookupTable[],3,FALSE)","v":"Employee Name 89"},{"$f":"VLOOKUP(PACKT01Table[[#This Row],[EmployeeID]],EmployeeListLookupTable[],4,FALSE)","v":"Employee Job Title 89"},null,null,null,null,null,null,{"$f":"+PACKT01Table[[#This Row],[6]]","v":0},{"$f":"+PACKT01Table[[#This Row],[6]]","v":0},{"$f":"+PACKT01Table[[#This Row],[6]]","v":0},{"$f":"+PACKT01Table[[#This Row],[6]]","v":0},{"$f":"+PACKT01Table[[#This Row],[6]]","v":0},{"$f":"+PACKT01Table[[#This Row],[6]]","v":0},{"$f":"VLOOKUP(PACKT01Table[[#This Row],[EmployeeID]],EmployeeListLookupTable[#All],7,FALSE)=\"Y\"","v":true}]
[null,"EMP0090",{"$f":"VLOOKUP(PACKT01Table[[#This Row],[EmployeeID]],EmployeeListLookupTable[],2,FALSE)","v":"EMPN090"},{"$f":"VLOOKUP(PACKT01Table[[#This Row],[EmployeeID]],EmployeeListLookupTable[],3,FALSE)","v":"Employee Name 90"},{"$f":"VLOOKUP(PACKT01Table[[#This Row],[EmployeeID]],EmployeeListLookupTable[],4,FALSE)","v":"Employee Job Title 90"},null,null,null,null,null,null,{"$f":"+PACKT01Table[[#This Row],[6]]","v":0},{"$f":"+PACKT01Table[[#This Row],[6]]","v":0},{"$f":"+PACKT01Table[[#This Row],[6]]","v":0},{"$f":"+PACKT01Table[[#This Row],[6]]","v":0},{"$f":"+PACKT01Table[[#This Row],[6]]","v":0},{"$f":"+PACKT01Table[[#This Row],[6]]","v":0},{"$f":"VLOOKUP(PACKT01Table[[#This Row],[EmployeeID]],EmployeeListLookupTable[#All],7,FALSE)=\"Y\"","v":true}]
[null,"EMP0091",{"$f":"VLOOKUP(PACKT01Table[[#This Row],[EmployeeID]],EmployeeListLookupTable[],2,FALSE)","v":"EMPN091"},{"$f":"VLOOKUP(PACKT01Table[[#This Row],[EmployeeID]],EmployeeListLookupTable[],3,FALSE)","v":"Employee Name 91"},{"$f":"VLOOKUP(PACKT01Table[[#This Row],[EmployeeID]],EmployeeListLookupTable[],4,FALSE)","v":"Employee Job Title 91"},null,null,null,null,null,null,{"$f":"+PACKT01Table[[#This Row],[6]]","v":0},{"$f":"+PACKT01Table[[#This Row],[6]]","v":0},{"$f":"+PACKT01Table[[#This Row],[6]]","v":0},{"$f":"+PACKT01Table[[#This Row],[6]]","v":0},{"$f":"+PACKT01Table[[#This Row],[6]]","v":0},{"$f":"+PACKT01Table[[#This Row],[6]]","v":0},{"$f":"VLOOKUP(PACKT01Table[[#This Row],[EmployeeID]],EmployeeListLookupTable[#All],7,FALSE)=\"Y\"","v":true}]
[null,"EMP0092",{"$f":"VLOOKUP(PACKT01Table[[#This Row],[EmployeeID]],EmployeeListLookupTable[],2,FALSE)","v":"EMPN092"},{"$f":"VLOOKUP(PACKT01Table[[#This Row],[EmployeeID]],EmployeeListLookupTable[],3,FALSE)","v":"Employee Name 92"},{"$f":"VLOOKUP(PACKT01Table[[#This Row],[EmployeeID]],EmployeeListLookupTable[],4,FALSE)","v":"Employee Job Title 92"},null,null,null,null,null,null,{"$f":"+PACKT01Table[[#This Row],[6]]","v":0},{"$f":"+PACKT01Table[[#This Row],[6]]","v":0},{"$f":"+PACKT01Table[[#This Row],[6]]","v":0},{"$f":"+PACKT01Table[[#This Row],[6]]","v":0},{"$f":"+PACKT01Table[[#This Row],[6]]","v":0},{"$f":"+PACKT01Table[[#This Row],[6]]","v":0},{"$f":"VLOOKUP(PACKT01Table[[#This Row],[EmployeeID]],EmployeeListLookupTable[#All],7,FALSE)=\"Y\"","v":true}]
[null,"EMP0093",{"$f":"VLOOKUP(PACKT01Table[[#This Row],[EmployeeID]],EmployeeListLookupTable[],2,FALSE)","v":"EMPN093"},{"$f":"VLOOKUP(PACKT01Table[[#This Row],[EmployeeID]],EmployeeListLookupTable[],3,FALSE)","v":"Employee Name 93"},{"$f":"VLOOKUP(PACKT01Table[[#This Row],[EmployeeID]],EmployeeListLookupTable[],4,FALSE)","v":"Employee Job Title 93"},null,null,null,null,null,null,{"$f":"+PACKT01Table[[#This Row],[6]]","v":0},{"$f":"+PACKT01Table[[#This Row],[6]]","v":0},{"$f":"+PACKT01Table[[#This Row],[6]]","v":0},{"$f":"+PACKT01Table[[#This Row],[6]]","v":0},{"$f":"+PACKT01Table[[#This Row],[6]]","v":0},{"$f":"+PACKT01Table[[#This Row],[6]]","v":0},{"$f":"VLOOKUP(PACKT01Table[[#This Row],[EmployeeID]],EmployeeListLookupTable[#All],7,FALSE)=\"Y\"","v":true}]
[null,"EMP0094",{"$f":"VLOOKUP(PACKT01Table[[#This Row],[EmployeeID]],EmployeeListLookupTable[],2,FALSE)","v":"EMPN094"},{"$f":"VLOOKUP(PACKT01Table[[#This Row],[EmployeeID]],EmployeeListLookupTable[],3,FALSE)","v":"Employee Name 94"},{"$f":"VLOOKUP(PACKT01Table[[#This Row],[EmployeeID]],EmployeeListLookupTable[],4,FALSE)","v":"Employee Job Title 94"},null,null,null,null,null,null,{"$f":"+PACKT01Table[[#This Row],[6]]","v":0},{"$f":"+PACKT01Table[[#This Row],[6]]","v":0},{"$f":"+PACKT01Table[[#This Row],[6]]","v":0},{"$f":"+PACKT01Table[[#This Row],[6]]","v":0},{"$f":"+PACKT01Table[[#This Row],[6]]","v":0},{"$f":"+PACKT01Table[[#This Row],[6]]","v":0},{"$f":"VLOOKUP(PACKT01Table[[#This Row],[EmployeeID]],EmployeeListLookupTable[#All],7,FALSE)=\"Y\"","v":true}]
[null,"EMP0095",{"$f":"VLOOKUP(PACKT01Table[[#This Row],[EmployeeID]],EmployeeListLookupTable[],2,FALSE)","v":"EMPN095"},{"$f":"VLOOKUP(PACKT01Table[[#This Row],[EmployeeID]],EmployeeListLookupTable[],3,FALSE)","v":"Employee Name 95"},{"$f":"VLOOKUP(PACKT01Table[[#This Row],[EmployeeID]],EmployeeListLookupTable[],4,FALSE)","v":"Employee Job Title 95"},null,null,null,null,null,null,{"$f":"+PACKT01Table[[#This Row],[6]]","v":0},{"$f":"+PACKT01Table[[#This Row],[6]]","v":0},{"$f":"+PACKT01Table[[#This Row],[6]]","v":0},{"$f":"+PACKT01Table[[#This Row],[6]]","v":0},{"$f":"+PACKT01Table[[#This Row],[6]]","v":0},{"$f":"+PACKT01Table[[#This Row],[6]]","v":0},{"$f":"VLOOKUP(PACKT01Table[[#This Row],[EmployeeID]],EmployeeListLookupTable[#All],7,FALSE)=\"Y\"","v":true}]
[null,"EMP0096",{"$f":"VLOOKUP(PACKT01Table[[#This Row],[EmployeeID]],EmployeeListLookupTable[],2,FALSE)","v":"EMPN096"},{"$f":"VLOOKUP(PACKT01Table[[#This Row],[EmployeeID]],EmployeeListLookupTable[],3,FALSE)","v":"Employee Name 96"},{"$f":"VLOOKUP(PACKT01Table[[#This Row],[EmployeeID]],EmployeeListLookupTable[],4,FALSE)","v":"Employee Job Title 96"},null,null,null,null,null,null,{"$f":"+PACKT01Table[[#This Row],[6]]","v":0},{"$f":"+PACKT01Table[[#This Row],[6]]","v":0},{"$f":"+PACKT01Table[[#This Row],[6]]","v":0},{"$f":"+PACKT01Table[[#This Row],[6]]","v":0},{"$f":"+PACKT01Table[[#This Row],[6]]","v":0},{"$f":"+PACKT01Table[[#This Row],[6]]","v":0},{"$f":"VLOOKUP(PACKT01Table[[#This Row],[EmployeeID]],EmployeeListLookupTable[#All],7,FALSE)=\"Y\"","v":true}]
[null,"EMP0097",{"$f":"VLOOKUP(PACKT01Table[[#This Row],[EmployeeID]],EmployeeListLookupTable[],2,FALSE)","v":"EMPN097"},{"$f":"VLOOKUP(PACKT01Table[[#This Row],[EmployeeID]],EmployeeListLookupTable[],3,FALSE)","v":"Employee Name 97"},{"$f":"VLOOKUP(PACKT01Table[[#This Row],[EmployeeID]],EmployeeListLookupTable[],4,FALSE)","v":"Employee Job Title 97"},null,null,null,null,null,null,{"$f":"+PACKT01Table[[#This Row],[6]]","v":0},{"$f":"+PACKT01Table[[#This Row],[6]]","v":0},{"$f":"+PACKT01Table[[#This Row],[6]]","v":0},{"$f":"+PACKT01Table[[#This Row],[6]]","v":0},{"$f":"+PACKT01Table[[#This Row],[6]]","v":0},{"$f":"+PACKT01Table[[#This Row],[6]]","v":0},{"$f":"VLOOKUP(PACKT01Table[[#This Row],[EmployeeID]],EmployeeListLookupTable[#All],7,FALSE)=\"Y\"","v":true}]
[null,"EMP0098",{"$f":"VLOOKUP(PACKT01Table[[#This Row],[EmployeeID]],EmployeeListLookupTable[],2,FALSE)","v":"EMPN098"},{"$f":"VLOOKUP(PACKT01Table[[#This Row],[EmployeeID]],EmployeeListLookupTable[],3,FALSE)","v":"Employee Name 98"},{"$f":"VLOOKUP(PACKT01Table[[#This Row],[EmployeeID]],EmployeeListLookupTable[],4,FALSE)","v":"Employee Job Title 98"},null,null,null,null,null,null,{"$f":"+PACKT01Table[[#This Row],[6]]","v":0},{"$f":"+PACKT01Table[[#This Row],[6]]","v":0},{"$f":"+PACKT01Table[[#This Row],[6]]","v":0},{"$f":"+PACKT01Table[[#This Row],[6]]","v":0},{"$f":"+PACKT01Table[[#This Row],[6]]","v":0},{"$f":"+PACKT01Table[[#This Row],[6]]","v":0},{"$f":"VLOOKUP(PACKT01Table[[#This Row],[EmployeeID]],EmployeeListLookupTable[#All],7,FALSE)=\"Y\"","v":true}]
[null,"EMP0099",{"$f":"VLOOKUP(PACKT01Table[[#This Row],[EmployeeID]],EmployeeListLookupTable[],2,FALSE)","v":"EMPN099"},{"$f":"VLOOKUP(PACKT01Table[[#This Row],[EmployeeID]],EmployeeListLookupTable[],3,FALSE)","v":"Employee Name 99"},{"$f":"VLOOKUP(PACKT01Table[[#This Row],[EmployeeID]],EmployeeListLookupTable[],4,FALSE)","v":"Employee Job Title 99"},null,null,null,null,null,null,{"$f":"+PACKT01Table[[#This Row],[6]]","v":0},{"$f":"+PACKT01Table[[#This Row],[6]]","v":0},{"$f":"+PACKT01Table[[#This Row],[6]]","v":0},{"$f":"+PACKT01Table[[#This Row],[6]]","v":0},{"$f":"+PACKT01Table[[#This Row],[6]]","v":0},{"$f":"+PACKT01Table[[#This Row],[6]]","v":0},{"$f":"VLOOKUP(PACKT01Table[[#This Row],[EmployeeID]],EmployeeListLookupTable[#All],7,FALSE)=\"Y\"","v":true}]
[null,"EMP0100",{"$f":"VLOOKUP(PACKT01Table[[#This Row],[EmployeeID]],EmployeeListLookupTable[],2,FALSE)","v":"EMPN100"},{"$f":"VLOOKUP(PACKT01Table[[#This Row],[EmployeeID]],EmployeeListLookupTable[],3,FALSE)","v":"Employee Name 100"},{"$f":"VLOOKUP(PACKT01Table[[#This Row],[EmployeeID]],EmployeeListLookupTable[],4,FALSE)","v":"Employee Job Title 100"},null,null,null,null,null,null,{"$f":"+PACKT01Table[[#This Row],[6]]","v":0},{"$f":"+PACKT01Table[[#This Row],[6]]","v":0},{"$f":"+PACKT01Table[[#This Row],[6]]","v":0},{"$f":"+PACKT01Table[[#This Row],[6]]","v":0},{"$f":"+PACKT01Table[[#This Row],[6]]","v":0},{"$f":"+PACKT01Table[[#This Row],[6]]","v":0},{"$f":"VLOOKUP(PACKT01Table[[#This Row],[EmployeeID]],EmployeeListLookupTable[#All],7,FALSE)=\"Y\"","v":true}]
[null,null,null,null,"Total",{"$f":"SUBTOTAL(109,PACKT01Table[1])","v":0},{"$f":"SUBTOTAL(109,PACKT01Table[2])","v":0},{"$f":"SUBTOTAL(109,PACKT01Table[3])","v":0},{"$f":"SUBTOTAL(109,PACKT01Table[4])","v":0},{"$f":"SUBTOTAL(109,PACKT01Table[5])","v":0},{"$f":"SUBTOTAL(109,PACKT01Table[6])","v":0},{"$f":"SUBTOTAL(109,PACKT01Table[7])","v":0},{"$f":"SUBTOTAL(109,PACKT01Table[8])","v":0},{"$f":"SUBTOTAL(109,PACKT01Table[9])","v":0},{"$f":"SUBTOTAL(109,PACKT01Table[10])","v":0},{"$f":"SUBTOTAL(109,PACKT01Table[11])","v":0},{"$f":"SUBTOTAL(109,PACKT01Table[12])","v":0}]

{"sheet":"PACKT02","index":10,"n_rows":112,"n_cols":18,"rows_kept":112,"cut":false,"hidden":false,"merged":[[1,2,1,4],[1,6,1,10],[2,2,2,10]]}
[null,null,"Menu"]
[null,null,{"$f":"EntityName","v":"Company A"},null,null,null,{"$f":"YearEnd","v":"2013-02-28"}]
[null,null,{"$f":"VLOOKUP(D6,PackageItemListLookup[],4,FALSE)","v":"PACKT02"}]
[]
[]
[null,null,"Package Item code:","PACK002"]
[null,null,"Package Item name:",{"$f":"VLOOKUP(D6,PackageItemListLookup[],2,FALSE)","v":"Other Income 1"}]
[null,null,null,null,"Total",{"$f":"PACKT02Table[[#Totals],[1]]","v":0},{"$f":"PACKT02Table[[#Totals],[2]]","v":0},{"$f":"PACKT02Table[[#Totals],[3]]","v":0},{"$f":"PACKT02Table[[#Totals],[4]]","v":0},{"$f":"PACKT02Table[[#Totals],[5]]","v":0},{"$f":"PACKT02Table[[#Totals],[6]]","v":0},{"$f":"PACKT02Table[[#Totals],[7]]","v":0},{"$f":"PACKT02Table[[#Totals],[8]]","v":0},{"$f":"PACKT02Table[[#Totals],[9]]","v":0},{"$f":"PACKT02Table[[#Totals],[10]]","v":0},{"$f":"PACKT02Table[[#Totals],[11]]","v":0},{"$f":"PACKT02Table[[#Totals],[12]]","v":0}]
[]
[null,null,null,null,null,{"$f":"VLOOKUP(PackageItemTable[[#Headers],[1]],CalendarMonthText,5,FALSE)","v":"March"},{"$f":"VLOOKUP(PackageItemTable[[#Headers],[2]],CalendarMonthText,5,FALSE)","v":"April"},{"$f":"VLOOKUP(PackageItemTable[[#Headers],[3]],CalendarMonthText,5,FALSE)","v":"May"},{"$f":"VLOOKUP(PackageItemTable[[#Headers],[4]],CalendarMonthText,5,FALSE)","v":"June"},{"$f":"VLOOKUP(PackageItemTable[[#Headers],[5]],CalendarMonthText,5,FALSE)","v":"July"},{"$f":"VLOOKUP(PackageItemTable[[#Headers],[6]],CalendarMonthText,5,FALSE)","v":"August"},{"$f":"VLOOKUP(PackageItemTable[[#Headers],[7]],CalendarMonthText,5,FALSE)","v":"September"},{"$f":"VLOOKUP(PackageItemTable[[#Headers],[8]],CalendarMonthText,5,FALSE)","v":"October"},{"$f":"VLOOKUP(PackageItemTable[[#Headers],[9]],CalendarMonthText,5,FALSE)","v":"November"},{"$f":"VLOOKUP(PackageItemTable[[#Headers],[10]],CalendarMonthText,5,FALSE)","v":"December"},{"$f":"VLOOKUP(PackageItemTable[[#Headers],[11]],CalendarMonthText,5,FALSE)","v":"January"},{"$f":"VLOOKUP(PackageItemTable[[#Headers],[12]],CalendarMonthText,5,FALSE)","v":"February"}]
[null,"EmployeeID","EmployeeNumber","EmployeeName","EmployeeJobTitle","1","2","3","4","5","6","7","8","9","10","11","12","Selected"]
[null,"EMP0001",{"$f":"VLOOKUP(PACKT02Table[[#This Row],[EmployeeID]],EmployeeListLookupTable[],2,FALSE)","v":"EMPN001"},{"$f":"VLOOKUP(PACKT02Table[[#This Row],[EmployeeID]],EmployeeListLookupTable[],3,FALSE)","v":"Employee Name 1"},{"$f":"VLOOKUP(PACKT02Table[[#This Row],[EmployeeID]],EmployeeListLookupTable[],4,FALSE)","v":"Employee Job Title 1"},null,null,null,null,null,null,null,null,null,null,null,null,{"$f":"VLOOKUP(PACKT02Table[[#This Row],[EmployeeID]],EmployeeListLookupTable[#All],8,FALSE)=\"Y\"","v":true}]
[null,"EMP0002",{"$f":"VLOOKUP(PACKT02Table[[#This Row],[EmployeeID]],EmployeeListLookupTable[],2,FALSE)","v":"EMPN002"},{"$f":"VLOOKUP(PACKT02Table[[#This Row],[EmployeeID]],EmployeeListLookupTable[],3,FALSE)","v":"Employee Name 2"},{"$f":"VLOOKUP(PACKT02Table[[#This Row],[EmployeeID]],EmployeeListLookupTable[],4,FALSE)","v":"Employee Job Title 2"},null,null,null,null,null,null,null,null,null,null,null,null,{"$f":"VLOOKUP(PACKT02Table[[#This Row],[EmployeeID]],EmployeeListLookupTable[#All],8,FALSE)=\"Y\"","v":true}]
[null,"EMP0003",{"$f":"VLOOKUP(PACKT02Table[[#This Row],[EmployeeID]],EmployeeListLookupTable[],2,FALSE)","v":"EMPN003"},{"$f":"VLOOKUP(PACKT02Table[[#This Row],[EmployeeID]],EmployeeListLookupTable[],3,FALSE)","v":"Employee Name 3"},{"$f":"VLOOKUP(PACKT02Table[[#This Row],[EmployeeID]],EmployeeListLookupTable[],4,FALSE)","v":"Employee Job Title 3"},null,null,null,null,null,null,null,null,null,null,null,null,{"$f":"VLOOKUP(PACKT02Table[[#This Row],[EmployeeID]],EmployeeListLookupTable[#All],8,FALSE)=\"Y\"","v":true}]
[null,"EMP0004",{"$f":"VLOOKUP(PACKT02Table[[#This Row],[EmployeeID]],EmployeeListLookupTable[],2,FALSE)","v":"EMPN004"},{"$f":"VLOOKUP(PACKT02Table[[#This Row],[EmployeeID]],EmployeeListLookupTable[],3,FALSE)","v":"Employee Name 4"},{"$f":"VLOOKUP(PACKT02Table[[#This Row],[EmployeeID]],EmployeeListLookupTable[],4,FALSE)","v":"Employee Job Title 4"},null,null,null,null,null,null,null,null,null,null,null,null,{"$f":"VLOOKUP(PACKT02Table[[#This Row],[EmployeeID]],EmployeeListLookupTable[#All],8,FALSE)=\"Y\"","v":true}]
[null,"EMP0005",{"$f":"VLOOKUP(PACKT02Table[[#This Row],[EmployeeID]],EmployeeListLookupTable[],2,FALSE)","v":"EMPN005"},{"$f":"VLOOKUP(PACKT02Table[[#This Row],[EmployeeID]],EmployeeListLookupTable[],3,FALSE)","v":"Employee Name 5"},{"$f":"VLOOKUP(PACKT02Table[[#This Row],[EmployeeID]],EmployeeListLookupTable[],4,FALSE)","v":"Employee Job Title 5"},null,null,null,null,null,null,null,null,null,null,null,null,{"$f":"VLOOKUP(PACKT02Table[[#This Row],[EmployeeID]],EmployeeListLookupTable[#All],8,FALSE)=\"Y\"","v":true}]
[null,"EMP0006",{"$f":"VLOOKUP(PACKT02Table[[#This Row],[EmployeeID]],EmployeeListLookupTable[],2,FALSE)","v":"EMPN006"},{"$f":"VLOOKUP(PACKT02Table[[#This Row],[EmployeeID]],EmployeeListLookupTable[],3,FALSE)","v":"Employee Name 6"},{"$f":"VLOOKUP(PACKT02Table[[#This Row],[EmployeeID]],EmployeeListLookupTable[],4,FALSE)","v":"Employee Job Title 6"},null,null,null,null,null,null,null,null,null,null,null,null,{"$f":"VLOOKUP(PACKT02Table[[#This Row],[EmployeeID]],EmployeeListLookupTable[#All],8,FALSE)=\"Y\"","v":true}]
[null,"EMP0007",{"$f":"VLOOKUP(PACKT02Table[[#This Row],[EmployeeID]],EmployeeListLookupTable[],2,FALSE)","v":"EMPN007"},{"$f":"VLOOKUP(PACKT02Table[[#This Row],[EmployeeID]],EmployeeListLookupTable[],3,FALSE)","v":"Employee Name 7"},{"$f":"VLOOKUP(PACKT02Table[[#This Row],[EmployeeID]],EmployeeListLookupTable[],4,FALSE)","v":"Employee Job Title 7"},null,null,null,null,null,null,null,null,null,null,null,null,{"$f":"VLOOKUP(PACKT02Table[[#This Row],[EmployeeID]],EmployeeListLookupTable[#All],8,FALSE)=\"Y\"","v":true}]
[null,"EMP0008",{"$f":"VLOOKUP(PACKT02Table[[#This Row],[EmployeeID]],EmployeeListLookupTable[],2,FALSE)","v":"EMPN008"},{"$f":"VLOOKUP(PACKT02Table[[#This Row],[EmployeeID]],EmployeeListLookupTable[],3,FALSE)","v":"Employee Name 8"},{"$f":"VLOOKUP(PACKT02Table[[#This Row],[EmployeeID]],EmployeeListLookupTable[],4,FALSE)","v":"Employee Job Title 8"},null,null,null,null,null,null,null,null,null,null,null,null,{"$f":"VLOOKUP(PACKT02Table[[#This Row],[EmployeeID]],EmployeeListLookupTable[#All],8,FALSE)=\"Y\"","v":true}]
[null,"EMP0009",{"$f":"VLOOKUP(PACKT02Table[[#This Row],[EmployeeID]],EmployeeListLookupTable[],2,FALSE)","v":"EMPN009"},{"$f":"VLOOKUP(PACKT02Table[[#This Row],[EmployeeID]],EmployeeListLookupTable[],3,FALSE)","v":"Employee Name 9"},{"$f":"VLOOKUP(PACKT02Table[[#This Row],[EmployeeID]],EmployeeListLookupTable[],4,FALSE)","v":"Employee Job Title 9"},null,null,null,null,null,null,null,null,null,null,null,null,{"$f":"VLOOKUP(PACKT02Table[[#This Row],[EmployeeID]],EmployeeListLookupTable[#All],8,FALSE)=\"Y\"","v":true}]
[null,"EMP0010",{"$f":"VLOOKUP(PACKT02Table[[#This Row],[EmployeeID]],EmployeeListLookupTable[],2,FALSE)","v":"EMPN010"},{"$f":"VLOOKUP(PACKT02Table[[#This Row],[EmployeeID]],EmployeeListLookupTable[],3,FALSE)","v":"Employee Name 10"},{"$f":"VLOOKUP(PACKT02Table[[#This Row],[EmployeeID]],EmployeeListLookupTable[],4,FALSE)","v":"Employee Job Title 10"},null,null,null,null,null,null,null,null,null,null,null,null,{"$f":"VLOOKUP(PACKT02Table[[#This Row],[EmployeeID]],EmployeeListLookupTable[#All],8,FALSE)=\"Y\"","v":true}]
[null,"EMP0011",{"$f":"VLOOKUP(PACKT02Table[[#This Row],[EmployeeID]],EmployeeListLookupTable[],2,FALSE)","v":"EMPN011"},{"$f":"VLOOKUP(PACKT02Table[[#This Row],[EmployeeID]],EmployeeListLookupTable[],3,FALSE)","v":"Employee Name 11"},{"$f":"VLOOKUP(PACKT02Table[[#This Row],[EmployeeID]],EmployeeListLookupTable[],4,FALSE)","v":"Employee Job Title 11"},null,null,null,null,null,null,null,null,null,null,null,null,{"$f":"VLOOKUP(PACKT02Table[[#This Row],[EmployeeID]],EmployeeListLookupTable[#All],8,FALSE)=\"Y\"","v":true}]
[null,"EMP0012",{"$f":"VLOOKUP(PACKT02Table[[#This Row],[EmployeeID]],EmployeeListLookupTable[],2,FALSE)","v":"EMPN012"},{"$f":"VLOOKUP(PACKT02Table[[#This Row],[EmployeeID]],EmployeeListLookupTable[],3,FALSE)","v":"Employee Name 12"},{"$f":"VLOOKUP(PACKT02Table[[#This Row],[EmployeeID]],EmployeeListLookupTable[],4,FALSE)","v":"Employee Job Title 12"},null,null,null,null,null,null,null,null,null,null,null,null,{"$f":"VLOOKUP(PACKT02Table[[#This Row],[EmployeeID]],EmployeeListLookupTable[#All],8,FALSE)=\"Y\"","v":true}]
[null,"EMP0013",{"$f":"VLOOKUP(PACKT02Table[[#This Row],[EmployeeID]],EmployeeListLookupTable[],2,FALSE)","v":"EMPN013"},{"$f":"VLOOKUP(PACKT02Table[[#This Row],[EmployeeID]],EmployeeListLookupTable[],3,FALSE)","v":"Employee Name 13"},{"$f":"VLOOKUP(PACKT02Table[[#This Row],[EmployeeID]],EmployeeListLookupTable[],4,FALSE)","v":"Employee Job Title 13"},null,null,null,null,null,null,null,null,null,null,null,null,{"$f":"VLOOKUP(PACKT02Table[[#This Row],[EmployeeID]],EmployeeListLookupTable[#All],8,FALSE)=\"Y\"","v":true}]
[null,"EMP0014",{"$f":"VLOOKUP(PACKT02Table[[#This Row],[EmployeeID]],EmployeeListLookupTable[],2,FALSE)","v":"EMPN014"},{"$f":"VLOOKUP(PACKT02Table[[#This Row],[EmployeeID]],EmployeeListLookupTable[],3,FALSE)","v":"Employee Name 14"},{"$f":"VLOOKUP(PACKT02Table[[#This Row],[EmployeeID]],EmployeeListLookupTable[],4,FALSE)","v":"Employee Job Title 14"},null,null,null,null,null,null,null,null,null,null,null,null,{"$f":"VLOOKUP(PACKT02Table[[#This Row],[EmployeeID]],EmployeeListLookupTable[#All],8,FALSE)=\"Y\"","v":true}]
[null,"EMP0015",{"$f":"VLOOKUP(PACKT02Table[[#This Row],[EmployeeID]],EmployeeListLookupTable[],2,FALSE)","v":"EMPN015"},{"$f":"VLOOKUP(PACKT02Table[[#This Row],[EmployeeID]],EmployeeListLookupTable[],3,FALSE)","v":"Employee Name 15"},{"$f":"VLOOKUP(PACKT02Table[[#This Row],[EmployeeID]],EmployeeListLookupTable[],4,FALSE)","v":"Employee Job Title 15"},null,null,null,null,null,null,null,null,null,null,null,null,{"$f":"VLOOKUP(PACKT02Table[[#This Row],[EmployeeID]],EmployeeListLookupTable[#All],8,FALSE)=\"Y\"","v":true}]
[null,"EMP0016",{"$f":"VLOOKUP(PACKT02Table[[#This Row],[EmployeeID]],EmployeeListLookupTable[],2,FALSE)","v":"EMPN016"},{"$f":"VLOOKUP(PACKT02Table[[#This Row],[EmployeeID]],EmployeeListLookupTable[],3,FALSE)","v":"Employee Name 16"},{"$f":"VLOOKUP(PACKT02Table[[#This Row],[EmployeeID]],EmployeeListLookupTable[],4,FALSE)","v":"Employee Job Title 16"},null,null,null,null,null,null,null,null,null,null,null,null,{"$f":"VLOOKUP(PACKT02Table[[#This Row],[EmployeeID]],EmployeeListLookupTable[#All],8,FALSE)=\"Y\"","v":true}]
[null,"EMP0017",{"$f":"VLOOKUP(PACKT02Table[[#This Row],[EmployeeID]],EmployeeListLookupTable[],2,FALSE)","v":"EMPN017"},{"$f":"VLOOKUP(PACKT02Table[[#This Row],[EmployeeID]],EmployeeListLookupTable[],3,FALSE)","v":"Employee Name 17"},{"$f":"VLOOKUP(PACKT02Table[[#This Row],[EmployeeID]],EmployeeListLookupTable[],4,FALSE)","v":"Employee Job Title 17"},null,null,null,null,null,null,null,null,null,null,null,null,{"$f":"VLOOKUP(PACKT02Table[[#This Row],[EmployeeID]],EmployeeListLookupTable[#All],8,FALSE)=\"Y\"","v":true}]
[null,"EMP0018",{"$f":"VLOOKUP(PACKT02Table[[#This Row],[EmployeeID]],EmployeeListLookupTable[],2,FALSE)","v":"EMPN018"},{"$f":"VLOOKUP(PACKT02Table[[#This Row],[EmployeeID]],EmployeeListLookupTable[],3,FALSE)","v":"Employee Name 18"},{"$f":"VLOOKUP(PACKT02Table[[#This Row],[EmployeeID]],EmployeeListLookupTable[],4,FALSE)","v":"Employee Job Title 18"},null,null,null,null,null,null,null,null,null,null,null,null,{"$f":"VLOOKUP(PACKT02Table[[#This Row],[EmployeeID]],EmployeeListLookupTable[#All],8,FALSE)=\"Y\"","v":true}]
[null,"EMP0019",{"$f":"VLOOKUP(PACKT02Table[[#This Row],[EmployeeID]],EmployeeListLookupTable[],2,FALSE)","v":"EMPN019"},{"$f":"VLOOKUP(PACKT02Table[[#This Row],[EmployeeID]],EmployeeListLookupTable[],3,FALSE)","v":"Employee Name 19"},{"$f":"VLOOKUP(PACKT02Table[[#This Row],[EmployeeID]],EmployeeListLookupTable[],4,FALSE)","v":"Employee Job Title 19"},null,null,null,null,null,null,null,null,null,null,null,null,{"$f":"VLOOKUP(PACKT02Table[[#This Row],[EmployeeID]],EmployeeListLookupTable[#All],8,FALSE)=\"Y\"","v":true}]
[null,"EMP0020",{"$f":"VLOOKUP(PACKT02Table[[#This Row],[EmployeeID]],EmployeeListLookupTable[],2,FALSE)","v":"EMPN020"},{"$f":"VLOOKUP(PACKT02Table[[#This Row],[EmployeeID]],EmployeeListLookupTable[],3,FALSE)","v":"Employee Name 20"},{"$f":"VLOOKUP(PACKT02Table[[#This Row],[EmployeeID]],EmployeeListLookupTable[],4,FALSE)","v":"Employee Job Title 20"},null,null,null,null,null,null,null,null,null,null,null,null,{"$f":"VLOOKUP(PACKT02Table[[#This Row],[EmployeeID]],EmployeeListLookupTable[#All],8,FALSE)=\"Y\"","v":true}]
[null,"EMP0021",{"$f":"VLOOKUP(PACKT02Table[[#This Row],[EmployeeID]],EmployeeListLookupTable[],2,FALSE)","v":"EMPN021"},{"$f":"VLOOKUP(PACKT02Table[[#This Row],[EmployeeID]],EmployeeListLookupTable[],3,FALSE)","v":"Employee Name 21"},{"$f":"VLOOKUP(PACKT02Table[[#This Row],[EmployeeID]],EmployeeListLookupTable[],4,FALSE)","v":"Employee Job Title 21"},null,null,null,null,null,null,null,null,null,null,null,null,{"$f":"VLOOKUP(PACKT02Table[[#This Row],[EmployeeID]],EmployeeListLookupTable[#All],8,FALSE)=\"Y\"","v":true}]
[null,"EMP0022",{"$f":"VLOOKUP(PACKT02Table[[#This Row],[EmployeeID]],EmployeeListLookupTable[],2,FALSE)","v":"EMPN022"},{"$f":"VLOOKUP(PACKT02Table[[#This Row],[EmployeeID]],EmployeeListLookupTable[],3,FALSE)","v":"Employee Name 22"},{"$f":"VLOOKUP(PACKT02Table[[#This Row],[EmployeeID]],EmployeeListLookupTable[],4,FALSE)","v":"Employee Job Title 22"},null,null,null,null,null,null,null,null,null,null,null,null,{"$f":"VLOOKUP(PACKT02Table[[#This Row],[EmployeeID]],EmployeeListLookupTable[#All],8,FALSE)=\"Y\"","v":true}]
[null,"EMP0023",{"$f":"VLOOKUP(PACKT02Table[[#This Row],[EmployeeID]],EmployeeListLookupTable[],2,FALSE)","v":"EMPN023"},{"$f":"VLOOKUP(PACKT02Table[[#This Row],[EmployeeID]],EmployeeListLookupTable[],3,FALSE)","v":"Employee Name 23"},{"$f":"VLOOKUP(PACKT02Table[[#This Row],[EmployeeID]],EmployeeListLookupTable[],4,FALSE)","v":"Employee Job Title 23"},null,null,null,null,null,null,null,null,null,null,null,null,{"$f":"VLOOKUP(PACKT02Table[[#This Row],[EmployeeID]],EmployeeListLookupTable[#All],8,FALSE)=\"Y\"","v":true}]
[null,"EMP0024",{"$f":"VLOOKUP(PACKT02Table[[#This Row],[EmployeeID]],EmployeeListLookupTable[],2,FALSE)","v":"EMPN024"},{"$f":"VLOOKUP(PACKT02Table[[#This Row],[EmployeeID]],EmployeeListLookupTable[],3,FALSE)","v":"Employee Name 24"},{"$f":"VLOOKUP(PACKT02Table[[#This Row],[EmployeeID]],EmployeeListLookupTable[],4,FALSE)","v":"Employee Job Title 24"},null,null,null,null,null,null,null,null,null,null,null,null,{"$f":"VLOOKUP(PACKT02Table[[#This Row],[EmployeeID]],EmployeeListLookupTable[#All],8,FALSE)=\"Y\"","v":true}]
[null,"EMP0025",{"$f":"VLOOKUP(PACKT02Table[[#This Row],[EmployeeID]],EmployeeListLookupTable[],2,FALSE)","v":"EMPN025"},{"$f":"VLOOKUP(PACKT02Table[[#This Row],[EmployeeID]],EmployeeListLookupTable[],3,FALSE)","v":"Employee Name 25"},{"$f":"VLOOKUP(PACKT02Table[[#This Row],[EmployeeID]],EmployeeListLookupTable[],4,FALSE)","v":"Employee Job Title 25"},null,null,null,null,null,null,null,null,null,null,null,null,{"$f":"VLOOKUP(PACKT02Table[[#This Row],[EmployeeID]],EmployeeListLookupTable[#All],8,FALSE)=\"Y\"","v":true}]
[null,"EMP0026",{"$f":"VLOOKUP(PACKT02Table[[#This Row],[EmployeeID]],EmployeeListLookupTable[],2,FALSE)","v":"EMPN026"},{"$f":"VLOOKUP(PACKT02Table[[#This Row],[EmployeeID]],EmployeeListLookupTable[],3,FALSE)","v":"Employee Name 26"},{"$f":"VLOOKUP(PACKT02Table[[#This Row],[EmployeeID]],EmployeeListLookupTable[],4,FALSE)","v":"Employee Job Title 26"},null,null,null,null,null,null,null,null,null,null,null,null,{"$f":"VLOOKUP(PACKT02Table[[#This Row],[EmployeeID]],EmployeeListLookupTable[#All],8,FALSE)=\"Y\"","v":true}]
[null,"EMP0027",{"$f":"VLOOKUP(PACKT02Table[[#This Row],[EmployeeID]],EmployeeListLookupTable[],2,FALSE)","v":"EMPN027"},{"$f":"VLOOKUP(PACKT02Table[[#This Row],[EmployeeID]],EmployeeListLookupTable[],3,FALSE)","v":"Employee Name 27"},{"$f":"VLOOKUP(PACKT02Table[[#This Row],[EmployeeID]],EmployeeListLookupTable[],4,FALSE)","v":"Employee Job Title 27"},null,null,null,null,null,null,null,null,null,null,null,null,{"$f":"VLOOKUP(PACKT02Table[[#This Row],[EmployeeID]],EmployeeListLookupTable[#All],8,FALSE)=\"Y\"","v":true}]
[null,"EMP0028",{"$f":"VLOOKUP(PACKT02Table[[#This Row],[EmployeeID]],EmployeeListLookupTable[],2,FALSE)","v":"EMPN028"},{"$f":"VLOOKUP(PACKT02Table[[#This Row],[EmployeeID]],EmployeeListLookupTable[],3,FALSE)","v":"Employee Name 28"},{"$f":"VLOOKUP(PACKT02Table[[#This Row],[EmployeeID]],EmployeeListLookupTable[],4,FALSE)","v":"Employee Job Title 28"},null,null,null,null,null,null,null,null,null,null,null,null,{"$f":"VLOOKUP(PACKT02Table[[#This Row],[EmployeeID]],EmployeeListLookupTable[#All],8,FALSE)=\"Y\"","v":true}]
[null,"EMP0029",{"$f":"VLOOKUP(PACKT02Table[[#This Row],[EmployeeID]],EmployeeListLookupTable[],2,FALSE)","v":"EMPN029"},{"$f":"VLOOKUP(PACKT02Table[[#This Row],[EmployeeID]],EmployeeListLookupTable[],3,FALSE)","v":"Employee Name 29"},{"$f":"VLOOKUP(PACKT02Table[[#This Row],[EmployeeID]],EmployeeListLookupTable[],4,FALSE)","v":"Employee Job Title 29"},null,null,null,null,null,null,null,null,null,null,null,null,{"$f":"VLOOKUP(PACKT02Table[[#This Row],[EmployeeID]],EmployeeListLookupTable[#All],8,FALSE)=\"Y\"","v":true}]
[null,"EMP0030",{"$f":"VLOOKUP(PACKT02Table[[#This Row],[EmployeeID]],EmployeeListLookupTable[],2,FALSE)","v":"EMPN030"},{"$f":"VLOOKUP(PACKT02Table[[#This Row],[EmployeeID]],EmployeeListLookupTable[],3,FALSE)","v":"Employee Name 30"},{"$f":"VLOOKUP(PACKT02Table[[#This Row],[EmployeeID]],EmployeeListLookupTable[],4,FALSE)","v":"Employee Job Title 30"},null,null,null,null,null,null,null,null,null,null,null,null,{"$f":"VLOOKUP(PACKT02Table[[#This Row],[EmployeeID]],EmployeeListLookupTable[#All],8,FALSE)=\"Y\"","v":true}]
[null,"EMP0031",{"$f":"VLOOKUP(PACKT02Table[[#This Row],[EmployeeID]],EmployeeListLookupTable[],2,FALSE)","v":"EMPN031"},{"$f":"VLOOKUP(PACKT02Table[[#This Row],[EmployeeID]],EmployeeListLookupTable[],3,FALSE)","v":"Employee Name 31"},{"$f":"VLOOKUP(PACKT02Table[[#This Row],[EmployeeID]],EmployeeListLookupTable[],4,FALSE)","v":"Employee Job Title 31"},null,null,null,null,null,null,null,null,null,null,null,null,{"$f":"VLOOKUP(PACKT02Table[[#This Row],[EmployeeID]],EmployeeListLookupTable[#All],8,FALSE)=\"Y\"","v":true}]
[null,"EMP0032",{"$f":"VLOOKUP(PACKT02Table[[#This Row],[EmployeeID]],EmployeeListLookupTable[],2,FALSE)","v":"EMPN032"},{"$f":"VLOOKUP(PACKT02Table[[#This Row],[EmployeeID]],EmployeeListLookupTable[],3,FALSE)","v":"Employee Name 32"},{"$f":"VLOOKUP(PACKT02Table[[#This Row],[EmployeeID]],EmployeeListLookupTable[],4,FALSE)","v":"Employee Job Title 32"},null,null,null,null,null,null,null,null,null,null,null,null,{"$f":"VLOOKUP(PACKT02Table[[#This Row],[EmployeeID]],EmployeeListLookupTable[#All],8,FALSE)=\"Y\"","v":true}]
[null,"EMP0033",{"$f":"VLOOKUP(PACKT02Table[[#This Row],[EmployeeID]],EmployeeListLookupTable[],2,FALSE)","v":"EMPN033"},{"$f":"VLOOKUP(PACKT02Table[[#This Row],[EmployeeID]],EmployeeListLookupTable[],3,FALSE)","v":"Employee Name 33"},{"$f":"VLOOKUP(PACKT02Table[[#This Row],[EmployeeID]],EmployeeListLookupTable[],4,FALSE)","v":"Employee Job Title 33"},null,null,null,null,null,null,null,null,null,null,null,null,{"$f":"VLOOKUP(PACKT02Table[[#This Row],[EmployeeID]],EmployeeListLookupTable[#All],8,FALSE)=\"Y\"","v":true}]
[null,"EMP0034",{"$f":"VLOOKUP(PACKT02Table[[#This Row],[EmployeeID]],EmployeeListLookupTable[],2,FALSE)","v":"EMPN034"},{"$f":"VLOOKUP(PACKT02Table[[#This Row],[EmployeeID]],EmployeeListLookupTable[],3,FALSE)","v":"Employee Name 34"},{"$f":"VLOOKUP(PACKT02Table[[#This Row],[EmployeeID]],EmployeeListLookupTable[],4,FALSE)","v":"Employee Job Title 34"},null,null,null,null,null,null,null,null,null,null,null,null,{"$f":"VLOOKUP(PACKT02Table[[#This Row],[EmployeeID]],EmployeeListLookupTable[#All],8,FALSE)=\"Y\"","v":true}]
[null,"EMP0035",{"$f":"VLOOKUP(PACKT02Table[[#This Row],[EmployeeID]],EmployeeListLookupTable[],2,FALSE)","v":"EMPN035"},{"$f":"VLOOKUP(PACKT02Table[[#This Row],[EmployeeID]],EmployeeListLookupTable[],3,FALSE)","v":"Employee Name 35"},{"$f":"VLOOKUP(PACKT02Table[[#This Row],[EmployeeID]],EmployeeListLookupTable[],4,FALSE)","v":"Employee Job Title 35"},null,null,null,null,null,null,null,null,null,null,null,null,{"$f":"VLOOKUP(PACKT02Table[[#This Row],[EmployeeID]],EmployeeListLookupTable[#All],8,FALSE)=\"Y\"","v":true}]
[null,"EMP0036",{"$f":"VLOOKUP(PACKT02Table[[#This Row],[EmployeeID]],EmployeeListLookupTable[],2,FALSE)","v":"EMPN036"},{"$f":"VLOOKUP(PACKT02Table[[#This Row],[EmployeeID]],EmployeeListLookupTable[],3,FALSE)","v":"Employee Name 36"},{"$f":"VLOOKUP(PACKT02Table[[#This Row],[EmployeeID]],EmployeeListLookupTable[],4,FALSE)","v":"Employee Job Title 36"},null,null,null,null,null,null,null,null,null,null,null,null,{"$f":"VLOOKUP(PACKT02Table[[#This Row],[EmployeeID]],EmployeeListLookupTable[#All],8,FALSE)=\"Y\"","v":true}]
[null,"EMP0037",{"$f":"VLOOKUP(PACKT02Table[[#This Row],[EmployeeID]],EmployeeListLookupTable[],2,FALSE)","v":"EMPN037"},{"$f":"VLOOKUP(PACKT02Table[[#This Row],[EmployeeID]],EmployeeListLookupTable[],3,FALSE)","v":"Employee Name 37"},{"$f":"VLOOKUP(PACKT02Table[[#This Row],[EmployeeID]],EmployeeListLookupTable[],4,FALSE)","v":"Employee Job Title 37"},null,null,null,null,null,null,null,null,null,null,null,null,{"$f":"VLOOKUP(PACKT02Table[[#This Row],[EmployeeID]],EmployeeListLookupTable[#All],8,FALSE)=\"Y\"","v":true}]
[null,"EMP0038",{"$f":"VLOOKUP(PACKT02Table[[#This Row],[EmployeeID]],EmployeeListLookupTable[],2,FALSE)","v":"EMPN038"},{"$f":"VLOOKUP(PACKT02Table[[#This Row],[EmployeeID]],EmployeeListLookupTable[],3,FALSE)","v":"Employee Name 38"},{"$f":"VLOOKUP(PACKT02Table[[#This Row],[EmployeeID]],EmployeeListLookupTable[],4,FALSE)","v":"Employee Job Title 38"},null,null,null,null,null,null,null,null,null,null,null,null,{"$f":"VLOOKUP(PACKT02Table[[#This Row],[EmployeeID]],EmployeeListLookupTable[#All],8,FALSE)=\"Y\"","v":true}]
[null,"EMP0039",{"$f":"VLOOKUP(PACKT02Table[[#This Row],[EmployeeID]],EmployeeListLookupTable[],2,FALSE)","v":"EMPN039"},{"$f":"VLOOKUP(PACKT02Table[[#This Row],[EmployeeID]],EmployeeListLookupTable[],3,FALSE)","v":"Employee Name 39"},{"$f":"VLOOKUP(PACKT02Table[[#This Row],[EmployeeID]],EmployeeListLookupTable[],4,FALSE)","v":"Employee Job Title 39"},null,null,null,null,null,null,null,null,null,null,null,null,{"$f":"VLOOKUP(PACKT02Table[[#This Row],[EmployeeID]],EmployeeListLookupTable[#All],8,FALSE)=\"Y\"","v":true}]
[null,"EMP0040",{"$f":"VLOOKUP(PACKT02Table[[#This Row],[EmployeeID]],EmployeeListLookupTable[],2,FALSE)","v":"EMPN040"},{"$f":"VLOOKUP(PACKT02Table[[#This Row],[EmployeeID]],EmployeeListLookupTable[],3,FALSE)","v":"Employee Name 40"},{"$f":"VLOOKUP(PACKT02Table[[#This Row],[EmployeeID]],EmployeeListLookupTable[],4,FALSE)","v":"Employee Job Title 40"},null,null,null,null,null,null,null,null,null,null,null,null,{"$f":"VLOOKUP(PACKT02Table[[#This Row],[EmployeeID]],EmployeeListLookupTable[#All],8,FALSE)=\"Y\"","v":true}]
[null,"EMP0041",{"$f":"VLOOKUP(PACKT02Table[[#This Row],[EmployeeID]],EmployeeListLookupTable[],2,FALSE)","v":"EMPN041"},{"$f":"VLOOKUP(PACKT02Table[[#This Row],[EmployeeID]],EmployeeListLookupTable[],3,FALSE)","v":"Employee Name 41"},{"$f":"VLOOKUP(PACKT02Table[[#This Row],[EmployeeID]],EmployeeListLookupTable[],4,FALSE)","v":"Employee Job Title 41"},null,null,null,null,null,null,null,null,null,null,null,null,{"$f":"VLOOKUP(PACKT02Table[[#This Row],[EmployeeID]],EmployeeListLookupTable[#All],8,FALSE)=\"Y\"","v":true}]
[null,"EMP0042",{"$f":"VLOOKUP(PACKT02Table[[#This Row],[EmployeeID]],EmployeeListLookupTable[],2,FALSE)","v":"EMPN042"},{"$f":"VLOOKUP(PACKT02Table[[#This Row],[EmployeeID]],EmployeeListLookupTable[],3,FALSE)","v":"Employee Name 42"},{"$f":"VLOOKUP(PACKT02Table[[#This Row],[EmployeeID]],EmployeeListLookupTable[],4,FALSE)","v":"Employee Job Title 42"},null,null,null,null,null,null,null,null,null,null,null,null,{"$f":"VLOOKUP(PACKT02Table[[#This Row],[EmployeeID]],EmployeeListLookupTable[#All],8,FALSE)=\"Y\"","v":true}]
[null,"EMP0043",{"$f":"VLOOKUP(PACKT02Table[[#This Row],[EmployeeID]],EmployeeListLookupTable[],2,FALSE)","v":"EMPN043"},{"$f":"VLOOKUP(PACKT02Table[[#This Row],[EmployeeID]],EmployeeListLookupTable[],3,FALSE)","v":"Employee Name 43"},{"$f":"VLOOKUP(PACKT02Table[[#This Row],[EmployeeID]],EmployeeListLookupTable[],4,FALSE)","v":"Employee Job Title 43"},null,null,null,null,null,null,null,null,null,null,null,null,{"$f":"VLOOKUP(PACKT02Table[[#This Row],[EmployeeID]],EmployeeListLookupTable[#All],8,FALSE)=\"Y\"","v":true}]
[null,"EMP0044",{"$f":"VLOOKUP(PACKT02Table[[#This Row],[EmployeeID]],EmployeeListLookupTable[],2,FALSE)","v":"EMPN044"},{"$f":"VLOOKUP(PACKT02Table[[#This Row],[EmployeeID]],EmployeeListLookupTable[],3,FALSE)","v":"Employee Name 44"},{"$f":"VLOOKUP(PACKT02Table[[#This Row],[EmployeeID]],EmployeeListLookupTable[],4,FALSE)","v":"Employee Job Title 44"},null,null,null,null,null,null,null,null,null,null,null,null,{"$f":"VLOOKUP(PACKT02Table[[#This Row],[EmployeeID]],EmployeeListLookupTable[#All],8,FALSE)=\"Y\"","v":true}]
[null,"EMP0045",{"$f":"VLOOKUP(PACKT02Table[[#This Row],[EmployeeID]],EmployeeListLookupTable[],2,FALSE)","v":"EMPN045"},{"$f":"VLOOKUP(PACKT02Table[[#This Row],[EmployeeID]],EmployeeListLookupTable[],3,FALSE)","v":"Employee Name 45"},{"$f":"VLOOKUP(PACKT02Table[[#This Row],[EmployeeID]],EmployeeListLookupTable[],4,FALSE)","v":"Employee Job Title 45"},null,null,null,null,null,null,null,null,null,null,null,null,{"$f":"VLOOKUP(PACKT02Table[[#This Row],[EmployeeID]],EmployeeListLookupTable[#All],8,FALSE)=\"Y\"","v":true}]
[null,"EMP0046",{"$f":"VLOOKUP(PACKT02Table[[#This Row],[EmployeeID]],EmployeeListLookupTable[],2,FALSE)","v":"EMPN046"},{"$f":"VLOOKUP(PACKT02Table[[#This Row],[EmployeeID]],EmployeeListLookupTable[],3,FALSE)","v":"Employee Name 46"},{"$f":"VLOOKUP(PACKT02Table[[#This Row],[EmployeeID]],EmployeeListLookupTable[],4,FALSE)","v":"Employee Job Title 46"},null,null,null,null,null,null,null,null,null,null,null,null,{"$f":"VLOOKUP(PACKT02Table[[#This Row],[EmployeeID]],EmployeeListLookupTable[#All],8,FALSE)=\"Y\"","v":true}]
[null,"EMP0047",{"$f":"VLOOKUP(PACKT02Table[[#This Row],[EmployeeID]],EmployeeListLookupTable[],2,FALSE)","v":"EMPN047"},{"$f":"VLOOKUP(PACKT02Table[[#This Row],[EmployeeID]],EmployeeListLookupTable[],3,FALSE)","v":"Employee Name 47"},{"$f":"VLOOKUP(PACKT02Table[[#This Row],[EmployeeID]],EmployeeListLookupTable[],4,FALSE)","v":"Employee Job Title 47"},null,null,null,null,null,null,null,null,null,null,null,null,{"$f":"VLOOKUP(PACKT02Table[[#This Row],[EmployeeID]],EmployeeListLookupTable[#All],8,FALSE)=\"Y\"","v":true}]
[null,"EMP0048",{"$f":"VLOOKUP(PACKT02Table[[#This Row],[EmployeeID]],EmployeeListLookupTable[],2,FALSE)","v":"EMPN048"},{"$f":"VLOOKUP(PACKT02Table[[#This Row],[EmployeeID]],EmployeeListLookupTable[],3,FALSE)","v":"Employee Name 48"},{"$f":"VLOOKUP(PACKT02Table[[#This Row],[EmployeeID]],EmployeeListLookupTable[],4,FALSE)","v":"Employee Job Title 48"},null,null,null,null,null,null,null,null,null,null,null,null,{"$f":"VLOOKUP(PACKT02Table[[#This Row],[EmployeeID]],EmployeeListLookupTable[#All],8,FALSE)=\"Y\"","v":true}]
[null,"EMP0049",{"$f":"VLOOKUP(PACKT02Table[[#This Row],[EmployeeID]],EmployeeListLookupTable[],2,FALSE)","v":"EMPN049"},{"$f":"VLOOKUP(PACKT02Table[[#This Row],[EmployeeID]],EmployeeListLookupTable[],3,FALSE)","v":"Employee Name 49"},{"$f":"VLOOKUP(PACKT02Table[[#This Row],[EmployeeID]],EmployeeListLookupTable[],4,FALSE)","v":"Employee Job Title 49"},null,null,null,null,null,null,null,null,null,null,null,null,{"$f":"VLOOKUP(PACKT02Table[[#This Row],[EmployeeID]],EmployeeListLookupTable[#All],8,FALSE)=\"Y\"","v":true}]
[null,"EMP0050",{"$f":"VLOOKUP(PACKT02Table[[#This Row],[EmployeeID]],EmployeeListLookupTable[],2,FALSE)","v":"EMPN050"},{"$f":"VLOOKUP(PACKT02Table[[#This Row],[EmployeeID]],EmployeeListLookupTable[],3,FALSE)","v":"Employee Name 50"},{"$f":"VLOOKUP(PACKT02Table[[#This Row],[EmployeeID]],EmployeeListLookupTable[],4,FALSE)","v":"Employee Job Title 50"},null,null,null,null,null,null,null,null,null,null,null,null,{"$f":"VLOOKUP(PACKT02Table[[#This Row],[EmployeeID]],EmployeeListLookupTable[#All],8,FALSE)=\"Y\"","v":true}]
[null,"EMP0051",{"$f":"VLOOKUP(PACKT02Table[[#This Row],[EmployeeID]],EmployeeListLookupTable[],2,FALSE)","v":"EMPN051"},{"$f":"VLOOKUP(PACKT02Table[[#This Row],[EmployeeID]],EmployeeListLookupTable[],3,FALSE)","v":"Employee Name 51"},{"$f":"VLOOKUP(PACKT02Table[[#This Row],[EmployeeID]],EmployeeListLookupTable[],4,FALSE)","v":"Employee Job Title 51"},null,null,null,null,null,null,null,null,null,null,null,null,{"$f":"VLOOKUP(PACKT02Table[[#This Row],[EmployeeID]],EmployeeListLookupTable[#All],8,FALSE)=\"Y\"","v":true}]
[null,"EMP0052",{"$f":"VLOOKUP(PACKT02Table[[#This Row],[EmployeeID]],EmployeeListLookupTable[],2,FALSE)","v":"EMPN052"},{"$f":"VLOOKUP(PACKT02Table[[#This Row],[EmployeeID]],EmployeeListLookupTable[],3,FALSE)","v":"Employee Name 52"},{"$f":"VLOOKUP(PACKT02Table[[#This Row],[EmployeeID]],EmployeeListLookupTable[],4,FALSE)","v":"Employee Job Title 52"},null,null,null,null,null,null,null,null,null,null,null,null,{"$f":"VLOOKUP(PACKT02Table[[#This Row],[EmployeeID]],EmployeeListLookupTable[#All],8,FALSE)=\"Y\"","v":true}]
[null,"EMP0053",{"$f":"VLOOKUP(PACKT02Table[[#This Row],[EmployeeID]],EmployeeListLookupTable[],2,FALSE)","v":"EMPN053"},{"$f":"VLOOKUP(PACKT02Table[[#This Row],[EmployeeID]],EmployeeListLookupTable[],3,FALSE)","v":"Employee Name 53"},{"$f":"VLOOKUP(PACKT02Table[[#This Row],[EmployeeID]],EmployeeListLookupTable[],4,FALSE)","v":"Employee Job Title 53"},null,null,null,null,null,null,null,null,null,null,null,null,{"$f":"VLOOKUP(PACKT02Table[[#This Row],[EmployeeID]],EmployeeListLookupTable[#All],8,FALSE)=\"Y\"","v":true}]
[null,"EMP0054",{"$f":"VLOOKUP(PACKT02Table[[#This Row],[EmployeeID]],EmployeeListLookupTable[],2,FALSE)","v":"EMPN054"},{"$f":"VLOOKUP(PACKT02Table[[#This Row],[EmployeeID]],EmployeeListLookupTable[],3,FALSE)","v":"Employee Name 54"},{"$f":"VLOOKUP(PACKT02Table[[#This Row],[EmployeeID]],EmployeeListLookupTable[],4,FALSE)","v":"Employee Job Title 54"},null,null,null,null,null,null,null,null,null,null,null,null,{"$f":"VLOOKUP(PACKT02Table[[#This Row],[EmployeeID]],EmployeeListLookupTable[#All],8,FALSE)=\"Y\"","v":true}]
[null,"EMP0055",{"$f":"VLOOKUP(PACKT02Table[[#This Row],[EmployeeID]],EmployeeListLookupTable[],2,FALSE)","v":"EMPN055"},{"$f":"VLOOKUP(PACKT02Table[[#This Row],[EmployeeID]],EmployeeListLookupTable[],3,FALSE)","v":"Employee Name 55"},{"$f":"VLOOKUP(PACKT02Table[[#This Row],[EmployeeID]],EmployeeListLookupTable[],4,FALSE)","v":"Employee Job Title 55"},null,null,null,null,null,null,null,null,null,null,null,null,{"$f":"VLOOKUP(PACKT02Table[[#This Row],[EmployeeID]],EmployeeListLookupTable[#All],8,FALSE)=\"Y\"","v":true}]
[null,"EMP0056",{"$f":"VLOOKUP(PACKT02Table[[#This Row],[EmployeeID]],EmployeeListLookupTable[],2,FALSE)","v":"EMPN056"},{"$f":"VLOOKUP(PACKT02Table[[#This Row],[EmployeeID]],EmployeeListLookupTable[],3,FALSE)","v":"Employee Name 56"},{"$f":"VLOOKUP(PACKT02Table[[#This Row],[EmployeeID]],EmployeeListLookupTable[],4,FALSE)","v":"Employee Job Title 56"},null,null,null,null,null,null,null,null,null,null,null,null,{"$f":"VLOOKUP(PACKT02Table[[#This Row],[EmployeeID]],EmployeeListLookupTable[#All],8,FALSE)=\"Y\"","v":true}]
[null,"EMP0057",{"$f":"VLOOKUP(PACKT02Table[[#This Row],[EmployeeID]],EmployeeListLookupTable[],2,FALSE)","v":"EMPN057"},{"$f":"VLOOKUP(PACKT02Table[[#This Row],[EmployeeID]],EmployeeListLookupTable[],3,FALSE)","v":"Employee Name 57"},{"$f":"VLOOKUP(PACKT02Table[[#This Row],[EmployeeID]],EmployeeListLookupTable[],4,FALSE)","v":"Employee Job Title 57"},null,null,null,null,null,null,null,null,null,null,null,null,{"$f":"VLOOKUP(PACKT02Table[[#This Row],[EmployeeID]],EmployeeListLookupTable[#All],8,FALSE)=\"Y\"","v":true}]
[null,"EMP0058",{"$f":"VLOOKUP(PACKT02Table[[#This Row],[EmployeeID]],EmployeeListLookupTable[],2,FALSE)","v":"EMPN058"},{"$f":"VLOOKUP(PACKT02Table[[#This Row],[EmployeeID]],EmployeeListLookupTable[],3,FALSE)","v":"Employee Name 58"},{"$f":"VLOOKUP(PACKT02Table[[#This Row],[EmployeeID]],EmployeeListLookupTable[],4,FALSE)","v":"Employee Job Title 58"},null,null,null,null,null,null,null,null,null,null,null,null,{"$f":"VLOOKUP(PACKT02Table[[#This Row],[EmployeeID]],EmployeeListLookupTable[#All],8,FALSE)=\"Y\"","v":true}]
[null,"EMP0059",{"$f":"VLOOKUP(PACKT02Table[[#This Row],[EmployeeID]],EmployeeListLookupTable[],2,FALSE)","v":"EMPN059"},{"$f":"VLOOKUP(PACKT02Table[[#This Row],[EmployeeID]],EmployeeListLookupTable[],3,FALSE)","v":"Employee Name 59"},{"$f":"VLOOKUP(PACKT02Table[[#This Row],[EmployeeID]],EmployeeListLookupTable[],4,FALSE)","v":"Employee Job Title 59"},null,null,null,null,null,null,null,null,null,null,null,null,{"$f":"VLOOKUP(PACKT02Table[[#This Row],[EmployeeID]],EmployeeListLookupTable[#All],8,FALSE)=\"Y\"","v":true}]
[null,"EMP0060",{"$f":"VLOOKUP(PACKT02Table[[#This Row],[EmployeeID]],EmployeeListLookupTable[],2,FALSE)","v":"EMPN060"},{"$f":"VLOOKUP(PACKT02Table[[#This Row],[EmployeeID]],EmployeeListLookupTable[],3,FALSE)","v":"Employee Name 60"},{"$f":"VLOOKUP(PACKT02Table[[#This Row],[EmployeeID]],EmployeeListLookupTable[],4,FALSE)","v":"Employee Job Title 60"},null,null,null,null,null,null,null,null,null,null,null,null,{"$f":"VLOOKUP(PACKT02Table[[#This Row],[EmployeeID]],EmployeeListLookupTable[#All],8,FALSE)=\"Y\"","v":true}]
[null,"EMP0061",{"$f":"VLOOKUP(PACKT02Table[[#This Row],[EmployeeID]],EmployeeListLookupTable[],2,FALSE)","v":"EMPN061"},{"$f":"VLOOKUP(PACKT02Table[[#This Row],[EmployeeID]],EmployeeListLookupTable[],3,FALSE)","v":"Employee Name 61"},{"$f":"VLOOKUP(PACKT02Table[[#This Row],[EmployeeID]],EmployeeListLookupTable[],4,FALSE)","v":"Employee Job Title 61"},null,null,null,null,null,null,null,null,null,null,null,null,{"$f":"VLOOKUP(PACKT02Table[[#This Row],[EmployeeID]],EmployeeListLookupTable[#All],8,FALSE)=\"Y\"","v":true}]
[null,"EMP0062",{"$f":"VLOOKUP(PACKT02Table[[#This Row],[EmployeeID]],EmployeeListLookupTable[],2,FALSE)","v":"EMPN062"},{"$f":"VLOOKUP(PACKT02Table[[#This Row],[EmployeeID]],EmployeeListLookupTable[],3,FALSE)","v":"Employee Name 62"},{"$f":"VLOOKUP(PACKT02Table[[#This Row],[EmployeeID]],EmployeeListLookupTable[],4,FALSE)","v":"Employee Job Title 62"},null,null,null,null,null,null,null,null,null,null,null,null,{"$f":"VLOOKUP(PACKT02Table[[#This Row],[EmployeeID]],EmployeeListLookupTable[#All],8,FALSE)=\"Y\"","v":true}]
[null,"EMP0063",{"$f":"VLOOKUP(PACKT02Table[[#This Row],[EmployeeID]],EmployeeListLookupTable[],2,FALSE)","v":"EMPN063"},{"$f":"VLOOKUP(PACKT02Table[[#This Row],[EmployeeID]],EmployeeListLookupTable[],3,FALSE)","v":"Employee Name 63"},{"$f":"VLOOKUP(PACKT02Table[[#This Row],[EmployeeID]],EmployeeListLookupTable[],4,FALSE)","v":"Employee Job Title 63"},null,null,null,null,null,null,null,null,null,null,null,null,{"$f":"VLOOKUP(PACKT02Table[[#This Row],[EmployeeID]],EmployeeListLookupTable[#All],8,FALSE)=\"Y\"","v":true}]
[null,"EMP0064",{"$f":"VLOOKUP(PACKT02Table[[#This Row],[EmployeeID]],EmployeeListLookupTable[],2,FALSE)","v":"EMPN064"},{"$f":"VLOOKUP(PACKT02Table[[#This Row],[EmployeeID]],EmployeeListLookupTable[],3,FALSE)","v":"Employee Name 64"},{"$f":"VLOOKUP(PACKT02Table[[#This Row],[EmployeeID]],EmployeeListLookupTable[],4,FALSE)","v":"Employee Job Title 64"},null,null,null,null,null,null,null,null,null,null,null,null,{"$f":"VLOOKUP(PACKT02Table[[#This Row],[EmployeeID]],EmployeeListLookupTable[#All],8,FALSE)=\"Y\"","v":true}]
[null,"EMP0065",{"$f":"VLOOKUP(PACKT02Table[[#This Row],[EmployeeID]],EmployeeListLookupTable[],2,FALSE)","v":"EMPN065"},{"$f":"VLOOKUP(PACKT02Table[[#This Row],[EmployeeID]],EmployeeListLookupTable[],3,FALSE)","v":"Employee Name 65"},{"$f":"VLOOKUP(PACKT02Table[[#This Row],[EmployeeID]],EmployeeListLookupTable[],4,FALSE)","v":"Employee Job Title 65"},null,null,null,null,null,null,null,null,null,null,null,null,{"$f":"VLOOKUP(PACKT02Table[[#This Row],[EmployeeID]],EmployeeListLookupTable[#All],8,FALSE)=\"Y\"","v":true}]
[null,"EMP0066",{"$f":"VLOOKUP(PACKT02Table[[#This Row],[EmployeeID]],EmployeeListLookupTable[],2,FALSE)","v":"EMPN066"},{"$f":"VLOOKUP(PACKT02Table[[#This Row],[EmployeeID]],EmployeeListLookupTable[],3,FALSE)","v":"Employee Name 66"},{"$f":"VLOOKUP(PACKT02Table[[#This Row],[EmployeeID]],EmployeeListLookupTable[],4,FALSE)","v":"Employee Job Title 66"},null,null,null,null,null,null,null,null,null,null,null,null,{"$f":"VLOOKUP(PACKT02Table[[#This Row],[EmployeeID]],EmployeeListLookupTable[#All],8,FALSE)=\"Y\"","v":true}]
[null,"EMP0067",{"$f":"VLOOKUP(PACKT02Table[[#This Row],[EmployeeID]],EmployeeListLookupTable[],2,FALSE)","v":"EMPN067"},{"$f":"VLOOKUP(PACKT02Table[[#This Row],[EmployeeID]],EmployeeListLookupTable[],3,FALSE)","v":"Employee Name 67"},{"$f":"VLOOKUP(PACKT02Table[[#This Row],[EmployeeID]],EmployeeListLookupTable[],4,FALSE)","v":"Employee Job Title 67"},null,null,null,null,null,null,null,null,null,null,null,null,{"$f":"VLOOKUP(PACKT02Table[[#This Row],[EmployeeID]],EmployeeListLookupTable[#All],8,FALSE)=\"Y\"","v":true}]
[null,"EMP0068",{"$f":"VLOOKUP(PACKT02Table[[#This Row],[EmployeeID]],EmployeeListLookupTable[],2,FALSE)","v":"EMPN068"},{"$f":"VLOOKUP(PACKT02Table[[#This Row],[EmployeeID]],EmployeeListLookupTable[],3,FALSE)","v":"Employee Name 68"},{"$f":"VLOOKUP(PACKT02Table[[#This Row],[EmployeeID]],EmployeeListLookupTable[],4,FALSE)","v":"Employee Job Title 68"},null,null,null,null,null,null,null,null,null,null,null,null,{"$f":"VLOOKUP(PACKT02Table[[#This Row],[EmployeeID]],EmployeeListLookupTable[#All],8,FALSE)=\"Y\"","v":true}]
[null,"EMP0069",{"$f":"VLOOKUP(PACKT02Table[[#This Row],[EmployeeID]],EmployeeListLookupTable[],2,FALSE)","v":"EMPN069"},{"$f":"VLOOKUP(PACKT02Table[[#This Row],[EmployeeID]],EmployeeListLookupTable[],3,FALSE)","v":"Employee Name 69"},{"$f":"VLOOKUP(PACKT02Table[[#This Row],[EmployeeID]],EmployeeListLookupTable[],4,FALSE)","v":"Employee Job Title 69"},null,null,null,null,null,null,null,null,null,null,null,null,{"$f":"VLOOKUP(PACKT02Table[[#This Row],[EmployeeID]],EmployeeListLookupTable[#All],8,FALSE)=\"Y\"","v":true}]
[null,"EMP0070",{"$f":"VLOOKUP(PACKT02Table[[#This Row],[EmployeeID]],EmployeeListLookupTable[],2,FALSE)","v":"EMPN070"},{"$f":"VLOOKUP(PACKT02Table[[#This Row],[EmployeeID]],EmployeeListLookupTable[],3,FALSE)","v":"Employee Name 70"},{"$f":"VLOOKUP(PACKT02Table[[#This Row],[EmployeeID]],EmployeeListLookupTable[],4,FALSE)","v":"Employee Job Title 70"},null,null,null,null,null,null,null,null,null,null,null,null,{"$f":"VLOOKUP(PACKT02Table[[#This Row],[EmployeeID]],EmployeeListLookupTable[#All],8,FALSE)=\"Y\"","v":true}]
[null,"EMP0071",{"$f":"VLOOKUP(PACKT02Table[[#This Row],[EmployeeID]],EmployeeListLookupTable[],2,FALSE)","v":"EMPN071"},{"$f":"VLOOKUP(PACKT02Table[[#This Row],[EmployeeID]],EmployeeListLookupTable[],3,FALSE)","v":"Employee Name 71"},{"$f":"VLOOKUP(PACKT02Table[[#This Row],[EmployeeID]],EmployeeListLookupTable[],4,FALSE)","v":"Employee Job Title 71"},null,null,null,null,null,null,null,null,null,null,null,null,{"$f":"VLOOKUP(PACKT02Table[[#This Row],[EmployeeID]],EmployeeListLookupTable[#All],8,FALSE)=\"Y\"","v":true}]
[null,"EMP0072",{"$f":"VLOOKUP(PACKT02Table[[#This Row],[EmployeeID]],EmployeeListLookupTable[],2,FALSE)","v":"EMPN072"},{"$f":"VLOOKUP(PACKT02Table[[#This Row],[EmployeeID]],EmployeeListLookupTable[],3,FALSE)","v":"Employee Name 72"},{"$f":"VLOOKUP(PACKT02Table[[#This Row],[EmployeeID]],EmployeeListLookupTable[],4,FALSE)","v":"Employee Job Title 72"},null,null,null,null,null,null,null,null,null,null,null,null,{"$f":"VLOOKUP(PACKT02Table[[#This Row],[EmployeeID]],EmployeeListLookupTable[#All],8,FALSE)=\"Y\"","v":true}]
[null,"EMP0073",{"$f":"VLOOKUP(PACKT02Table[[#This Row],[EmployeeID]],EmployeeListLookupTable[],2,FALSE)","v":"EMPN073"},{"$f":"VLOOKUP(PACKT02Table[[#This Row],[EmployeeID]],EmployeeListLookupTable[],3,FALSE)","v":"Employee Name 73"},{"$f":"VLOOKUP(PACKT02Table[[#This Row],[EmployeeID]],EmployeeListLookupTable[],4,FALSE)","v":"Employee Job Title 73"},null,null,null,null,null,null,null,null,null,null,null,null,{"$f":"VLOOKUP(PACKT02Table[[#This Row],[EmployeeID]],EmployeeListLookupTable[#All],8,FALSE)=\"Y\"","v":true}]
[null,"EMP0074",{"$f":"VLOOKUP(PACKT02Table[[#This Row],[EmployeeID]],EmployeeListLookupTable[],2,FALSE)","v":"EMPN074"},{"$f":"VLOOKUP(PACKT02Table[[#This Row],[EmployeeID]],EmployeeListLookupTable[],3,FALSE)","v":"Employee Name 74"},{"$f":"VLOOKUP(PACKT02Table[[#This Row],[EmployeeID]],EmployeeListLookupTable[],4,FALSE)","v":"Employee Job Title 74"},null,null,null,null,null,null,null,null,null,null,null,null,{"$f":"VLOOKUP(PACKT02Table[[#This Row],[EmployeeID]],EmployeeListLookupTable[#All],8,FALSE)=\"Y\"","v":true}]
[null,"EMP0075",{"$f":"VLOOKUP(PACKT02Table[[#This Row],[EmployeeID]],EmployeeListLookupTable[],2,FALSE)","v":"EMPN075"},{"$f":"VLOOKUP(PACKT02Table[[#This Row],[EmployeeID]],EmployeeListLookupTable[],3,FALSE)","v":"Employee Name 75"},{"$f":"VLOOKUP(PACKT02Table[[#This Row],[EmployeeID]],EmployeeListLookupTable[],4,FALSE)","v":"Employee Job Title 75"},null,null,null,null,null,null,null,null,null,null,null,null,{"$f":"VLOOKUP(PACKT02Table[[#This Row],[EmployeeID]],EmployeeListLookupTable[#All],8,FALSE)=\"Y\"","v":true}]
[null,"EMP0076",{"$f":"VLOOKUP(PACKT02Table[[#This Row],[EmployeeID]],EmployeeListLookupTable[],2,FALSE)","v":"EMPN076"},{"$f":"VLOOKUP(PACKT02Table[[#This Row],[EmployeeID]],EmployeeListLookupTable[],3,FALSE)","v":"Employee Name 76"},{"$f":"VLOOKUP(PACKT02Table[[#This Row],[EmployeeID]],EmployeeListLookupTable[],4,FALSE)","v":"Employee Job Title 76"},null,null,null,null,null,null,null,null,null,null,null,null,{"$f":"VLOOKUP(PACKT02Table[[#This Row],[EmployeeID]],EmployeeListLookupTable[#All],8,FALSE)=\"Y\"","v":true}]
[null,"EMP0077",{"$f":"VLOOKUP(PACKT02Table[[#This Row],[EmployeeID]],EmployeeListLookupTable[],2,FALSE)","v":"EMPN077"},{"$f":"VLOOKUP(PACKT02Table[[#This Row],[EmployeeID]],EmployeeListLookupTable[],3,FALSE)","v":"Employee Name 77"},{"$f":"VLOOKUP(PACKT02Table[[#This Row],[EmployeeID]],EmployeeListLookupTable[],4,FALSE)","v":"Employee Job Title 77"},null,null,null,null,null,null,null,null,null,null,null,null,{"$f":"VLOOKUP(PACKT02Table[[#This Row],[EmployeeID]],EmployeeListLookupTable[#All],8,FALSE)=\"Y\"","v":true}]
[null,"EMP0078",{"$f":"VLOOKUP(PACKT02Table[[#This Row],[EmployeeID]],EmployeeListLookupTable[],2,FALSE)","v":"EMPN078"},{"$f":"VLOOKUP(PACKT02Table[[#This Row],[EmployeeID]],EmployeeListLookupTable[],3,FALSE)","v":"Employee Name 78"},{"$f":"VLOOKUP(PACKT02Table[[#This Row],[EmployeeID]],EmployeeListLookupTable[],4,FALSE)","v":"Employee Job Title 78"},null,null,null,null,null,null,null,null,null,null,null,null,{"$f":"VLOOKUP(PACKT02Table[[#This Row],[EmployeeID]],EmployeeListLookupTable[#All],8,FALSE)=\"Y\"","v":true}]
[null,"EMP0079",{"$f":"VLOOKUP(PACKT02Table[[#This Row],[EmployeeID]],EmployeeListLookupTable[],2,FALSE)","v":"EMPN079"},{"$f":"VLOOKUP(PACKT02Table[[#This Row],[EmployeeID]],EmployeeListLookupTable[],3,FALSE)","v":"Employee Name 79"},{"$f":"VLOOKUP(PACKT02Table[[#This Row],[EmployeeID]],EmployeeListLookupTable[],4,FALSE)","v":"Employee Job Title 79"},null,null,null,null,null,null,null,null,null,null,null,null,{"$f":"VLOOKUP(PACKT02Table[[#This Row],[EmployeeID]],EmployeeListLookupTable[#All],8,FALSE)=\"Y\"","v":true}]
[null,"EMP0080",{"$f":"VLOOKUP(PACKT02Table[[#This Row],[EmployeeID]],EmployeeListLookupTable[],2,FALSE)","v":"EMPN080"},{"$f":"VLOOKUP(PACKT02Table[[#This Row],[EmployeeID]],EmployeeListLookupTable[],3,FALSE)","v":"Employee Name 80"},{"$f":"VLOOKUP(PACKT02Table[[#This Row],[EmployeeID]],EmployeeListLookupTable[],4,FALSE)","v":"Employee Job Title 80"},null,null,null,null,null,null,null,null,null,null,null,null,{"$f":"VLOOKUP(PACKT02Table[[#This Row],[EmployeeID]],EmployeeListLookupTable[#All],8,FALSE)=\"Y\"","v":true}]
[null,"EMP0081",{"$f":"VLOOKUP(PACKT02Table[[#This Row],[EmployeeID]],EmployeeListLookupTable[],2,FALSE)","v":"EMPN081"},{"$f":"VLOOKUP(PACKT02Table[[#This Row],[EmployeeID]],EmployeeListLookupTable[],3,FALSE)","v":"Employee Name 81"},{"$f":"VLOOKUP(PACKT02Table[[#This Row],[EmployeeID]],EmployeeListLookupTable[],4,FALSE)","v":"Employee Job Title 81"},null,null,null,null,null,null,null,null,null,null,null,null,{"$f":"VLOOKUP(PACKT02Table[[#This Row],[EmployeeID]],EmployeeListLookupTable[#All],8,FALSE)=\"Y\"","v":true}]
[null,"EMP0082",{"$f":"VLOOKUP(PACKT02Table[[#This Row],[EmployeeID]],EmployeeListLookupTable[],2,FALSE)","v":"EMPN082"},{"$f":"VLOOKUP(PACKT02Table[[#This Row],[EmployeeID]],EmployeeListLookupTable[],3,FALSE)","v":"Employee Name 82"},{"$f":"VLOOKUP(PACKT02Table[[#This Row],[EmployeeID]],EmployeeListLookupTable[],4,FALSE)","v":"Employee Job Title 82"},null,null,null,null,null,null,null,null,null,null,null,null,{"$f":"VLOOKUP(PACKT02Table[[#This Row],[EmployeeID]],EmployeeListLookupTable[#All],8,FALSE)=\"Y\"","v":true}]
[null,"EMP0083",{"$f":"VLOOKUP(PACKT02Table[[#This Row],[EmployeeID]],EmployeeListLookupTable[],2,FALSE)","v":"EMPN083"},{"$f":"VLOOKUP(PACKT02Table[[#This Row],[EmployeeID]],EmployeeListLookupTable[],3,FALSE)","v":"Employee Name 83"},{"$f":"VLOOKUP(PACKT02Table[[#This Row],[EmployeeID]],EmployeeListLookupTable[],4,FALSE)","v":"Employee Job Title 83"},null,null,null,null,null,null,null,null,null,null,null,null,{"$f":"VLOOKUP(PACKT02Table[[#This Row],[EmployeeID]],EmployeeListLookupTable[#All],8,FALSE)=\"Y\"","v":true}]
[null,"EMP0084",{"$f":"VLOOKUP(PACKT02Table[[#This Row],[EmployeeID]],EmployeeListLookupTable[],2,FALSE)","v":"EMPN084"},{"$f":"VLOOKUP(PACKT02Table[[#This Row],[EmployeeID]],EmployeeListLookupTable[],3,FALSE)","v":"Employee Name 84"},{"$f":"VLOOKUP(PACKT02Table[[#This Row],[EmployeeID]],EmployeeListLookupTable[],4,FALSE)","v":"Employee Job Title 84"},null,null,null,null,null,null,null,null,null,null,null,null,{"$f":"VLOOKUP(PACKT02Table[[#This Row],[EmployeeID]],EmployeeListLookupTable[#All],8,FALSE)=\"Y\"","v":true}]
[null,"EMP0085",{"$f":"VLOOKUP(PACKT02Table[[#This Row],[EmployeeID]],EmployeeListLookupTable[],2,FALSE)","v":"EMPN085"},{"$f":"VLOOKUP(PACKT02Table[[#This Row],[EmployeeID]],EmployeeListLookupTable[],3,FALSE)","v":"Employee Name 85"},{"$f":"VLOOKUP(PACKT02Table[[#This Row],[EmployeeID]],EmployeeListLookupTable[],4,FALSE)","v":"Employee Job Title 85"},null,null,null,null,null,null,null,null,null,null,null,null,{"$f":"VLOOKUP(PACKT02Table[[#This Row],[EmployeeID]],EmployeeListLookupTable[#All],8,FALSE)=\"Y\"","v":true}]
[null,"EMP0086",{"$f":"VLOOKUP(PACKT02Table[[#This Row],[EmployeeID]],EmployeeListLookupTable[],2,FALSE)","v":"EMPN086"},{"$f":"VLOOKUP(PACKT02Table[[#This Row],[EmployeeID]],EmployeeListLookupTable[],3,FALSE)","v":"Employee Name 86"},{"$f":"VLOOKUP(PACKT02Table[[#This Row],[EmployeeID]],EmployeeListLookupTable[],4,FALSE)","v":"Employee Job Title 86"},null,null,null,null,null,null,null,null,null,null,null,null,{"$f":"VLOOKUP(PACKT02Table[[#This Row],[EmployeeID]],EmployeeListLookupTable[#All],8,FALSE)=\"Y\"","v":true}]
[null,"EMP0087",{"$f":"VLOOKUP(PACKT02Table[[#This Row],[EmployeeID]],EmployeeListLookupTable[],2,FALSE)","v":"EMPN087"},{"$f":"VLOOKUP(PACKT02Table[[#This Row],[EmployeeID]],EmployeeListLookupTable[],3,FALSE)","v":"Employee Name 87"},{"$f":"VLOOKUP(PACKT02Table[[#This Row],[EmployeeID]],EmployeeListLookupTable[],4,FALSE)","v":"Employee Job Title 87"},null,null,null,null,null,null,null,null,null,null,null,null,{"$f":"VLOOKUP(PACKT02Table[[#This Row],[EmployeeID]],EmployeeListLookupTable[#All],8,FALSE)=\"Y\"","v":true}]
[null,"EMP0088",{"$f":"VLOOKUP(PACKT02Table[[#This Row],[EmployeeID]],EmployeeListLookupTable[],2,FALSE)","v":"EMPN088"},{"$f":"VLOOKUP(PACKT02Table[[#This Row],[EmployeeID]],EmployeeListLookupTable[],3,FALSE)","v":"Employee Name 88"},{"$f":"VLOOKUP(PACKT02Table[[#This Row],[EmployeeID]],EmployeeListLookupTable[],4,FALSE)","v":"Employee Job Title 88"},null,null,null,null,null,null,null,null,null,null,null,null,{"$f":"VLOOKUP(PACKT02Table[[#This Row],[EmployeeID]],EmployeeListLookupTable[#All],8,FALSE)=\"Y\"","v":true}]
[null,"EMP0089",{"$f":"VLOOKUP(PACKT02Table[[#This Row],[EmployeeID]],EmployeeListLookupTable[],2,FALSE)","v":"EMPN089"},{"$f":"VLOOKUP(PACKT02Table[[#This Row],[EmployeeID]],EmployeeListLookupTable[],3,FALSE)","v":"Employee Name 89"},{"$f":"VLOOKUP(PACKT02Table[[#This Row],[EmployeeID]],EmployeeListLookupTable[],4,FALSE)","v":"Employee Job Title 89"},null,null,null,null,null,null,null,null,null,null,null,null,{"$f":"VLOOKUP(PACKT02Table[[#This Row],[EmployeeID]],EmployeeListLookupTable[#All],8,FALSE)=\"Y\"","v":true}]
[null,"EMP0090",{"$f":"VLOOKUP(PACKT02Table[[#This Row],[EmployeeID]],EmployeeListLookupTable[],2,FALSE)","v":"EMPN090"},{"$f":"VLOOKUP(PACKT02Table[[#This Row],[EmployeeID]],EmployeeListLookupTable[],3,FALSE)","v":"Employee Name 90"},{"$f":"VLOOKUP(PACKT02Table[[#This Row],[EmployeeID]],EmployeeListLookupTable[],4,FALSE)","v":"Employee Job Title 90"},null,null,null,null,null,null,null,null,null,null,null,null,{"$f":"VLOOKUP(PACKT02Table[[#This Row],[EmployeeID]],EmployeeListLookupTable[#All],8,FALSE)=\"Y\"","v":true}]
[null,"EMP0091",{"$f":"VLOOKUP(PACKT02Table[[#This Row],[EmployeeID]],EmployeeListLookupTable[],2,FALSE)","v":"EMPN091"},{"$f":"VLOOKUP(PACKT02Table[[#This Row],[EmployeeID]],EmployeeListLookupTable[],3,FALSE)","v":"Employee Name 91"},{"$f":"VLOOKUP(PACKT02Table[[#This Row],[EmployeeID]],EmployeeListLookupTable[],4,FALSE)","v":"Employee Job Title 91"},null,null,null,null,null,null,null,null,null,null,null,null,{"$f":"VLOOKUP(PACKT02Table[[#This Row],[EmployeeID]],EmployeeListLookupTable[#All],8,FALSE)=\"Y\"","v":true}]
[null,"EMP0092",{"$f":"VLOOKUP(PACKT02Table[[#This Row],[EmployeeID]],EmployeeListLookupTable[],2,FALSE)","v":"EMPN092"},{"$f":"VLOOKUP(PACKT02Table[[#This Row],[EmployeeID]],EmployeeListLookupTable[],3,FALSE)","v":"Employee Name 92"},{"$f":"VLOOKUP(PACKT02Table[[#This Row],[EmployeeID]],EmployeeListLookupTable[],4,FALSE)","v":"Employee Job Title 92"},null,null,null,null,null,null,null,null,null,null,null,null,{"$f":"VLOOKUP(PACKT02Table[[#This Row],[EmployeeID]],EmployeeListLookupTable[#All],8,FALSE)=\"Y\"","v":true}]
[null,"EMP0093",{"$f":"VLOOKUP(PACKT02Table[[#This Row],[EmployeeID]],EmployeeListLookupTable[],2,FALSE)","v":"EMPN093"},{"$f":"VLOOKUP(PACKT02Table[[#This Row],[EmployeeID]],EmployeeListLookupTable[],3,FALSE)","v":"Employee Name 93"},{"$f":"VLOOKUP(PACKT02Table[[#This Row],[EmployeeID]],EmployeeListLookupTable[],4,FALSE)","v":"Employee Job Title 93"},null,null,null,null,null,null,null,null,null,null,null,null,{"$f":"VLOOKUP(PACKT02Table[[#This Row],[EmployeeID]],EmployeeListLookupTable[#All],8,FALSE)=\"Y\"","v":true}]
[null,"EMP0094",{"$f":"VLOOKUP(PACKT02Table[[#This Row],[EmployeeID]],EmployeeListLookupTable[],2,FALSE)","v":"EMPN094"},{"$f":"VLOOKUP(PACKT02Table[[#This Row],[EmployeeID]],EmployeeListLookupTable[],3,FALSE)","v":"Employee Name 94"},{"$f":"VLOOKUP(PACKT02Table[[#This Row],[EmployeeID]],EmployeeListLookupTable[],4,FALSE)","v":"Employee Job Title 94"},null,null,null,null,null,null,null,null,null,null,null,null,{"$f":"VLOOKUP(PACKT02Table[[#This Row],[EmployeeID]],EmployeeListLookupTable[#All],8,FALSE)=\"Y\"","v":true}]
[null,"EMP0095",{"$f":"VLOOKUP(PACKT02Table[[#This Row],[EmployeeID]],EmployeeListLookupTable[],2,FALSE)","v":"EMPN095"},{"$f":"VLOOKUP(PACKT02Table[[#This Row],[EmployeeID]],EmployeeListLookupTable[],3,FALSE)","v":"Employee Name 95"},{"$f":"VLOOKUP(PACKT02Table[[#This Row],[EmployeeID]],EmployeeListLookupTable[],4,FALSE)","v":"Employee Job Title 95"},null,null,null,null,null,null,null,null,null,null,null,null,{"$f":"VLOOKUP(PACKT02Table[[#This Row],[EmployeeID]],EmployeeListLookupTable[#All],8,FALSE)=\"Y\"","v":true}]
[null,"EMP0096",{"$f":"VLOOKUP(PACKT02Table[[#This Row],[EmployeeID]],EmployeeListLookupTable[],2,FALSE)","v":"EMPN096"},{"$f":"VLOOKUP(PACKT02Table[[#This Row],[EmployeeID]],EmployeeListLookupTable[],3,FALSE)","v":"Employee Name 96"},{"$f":"VLOOKUP(PACKT02Table[[#This Row],[EmployeeID]],EmployeeListLookupTable[],4,FALSE)","v":"Employee Job Title 96"},null,null,null,null,null,null,null,null,null,null,null,null,{"$f":"VLOOKUP(PACKT02Table[[#This Row],[EmployeeID]],EmployeeListLookupTable[#All],8,FALSE)=\"Y\"","v":true}]
[null,"EMP0097",{"$f":"VLOOKUP(PACKT02Table[[#This Row],[EmployeeID]],EmployeeListLookupTable[],2,FALSE)","v":"EMPN097"},{"$f":"VLOOKUP(PACKT02Table[[#This Row],[EmployeeID]],EmployeeListLookupTable[],3,FALSE)","v":"Employee Name 97"},{"$f":"VLOOKUP(PACKT02Table[[#This Row],[EmployeeID]],EmployeeListLookupTable[],4,FALSE)","v":"Employee Job Title 97"},null,null,null,null,null,null,null,null,null,null,null,null,{"$f":"VLOOKUP(PACKT02Table[[#This Row],[EmployeeID]],EmployeeListLookupTable[#All],8,FALSE)=\"Y\"","v":true}]
[null,"EMP0098",{"$f":"VLOOKUP(PACKT02Table[[#This Row],[EmployeeID]],EmployeeListLookupTable[],2,FALSE)","v":"EMPN098"},{"$f":"VLOOKUP(PACKT02Table[[#This Row],[EmployeeID]],EmployeeListLookupTable[],3,FALSE)","v":"Employee Name 98"},{"$f":"VLOOKUP(PACKT02Table[[#This Row],[EmployeeID]],EmployeeListLookupTable[],4,FALSE)","v":"Employee Job Title 98"},null,null,null,null,null,null,null,null,null,null,null,null,{"$f":"VLOOKUP(PACKT02Table[[#This Row],[EmployeeID]],EmployeeListLookupTable[#All],8,FALSE)=\"Y\"","v":true}]
[null,"EMP0099",{"$f":"VLOOKUP(PACKT02Table[[#This Row],[EmployeeID]],EmployeeListLookupTable[],2,FALSE)","v":"EMPN099"},{"$f":"VLOOKUP(PACKT02Table[[#This Row],[EmployeeID]],EmployeeListLookupTable[],3,FALSE)","v":"Employee Name 99"},{"$f":"VLOOKUP(PACKT02Table[[#This Row],[EmployeeID]],EmployeeListLookupTable[],4,FALSE)","v":"Employee Job Title 99"},null,null,null,null,null,null,null,null,null,null,null,null,{"$f":"VLOOKUP(PACKT02Table[[#This Row],[EmployeeID]],EmployeeListLookupTable[#All],8,FALSE)=\"Y\"","v":true}]
[null,"EMP0100",{"$f":"VLOOKUP(PACKT02Table[[#This Row],[EmployeeID]],EmployeeListLookupTable[],2,FALSE)","v":"EMPN100"},{"$f":"VLOOKUP(PACKT02Table[[#This Row],[EmployeeID]],EmployeeListLookupTable[],3,FALSE)","v":"Employee Name 100"},{"$f":"VLOOKUP(PACKT02Table[[#This Row],[EmployeeID]],EmployeeListLookupTable[],4,FALSE)","v":"Employee Job Title 100"},null,null,null,null,null,null,null,null,null,null,null,null,{"$f":"VLOOKUP(PACKT02Table[[#This Row],[EmployeeID]],EmployeeListLookupTable[#All],8,FALSE)=\"Y\"","v":true}]
[null,"Total",null,null,"Total",{"$f":"SUBTOTAL(109,PACKT02Table[1])","v":0},{"$f":"SUBTOTAL(109,PACKT02Table[1])","v":0},{"$f":"SUBTOTAL(109,PACKT02Table[1])","v":0},{"$f":"SUBTOTAL(109,PACKT02Table[1])","v":0},{"$f":"SUBTOTAL(109,PACKT02Table[1])","v":0},{"$f":"SUBTOTAL(109,PACKT02Table[1])","v":0},{"$f":"SUBTOTAL(109,PACKT02Table[1])","v":0},{"$f":"SUBTOTAL(109,PACKT02Table[1])","v":0},{"$f":"SUBTOTAL(109,PACKT02Table[1])","v":0},{"$f":"SUBTOTAL(109,PACKT02Table[1])","v":0},{"$f":"SUBTOTAL(109,PACKT02Table[1])","v":0},{"$f":"SUBTOTAL(109,PACKT02Table[1])","v":0}]

{"sheet":"PACKT03","index":11,"n_rows":112,"n_cols":18,"rows_kept":112,"cut":false,"hidden":false,"merged":[[1,2,1,4],[1,6,1,10],[2,2,2,10]]}
[null,null,"Menu"]
[null,null,{"$f":"EntityName","v":"Company A"},null,null,null,{"$f":"YearEnd","v":"2013-02-28"}]
[null,null,{"$f":"VLOOKUP(D6,PackageItemListLookup[],4,FALSE)","v":"PACKT03"}]
[]
[]
[null,null,"Package Item code:","PACK003"]
[null,null,"Package Item name:",{"$f":"VLOOKUP(D6,PackageItemListLookup[],2,FALSE)","v":"Other Income 2"}]
[null,null,null,null,"Total",{"$f":"PACKT03Table[[#Totals],[1]]","v":0},{"$f":"PACKT03Table[[#Totals],[2]]","v":0},{"$f":"PACKT03Table[[#Totals],[3]]","v":0},{"$f":"PACKT03Table[[#Totals],[4]]","v":0},{"$f":"PACKT03Table[[#Totals],[5]]","v":0},{"$f":"PACKT03Table[[#Totals],[6]]","v":0},{"$f":"PACKT03Table[[#Totals],[7]]","v":0},{"$f":"PACKT03Table[[#Totals],[8]]","v":0},{"$f":"PACKT03Table[[#Totals],[9]]","v":0},{"$f":"PACKT03Table[[#Totals],[10]]","v":0},{"$f":"PACKT03Table[[#Totals],[11]]","v":0},{"$f":"PACKT03Table[[#Totals],[12]]","v":0}]
[]
[null,null,null,null,null,{"$f":"VLOOKUP(PackageItemTable[[#Headers],[1]],CalendarMonthText,5,FALSE)","v":"March"},{"$f":"VLOOKUP(PackageItemTable[[#Headers],[2]],CalendarMonthText,5,FALSE)","v":"April"},{"$f":"VLOOKUP(PackageItemTable[[#Headers],[3]],CalendarMonthText,5,FALSE)","v":"May"},{"$f":"VLOOKUP(PackageItemTable[[#Headers],[4]],CalendarMonthText,5,FALSE)","v":"June"},{"$f":"VLOOKUP(PackageItemTable[[#Headers],[5]],CalendarMonthText,5,FALSE)","v":"July"},{"$f":"VLOOKUP(PackageItemTable[[#Headers],[6]],CalendarMonthText,5,FALSE)","v":"August"},{"$f":"VLOOKUP(PackageItemTable[[#Headers],[7]],CalendarMonthText,5,FALSE)","v":"September"},{"$f":"VLOOKUP(PackageItemTable[[#Headers],[8]],CalendarMonthText,5,FALSE)","v":"October"},{"$f":"VLOOKUP(PackageItemTable[[#Headers],[9]],CalendarMonthText,5,FALSE)","v":"November"},{"$f":"VLOOKUP(PackageItemTable[[#Headers],[10]],CalendarMonthText,5,FALSE)","v":"December"},{"$f":"VLOOKUP(PackageItemTable[[#Headers],[11]],CalendarMonthText,5,FALSE)","v":"January"},{"$f":"VLOOKUP(PackageItemTable[[#Headers],[12]],CalendarMonthText,5,FALSE)","v":"February"}]
[null,"EmployeeID","EmployeeNumber","EmployeeName","EmployeeJobTitle","1","2","3","4","5","6","7","8","9","10","11","12","Selected"]
[null,"EMP0001",{"$f":"VLOOKUP(PACKT03Table[[#This Row],[EmployeeID]],EmployeeListLookupTable[],2,FALSE)","v":"EMPN001"},{"$f":"VLOOKUP(PACKT03Table[[#This Row],[EmployeeID]],EmployeeListLookupTable[],3,FALSE)","v":"Employee Name 1"},{"$f":"VLOOKUP(PACKT03Table[[#This Row],[EmployeeID]],EmployeeListLookupTable[],4,FALSE)","v":"Employee Job Title 1"},null,null,null,null,null,null,null,null,null,null,null,null,{"$f":"VLOOKUP(PACKT03Table[[#This Row],[EmployeeID]],EmployeeListLookupTable[#All],9,FALSE)=\"Y\"","v":true}]
[null,"EMP0002",{"$f":"VLOOKUP(PACKT03Table[[#This Row],[EmployeeID]],EmployeeListLookupTable[],2,FALSE)","v":"EMPN002"},{"$f":"VLOOKUP(PACKT03Table[[#This Row],[EmployeeID]],EmployeeListLookupTable[],3,FALSE)","v":"Employee Name 2"},{"$f":"VLOOKUP(PACKT03Table[[#This Row],[EmployeeID]],EmployeeListLookupTable[],4,FALSE)","v":"Employee Job Title 2"},null,null,null,null,null,null,null,null,null,null,null,null,{"$f":"VLOOKUP(PACKT03Table[[#This Row],[EmployeeID]],EmployeeListLookupTable[#All],9,FALSE)=\"Y\"","v":true}]
[null,"EMP0003",{"$f":"VLOOKUP(PACKT03Table[[#This Row],[EmployeeID]],EmployeeListLookupTable[],2,FALSE)","v":"EMPN003"},{"$f":"VLOOKUP(PACKT03Table[[#This Row],[EmployeeID]],EmployeeListLookupTable[],3,FALSE)","v":"Employee Name 3"},{"$f":"VLOOKUP(PACKT03Table[[#This Row],[EmployeeID]],EmployeeListLookupTable[],4,FALSE)","v":"Employee Job Title 3"},null,null,null,null,null,null,null,null,null,null,null,null,{"$f":"VLOOKUP(PACKT03Table[[#This Row],[EmployeeID]],EmployeeListLookupTable[#All],9,FALSE)=\"Y\"","v":true}]
[null,"EMP0004",{"$f":"VLOOKUP(PACKT03Table[[#This Row],[EmployeeID]],EmployeeListLookupTable[],2,FALSE)","v":"EMPN004"},{"$f":"VLOOKUP(PACKT03Table[[#This Row],[EmployeeID]],EmployeeListLookupTable[],3,FALSE)","v":"Employee Name 4"},{"$f":"VLOOKUP(PACKT03Table[[#This Row],[EmployeeID]],EmployeeListLookupTable[],4,FALSE)","v":"Employee Job Title 4"},null,null,null,null,null,null,null,null,null,null,null,null,{"$f":"VLOOKUP(PACKT03Table[[#This Row],[EmployeeID]],EmployeeListLookupTable[#All],9,FALSE)=\"Y\"","v":true}]
[null,"EMP0005",{"$f":"VLOOKUP(PACKT03Table[[#This Row],[EmployeeID]],EmployeeListLookupTable[],2,FALSE)","v":"EMPN005"},{"$f":"VLOOKUP(PACKT03Table[[#This Row],[EmployeeID]],EmployeeListLookupTable[],3,FALSE)","v":"Employee Name 5"},{"$f":"VLOOKUP(PACKT03Table[[#This Row],[EmployeeID]],EmployeeListLookupTable[],4,FALSE)","v":"Employee Job Title 5"},null,null,null,null,null,null,null,null,null,null,null,null,{"$f":"VLOOKUP(PACKT03Table[[#This Row],[EmployeeID]],EmployeeListLookupTable[#All],9,FALSE)=\"Y\"","v":true}]
[null,"EMP0006",{"$f":"VLOOKUP(PACKT03Table[[#This Row],[EmployeeID]],EmployeeListLookupTable[],2,FALSE)","v":"EMPN006"},{"$f":"VLOOKUP(PACKT03Table[[#This Row],[EmployeeID]],EmployeeListLookupTable[],3,FALSE)","v":"Employee Name 6"},{"$f":"VLOOKUP(PACKT03Table[[#This Row],[EmployeeID]],EmployeeListLookupTable[],4,FALSE)","v":"Employee Job Title 6"},null,null,null,null,null,null,null,null,null,null,null,null,{"$f":"VLOOKUP(PACKT03Table[[#This Row],[EmployeeID]],EmployeeListLookupTable[#All],9,FALSE)=\"Y\"","v":true}]
[null,"EMP0007",{"$f":"VLOOKUP(PACKT03Table[[#This Row],[EmployeeID]],EmployeeListLookupTable[],2,FALSE)","v":"EMPN007"},{"$f":"VLOOKUP(PACKT03Table[[#This Row],[EmployeeID]],EmployeeListLookupTable[],3,FALSE)","v":"Employee Name 7"},{"$f":"VLOOKUP(PACKT03Table[[#This Row],[EmployeeID]],EmployeeListLookupTable[],4,FALSE)","v":"Employee Job Title 7"},null,null,null,null,null,null,null,null,null,null,null,null,{"$f":"VLOOKUP(PACKT03Table[[#This Row],[EmployeeID]],EmployeeListLookupTable[#All],9,FALSE)=\"Y\"","v":true}]
[null,"EMP0008",{"$f":"VLOOKUP(PACKT03Table[[#This Row],[EmployeeID]],EmployeeListLookupTable[],2,FALSE)","v":"EMPN008"},{"$f":"VLOOKUP(PACKT03Table[[#This Row],[EmployeeID]],EmployeeListLookupTable[],3,FALSE)","v":"Employee Name 8"},{"$f":"VLOOKUP(PACKT03Table[[#This Row],[EmployeeID]],EmployeeListLookupTable[],4,FALSE)","v":"Employee Job Title 8"},null,null,null,null,null,null,null,null,null,null,null,null,{"$f":"VLOOKUP(PACKT03Table[[#This Row],[EmployeeID]],EmployeeListLookupTable[#All],9,FALSE)=\"Y\"","v":true}]
[null,"EMP0009",{"$f":"VLOOKUP(PACKT03Table[[#This Row],[EmployeeID]],EmployeeListLookupTable[],2,FALSE)","v":"EMPN009"},{"$f":"VLOOKUP(PACKT03Table[[#This Row],[EmployeeID]],EmployeeListLookupTable[],3,FALSE)","v":"Employee Name 9"},{"$f":"VLOOKUP(PACKT03Table[[#This Row],[EmployeeID]],EmployeeListLookupTable[],4,FALSE)","v":"Employee Job Title 9"},null,null,null,null,null,null,null,null,null,null,null,null,{"$f":"VLOOKUP(PACKT03Table[[#This Row],[EmployeeID]],EmployeeListLookupTable[#All],9,FALSE)=\"Y\"","v":true}]
[null,"EMP0010",{"$f":"VLOOKUP(PACKT03Table[[#This Row],[EmployeeID]],EmployeeListLookupTable[],2,FALSE)","v":"EMPN010"},{"$f":"VLOOKUP(PACKT03Table[[#This Row],[EmployeeID]],EmployeeListLookupTable[],3,FALSE)","v":"Employee Name 10"},{"$f":"VLOOKUP(PACKT03Table[[#This Row],[EmployeeID]],EmployeeListLookupTable[],4,FALSE)","v":"Employee Job Title 10"},null,null,null,null,null,null,null,null,null,null,null,null,{"$f":"VLOOKUP(PACKT03Table[[#This Row],[EmployeeID]],EmployeeListLookupTable[#All],9,FALSE)=\"Y\"","v":true}]
[null,"EMP0011",{"$f":"VLOOKUP(PACKT03Table[[#This Row],[EmployeeID]],EmployeeListLookupTable[],2,FALSE)","v":"EMPN011"},{"$f":"VLOOKUP(PACKT03Table[[#This Row],[EmployeeID]],EmployeeListLookupTable[],3,FALSE)","v":"Employee Name 11"},{"$f":"VLOOKUP(PACKT03Table[[#This Row],[EmployeeID]],EmployeeListLookupTable[],4,FALSE)","v":"Employee Job Title 11"},null,null,null,null,null,null,null,null,null,null,null,null,{"$f":"VLOOKUP(PACKT03Table[[#This Row],[EmployeeID]],EmployeeListLookupTable[#All],9,FALSE)=\"Y\"","v":true}]
[null,"EMP0012",{"$f":"VLOOKUP(PACKT03Table[[#This Row],[EmployeeID]],EmployeeListLookupTable[],2,FALSE)","v":"EMPN012"},{"$f":"VLOOKUP(PACKT03Table[[#This Row],[EmployeeID]],EmployeeListLookupTable[],3,FALSE)","v":"Employee Name 12"},{"$f":"VLOOKUP(PACKT03Table[[#This Row],[EmployeeID]],EmployeeListLookupTable[],4,FALSE)","v":"Employee Job Title 12"},null,null,null,null,null,null,null,null,null,null,null,null,{"$f":"VLOOKUP(PACKT03Table[[#This Row],[EmployeeID]],EmployeeListLookupTable[#All],9,FALSE)=\"Y\"","v":true}]
[null,"EMP0013",{"$f":"VLOOKUP(PACKT03Table[[#This Row],[EmployeeID]],EmployeeListLookupTable[],2,FALSE)","v":"EMPN013"},{"$f":"VLOOKUP(PACKT03Table[[#This Row],[EmployeeID]],EmployeeListLookupTable[],3,FALSE)","v":"Employee Name 13"},{"$f":"VLOOKUP(PACKT03Table[[#This Row],[EmployeeID]],EmployeeListLookupTable[],4,FALSE)","v":"Employee Job Title 13"},null,null,null,null,null,null,null,null,null,null,null,null,{"$f":"VLOOKUP(PACKT03Table[[#This Row],[EmployeeID]],EmployeeListLookupTable[#All],9,FALSE)=\"Y\"","v":true}]
[null,"EMP0014",{"$f":"VLOOKUP(PACKT03Table[[#This Row],[EmployeeID]],EmployeeListLookupTable[],2,FALSE)","v":"EMPN014"},{"$f":"VLOOKUP(PACKT03Table[[#This Row],[EmployeeID]],EmployeeListLookupTable[],3,FALSE)","v":"Employee Name 14"},{"$f":"VLOOKUP(PACKT03Table[[#This Row],[EmployeeID]],EmployeeListLookupTable[],4,FALSE)","v":"Employee Job Title 14"},null,null,null,null,null,null,null,null,null,null,null,null,{"$f":"VLOOKUP(PACKT03Table[[#This Row],[EmployeeID]],EmployeeListLookupTable[#All],9,FALSE)=\"Y\"","v":true}]
[null,"EMP0015",{"$f":"VLOOKUP(PACKT03Table[[#This Row],[EmployeeID]],EmployeeListLookupTable[],2,FALSE)","v":"EMPN015"},{"$f":"VLOOKUP(PACKT03Table[[#This Row],[EmployeeID]],EmployeeListLookupTable[],3,FALSE)","v":"Employee Name 15"},{"$f":"VLOOKUP(PACKT03Table[[#This Row],[EmployeeID]],EmployeeListLookupTable[],4,FALSE)","v":"Employee Job Title 15"},null,null,null,null,null,null,null,null,null,null,null,null,{"$f":"VLOOKUP(PACKT03Table[[#This Row],[EmployeeID]],EmployeeListLookupTable[#All],9,FALSE)=\"Y\"","v":true}]
[null,"EMP0016",{"$f":"VLOOKUP(PACKT03Table[[#This Row],[EmployeeID]],EmployeeListLookupTable[],2,FALSE)","v":"EMPN016"},{"$f":"VLOOKUP(PACKT03Table[[#This Row],[EmployeeID]],EmployeeListLookupTable[],3,FALSE)","v":"Employee Name 16"},{"$f":"VLOOKUP(PACKT03Table[[#This Row],[EmployeeID]],EmployeeListLookupTable[],4,FALSE)","v":"Employee Job Title 16"},null,null,null,null,null,null,null,null,null,null,null,null,{"$f":"VLOOKUP(PACKT03Table[[#This Row],[EmployeeID]],EmployeeListLookupTable[#All],9,FALSE)=\"Y\"","v":true}]
[null,"EMP0017",{"$f":"VLOOKUP(PACKT03Table[[#This Row],[EmployeeID]],EmployeeListLookupTable[],2,FALSE)","v":"EMPN017"},{"$f":"VLOOKUP(PACKT03Table[[#This Row],[EmployeeID]],EmployeeListLookupTable[],3,FALSE)","v":"Employee Name 17"},{"$f":"VLOOKUP(PACKT03Table[[#This Row],[EmployeeID]],EmployeeListLookupTable[],4,FALSE)","v":"Employee Job Title 17"},null,null,null,null,null,null,null,null,null,null,null,null,{"$f":"VLOOKUP(PACKT03Table[[#This Row],[EmployeeID]],EmployeeListLookupTable[#All],9,FALSE)=\"Y\"","v":true}]
[null,"EMP0018",{"$f":"VLOOKUP(PACKT03Table[[#This Row],[EmployeeID]],EmployeeListLookupTable[],2,FALSE)","v":"EMPN018"},{"$f":"VLOOKUP(PACKT03Table[[#This Row],[EmployeeID]],EmployeeListLookupTable[],3,FALSE)","v":"Employee Name 18"},{"$f":"VLOOKUP(PACKT03Table[[#This Row],[EmployeeID]],EmployeeListLookupTable[],4,FALSE)","v":"Employee Job Title 18"},null,null,null,null,null,null,null,null,null,null,null,null,{"$f":"VLOOKUP(PACKT03Table[[#This Row],[EmployeeID]],EmployeeListLookupTable[#All],9,FALSE)=\"Y\"","v":true}]
[null,"EMP0019",{"$f":"VLOOKUP(PACKT03Table[[#This Row],[EmployeeID]],EmployeeListLookupTable[],2,FALSE)","v":"EMPN019"},{"$f":"VLOOKUP(PACKT03Table[[#This Row],[EmployeeID]],EmployeeListLookupTable[],3,FALSE)","v":"Employee Name 19"},{"$f":"VLOOKUP(PACKT03Table[[#This Row],[EmployeeID]],EmployeeListLookupTable[],4,FALSE)","v":"Employee Job Title 19"},null,null,null,null,null,null,null,null,null,null,null,null,{"$f":"VLOOKUP(PACKT03Table[[#This Row],[EmployeeID]],EmployeeListLookupTable[#All],9,FALSE)=\"Y\"","v":true}]
[null,"EMP0020",{"$f":"VLOOKUP(PACKT03Table[[#This Row],[EmployeeID]],EmployeeListLookupTable[],2,FALSE)","v":"EMPN020"},{"$f":"VLOOKUP(PACKT03Table[[#This Row],[EmployeeID]],EmployeeListLookupTable[],3,FALSE)","v":"Employee Name 20"},{"$f":"VLOOKUP(PACKT03Table[[#This Row],[EmployeeID]],EmployeeListLookupTable[],4,FALSE)","v":"Employee Job Title 20"},null,null,null,null,null,null,null,null,null,null,null,null,{"$f":"VLOOKUP(PACKT03Table[[#This Row],[EmployeeID]],EmployeeListLookupTable[#All],9,FALSE)=\"Y\"","v":true}]
[null,"EMP0021",{"$f":"VLOOKUP(PACKT03Table[[#This Row],[EmployeeID]],EmployeeListLookupTable[],2,FALSE)","v":"EMPN021"},{"$f":"VLOOKUP(PACKT03Table[[#This Row],[EmployeeID]],EmployeeListLookupTable[],3,FALSE)","v":"Employee Name 21"},{"$f":"VLOOKUP(PACKT03Table[[#This Row],[EmployeeID]],EmployeeListLookupTable[],4,FALSE)","v":"Employee Job Title 21"},null,null,null,null,null,null,null,null,null,null,null,null,{"$f":"VLOOKUP(PACKT03Table[[#This Row],[EmployeeID]],EmployeeListLookupTable[#All],9,FALSE)=\"Y\"","v":true}]
[null,"EMP0022",{"$f":"VLOOKUP(PACKT03Table[[#This Row],[EmployeeID]],EmployeeListLookupTable[],2,FALSE)","v":"EMPN022"},{"$f":"VLOOKUP(PACKT03Table[[#This Row],[EmployeeID]],EmployeeListLookupTable[],3,FALSE)","v":"Employee Name 22"},{"$f":"VLOOKUP(PACKT03Table[[#This Row],[EmployeeID]],EmployeeListLookupTable[],4,FALSE)","v":"Employee Job Title 22"},null,null,null,null,null,null,null,null,null,null,null,null,{"$f":"VLOOKUP(PACKT03Table[[#This Row],[EmployeeID]],EmployeeListLookupTable[#All],9,FALSE)=\"Y\"","v":true}]
[null,"EMP0023",{"$f":"VLOOKUP(PACKT03Table[[#This Row],[EmployeeID]],EmployeeListLookupTable[],2,FALSE)","v":"EMPN023"},{"$f":"VLOOKUP(PACKT03Table[[#This Row],[EmployeeID]],EmployeeListLookupTable[],3,FALSE)","v":"Employee Name 23"},{"$f":"VLOOKUP(PACKT03Table[[#This Row],[EmployeeID]],EmployeeListLookupTable[],4,FALSE)","v":"Employee Job Title 23"},null,null,null,null,null,null,null,null,null,null,null,null,{"$f":"VLOOKUP(PACKT03Table[[#This Row],[EmployeeID]],EmployeeListLookupTable[#All],9,FALSE)=\"Y\"","v":true}]
[null,"EMP0024",{"$f":"VLOOKUP(PACKT03Table[[#This Row],[EmployeeID]],EmployeeListLookupTable[],2,FALSE)","v":"EMPN024"},{"$f":"VLOOKUP(PACKT03Table[[#This Row],[EmployeeID]],EmployeeListLookupTable[],3,FALSE)","v":"Employee Name 24"},{"$f":"VLOOKUP(PACKT03Table[[#This Row],[EmployeeID]],EmployeeListLookupTable[],4,FALSE)","v":"Employee Job Title 24"},null,null,null,null,null,null,null,null,null,null,null,null,{"$f":"VLOOKUP(PACKT03Table[[#This Row],[EmployeeID]],EmployeeListLookupTable[#All],9,FALSE)=\"Y\"","v":true}]
[null,"EMP0025",{"$f":"VLOOKUP(PACKT03Table[[#This Row],[EmployeeID]],EmployeeListLookupTable[],2,FALSE)","v":"EMPN025"},{"$f":"VLOOKUP(PACKT03Table[[#This Row],[EmployeeID]],EmployeeListLookupTable[],3,FALSE)","v":"Employee Name 25"},{"$f":"VLOOKUP(PACKT03Table[[#This Row],[EmployeeID]],EmployeeListLookupTable[],4,FALSE)","v":"Employee Job Title 25"},null,null,null,null,null,null,null,null,null,null,null,null,{"$f":"VLOOKUP(PACKT03Table[[#This Row],[EmployeeID]],EmployeeListLookupTable[#All],9,FALSE)=\"Y\"","v":true}]
[null,"EMP0026",{"$f":"VLOOKUP(PACKT03Table[[#This Row],[EmployeeID]],EmployeeListLookupTable[],2,FALSE)","v":"EMPN026"},{"$f":"VLOOKUP(PACKT03Table[[#This Row],[EmployeeID]],EmployeeListLookupTable[],3,FALSE)","v":"Employee Name 26"},{"$f":"VLOOKUP(PACKT03Table[[#This Row],[EmployeeID]],EmployeeListLookupTable[],4,FALSE)","v":"Employee Job Title 26"},null,null,null,null,null,null,null,null,null,null,null,null,{"$f":"VLOOKUP(PACKT03Table[[#This Row],[EmployeeID]],EmployeeListLookupTable[#All],9,FALSE)=\"Y\"","v":true}]
[null,"EMP0027",{"$f":"VLOOKUP(PACKT03Table[[#This Row],[EmployeeID]],EmployeeListLookupTable[],2,FALSE)","v":"EMPN027"},{"$f":"VLOOKUP(PACKT03Table[[#This Row],[EmployeeID]],EmployeeListLookupTable[],3,FALSE)","v":"Employee Name 27"},{"$f":"VLOOKUP(PACKT03Table[[#This Row],[EmployeeID]],EmployeeListLookupTable[],4,FALSE)","v":"Employee Job Title 27"},null,null,null,null,null,null,null,null,null,null,null,null,{"$f":"VLOOKUP(PACKT03Table[[#This Row],[EmployeeID]],EmployeeListLookupTable[#All],9,FALSE)=\"Y\"","v":true}]
[null,"EMP0028",{"$f":"VLOOKUP(PACKT03Table[[#This Row],[EmployeeID]],EmployeeListLookupTable[],2,FALSE)","v":"EMPN028"},{"$f":"VLOOKUP(PACKT03Table[[#This Row],[EmployeeID]],EmployeeListLookupTable[],3,FALSE)","v":"Employee Name 28"},{"$f":"VLOOKUP(PACKT03Table[[#This Row],[EmployeeID]],EmployeeListLookupTable[],4,FALSE)","v":"Employee Job Title 28"},null,null,null,null,null,null,null,null,null,null,null,null,{"$f":"VLOOKUP(PACKT03Table[[#This Row],[EmployeeID]],EmployeeListLookupTable[#All],9,FALSE)=\"Y\"","v":true}]
[null,"EMP0029",{"$f":"VLOOKUP(PACKT03Table[[#This Row],[EmployeeID]],EmployeeListLookupTable[],2,FALSE)","v":"EMPN029"},{"$f":"VLOOKUP(PACKT03Table[[#This Row],[EmployeeID]],EmployeeListLookupTable[],3,FALSE)","v":"Employee Name 29"},{"$f":"VLOOKUP(PACKT03Table[[#This Row],[EmployeeID]],EmployeeListLookupTable[],4,FALSE)","v":"Employee Job Title 29"},null,null,null,null,null,null,null,null,null,null,null,null,{"$f":"VLOOKUP(PACKT03Table[[#This Row],[EmployeeID]],EmployeeListLookupTable[#All],9,FALSE)=\"Y\"","v":true}]
[null,"EMP0030",{"$f":"VLOOKUP(PACKT03Table[[#This Row],[EmployeeID]],EmployeeListLookupTable[],2,FALSE)","v":"EMPN030"},{"$f":"VLOOKUP(PACKT03Table[[#This Row],[EmployeeID]],EmployeeListLookupTable[],3,FALSE)","v":"Employee Name 30"},{"$f":"VLOOKUP(PACKT03Table[[#This Row],[EmployeeID]],EmployeeListLookupTable[],4,FALSE)","v":"Employee Job Title 30"},null,null,null,null,null,null,null,null,null,null,null,null,{"$f":"VLOOKUP(PACKT03Table[[#This Row],[EmployeeID]],EmployeeListLookupTable[#All],9,FALSE)=\"Y\"","v":true}]
[null,"EMP0031",{"$f":"VLOOKUP(PACKT03Table[[#This Row],[EmployeeID]],EmployeeListLookupTable[],2,FALSE)","v":"EMPN031"},{"$f":"VLOOKUP(PACKT03Table[[#This Row],[EmployeeID]],EmployeeListLookupTable[],3,FALSE)","v":"Employee Name 31"},{"$f":"VLOOKUP(PACKT03Table[[#This Row],[EmployeeID]],EmployeeListLookupTable[],4,FALSE)","v":"Employee Job Title 31"},null,null,null,null,null,null,null,null,null,null,null,null,{"$f":"VLOOKUP(PACKT03Table[[#This Row],[EmployeeID]],EmployeeListLookupTable[#All],9,FALSE)=\"Y\"","v":true}]
[null,"EMP0032",{"$f":"VLOOKUP(PACKT03Table[[#This Row],[EmployeeID]],EmployeeListLookupTable[],2,FALSE)","v":"EMPN032"},{"$f":"VLOOKUP(PACKT03Table[[#This Row],[EmployeeID]],EmployeeListLookupTable[],3,FALSE)","v":"Employee Name 32"},{"$f":"VLOOKUP(PACKT03Table[[#This Row],[EmployeeID]],EmployeeListLookupTable[],4,FALSE)","v":"Employee Job Title 32"},null,null,null,null,null,null,null,null,null,null,null,null,{"$f":"VLOOKUP(PACKT03Table[[#This Row],[EmployeeID]],EmployeeListLookupTable[#All],9,FALSE)=\"Y\"","v":true}]
[null,"EMP0033",{"$f":"VLOOKUP(PACKT03Table[[#This Row],[EmployeeID]],EmployeeListLookupTable[],2,FALSE)","v":"EMPN033"},{"$f":"VLOOKUP(PACKT03Table[[#This Row],[EmployeeID]],EmployeeListLookupTable[],3,FALSE)","v":"Employee Name 33"},{"$f":"VLOOKUP(PACKT03Table[[#This Row],[EmployeeID]],EmployeeListLookupTable[],4,FALSE)","v":"Employee Job Title 33"},null,null,null,null,null,null,null,null,null,null,null,null,{"$f":"VLOOKUP(PACKT03Table[[#This Row],[EmployeeID]],EmployeeListLookupTable[#All],9,FALSE)=\"Y\"","v":true}]
[null,"EMP0034",{"$f":"VLOOKUP(PACKT03Table[[#This Row],[EmployeeID]],EmployeeListLookupTable[],2,FALSE)","v":"EMPN034"},{"$f":"VLOOKUP(PACKT03Table[[#This Row],[EmployeeID]],EmployeeListLookupTable[],3,FALSE)","v":"Employee Name 34"},{"$f":"VLOOKUP(PACKT03Table[[#This Row],[EmployeeID]],EmployeeListLookupTable[],4,FALSE)","v":"Employee Job Title 34"},null,null,null,null,null,null,null,null,null,null,null,null,{"$f":"VLOOKUP(PACKT03Table[[#This Row],[EmployeeID]],EmployeeListLookupTable[#All],9,FALSE)=\"Y\"","v":true}]
[null,"EMP0035",{"$f":"VLOOKUP(PACKT03Table[[#This Row],[EmployeeID]],EmployeeListLookupTable[],2,FALSE)","v":"EMPN035"},{"$f":"VLOOKUP(PACKT03Table[[#This Row],[EmployeeID]],EmployeeListLookupTable[],3,FALSE)","v":"Employee Name 35"},{"$f":"VLOOKUP(PACKT03Table[[#This Row],[EmployeeID]],EmployeeListLookupTable[],4,FALSE)","v":"Employee Job Title 35"},null,null,null,null,null,null,null,null,null,null,null,null,{"$f":"VLOOKUP(PACKT03Table[[#This Row],[EmployeeID]],EmployeeListLookupTable[#All],9,FALSE)=\"Y\"","v":true}]
[null,"EMP0036",{"$f":"VLOOKUP(PACKT03Table[[#This Row],[EmployeeID]],EmployeeListLookupTable[],2,FALSE)","v":"EMPN036"},{"$f":"VLOOKUP(PACKT03Table[[#This Row],[EmployeeID]],EmployeeListLookupTable[],3,FALSE)","v":"Employee Name 36"},{"$f":"VLOOKUP(PACKT03Table[[#This Row],[EmployeeID]],EmployeeListLookupTable[],4,FALSE)","v":"Employee Job Title 36"},null,null,null,null,null,null,null,null,null,null,null,null,{"$f":"VLOOKUP(PACKT03Table[[#This Row],[EmployeeID]],EmployeeListLookupTable[#All],9,FALSE)=\"Y\"","v":true}]
[null,"EMP0037",{"$f":"VLOOKUP(PACKT03Table[[#This Row],[EmployeeID]],EmployeeListLookupTable[],2,FALSE)","v":"EMPN037"},{"$f":"VLOOKUP(PACKT03Table[[#This Row],[EmployeeID]],EmployeeListLookupTable[],3,FALSE)","v":"Employee Name 37"},{"$f":"VLOOKUP(PACKT03Table[[#This Row],[EmployeeID]],EmployeeListLookupTable[],4,FALSE)","v":"Employee Job Title 37"},null,null,null,null,null,null,null,null,null,null,null,null,{"$f":"VLOOKUP(PACKT03Table[[#This Row],[EmployeeID]],EmployeeListLookupTable[#All],9,FALSE)=\"Y\"","v":true}]
[null,"EMP0038",{"$f":"VLOOKUP(PACKT03Table[[#This Row],[EmployeeID]],EmployeeListLookupTable[],2,FALSE)","v":"EMPN038"},{"$f":"VLOOKUP(PACKT03Table[[#This Row],[EmployeeID]],EmployeeListLookupTable[],3,FALSE)","v":"Employee Name 38"},{"$f":"VLOOKUP(PACKT03Table[[#This Row],[EmployeeID]],EmployeeListLookupTable[],4,FALSE)","v":"Employee Job Title 38"},null,null,null,null,null,null,null,null,null,null,null,null,{"$f":"VLOOKUP(PACKT03Table[[#This Row],[EmployeeID]],EmployeeListLookupTable[#All],9,FALSE)=\"Y\"","v":true}]
[null,"EMP0039",{"$f":"VLOOKUP(PACKT03Table[[#This Row],[EmployeeID]],EmployeeListLookupTable[],2,FALSE)","v":"EMPN039"},{"$f":"VLOOKUP(PACKT03Table[[#This Row],[EmployeeID]],EmployeeListLookupTable[],3,FALSE)","v":"Employee Name 39"},{"$f":"VLOOKUP(PACKT03Table[[#This Row],[EmployeeID]],EmployeeListLookupTable[],4,FALSE)","v":"Employee Job Title 39"},null,null,null,null,null,null,null,null,null,null,null,null,{"$f":"VLOOKUP(PACKT03Table[[#This Row],[EmployeeID]],EmployeeListLookupTable[#All],9,FALSE)=\"Y\"","v":true}]
[null,"EMP0040",{"$f":"VLOOKUP(PACKT03Table[[#This Row],[EmployeeID]],EmployeeListLookupTable[],2,FALSE)","v":"EMPN040"},{"$f":"VLOOKUP(PACKT03Table[[#This Row],[EmployeeID]],EmployeeListLookupTable[],3,FALSE)","v":"Employee Name 40"},{"$f":"VLOOKUP(PACKT03Table[[#This Row],[EmployeeID]],EmployeeListLookupTable[],4,FALSE)","v":"Employee Job Title 40"},null,null,null,null,null,null,null,null,null,null,null,null,{"$f":"VLOOKUP(PACKT03Table[[#This Row],[EmployeeID]],EmployeeListLookupTable[#All],9,FALSE)=\"Y\"","v":true}]
[null,"EMP0041",{"$f":"VLOOKUP(PACKT03Table[[#This Row],[EmployeeID]],EmployeeListLookupTable[],2,FALSE)","v":"EMPN041"},{"$f":"VLOOKUP(PACKT03Table[[#This Row],[EmployeeID]],EmployeeListLookupTable[],3,FALSE)","v":"Employee Name 41"},{"$f":"VLOOKUP(PACKT03Table[[#This Row],[EmployeeID]],EmployeeListLookupTable[],4,FALSE)","v":"Employee Job Title 41"},null,null,null,null,null,null,null,null,null,null,null,null,{"$f":"VLOOKUP(PACKT03Table[[#This Row],[EmployeeID]],EmployeeListLookupTable[#All],9,FALSE)=\"Y\"","v":true}]
[null,"EMP0042",{"$f":"VLOOKUP(PACKT03Table[[#This Row],[EmployeeID]],EmployeeListLookupTable[],2,FALSE)","v":"EMPN042"},{"$f":"VLOOKUP(PACKT03Table[[#This Row],[EmployeeID]],EmployeeListLookupTable[],3,FALSE)","v":"Employee Name 42"},{"$f":"VLOOKUP(PACKT03Table[[#This Row],[EmployeeID]],EmployeeListLookupTable[],4,FALSE)","v":"Employee Job Title 42"},null,null,null,null,null,null,null,null,null,null,null,null,{"$f":"VLOOKUP(PACKT03Table[[#This Row],[EmployeeID]],EmployeeListLookupTable[#All],9,FALSE)=\"Y\"","v":true}]
[null,"EMP0043",{"$f":"VLOOKUP(PACKT03Table[[#This Row],[EmployeeID]],EmployeeListLookupTable[],2,FALSE)","v":"EMPN043"},{"$f":"VLOOKUP(PACKT03Table[[#This Row],[EmployeeID]],EmployeeListLookupTable[],3,FALSE)","v":"Employee Name 43"},{"$f":"VLOOKUP(PACKT03Table[[#This Row],[EmployeeID]],EmployeeListLookupTable[],4,FALSE)","v":"Employee Job Title 43"},null,null,null,null,null,null,null,null,null,null,null,null,{"$f":"VLOOKUP(PACKT03Table[[#This Row],[EmployeeID]],EmployeeListLookupTable[#All],9,FALSE)=\"Y\"","v":true}]
[null,"EMP0044",{"$f":"VLOOKUP(PACKT03Table[[#This Row],[EmployeeID]],EmployeeListLookupTable[],2,FALSE)","v":"EMPN044"},{"$f":"VLOOKUP(PACKT03Table[[#This Row],[EmployeeID]],EmployeeListLookupTable[],3,FALSE)","v":"Employee Name 44"},{"$f":"VLOOKUP(PACKT03Table[[#This Row],[EmployeeID]],EmployeeListLookupTable[],4,FALSE)","v":"Employee Job Title 44"},null,null,null,null,null,null,null,null,null,null,null,null,{"$f":"VLOOKUP(PACKT03Table[[#This Row],[EmployeeID]],EmployeeListLookupTable[#All],9,FALSE)=\"Y\"","v":true}]
[null,"EMP0045",{"$f":"VLOOKUP(PACKT03Table[[#This Row],[EmployeeID]],EmployeeListLookupTable[],2,FALSE)","v":"EMPN045"},{"$f":"VLOOKUP(PACKT03Table[[#This Row],[EmployeeID]],EmployeeListLookupTable[],3,FALSE)","v":"Employee Name 45"},{"$f":"VLOOKUP(PACKT03Table[[#This Row],[EmployeeID]],EmployeeListLookupTable[],4,FALSE)","v":"Employee Job Title 45"},null,null,null,null,null,null,null,null,null,null,null,null,{"$f":"VLOOKUP(PACKT03Table[[#This Row],[EmployeeID]],EmployeeListLookupTable[#All],9,FALSE)=\"Y\"","v":true}]
[null,"EMP0046",{"$f":"VLOOKUP(PACKT03Table[[#This Row],[EmployeeID]],EmployeeListLookupTable[],2,FALSE)","v":"EMPN046"},{"$f":"VLOOKUP(PACKT03Table[[#This Row],[EmployeeID]],EmployeeListLookupTable[],3,FALSE)","v":"Employee Name 46"},{"$f":"VLOOKUP(PACKT03Table[[#This Row],[EmployeeID]],EmployeeListLookupTable[],4,FALSE)","v":"Employee Job Title 46"},null,null,null,null,null,null,null,null,null,null,null,null,{"$f":"VLOOKUP(PACKT03Table[[#This Row],[EmployeeID]],EmployeeListLookupTable[#All],9,FALSE)=\"Y\"","v":true}]
[null,"EMP0047",{"$f":"VLOOKUP(PACKT03Table[[#This Row],[EmployeeID]],EmployeeListLookupTable[],2,FALSE)","v":"EMPN047"},{"$f":"VLOOKUP(PACKT03Table[[#This Row],[EmployeeID]],EmployeeListLookupTable[],3,FALSE)","v":"Employee Name 47"},{"$f":"VLOOKUP(PACKT03Table[[#This Row],[EmployeeID]],EmployeeListLookupTable[],4,FALSE)","v":"Employee Job Title 47"},null,null,null,null,null,null,null,null,null,null,null,null,{"$f":"VLOOKUP(PACKT03Table[[#This Row],[EmployeeID]],EmployeeListLookupTable[#All],9,FALSE)=\"Y\"","v":true}]
[null,"EMP0048",{"$f":"VLOOKUP(PACKT03Table[[#This Row],[EmployeeID]],EmployeeListLookupTable[],2,FALSE)","v":"EMPN048"},{"$f":"VLOOKUP(PACKT03Table[[#This Row],[EmployeeID]],EmployeeListLookupTable[],3,FALSE)","v":"Employee Name 48"},{"$f":"VLOOKUP(PACKT03Table[[#This Row],[EmployeeID]],EmployeeListLookupTable[],4,FALSE)","v":"Employee Job Title 48"},null,null,null,null,null,null,null,null,null,null,null,null,{"$f":"VLOOKUP(PACKT03Table[[#This Row],[EmployeeID]],EmployeeListLookupTable[#All],9,FALSE)=\"Y\"","v":true}]
[null,"EMP0049",{"$f":"VLOOKUP(PACKT03Table[[#This Row],[EmployeeID]],EmployeeListLookupTable[],2,FALSE)","v":"EMPN049"},{"$f":"VLOOKUP(PACKT03Table[[#This Row],[EmployeeID]],EmployeeListLookupTable[],3,FALSE)","v":"Employee Name 49"},{"$f":"VLOOKUP(PACKT03Table[[#This Row],[EmployeeID]],EmployeeListLookupTable[],4,FALSE)","v":"Employee Job Title 49"},null,null,null,null,null,null,null,null,null,null,null,null,{"$f":"VLOOKUP(PACKT03Table[[#This Row],[EmployeeID]],EmployeeListLookupTable[#All],9,FALSE)=\"Y\"","v":true}]
[null,"EMP0050",{"$f":"VLOOKUP(PACKT03Table[[#This Row],[EmployeeID]],EmployeeListLookupTable[],2,FALSE)","v":"EMPN050"},{"$f":"VLOOKUP(PACKT03Table[[#This Row],[EmployeeID]],EmployeeListLookupTable[],3,FALSE)","v":"Employee Name 50"},{"$f":"VLOOKUP(PACKT03Table[[#This Row],[EmployeeID]],EmployeeListLookupTable[],4,FALSE)","v":"Employee Job Title 50"},null,null,null,null,null,null,null,null,null,null,null,null,{"$f":"VLOOKUP(PACKT03Table[[#This Row],[EmployeeID]],EmployeeListLookupTable[#All],9,FALSE)=\"Y\"","v":true}]
[null,"EMP0051",{"$f":"VLOOKUP(PACKT03Table[[#This Row],[EmployeeID]],EmployeeListLookupTable[],2,FALSE)","v":"EMPN051"},{"$f":"VLOOKUP(PACKT03Table[[#This Row],[EmployeeID]],EmployeeListLookupTable[],3,FALSE)","v":"Employee Name 51"},{"$f":"VLOOKUP(PACKT03Table[[#This Row],[EmployeeID]],EmployeeListLookupTable[],4,FALSE)","v":"Employee Job Title 51"},null,null,null,null,null,null,null,null,null,null,null,null,{"$f":"VLOOKUP(PACKT03Table[[#This Row],[EmployeeID]],EmployeeListLookupTable[#All],9,FALSE)=\"Y\"","v":true}]
[null,"EMP0052",{"$f":"VLOOKUP(PACKT03Table[[#This Row],[EmployeeID]],EmployeeListLookupTable[],2,FALSE)","v":"EMPN052"},{"$f":"VLOOKUP(PACKT03Table[[#This Row],[EmployeeID]],EmployeeListLookupTable[],3,FALSE)","v":"Employee Name 52"},{"$f":"VLOOKUP(PACKT03Table[[#This Row],[EmployeeID]],EmployeeListLookupTable[],4,FALSE)","v":"Employee Job Title 52"},null,null,null,null,null,null,null,null,null,null,null,null,{"$f":"VLOOKUP(PACKT03Table[[#This Row],[EmployeeID]],EmployeeListLookupTable[#All],9,FALSE)=\"Y\"","v":true}]
[null,"EMP0053",{"$f":"VLOOKUP(PACKT03Table[[#This Row],[EmployeeID]],EmployeeListLookupTable[],2,FALSE)","v":"EMPN053"},{"$f":"VLOOKUP(PACKT03Table[[#This Row],[EmployeeID]],EmployeeListLookupTable[],3,FALSE)","v":"Employee Name 53"},{"$f":"VLOOKUP(PACKT03Table[[#This Row],[EmployeeID]],EmployeeListLookupTable[],4,FALSE)","v":"Employee Job Title 53"},null,null,null,null,null,null,null,null,null,null,null,null,{"$f":"VLOOKUP(PACKT03Table[[#This Row],[EmployeeID]],EmployeeListLookupTable[#All],9,FALSE)=\"Y\"","v":true}]
[null,"EMP0054",{"$f":"VLOOKUP(PACKT03Table[[#This Row],[EmployeeID]],EmployeeListLookupTable[],2,FALSE)","v":"EMPN054"},{"$f":"VLOOKUP(PACKT03Table[[#This Row],[EmployeeID]],EmployeeListLookupTable[],3,FALSE)","v":"Employee Name 54"},{"$f":"VLOOKUP(PACKT03Table[[#This Row],[EmployeeID]],EmployeeListLookupTable[],4,FALSE)","v":"Employee Job Title 54"},null,null,null,null,null,null,null,null,null,null,null,null,{"$f":"VLOOKUP(PACKT03Table[[#This Row],[EmployeeID]],EmployeeListLookupTable[#All],9,FALSE)=\"Y\"","v":true}]
[null,"EMP0055",{"$f":"VLOOKUP(PACKT03Table[[#This Row],[EmployeeID]],EmployeeListLookupTable[],2,FALSE)","v":"EMPN055"},{"$f":"VLOOKUP(PACKT03Table[[#This Row],[EmployeeID]],EmployeeListLookupTable[],3,FALSE)","v":"Employee Name 55"},{"$f":"VLOOKUP(PACKT03Table[[#This Row],[EmployeeID]],EmployeeListLookupTable[],4,FALSE)","v":"Employee Job Title 55"},null,null,null,null,null,null,null,null,null,null,null,null,{"$f":"VLOOKUP(PACKT03Table[[#This Row],[EmployeeID]],EmployeeListLookupTable[#All],9,FALSE)=\"Y\"","v":true}]
[null,"EMP0056",{"$f":"VLOOKUP(PACKT03Table[[#This Row],[EmployeeID]],EmployeeListLookupTable[],2,FALSE)","v":"EMPN056"},{"$f":"VLOOKUP(PACKT03Table[[#This Row],[EmployeeID]],EmployeeListLookupTable[],3,FALSE)","v":"Employee Name 56"},{"$f":"VLOOKUP(PACKT03Table[[#This Row],[EmployeeID]],EmployeeListLookupTable[],4,FALSE)","v":"Employee Job Title 56"},null,null,null,null,null,null,null,null,null,null,null,null,{"$f":"VLOOKUP(PACKT03Table[[#This Row],[EmployeeID]],EmployeeListLookupTable[#All],9,FALSE)=\"Y\"","v":true}]
[null,"EMP0057",{"$f":"VLOOKUP(PACKT03Table[[#This Row],[EmployeeID]],EmployeeListLookupTable[],2,FALSE)","v":"EMPN057"},{"$f":"VLOOKUP(PACKT03Table[[#This Row],[EmployeeID]],EmployeeListLookupTable[],3,FALSE)","v":"Employee Name 57"},{"$f":"VLOOKUP(PACKT03Table[[#This Row],[EmployeeID]],EmployeeListLookupTable[],4,FALSE)","v":"Employee Job Title 57"},null,null,null,null,null,null,null,null,null,null,null,null,{"$f":"VLOOKUP(PACKT03Table[[#This Row],[EmployeeID]],EmployeeListLookupTable[#All],9,FALSE)=\"Y\"","v":true}]
[null,"EMP0058",{"$f":"VLOOKUP(PACKT03Table[[#This Row],[EmployeeID]],EmployeeListLookupTable[],2,FALSE)","v":"EMPN058"},{"$f":"VLOOKUP(PACKT03Table[[#This Row],[EmployeeID]],EmployeeListLookupTable[],3,FALSE)","v":"Employee Name 58"},{"$f":"VLOOKUP(PACKT03Table[[#This Row],[EmployeeID]],EmployeeListLookupTable[],4,FALSE)","v":"Employee Job Title 58"},null,null,null,null,null,null,null,null,null,null,null,null,{"$f":"VLOOKUP(PACKT03Table[[#This Row],[EmployeeID]],EmployeeListLookupTable[#All],9,FALSE)=\"Y\"","v":true}]
[null,"EMP0059",{"$f":"VLOOKUP(PACKT03Table[[#This Row],[EmployeeID]],EmployeeListLookupTable[],2,FALSE)","v":"EMPN059"},{"$f":"VLOOKUP(PACKT03Table[[#This Row],[EmployeeID]],EmployeeListLookupTable[],3,FALSE)","v":"Employee Name 59"},{"$f":"VLOOKUP(PACKT03Table[[#This Row],[EmployeeID]],EmployeeListLookupTable[],4,FALSE)","v":"Employee Job Title 59"},null,null,null,null,null,null,null,null,null,null,null,null,{"$f":"VLOOKUP(PACKT03Table[[#This Row],[EmployeeID]],EmployeeListLookupTable[#All],9,FALSE)=\"Y\"","v":true}]
[null,"EMP0060",{"$f":"VLOOKUP(PACKT03Table[[#This Row],[EmployeeID]],EmployeeListLookupTable[],2,FALSE)","v":"EMPN060"},{"$f":"VLOOKUP(PACKT03Table[[#This Row],[EmployeeID]],EmployeeListLookupTable[],3,FALSE)","v":"Employee Name 60"},{"$f":"VLOOKUP(PACKT03Table[[#This Row],[EmployeeID]],EmployeeListLookupTable[],4,FALSE)","v":"Employee Job Title 60"},null,null,null,null,null,null,null,null,null,null,null,null,{"$f":"VLOOKUP(PACKT03Table[[#This Row],[EmployeeID]],EmployeeListLookupTable[#All],9,FALSE)=\"Y\"","v":true}]
[null,"EMP0061",{"$f":"VLOOKUP(PACKT03Table[[#This Row],[EmployeeID]],EmployeeListLookupTable[],2,FALSE)","v":"EMPN061"},{"$f":"VLOOKUP(PACKT03Table[[#This Row],[EmployeeID]],EmployeeListLookupTable[],3,FALSE)","v":"Employee Name 61"},{"$f":"VLOOKUP(PACKT03Table[[#This Row],[EmployeeID]],EmployeeListLookupTable[],4,FALSE)","v":"Employee Job Title 61"},null,null,null,null,null,null,null,null,null,null,null,null,{"$f":"VLOOKUP(PACKT03Table[[#This Row],[EmployeeID]],EmployeeListLookupTable[#All],9,FALSE)=\"Y\"","v":true}]
[null,"EMP0062",{"$f":"VLOOKUP(PACKT03Table[[#This Row],[EmployeeID]],EmployeeListLookupTable[],2,FALSE)","v":"EMPN062"},{"$f":"VLOOKUP(PACKT03Table[[#This Row],[EmployeeID]],EmployeeListLookupTable[],3,FALSE)","v":"Employee Name 62"},{"$f":"VLOOKUP(PACKT03Table[[#This Row],[EmployeeID]],EmployeeListLookupTable[],4,FALSE)","v":"Employee Job Title 62"},null,null,null,null,null,null,null,null,null,null,null,null,{"$f":"VLOOKUP(PACKT03Table[[#This Row],[EmployeeID]],EmployeeListLookupTable[#All],9,FALSE)=\"Y\"","v":true}]
[null,"EMP0063",{"$f":"VLOOKUP(PACKT03Table[[#This Row],[EmployeeID]],EmployeeListLookupTable[],2,FALSE)","v":"EMPN063"},{"$f":"VLOOKUP(PACKT03Table[[#This Row],[EmployeeID]],EmployeeListLookupTable[],3,FALSE)","v":"Employee Name 63"},{"$f":"VLOOKUP(PACKT03Table[[#This Row],[EmployeeID]],EmployeeListLookupTable[],4,FALSE)","v":"Employee Job Title 63"},null,null,null,null,null,null,null,null,null,null,null,null,{"$f":"VLOOKUP(PACKT03Table[[#This Row],[EmployeeID]],EmployeeListLookupTable[#All],9,FALSE)=\"Y\"","v":true}]
[null,"EMP0064",{"$f":"VLOOKUP(PACKT03Table[[#This Row],[EmployeeID]],EmployeeListLookupTable[],2,FALSE)","v":"EMPN064"},{"$f":"VLOOKUP(PACKT03Table[[#This Row],[EmployeeID]],EmployeeListLookupTable[],3,FALSE)","v":"Employee Name 64"},{"$f":"VLOOKUP(PACKT03Table[[#This Row],[EmployeeID]],EmployeeListLookupTable[],4,FALSE)","v":"Employee Job Title 64"},null,null,null,null,null,null,null,null,null,null,null,null,{"$f":"VLOOKUP(PACKT03Table[[#This Row],[EmployeeID]],EmployeeListLookupTable[#All],9,FALSE)=\"Y\"","v":true}]
[null,"EMP0065",{"$f":"VLOOKUP(PACKT03Table[[#This Row],[EmployeeID]],EmployeeListLookupTable[],2,FALSE)","v":"EMPN065"},{"$f":"VLOOKUP(PACKT03Table[[#This Row],[EmployeeID]],EmployeeListLookupTable[],3,FALSE)","v":"Employee Name 65"},{"$f":"VLOOKUP(PACKT03Table[[#This Row],[EmployeeID]],EmployeeListLookupTable[],4,FALSE)","v":"Employee Job Title 65"},null,null,null,null,null,null,null,null,null,null,null,null,{"$f":"VLOOKUP(PACKT03Table[[#This Row],[EmployeeID]],EmployeeListLookupTable[#All],9,FALSE)=\"Y\"","v":true}]
[null,"EMP0066",{"$f":"VLOOKUP(PACKT03Table[[#This Row],[EmployeeID]],EmployeeListLookupTable[],2,FALSE)","v":"EMPN066"},{"$f":"VLOOKUP(PACKT03Table[[#This Row],[EmployeeID]],EmployeeListLookupTable[],3,FALSE)","v":"Employee Name 66"},{"$f":"VLOOKUP(PACKT03Table[[#This Row],[EmployeeID]],EmployeeListLookupTable[],4,FALSE)","v":"Employee Job Title 66"},null,null,null,null,null,null,null,null,null,null,null,null,{"$f":"VLOOKUP(PACKT03Table[[#This Row],[EmployeeID]],EmployeeListLookupTable[#All],9,FALSE)=\"Y\"","v":true}]
[null,"EMP0067",{"$f":"VLOOKUP(PACKT03Table[[#This Row],[EmployeeID]],EmployeeListLookupTable[],2,FALSE)","v":"EMPN067"},{"$f":"VLOOKUP(PACKT03Table[[#This Row],[EmployeeID]],EmployeeListLookupTable[],3,FALSE)","v":"Employee Name 67"},{"$f":"VLOOKUP(PACKT03Table[[#This Row],[EmployeeID]],EmployeeListLookupTable[],4,FALSE)","v":"Employee Job Title 67"},null,null,null,null,null,null,null,null,null,null,null,null,{"$f":"VLOOKUP(PACKT03Table[[#This Row],[EmployeeID]],EmployeeListLookupTable[#All],9,FALSE)=\"Y\"","v":true}]
[null,"EMP0068",{"$f":"VLOOKUP(PACKT03Table[[#This Row],[EmployeeID]],EmployeeListLookupTable[],2,FALSE)","v":"EMPN068"},{"$f":"VLOOKUP(PACKT03Table[[#This Row],[EmployeeID]],EmployeeListLookupTable[],3,FALSE)","v":"Employee Name 68"},{"$f":"VLOOKUP(PACKT03Table[[#This Row],[EmployeeID]],EmployeeListLookupTable[],4,FALSE)","v":"Employee Job Title 68"},null,null,null,null,null,null,null,null,null,null,null,null,{"$f":"VLOOKUP(PACKT03Table[[#This Row],[EmployeeID]],EmployeeListLookupTable[#All],9,FALSE)=\"Y\"","v":true}]
[null,"EMP0069",{"$f":"VLOOKUP(PACKT03Table[[#This Row],[EmployeeID]],EmployeeListLookupTable[],2,FALSE)","v":"EMPN069"},{"$f":"VLOOKUP(PACKT03Table[[#This Row],[EmployeeID]],EmployeeListLookupTable[],3,FALSE)","v":"Employee Name 69"},{"$f":"VLOOKUP(PACKT03Table[[#This Row],[EmployeeID]],EmployeeListLookupTable[],4,FALSE)","v":"Employee Job Title 69"},null,null,null,null,null,null,null,null,null,null,null,null,{"$f":"VLOOKUP(PACKT03Table[[#This Row],[EmployeeID]],EmployeeListLookupTable[#All],9,FALSE)=\"Y\"","v":true}]
[null,"EMP0070",{"$f":"VLOOKUP(PACKT03Table[[#This Row],[EmployeeID]],EmployeeListLookupTable[],2,FALSE)","v":"EMPN070"},{"$f":"VLOOKUP(PACKT03Table[[#This Row],[EmployeeID]],EmployeeListLookupTable[],3,FALSE)","v":"Employee Name 70"},{"$f":"VLOOKUP(PACKT03Table[[#This Row],[EmployeeID]],EmployeeListLookupTable[],4,FALSE)","v":"Employee Job Title 70"},null,null,null,null,null,null,null,null,null,null,null,null,{"$f":"VLOOKUP(PACKT03Table[[#This Row],[EmployeeID]],EmployeeListLookupTable[#All],9,FALSE)=\"Y\"","v":true}]
[null,"EMP0071",{"$f":"VLOOKUP(PACKT03Table[[#This Row],[EmployeeID]],EmployeeListLookupTable[],2,FALSE)","v":"EMPN071"},{"$f":"VLOOKUP(PACKT03Table[[#This Row],[EmployeeID]],EmployeeListLookupTable[],3,FALSE)","v":"Employee Name 71"},{"$f":"VLOOKUP(PACKT03Table[[#This Row],[EmployeeID]],EmployeeListLookupTable[],4,FALSE)","v":"Employee Job Title 71"},null,null,null,null,null,null,null,null,null,null,null,null,{"$f":"VLOOKUP(PACKT03Table[[#This Row],[EmployeeID]],EmployeeListLookupTable[#All],9,FALSE)=\"Y\"","v":true}]
[null,"EMP0072",{"$f":"VLOOKUP(PACKT03Table[[#This Row],[EmployeeID]],EmployeeListLookupTable[],2,FALSE)","v":"EMPN072"},{"$f":"VLOOKUP(PACKT03Table[[#This Row],[EmployeeID]],EmployeeListLookupTable[],3,FALSE)","v":"Employee Name 72"},{"$f":"VLOOKUP(PACKT03Table[[#This Row],[EmployeeID]],EmployeeListLookupTable[],4,FALSE)","v":"Employee Job Title 72"},null,null,null,null,null,null,null,null,null,null,null,null,{"$f":"VLOOKUP(PACKT03Table[[#This Row],[EmployeeID]],EmployeeListLookupTable[#All],9,FALSE)=\"Y\"","v":true}]
[null,"EMP0073",{"$f":"VLOOKUP(PACKT03Table[[#This Row],[EmployeeID]],EmployeeListLookupTable[],2,FALSE)","v":"EMPN073"},{"$f":"VLOOKUP(PACKT03Table[[#This Row],[EmployeeID]],EmployeeListLookupTable[],3,FALSE)","v":"Employee Name 73"},{"$f":"VLOOKUP(PACKT03Table[[#This Row],[EmployeeID]],EmployeeListLookupTable[],4,FALSE)","v":"Employee Job Title 73"},null,null,null,null,null,null,null,null,null,null,null,null,{"$f":"VLOOKUP(PACKT03Table[[#This Row],[EmployeeID]],EmployeeListLookupTable[#All],9,FALSE)=\"Y\"","v":true}]
[null,"EMP0074",{"$f":"VLOOKUP(PACKT03Table[[#This Row],[EmployeeID]],EmployeeListLookupTable[],2,FALSE)","v":"EMPN074"},{"$f":"VLOOKUP(PACKT03Table[[#This Row],[EmployeeID]],EmployeeListLookupTable[],3,FALSE)","v":"Employee Name 74"},{"$f":"VLOOKUP(PACKT03Table[[#This Row],[EmployeeID]],EmployeeListLookupTable[],4,FALSE)","v":"Employee Job Title 74"},null,null,null,null,null,null,null,null,null,null,null,null,{"$f":"VLOOKUP(PACKT03Table[[#This Row],[EmployeeID]],EmployeeListLookupTable[#All],9,FALSE)=\"Y\"","v":true}]
[null,"EMP0075",{"$f":"VLOOKUP(PACKT03Table[[#This Row],[EmployeeID]],EmployeeListLookupTable[],2,FALSE)","v":"EMPN075"},{"$f":"VLOOKUP(PACKT03Table[[#This Row],[EmployeeID]],EmployeeListLookupTable[],3,FALSE)","v":"Employee Name 75"},{"$f":"VLOOKUP(PACKT03Table[[#This Row],[EmployeeID]],EmployeeListLookupTable[],4,FALSE)","v":"Employee Job Title 75"},null,null,null,null,null,null,null,null,null,null,null,null,{"$f":"VLOOKUP(PACKT03Table[[#This Row],[EmployeeID]],EmployeeListLookupTable[#All],9,FALSE)=\"Y\"","v":true}]
[null,"EMP0076",{"$f":"VLOOKUP(PACKT03Table[[#This Row],[EmployeeID]],EmployeeListLookupTable[],2,FALSE)","v":"EMPN076"},{"$f":"VLOOKUP(PACKT03Table[[#This Row],[EmployeeID]],EmployeeListLookupTable[],3,FALSE)","v":"Employee Name 76"},{"$f":"VLOOKUP(PACKT03Table[[#This Row],[EmployeeID]],EmployeeListLookupTable[],4,FALSE)","v":"Employee Job Title 76"},null,null,null,null,null,null,null,null,null,null,null,null,{"$f":"VLOOKUP(PACKT03Table[[#This Row],[EmployeeID]],EmployeeListLookupTable[#All],9,FALSE)=\"Y\"","v":true}]
[null,"EMP0077",{"$f":"VLOOKUP(PACKT03Table[[#This Row],[EmployeeID]],EmployeeListLookupTable[],2,FALSE)","v":"EMPN077"},{"$f":"VLOOKUP(PACKT03Table[[#This Row],[EmployeeID]],EmployeeListLookupTable[],3,FALSE)","v":"Employee Name 77"},{"$f":"VLOOKUP(PACKT03Table[[#This Row],[EmployeeID]],EmployeeListLookupTable[],4,FALSE)","v":"Employee Job Title 77"},null,null,null,null,null,null,null,null,null,null,null,null,{"$f":"VLOOKUP(PACKT03Table[[#This Row],[EmployeeID]],EmployeeListLookupTable[#All],9,FALSE)=\"Y\"","v":true}]
[null,"EMP0078",{"$f":"VLOOKUP(PACKT03Table[[#This Row],[EmployeeID]],EmployeeListLookupTable[],2,FALSE)","v":"EMPN078"},{"$f":"VLOOKUP(PACKT03Table[[#This Row],[EmployeeID]],EmployeeListLookupTable[],3,FALSE)","v":"Employee Name 78"},{"$f":"VLOOKUP(PACKT03Table[[#This Row],[EmployeeID]],EmployeeListLookupTable[],4,FALSE)","v":"Employee Job Title 78"},null,null,null,null,null,null,null,null,null,null,null,null,{"$f":"VLOOKUP(PACKT03Table[[#This Row],[EmployeeID]],EmployeeListLookupTable[#All],9,FALSE)=\"Y\"","v":true}]
[null,"EMP0079",{"$f":"VLOOKUP(PACKT03Table[[#This Row],[EmployeeID]],EmployeeListLookupTable[],2,FALSE)","v":"EMPN079"},{"$f":"VLOOKUP(PACKT03Table[[#This Row],[EmployeeID]],EmployeeListLookupTable[],3,FALSE)","v":"Employee Name 79"},{"$f":"VLOOKUP(PACKT03Table[[#This Row],[EmployeeID]],EmployeeListLookupTable[],4,FALSE)","v":"Employee Job Title 79"},null,null,null,null,null,null,null,null,null,null,null,null,{"$f":"VLOOKUP(PACKT03Table[[#This Row],[EmployeeID]],EmployeeListLookupTable[#All],9,FALSE)=\"Y\"","v":true}]
[null,"EMP0080",{"$f":"VLOOKUP(PACKT03Table[[#This Row],[EmployeeID]],EmployeeListLookupTable[],2,FALSE)","v":"EMPN080"},{"$f":"VLOOKUP(PACKT03Table[[#This Row],[EmployeeID]],EmployeeListLookupTable[],3,FALSE)","v":"Employee Name 80"},{"$f":"VLOOKUP(PACKT03Table[[#This Row],[EmployeeID]],EmployeeListLookupTable[],4,FALSE)","v":"Employee Job Title 80"},null,null,null,null,null,null,null,null,null,null,null,null,{"$f":"VLOOKUP(PACKT03Table[[#This Row],[EmployeeID]],EmployeeListLookupTable[#All],9,FALSE)=\"Y\"","v":true}]
[null,"EMP0081",{"$f":"VLOOKUP(PACKT03Table[[#This Row],[EmployeeID]],EmployeeListLookupTable[],2,FALSE)","v":"EMPN081"},{"$f":"VLOOKUP(PACKT03Table[[#This Row],[EmployeeID]],EmployeeListLookupTable[],3,FALSE)","v":"Employee Name 81"},{"$f":"VLOOKUP(PACKT03Table[[#This Row],[EmployeeID]],EmployeeListLookupTable[],4,FALSE)","v":"Employee Job Title 81"},null,null,null,null,null,null,null,null,null,null,null,null,{"$f":"VLOOKUP(PACKT03Table[[#This Row],[EmployeeID]],EmployeeListLookupTable[#All],9,FALSE)=\"Y\"","v":true}]
[null,"EMP0082",{"$f":"VLOOKUP(PACKT03Table[[#This Row],[EmployeeID]],EmployeeListLookupTable[],2,FALSE)","v":"EMPN082"},{"$f":"VLOOKUP(PACKT03Table[[#This Row],[EmployeeID]],EmployeeListLookupTable[],3,FALSE)","v":"Employee Name 82"},{"$f":"VLOOKUP(PACKT03Table[[#This Row],[EmployeeID]],EmployeeListLookupTable[],4,FALSE)","v":"Employee Job Title 82"},null,null,null,null,null,null,null,null,null,null,null,null,{"$f":"VLOOKUP(PACKT03Table[[#This Row],[EmployeeID]],EmployeeListLookupTable[#All],9,FALSE)=\"Y\"","v":true}]
[null,"EMP0083",{"$f":"VLOOKUP(PACKT03Table[[#This Row],[EmployeeID]],EmployeeListLookupTable[],2,FALSE)","v":"EMPN083"},{"$f":"VLOOKUP(PACKT03Table[[#This Row],[EmployeeID]],EmployeeListLookupTable[],3,FALSE)","v":"Employee Name 83"},{"$f":"VLOOKUP(PACKT03Table[[#This Row],[EmployeeID]],EmployeeListLookupTable[],4,FALSE)","v":"Employee Job Title 83"},null,null,null,null,null,null,null,null,null,null,null,null,{"$f":"VLOOKUP(PACKT03Table[[#This Row],[EmployeeID]],EmployeeListLookupTable[#All],9,FALSE)=\"Y\"","v":true}]
[null,"EMP0084",{"$f":"VLOOKUP(PACKT03Table[[#This Row],[EmployeeID]],EmployeeListLookupTable[],2,FALSE)","v":"EMPN084"},{"$f":"VLOOKUP(PACKT03Table[[#This Row],[EmployeeID]],EmployeeListLookupTable[],3,FALSE)","v":"Employee Name 84"},{"$f":"VLOOKUP(PACKT03Table[[#This Row],[EmployeeID]],EmployeeListLookupTable[],4,FALSE)","v":"Employee Job Title 84"},null,null,null,null,null,null,null,null,null,null,null,null,{"$f":"VLOOKUP(PACKT03Table[[#This Row],[EmployeeID]],EmployeeListLookupTable[#All],9,FALSE)=\"Y\"","v":true}]
[null,"EMP0085",{"$f":"VLOOKUP(PACKT03Table[[#This Row],[EmployeeID]],EmployeeListLookupTable[],2,FALSE)","v":"EMPN085"},{"$f":"VLOOKUP(PACKT03Table[[#This Row],[EmployeeID]],EmployeeListLookupTable[],3,FALSE)","v":"Employee Name 85"},{"$f":"VLOOKUP(PACKT03Table[[#This Row],[EmployeeID]],EmployeeListLookupTable[],4,FALSE)","v":"Employee Job Title 85"},null,null,null,null,null,null,null,null,null,null,null,null,{"$f":"VLOOKUP(PACKT03Table[[#This Row],[EmployeeID]],EmployeeListLookupTable[#All],9,FALSE)=\"Y\"","v":true}]
[null,"EMP0086",{"$f":"VLOOKUP(PACKT03Table[[#This Row],[EmployeeID]],EmployeeListLookupTable[],2,FALSE)","v":"EMPN086"},{"$f":"VLOOKUP(PACKT03Table[[#This Row],[EmployeeID]],EmployeeListLookupTable[],3,FALSE)","v":"Employee Name 86"},{"$f":"VLOOKUP(PACKT03Table[[#This Row],[EmployeeID]],EmployeeListLookupTable[],4,FALSE)","v":"Employee Job Title 86"},null,null,null,null,null,null,null,null,null,null,null,null,{"$f":"VLOOKUP(PACKT03Table[[#This Row],[EmployeeID]],EmployeeListLookupTable[#All],9,FALSE)=\"Y\"","v":true}]
[null,"EMP0087",{"$f":"VLOOKUP(PACKT03Table[[#This Row],[EmployeeID]],EmployeeListLookupTable[],2,FALSE)","v":"EMPN087"},{"$f":"VLOOKUP(PACKT03Table[[#This Row],[EmployeeID]],EmployeeListLookupTable[],3,FALSE)","v":"Employee Name 87"},{"$f":"VLOOKUP(PACKT03Table[[#This Row],[EmployeeID]],EmployeeListLookupTable[],4,FALSE)","v":"Employee Job Title 87"},null,null,null,null,null,null,null,null,null,null,null,null,{"$f":"VLOOKUP(PACKT03Table[[#This Row],[EmployeeID]],EmployeeListLookupTable[#All],9,FALSE)=\"Y\"","v":true}]
[null,"EMP0088",{"$f":"VLOOKUP(PACKT03Table[[#This Row],[EmployeeID]],EmployeeListLookupTable[],2,FALSE)","v":"EMPN088"},{"$f":"VLOOKUP(PACKT03Table[[#This Row],[EmployeeID]],EmployeeListLookupTable[],3,FALSE)","v":"Employee Name 88"},{"$f":"VLOOKUP(PACKT03Table[[#This Row],[EmployeeID]],EmployeeListLookupTable[],4,FALSE)","v":"Employee Job Title 88"},null,null,null,null,null,null,null,null,null,null,null,null,{"$f":"VLOOKUP(PACKT03Table[[#This Row],[EmployeeID]],EmployeeListLookupTable[#All],9,FALSE)=\"Y\"","v":true}]
[null,"EMP0089",{"$f":"VLOOKUP(PACKT03Table[[#This Row],[EmployeeID]],EmployeeListLookupTable[],2,FALSE)","v":"EMPN089"},{"$f":"VLOOKUP(PACKT03Table[[#This Row],[EmployeeID]],EmployeeListLookupTable[],3,FALSE)","v":"Employee Name 89"},{"$f":"VLOOKUP(PACKT03Table[[#This Row],[EmployeeID]],EmployeeListLookupTable[],4,FALSE)","v":"Employee Job Title 89"},null,null,null,null,null,null,null,null,null,null,null,null,{"$f":"VLOOKUP(PACKT03Table[[#This Row],[EmployeeID]],EmployeeListLookupTable[#All],9,FALSE)=\"Y\"","v":true}]
[null,"EMP0090",{"$f":"VLOOKUP(PACKT03Table[[#This Row],[EmployeeID]],EmployeeListLookupTable[],2,FALSE)","v":"EMPN090"},{"$f":"VLOOKUP(PACKT03Table[[#This Row],[EmployeeID]],EmployeeListLookupTable[],3,FALSE)","v":"Employee Name 90"},{"$f":"VLOOKUP(PACKT03Table[[#This Row],[EmployeeID]],EmployeeListLookupTable[],4,FALSE)","v":"Employee Job Title 90"},null,null,null,null,null,null,null,null,null,null,null,null,{"$f":"VLOOKUP(PACKT03Table[[#This Row],[EmployeeID]],EmployeeListLookupTable[#All],9,FALSE)=\"Y\"","v":true}]
[null,"EMP0091",{"$f":"VLOOKUP(PACKT03Table[[#This Row],[EmployeeID]],EmployeeListLookupTable[],2,FALSE)","v":"EMPN091"},{"$f":"VLOOKUP(PACKT03Table[[#This Row],[EmployeeID]],EmployeeListLookupTable[],3,FALSE)","v":"Employee Name 91"},{"$f":"VLOOKUP(PACKT03Table[[#This Row],[EmployeeID]],EmployeeListLookupTable[],4,FALSE)","v":"Employee Job Title 91"},null,null,null,null,null,null,null,null,null,null,null,null,{"$f":"VLOOKUP(PACKT03Table[[#This Row],[EmployeeID]],EmployeeListLookupTable[#All],9,FALSE)=\"Y\"","v":true}]
[null,"EMP0092",{"$f":"VLOOKUP(PACKT03Table[[#This Row],[EmployeeID]],EmployeeListLookupTable[],2,FALSE)","v":"EMPN092"},{"$f":"VLOOKUP(PACKT03Table[[#This Row],[EmployeeID]],EmployeeListLookupTable[],3,FALSE)","v":"Employee Name 92"},{"$f":"VLOOKUP(PACKT03Table[[#This Row],[EmployeeID]],EmployeeListLookupTable[],4,FALSE)","v":"Employee Job Title 92"},null,null,null,null,null,null,null,null,null,null,null,null,{"$f":"VLOOKUP(PACKT03Table[[#This Row],[EmployeeID]],EmployeeListLookupTable[#All],9,FALSE)=\"Y\"","v":true}]
[null,"EMP0093",{"$f":"VLOOKUP(PACKT03Table[[#This Row],[EmployeeID]],EmployeeListLookupTable[],2,FALSE)","v":"EMPN093"},{"$f":"VLOOKUP(PACKT03Table[[#This Row],[EmployeeID]],EmployeeListLookupTable[],3,FALSE)","v":"Employee Name 93"},{"$f":"VLOOKUP(PACKT03Table[[#This Row],[EmployeeID]],EmployeeListLookupTable[],4,FALSE)","v":"Employee Job Title 93"},null,null,null,null,null,null,null,null,null,null,null,null,{"$f":"VLOOKUP(PACKT03Table[[#This Row],[EmployeeID]],EmployeeListLookupTable[#All],9,FALSE)=\"Y\"","v":true}]
[null,"EMP0094",{"$f":"VLOOKUP(PACKT03Table[[#This Row],[EmployeeID]],EmployeeListLookupTable[],2,FALSE)","v":"EMPN094"},{"$f":"VLOOKUP(PACKT03Table[[#This Row],[EmployeeID]],EmployeeListLookupTable[],3,FALSE)","v":"Employee Name 94"},{"$f":"VLOOKUP(PACKT03Table[[#This Row],[EmployeeID]],EmployeeListLookupTable[],4,FALSE)","v":"Employee Job Title 94"},null,null,null,null,null,null,null,null,null,null,null,null,{"$f":"VLOOKUP(PACKT03Table[[#This Row],[EmployeeID]],EmployeeListLookupTable[#All],9,FALSE)=\"Y\"","v":true}]
[null,"EMP0095",{"$f":"VLOOKUP(PACKT03Table[[#This Row],[EmployeeID]],EmployeeListLookupTable[],2,FALSE)","v":"EMPN095"},{"$f":"VLOOKUP(PACKT03Table[[#This Row],[EmployeeID]],EmployeeListLookupTable[],3,FALSE)","v":"Employee Name 95"},{"$f":"VLOOKUP(PACKT03Table[[#This Row],[EmployeeID]],EmployeeListLookupTable[],4,FALSE)","v":"Employee Job Title 95"},null,null,null,null,null,null,null,null,null,null,null,null,{"$f":"VLOOKUP(PACKT03Table[[#This Row],[EmployeeID]],EmployeeListLookupTable[#All],9,FALSE)=\"Y\"","v":true}]
[null,"EMP0096",{"$f":"VLOOKUP(PACKT03Table[[#This Row],[EmployeeID]],EmployeeListLookupTable[],2,FALSE)","v":"EMPN096"},{"$f":"VLOOKUP(PACKT03Table[[#This Row],[EmployeeID]],EmployeeListLookupTable[],3,FALSE)","v":"Employee Name 96"},{"$f":"VLOOKUP(PACKT03Table[[#This Row],[EmployeeID]],EmployeeListLookupTable[],4,FALSE)","v":"Employee Job Title 96"},null,null,null,null,null,null,null,null,null,null,null,null,{"$f":"VLOOKUP(PACKT03Table[[#This Row],[EmployeeID]],EmployeeListLookupTable[#All],9,FALSE)=\"Y\"","v":true}]
[null,"EMP0097",{"$f":"VLOOKUP(PACKT03Table[[#This Row],[EmployeeID]],EmployeeListLookupTable[],2,FALSE)","v":"EMPN097"},{"$f":"VLOOKUP(PACKT03Table[[#This Row],[EmployeeID]],EmployeeListLookupTable[],3,FALSE)","v":"Employee Name 97"},{"$f":"VLOOKUP(PACKT03Table[[#This Row],[EmployeeID]],EmployeeListLookupTable[],4,FALSE)","v":"Employee Job Title 97"},null,null,null,null,null,null,null,null,null,null,null,null,{"$f":"VLOOKUP(PACKT03Table[[#This Row],[EmployeeID]],EmployeeListLookupTable[#All],9,FALSE)=\"Y\"","v":true}]
[null,"EMP0098",{"$f":"VLOOKUP(PACKT03Table[[#This Row],[EmployeeID]],EmployeeListLookupTable[],2,FALSE)","v":"EMPN098"},{"$f":"VLOOKUP(PACKT03Table[[#This Row],[EmployeeID]],EmployeeListLookupTable[],3,FALSE)","v":"Employee Name 98"},{"$f":"VLOOKUP(PACKT03Table[[#This Row],[EmployeeID]],EmployeeListLookupTable[],4,FALSE)","v":"Employee Job Title 98"},null,null,null,null,null,null,null,null,null,null,null,null,{"$f":"VLOOKUP(PACKT03Table[[#This Row],[EmployeeID]],EmployeeListLookupTable[#All],9,FALSE)=\"Y\"","v":true}]
[null,"EMP0099",{"$f":"VLOOKUP(PACKT03Table[[#This Row],[EmployeeID]],EmployeeListLookupTable[],2,FALSE)","v":"EMPN099"},{"$f":"VLOOKUP(PACKT03Table[[#This Row],[EmployeeID]],EmployeeListLookupTable[],3,FALSE)","v":"Employee Name 99"},{"$f":"VLOOKUP(PACKT03Table[[#This Row],[EmployeeID]],EmployeeListLookupTable[],4,FALSE)","v":"Employee Job Title 99"},null,null,null,null,null,null,null,null,null,null,null,null,{"$f":"VLOOKUP(PACKT03Table[[#This Row],[EmployeeID]],EmployeeListLookupTable[#All],9,FALSE)=\"Y\"","v":true}]
[null,"EMP0100",{"$f":"VLOOKUP(PACKT03Table[[#This Row],[EmployeeID]],EmployeeListLookupTable[],2,FALSE)","v":"EMPN100"},{"$f":"VLOOKUP(PACKT03Table[[#This Row],[EmployeeID]],EmployeeListLookupTable[],3,FALSE)","v":"Employee Name 100"},{"$f":"VLOOKUP(PACKT03Table[[#This Row],[EmployeeID]],EmployeeListLookupTable[],4,FALSE)","v":"Employee Job Title 100"},null,null,null,null,null,null,null,null,null,null,null,null,{"$f":"VLOOKUP(PACKT03Table[[#This Row],[EmployeeID]],EmployeeListLookupTable[#All],9,FALSE)=\"Y\"","v":true}]
[null,"Total",null,null,"Total",{"$f":"SUBTOTAL(109,PACKT03Table[1])","v":0},{"$f":"SUBTOTAL(109,PACKT03Table[2])","v":0},{"$f":"SUBTOTAL(109,PACKT03Table[3])","v":0},{"$f":"SUBTOTAL(109,PACKT03Table[4])","v":0},{"$f":"SUBTOTAL(109,PACKT03Table[5])","v":0},{"$f":"SUBTOTAL(109,PACKT03Table[6])","v":0},{"$f":"SUBTOTAL(109,PACKT03Table[7])","v":0},{"$f":"SUBTOTAL(109,PACKT03Table[8])","v":0},{"$f":"SUBTOTAL(109,PACKT03Table[9])","v":0},{"$f":"SUBTOTAL(109,PACKT03Table[10])","v":0},{"$f":"SUBTOTAL(109,PACKT03Table[11])","v":0},{"$f":"SUBTOTAL(109,PACKT03Table[12])","v":0}]

{"sheet":"PACKT04","index":12,"n_rows":112,"n_cols":18,"rows_kept":112,"cut":false,"hidden":false,"merged":[[1,2,1,4],[1,6,1,10],[2,2,2,10]]}
[null,null,"Menu"]
[null,null,{"$f":"EntityName","v":"Company A"},null,null,null,{"$f":"YearEnd","v":"2013-02-28"}]
[null,null,{"$f":"VLOOKUP(D6,PackageItemListLookup[],4,FALSE)","v":"PACKT04"}]
[]
[]
[null,null,"Package Item code:","PACK004"]
[null,null,"Package Item name:",{"$f":"VLOOKUP(D6,PackageItemListLookup[],2,FALSE)","v":"Medical Aid"}]
[null,null,null,null,"Total",{"$f":"PACKT04Table[[#Totals],[1]]","v":0},{"$f":"PACKT04Table[[#Totals],[2]]","v":0},{"$f":"PACKT04Table[[#Totals],[3]]","v":0},{"$f":"PACKT04Table[[#Totals],[4]]","v":0},{"$f":"PACKT04Table[[#Totals],[5]]","v":0},{"$f":"PACKT04Table[[#Totals],[6]]","v":0},{"$f":"PACKT04Table[[#Totals],[7]]","v":0},{"$f":"PACKT04Table[[#Totals],[8]]","v":0},{"$f":"PACKT04Table[[#Totals],[9]]","v":0},{"$f":"PACKT04Table[[#Totals],[10]]","v":0},{"$f":"PACKT04Table[[#Totals],[11]]","v":0},{"$f":"PACKT04Table[[#Totals],[12]]","v":0}]
[]
[null,null,null,null,null,{"$f":"VLOOKUP(PackageItemTable[[#Headers],[1]],CalendarMonthText,5,FALSE)","v":"March"},{"$f":"VLOOKUP(PackageItemTable[[#Headers],[2]],CalendarMonthText,5,FALSE)","v":"April"},{"$f":"VLOOKUP(PackageItemTable[[#Headers],[3]],CalendarMonthText,5,FALSE)","v":"May"},{"$f":"VLOOKUP(PackageItemTable[[#Headers],[4]],CalendarMonthText,5,FALSE)","v":"June"},{"$f":"VLOOKUP(PackageItemTable[[#Headers],[5]],CalendarMonthText,5,FALSE)","v":"July"},{"$f":"VLOOKUP(PackageItemTable[[#Headers],[6]],CalendarMonthText,5,FALSE)","v":"August"},{"$f":"VLOOKUP(PackageItemTable[[#Headers],[7]],CalendarMonthText,5,FALSE)","v":"September"},{"$f":"VLOOKUP(PackageItemTable[[#Headers],[8]],CalendarMonthText,5,FALSE)","v":"October"},{"$f":"VLOOKUP(PackageItemTable[[#Headers],[9]],CalendarMonthText,5,FALSE)","v":"November"},{"$f":"VLOOKUP(PackageItemTable[[#Headers],[10]],CalendarMonthText,5,FALSE)","v":"December"},{"$f":"VLOOKUP(PackageItemTable[[#Headers],[11]],CalendarMonthText,5,FALSE)","v":"January"},{"$f":"VLOOKUP(PackageItemTable[[#Headers],[12]],CalendarMonthText,5,FALSE)","v":"February"}]
[null,"EmployeeID","EmployeeNumber","EmployeeName","EmployeeJobTitle","1","2","3","4","5","6","7","8","9","10","11","12","Selected"]
[null,"EMP0001",{"$f":"VLOOKUP(PACKT04Table[[#This Row],[EmployeeID]],EmployeeListLookupTable[],2,FALSE)","v":"EMPN001"},{"$f":"VLOOKUP(PACKT04Table[[#This Row],[EmployeeID]],EmployeeListLookupTable[],3,FALSE)","v":"Employee Name 1"},{"$f":"VLOOKUP(PACKT04Table[[#This Row],[EmployeeID]],EmployeeListLookupTable[],4,FALSE)","v":"Employee Job Title 1"},null,null,null,null,null,null,null,null,null,null,null,null,{"$f":"VLOOKUP(PACKT04Table[[#This Row],[EmployeeID]],EmployeeListLookupTable[#All],10,FALSE)=\"Y\"","v":true}]
[null,"EMP0002",{"$f":"VLOOKUP(PACKT04Table[[#This Row],[EmployeeID]],EmployeeListLookupTable[],2,FALSE)","v":"EMPN002"},{"$f":"VLOOKUP(PACKT04Table[[#This Row],[EmployeeID]],EmployeeListLookupTable[],3,FALSE)","v":"Employee Name 2"},{"$f":"VLOOKUP(PACKT04Table[[#This Row],[EmployeeID]],EmployeeListLookupTable[],4,FALSE)","v":"Employee Job Title 2"},null,null,null,null,null,null,null,null,null,null,null,null,{"$f":"VLOOKUP(PACKT04Table[[#This Row],[EmployeeID]],EmployeeListLookupTable[#All],10,FALSE)=\"Y\"","v":true}]
[null,"EMP0003",{"$f":"VLOOKUP(PACKT04Table[[#This Row],[EmployeeID]],EmployeeListLookupTable[],2,FALSE)","v":"EMPN003"},{"$f":"VLOOKUP(PACKT04Table[[#This Row],[EmployeeID]],EmployeeListLookupTable[],3,FALSE)","v":"Employee Name 3"},{"$f":"VLOOKUP(PACKT04Table[[#This Row],[EmployeeID]],EmployeeListLookupTable[],4,FALSE)","v":"Employee Job Title 3"},null,null,null,null,null,null,null,null,null,null,null,null,{"$f":"VLOOKUP(PACKT04Table[[#This Row],[EmployeeID]],EmployeeListLookupTable[#All],10,FALSE)=\"Y\"","v":true}]
[null,"EMP0004",{"$f":"VLOOKUP(PACKT04Table[[#This Row],[EmployeeID]],EmployeeListLookupTable[],2,FALSE)","v":"EMPN004"},{"$f":"VLOOKUP(PACKT04Table[[#This Row],[EmployeeID]],EmployeeListLookupTable[],3,FALSE)","v":"Employee Name 4"},{"$f":"VLOOKUP(PACKT04Table[[#This Row],[EmployeeID]],EmployeeListLookupTable[],4,FALSE)","v":"Employee Job Title 4"},null,null,null,null,null,null,null,null,null,null,null,null,{"$f":"VLOOKUP(PACKT04Table[[#This Row],[EmployeeID]],EmployeeListLookupTable[#All],10,FALSE)=\"Y\"","v":true}]
[null,"EMP0005",{"$f":"VLOOKUP(PACKT04Table[[#This Row],[EmployeeID]],EmployeeListLookupTable[],2,FALSE)","v":"EMPN005"},{"$f":"VLOOKUP(PACKT04Table[[#This Row],[EmployeeID]],EmployeeListLookupTable[],3,FALSE)","v":"Employee Name 5"},{"$f":"VLOOKUP(PACKT04Table[[#This Row],[EmployeeID]],EmployeeListLookupTable[],4,FALSE)","v":"Employee Job Title 5"},null,null,null,null,null,null,null,null,null,null,null,null,{"$f":"VLOOKUP(PACKT04Table[[#This Row],[EmployeeID]],EmployeeListLookupTable[#All],10,FALSE)=\"Y\"","v":true}]
[null,"EMP0006",{"$f":"VLOOKUP(PACKT04Table[[#This Row],[EmployeeID]],EmployeeListLookupTable[],2,FALSE)","v":"EMPN006"},{"$f":"VLOOKUP(PACKT04Table[[#This Row],[EmployeeID]],EmployeeListLookupTable[],3,FALSE)","v":"Employee Name 6"},{"$f":"VLOOKUP(PACKT04Table[[#This Row],[EmployeeID]],EmployeeListLookupTable[],4,FALSE)","v":"Employee Job Title 6"},null,null,null,null,null,null,null,null,null,null,null,null,{"$f":"VLOOKUP(PACKT04Table[[#This Row],[EmployeeID]],EmployeeListLookupTable[#All],10,FALSE)=\"Y\"","v":true}]
[null,"EMP0007",{"$f":"VLOOKUP(PACKT04Table[[#This Row],[EmployeeID]],EmployeeListLookupTable[],2,FALSE)","v":"EMPN007"},{"$f":"VLOOKUP(PACKT04Table[[#This Row],[EmployeeID]],EmployeeListLookupTable[],3,FALSE)","v":"Employee Name 7"},{"$f":"VLOOKUP(PACKT04Table[[#This Row],[EmployeeID]],EmployeeListLookupTable[],4,FALSE)","v":"Employee Job Title 7"},null,null,null,null,null,null,null,null,null,null,null,null,{"$f":"VLOOKUP(PACKT04Table[[#This Row],[EmployeeID]],EmployeeListLookupTable[#All],10,FALSE)=\"Y\"","v":true}]
[null,"EMP0008",{"$f":"VLOOKUP(PACKT04Table[[#This Row],[EmployeeID]],EmployeeListLookupTable[],2,FALSE)","v":"EMPN008"},{"$f":"VLOOKUP(PACKT04Table[[#This Row],[EmployeeID]],EmployeeListLookupTable[],3,FALSE)","v":"Employee Name 8"},{"$f":"VLOOKUP(PACKT04Table[[#This Row],[EmployeeID]],EmployeeListLookupTable[],4,FALSE)","v":"Employee Job Title 8"},null,null,null,null,null,null,null,null,null,null,null,null,{"$f":"VLOOKUP(PACKT04Table[[#This Row],[EmployeeID]],EmployeeListLookupTable[#All],10,FALSE)=\"Y\"","v":true}]
[null,"EMP0009",{"$f":"VLOOKUP(PACKT04Table[[#This Row],[EmployeeID]],EmployeeListLookupTable[],2,FALSE)","v":"EMPN009"},{"$f":"VLOOKUP(PACKT04Table[[#This Row],[EmployeeID]],EmployeeListLookupTable[],3,FALSE)","v":"Employee Name 9"},{"$f":"VLOOKUP(PACKT04Table[[#This Row],[EmployeeID]],EmployeeListLookupTable[],4,FALSE)","v":"Employee Job Title 9"},null,null,null,null,null,null,null,null,null,null,null,null,{"$f":"VLOOKUP(PACKT04Table[[#This Row],[EmployeeID]],EmployeeListLookupTable[#All],10,FALSE)=\"Y\"","v":true}]
[null,"EMP0010",{"$f":"VLOOKUP(PACKT04Table[[#This Row],[EmployeeID]],EmployeeListLookupTable[],2,FALSE)","v":"EMPN010"},{"$f":"VLOOKUP(PACKT04Table[[#This Row],[EmployeeID]],EmployeeListLookupTable[],3,FALSE)","v":"Employee Name 10"},{"$f":"VLOOKUP(PACKT04Table[[#This Row],[EmployeeID]],EmployeeListLookupTable[],4,FALSE)","v":"Employee Job Title 10"},null,null,null,null,null,null,null,null,null,null,null,null,{"$f":"VLOOKUP(PACKT04Table[[#This Row],[EmployeeID]],EmployeeListLookupTable[#All],10,FALSE)=\"Y\"","v":true}]
[null,"EMP0011",{"$f":"VLOOKUP(PACKT04Table[[#This Row],[EmployeeID]],EmployeeListLookupTable[],2,FALSE)","v":"EMPN011"},{"$f":"VLOOKUP(PACKT04Table[[#This Row],[EmployeeID]],EmployeeListLookupTable[],3,FALSE)","v":"Employee Name 11"},{"$f":"VLOOKUP(PACKT04Table[[#This Row],[EmployeeID]],EmployeeListLookupTable[],4,FALSE)","v":"Employee Job Title 11"},null,null,null,null,null,null,null,null,null,null,null,null,{"$f":"VLOOKUP(PACKT04Table[[#This Row],[EmployeeID]],EmployeeListLookupTable[#All],10,FALSE)=\"Y\"","v":true}]
[null,"EMP0012",{"$f":"VLOOKUP(PACKT04Table[[#This Row],[EmployeeID]],EmployeeListLookupTable[],2,FALSE)","v":"EMPN012"},{"$f":"VLOOKUP(PACKT04Table[[#This Row],[EmployeeID]],EmployeeListLookupTable[],3,FALSE)","v":"Employee Name 12"},{"$f":"VLOOKUP(PACKT04Table[[#This Row],[EmployeeID]],EmployeeListLookupTable[],4,FALSE)","v":"Employee Job Title 12"},null,null,null,null,null,null,null,null,null,null,null,null,{"$f":"VLOOKUP(PACKT04Table[[#This Row],[EmployeeID]],EmployeeListLookupTable[#All],10,FALSE)=\"Y\"","v":true}]
[null,"EMP0013",{"$f":"VLOOKUP(PACKT04Table[[#This Row],[EmployeeID]],EmployeeListLookupTable[],2,FALSE)","v":"EMPN013"},{"$f":"VLOOKUP(PACKT04Table[[#This Row],[EmployeeID]],EmployeeListLookupTable[],3,FALSE)","v":"Employee Name 13"},{"$f":"VLOOKUP(PACKT04Table[[#This Row],[EmployeeID]],EmployeeListLookupTable[],4,FALSE)","v":"Employee Job Title 13"},null,null,null,null,null,null,null,null,null,null,null,null,{"$f":"VLOOKUP(PACKT04Table[[#This Row],[EmployeeID]],EmployeeListLookupTable[#All],10,FALSE)=\"Y\"","v":true}]
[null,"EMP0014",{"$f":"VLOOKUP(PACKT04Table[[#This Row],[EmployeeID]],EmployeeListLookupTable[],2,FALSE)","v":"EMPN014"},{"$f":"VLOOKUP(PACKT04Table[[#This Row],[EmployeeID]],EmployeeListLookupTable[],3,FALSE)","v":"Employee Name 14"},{"$f":"VLOOKUP(PACKT04Table[[#This Row],[EmployeeID]],EmployeeListLookupTable[],4,FALSE)","v":"Employee Job Title 14"},null,null,null,null,null,null,null,null,null,null,null,null,{"$f":"VLOOKUP(PACKT04Table[[#This Row],[EmployeeID]],EmployeeListLookupTable[#All],10,FALSE)=\"Y\"","v":true}]
[null,"EMP0015",{"$f":"VLOOKUP(PACKT04Table[[#This Row],[EmployeeID]],EmployeeListLookupTable[],2,FALSE)","v":"EMPN015"},{"$f":"VLOOKUP(PACKT04Table[[#This Row],[EmployeeID]],EmployeeListLookupTable[],3,FALSE)","v":"Employee Name 15"},{"$f":"VLOOKUP(PACKT04Table[[#This Row],[EmployeeID]],EmployeeListLookupTable[],4,FALSE)","v":"Employee Job Title 15"},null,null,null,null,null,null,null,null,null,null,null,null,{"$f":"VLOOKUP(PACKT04Table[[#This Row],[EmployeeID]],EmployeeListLookupTable[#All],10,FALSE)=\"Y\"","v":true}]
[null,"EMP0016",{"$f":"VLOOKUP(PACKT04Table[[#This Row],[EmployeeID]],EmployeeListLookupTable[],2,FALSE)","v":"EMPN016"},{"$f":"VLOOKUP(PACKT04Table[[#This Row],[EmployeeID]],EmployeeListLookupTable[],3,FALSE)","v":"Employee Name 16"},{"$f":"VLOOKUP(PACKT04Table[[#This Row],[EmployeeID]],EmployeeListLookupTable[],4,FALSE)","v":"Employee Job Title 16"},null,null,null,null,null,null,null,null,null,null,null,null,{"$f":"VLOOKUP(PACKT04Table[[#This Row],[EmployeeID]],EmployeeListLookupTable[#All],10,FALSE)=\"Y\"","v":true}]
[null,"EMP0017",{"$f":"VLOOKUP(PACKT04Table[[#This Row],[EmployeeID]],EmployeeListLookupTable[],2,FALSE)","v":"EMPN017"},{"$f":"VLOOKUP(PACKT04Table[[#This Row],[EmployeeID]],EmployeeListLookupTable[],3,FALSE)","v":"Employee Name 17"},{"$f":"VLOOKUP(PACKT04Table[[#This Row],[EmployeeID]],EmployeeListLookupTable[],4,FALSE)","v":"Employee Job Title 17"},null,null,null,null,null,null,null,null,null,null,null,null,{"$f":"VLOOKUP(PACKT04Table[[#This Row],[EmployeeID]],EmployeeListLookupTable[#All],10,FALSE)=\"Y\"","v":true}]
[null,"EMP0018",{"$f":"VLOOKUP(PACKT04Table[[#This Row],[EmployeeID]],EmployeeListLookupTable[],2,FALSE)","v":"EMPN018"},{"$f":"VLOOKUP(PACKT04Table[[#This Row],[EmployeeID]],EmployeeListLookupTable[],3,FALSE)","v":"Employee Name 18"},{"$f":"VLOOKUP(PACKT04Table[[#This Row],[EmployeeID]],EmployeeListLookupTable[],4,FALSE)","v":"Employee Job Title 18"},null,null,null,null,null,null,null,null,null,null,null,null,{"$f":"VLOOKUP(PACKT04Table[[#This Row],[EmployeeID]],EmployeeListLookupTable[#All],10,FALSE)=\"Y\"","v":true}]
[null,"EMP0019",{"$f":"VLOOKUP(PACKT04Table[[#This Row],[EmployeeID]],EmployeeListLookupTable[],2,FALSE)","v":"EMPN019"},{"$f":"VLOOKUP(PACKT04Table[[#This Row],[EmployeeID]],EmployeeListLookupTable[],3,FALSE)","v":"Employee Name 19"},{"$f":"VLOOKUP(PACKT04Table[[#This Row],[EmployeeID]],EmployeeListLookupTable[],4,FALSE)","v":"Employee Job Title 19"},null,null,null,null,null,null,null,null,null,null,null,null,{"$f":"VLOOKUP(PACKT04Table[[#This Row],[EmployeeID]],EmployeeListLookupTable[#All],10,FALSE)=\"Y\"","v":true}]
[null,"EMP0020",{"$f":"VLOOKUP(PACKT04Table[[#This Row],[EmployeeID]],EmployeeListLookupTable[],2,FALSE)","v":"EMPN020"},{"$f":"VLOOKUP(PACKT04Table[[#This Row],[EmployeeID]],EmployeeListLookupTable[],3,FALSE)","v":"Employee Name 20"},{"$f":"VLOOKUP(PACKT04Table[[#This Row],[EmployeeID]],EmployeeListLookupTable[],4,FALSE)","v":"Employee Job Title 20"},null,null,null,null,null,null,null,null,null,null,null,null,{"$f":"VLOOKUP(PACKT04Table[[#This Row],[EmployeeID]],EmployeeListLookupTable[#All],10,FALSE)=\"Y\"","v":true}]
[null,"EMP0021",{"$f":"VLOOKUP(PACKT04Table[[#This Row],[EmployeeID]],EmployeeListLookupTable[],2,FALSE)","v":"EMPN021"},{"$f":"VLOOKUP(PACKT04Table[[#This Row],[EmployeeID]],EmployeeListLookupTable[],3,FALSE)","v":"Employee Name 21"},{"$f":"VLOOKUP(PACKT04Table[[#This Row],[EmployeeID]],EmployeeListLookupTable[],4,FALSE)","v":"Employee Job Title 21"},null,null,null,null,null,null,null,null,null,null,null,null,{"$f":"VLOOKUP(PACKT04Table[[#This Row],[EmployeeID]],EmployeeListLookupTable[#All],10,FALSE)=\"Y\"","v":true}]
[null,"EMP0022",{"$f":"VLOOKUP(PACKT04Table[[#This Row],[EmployeeID]],EmployeeListLookupTable[],2,FALSE)","v":"EMPN022"},{"$f":"VLOOKUP(PACKT04Table[[#This Row],[EmployeeID]],EmployeeListLookupTable[],3,FALSE)","v":"Employee Name 22"},{"$f":"VLOOKUP(PACKT04Table[[#This Row],[EmployeeID]],EmployeeListLookupTable[],4,FALSE)","v":"Employee Job Title 22"},null,null,null,null,null,null,null,null,null,null,null,null,{"$f":"VLOOKUP(PACKT04Table[[#This Row],[EmployeeID]],EmployeeListLookupTable[#All],10,FALSE)=\"Y\"","v":true}]
[null,"EMP0023",{"$f":"VLOOKUP(PACKT04Table[[#This Row],[EmployeeID]],EmployeeListLookupTable[],2,FALSE)","v":"EMPN023"},{"$f":"VLOOKUP(PACKT04Table[[#This Row],[EmployeeID]],EmployeeListLookupTable[],3,FALSE)","v":"Employee Name 23"},{"$f":"VLOOKUP(PACKT04Table[[#This Row],[EmployeeID]],EmployeeListLookupTable[],4,FALSE)","v":"Employee Job Title 23"},null,null,null,null,null,null,null,null,null,null,null,null,{"$f":"VLOOKUP(PACKT04Table[[#This Row],[EmployeeID]],EmployeeListLookupTable[#All],10,FALSE)=\"Y\"","v":true}]
[null,"EMP0024",{"$f":"VLOOKUP(PACKT04Table[[#This Row],[EmployeeID]],EmployeeListLookupTable[],2,FALSE)","v":"EMPN024"},{"$f":"VLOOKUP(PACKT04Table[[#This Row],[EmployeeID]],EmployeeListLookupTable[],3,FALSE)","v":"Employee Name 24"},{"$f":"VLOOKUP(PACKT04Table[[#This Row],[EmployeeID]],EmployeeListLookupTable[],4,FALSE)","v":"Employee Job Title 24"},null,null,null,null,null,null,null,null,null,null,null,null,{"$f":"VLOOKUP(PACKT04Table[[#This Row],[EmployeeID]],EmployeeListLookupTable[#All],10,FALSE)=\"Y\"","v":true}]
[null,"EMP0025",{"$f":"VLOOKUP(PACKT04Table[[#This Row],[EmployeeID]],EmployeeListLookupTable[],2,FALSE)","v":"EMPN025"},{"$f":"VLOOKUP(PACKT04Table[[#This Row],[EmployeeID]],EmployeeListLookupTable[],3,FALSE)","v":"Employee Name 25"},{"$f":"VLOOKUP(PACKT04Table[[#This Row],[EmployeeID]],EmployeeListLookupTable[],4,FALSE)","v":"Employee Job Title 25"},null,null,null,null,null,null,null,null,null,null,null,null,{"$f":"VLOOKUP(PACKT04Table[[#This Row],[EmployeeID]],EmployeeListLookupTable[#All],10,FALSE)=\"Y\"","v":true}]
[null,"EMP0026",{"$f":"VLOOKUP(PACKT04Table[[#This Row],[EmployeeID]],EmployeeListLookupTable[],2,FALSE)","v":"EMPN026"},{"$f":"VLOOKUP(PACKT04Table[[#This Row],[EmployeeID]],EmployeeListLookupTable[],3,FALSE)","v":"Employee Name 26"},{"$f":"VLOOKUP(PACKT04Table[[#This Row],[EmployeeID]],EmployeeListLookupTable[],4,FALSE)","v":"Employee Job Title 26"},null,null,null,null,null,null,null,null,null,null,null,null,{"$f":"VLOOKUP(PACKT04Table[[#This Row],[EmployeeID]],EmployeeListLookupTable[#All],10,FALSE)=\"Y\"","v":true}]
[null,"EMP0027",{"$f":"VLOOKUP(PACKT04Table[[#This Row],[EmployeeID]],EmployeeListLookupTable[],2,FALSE)","v":"EMPN027"},{"$f":"VLOOKUP(PACKT04Table[[#This Row],[EmployeeID]],EmployeeListLookupTable[],3,FALSE)","v":"Employee Name 27"},{"$f":"VLOOKUP(PACKT04Table[[#This Row],[EmployeeID]],EmployeeListLookupTable[],4,FALSE)","v":"Employee Job Title 27"},null,null,null,null,null,null,null,null,null,null,null,null,{"$f":"VLOOKUP(PACKT04Table[[#This Row],[EmployeeID]],EmployeeListLookupTable[#All],10,FALSE)=\"Y\"","v":true}]
[null,"EMP0028",{"$f":"VLOOKUP(PACKT04Table[[#This Row],[EmployeeID]],EmployeeListLookupTable[],2,FALSE)","v":"EMPN028"},{"$f":"VLOOKUP(PACKT04Table[[#This Row],[EmployeeID]],EmployeeListLookupTable[],3,FALSE)","v":"Employee Name 28"},{"$f":"VLOOKUP(PACKT04Table[[#This Row],[EmployeeID]],EmployeeListLookupTable[],4,FALSE)","v":"Employee Job Title 28"},null,null,null,null,null,null,null,null,null,null,null,null,{"$f":"VLOOKUP(PACKT04Table[[#This Row],[EmployeeID]],EmployeeListLookupTable[#All],10,FALSE)=\"Y\"","v":true}]
[null,"EMP0029",{"$f":"VLOOKUP(PACKT04Table[[#This Row],[EmployeeID]],EmployeeListLookupTable[],2,FALSE)","v":"EMPN029"},{"$f":"VLOOKUP(PACKT04Table[[#This Row],[EmployeeID]],EmployeeListLookupTable[],3,FALSE)","v":"Employee Name 29"},{"$f":"VLOOKUP(PACKT04Table[[#This Row],[EmployeeID]],EmployeeListLookupTable[],4,FALSE)","v":"Employee Job Title 29"},null,null,null,null,null,null,null,null,null,null,null,null,{"$f":"VLOOKUP(PACKT04Table[[#This Row],[EmployeeID]],EmployeeListLookupTable[#All],10,FALSE)=\"Y\"","v":true}]
[null,"EMP0030",{"$f":"VLOOKUP(PACKT04Table[[#This Row],[EmployeeID]],EmployeeListLookupTable[],2,FALSE)","v":"EMPN030"},{"$f":"VLOOKUP(PACKT04Table[[#This Row],[EmployeeID]],EmployeeListLookupTable[],3,FALSE)","v":"Employee Name 30"},{"$f":"VLOOKUP(PACKT04Table[[#This Row],[EmployeeID]],EmployeeListLookupTable[],4,FALSE)","v":"Employee Job Title 30"},null,null,null,null,null,null,null,null,null,null,null,null,{"$f":"VLOOKUP(PACKT04Table[[#This Row],[EmployeeID]],EmployeeListLookupTable[#All],10,FALSE)=\"Y\"","v":true}]
[null,"EMP0031",{"$f":"VLOOKUP(PACKT04Table[[#This Row],[EmployeeID]],EmployeeListLookupTable[],2,FALSE)","v":"EMPN031"},{"$f":"VLOOKUP(PACKT04Table[[#This Row],[EmployeeID]],EmployeeListLookupTable[],3,FALSE)","v":"Employee Name 31"},{"$f":"VLOOKUP(PACKT04Table[[#This Row],[EmployeeID]],EmployeeListLookupTable[],4,FALSE)","v":"Employee Job Title 31"},null,null,null,null,null,null,null,null,null,null,null,null,{"$f":"VLOOKUP(PACKT04Table[[#This Row],[EmployeeID]],EmployeeListLookupTable[#All],10,FALSE)=\"Y\"","v":true}]
[null,"EMP0032",{"$f":"VLOOKUP(PACKT04Table[[#This Row],[EmployeeID]],EmployeeListLookupTable[],2,FALSE)","v":"EMPN032"},{"$f":"VLOOKUP(PACKT04Table[[#This Row],[EmployeeID]],EmployeeListLookupTable[],3,FALSE)","v":"Employee Name 32"},{"$f":"VLOOKUP(PACKT04Table[[#This Row],[EmployeeID]],EmployeeListLookupTable[],4,FALSE)","v":"Employee Job Title 32"},null,null,null,null,null,null,null,null,null,null,null,null,{"$f":"VLOOKUP(PACKT04Table[[#This Row],[EmployeeID]],EmployeeListLookupTable[#All],10,FALSE)=\"Y\"","v":true}]
[null,"EMP0033",{"$f":"VLOOKUP(PACKT04Table[[#This Row],[EmployeeID]],EmployeeListLookupTable[],2,FALSE)","v":"EMPN033"},{"$f":"VLOOKUP(PACKT04Table[[#This Row],[EmployeeID]],EmployeeListLookupTable[],3,FALSE)","v":"Employee Name 33"},{"$f":"VLOOKUP(PACKT04Table[[#This Row],[EmployeeID]],EmployeeListLookupTable[],4,FALSE)","v":"Employee Job Title 33"},null,null,null,null,null,null,null,null,null,null,null,null,{"$f":"VLOOKUP(PACKT04Table[[#This Row],[EmployeeID]],EmployeeListLookupTable[#All],10,FALSE)=\"Y\"","v":true}]
[null,"EMP0034",{"$f":"VLOOKUP(PACKT04Table[[#This Row],[EmployeeID]],EmployeeListLookupTable[],2,FALSE)","v":"EMPN034"},{"$f":"VLOOKUP(PACKT04Table[[#This Row],[EmployeeID]],EmployeeListLookupTable[],3,FALSE)","v":"Employee Name 34"},{"$f":"VLOOKUP(PACKT04Table[[#This Row],[EmployeeID]],EmployeeListLookupTable[],4,FALSE)","v":"Employee Job Title 34"},null,null,null,null,null,null,null,null,null,null,null,null,{"$f":"VLOOKUP(PACKT04Table[[#This Row],[EmployeeID]],EmployeeListLookupTable[#All],10,FALSE)=\"Y\"","v":true}]
[null,"EMP0035",{"$f":"VLOOKUP(PACKT04Table[[#This Row],[EmployeeID]],EmployeeListLookupTable[],2,FALSE)","v":"EMPN035"},{"$f":"VLOOKUP(PACKT04Table[[#This Row],[EmployeeID]],EmployeeListLookupTable[],3,FALSE)","v":"Employee Name 35"},{"$f":"VLOOKUP(PACKT04Table[[#This Row],[EmployeeID]],EmployeeListLookupTable[],4,FALSE)","v":"Employee Job Title 35"},null,null,null,null,null,null,null,null,null,null,null,null,{"$f":"VLOOKUP(PACKT04Table[[#This Row],[EmployeeID]],EmployeeListLookupTable[#All],10,FALSE)=\"Y\"","v":true}]
[null,"EMP0036",{"$f":"VLOOKUP(PACKT04Table[[#This Row],[EmployeeID]],EmployeeListLookupTable[],2,FALSE)","v":"EMPN036"},{"$f":"VLOOKUP(PACKT04Table[[#This Row],[EmployeeID]],EmployeeListLookupTable[],3,FALSE)","v":"Employee Name 36"},{"$f":"VLOOKUP(PACKT04Table[[#This Row],[EmployeeID]],EmployeeListLookupTable[],4,FALSE)","v":"Employee Job Title 36"},null,null,null,null,null,null,null,null,null,null,null,null,{"$f":"VLOOKUP(PACKT04Table[[#This Row],[EmployeeID]],EmployeeListLookupTable[#All],10,FALSE)=\"Y\"","v":true}]
[null,"EMP0037",{"$f":"VLOOKUP(PACKT04Table[[#This Row],[EmployeeID]],EmployeeListLookupTable[],2,FALSE)","v":"EMPN037"},{"$f":"VLOOKUP(PACKT04Table[[#This Row],[EmployeeID]],EmployeeListLookupTable[],3,FALSE)","v":"Employee Name 37"},{"$f":"VLOOKUP(PACKT04Table[[#This Row],[EmployeeID]],EmployeeListLookupTable[],4,FALSE)","v":"Employee Job Title 37"},null,null,null,null,null,null,null,null,null,null,null,null,{"$f":"VLOOKUP(PACKT04Table[[#This Row],[EmployeeID]],EmployeeListLookupTable[#All],10,FALSE)=\"Y\"","v":true}]
[null,"EMP0038",{"$f":"VLOOKUP(PACKT04Table[[#This Row],[EmployeeID]],EmployeeListLookupTable[],2,FALSE)","v":"EMPN038"},{"$f":"VLOOKUP(PACKT04Table[[#This Row],[EmployeeID]],EmployeeListLookupTable[],3,FALSE)","v":"Employee Name 38"},{"$f":"VLOOKUP(PACKT04Table[[#This Row],[EmployeeID]],EmployeeListLookupTable[],4,FALSE)","v":"Employee Job Title 38"},null,null,null,null,null,null,null,null,null,null,null,null,{"$f":"VLOOKUP(PACKT04Table[[#This Row],[EmployeeID]],EmployeeListLookupTable[#All],10,FALSE)=\"Y\"","v":true}]
[null,"EMP0039",{"$f":"VLOOKUP(PACKT04Table[[#This Row],[EmployeeID]],EmployeeListLookupTable[],2,FALSE)","v":"EMPN039"},{"$f":"VLOOKUP(PACKT04Table[[#This Row],[EmployeeID]],EmployeeListLookupTable[],3,FALSE)","v":"Employee Name 39"},{"$f":"VLOOKUP(PACKT04Table[[#This Row],[EmployeeID]],EmployeeListLookupTable[],4,FALSE)","v":"Employee Job Title 39"},null,null,null,null,null,null,null,null,null,null,null,null,{"$f":"VLOOKUP(PACKT04Table[[#This Row],[EmployeeID]],EmployeeListLookupTable[#All],10,FALSE)=\"Y\"","v":true}]
[null,"EMP0040",{"$f":"VLOOKUP(PACKT04Table[[#This Row],[EmployeeID]],EmployeeListLookupTable[],2,FALSE)","v":"EMPN040"},{"$f":"VLOOKUP(PACKT04Table[[#This Row],[EmployeeID]],EmployeeListLookupTable[],3,FALSE)","v":"Employee Name 40"},{"$f":"VLOOKUP(PACKT04Table[[#This Row],[EmployeeID]],EmployeeListLookupTable[],4,FALSE)","v":"Employee Job Title 40"},null,null,null,null,null,null,null,null,null,null,null,null,{"$f":"VLOOKUP(PACKT04Table[[#This Row],[EmployeeID]],EmployeeListLookupTable[#All],10,FALSE)=\"Y\"","v":true}]
[null,"EMP0041",{"$f":"VLOOKUP(PACKT04Table[[#This Row],[EmployeeID]],EmployeeListLookupTable[],2,FALSE)","v":"EMPN041"},{"$f":"VLOOKUP(PACKT04Table[[#This Row],[EmployeeID]],EmployeeListLookupTable[],3,FALSE)","v":"Employee Name 41"},{"$f":"VLOOKUP(PACKT04Table[[#This Row],[EmployeeID]],EmployeeListLookupTable[],4,FALSE)","v":"Employee Job Title 41"},null,null,null,null,null,null,null,null,null,null,null,null,{"$f":"VLOOKUP(PACKT04Table[[#This Row],[EmployeeID]],EmployeeListLookupTable[#All],10,FALSE)=\"Y\"","v":true}]
[null,"EMP0042",{"$f":"VLOOKUP(PACKT04Table[[#This Row],[EmployeeID]],EmployeeListLookupTable[],2,FALSE)","v":"EMPN042"},{"$f":"VLOOKUP(PACKT04Table[[#This Row],[EmployeeID]],EmployeeListLookupTable[],3,FALSE)","v":"Employee Name 42"},{"$f":"VLOOKUP(PACKT04Table[[#This Row],[EmployeeID]],EmployeeListLookupTable[],4,FALSE)","v":"Employee Job Title 42"},null,null,null,null,null,null,null,null,null,null,null,null,{"$f":"VLOOKUP(PACKT04Table[[#This Row],[EmployeeID]],EmployeeListLookupTable[#All],10,FALSE)=\"Y\"","v":true}]
[null,"EMP0043",{"$f":"VLOOKUP(PACKT04Table[[#This Row],[EmployeeID]],EmployeeListLookupTable[],2,FALSE)","v":"EMPN043"},{"$f":"VLOOKUP(PACKT04Table[[#This Row],[EmployeeID]],EmployeeListLookupTable[],3,FALSE)","v":"Employee Name 43"},{"$f":"VLOOKUP(PACKT04Table[[#This Row],[EmployeeID]],EmployeeListLookupTable[],4,FALSE)","v":"Employee Job Title 43"},null,null,null,null,null,null,null,null,null,null,null,null,{"$f":"VLOOKUP(PACKT04Table[[#This Row],[EmployeeID]],EmployeeListLookupTable[#All],10,FALSE)=\"Y\"","v":true}]
[null,"EMP0044",{"$f":"VLOOKUP(PACKT04Table[[#This Row],[EmployeeID]],EmployeeListLookupTable[],2,FALSE)","v":"EMPN044"},{"$f":"VLOOKUP(PACKT04Table[[#This Row],[EmployeeID]],EmployeeListLookupTable[],3,FALSE)","v":"Employee Name 44"},{"$f":"VLOOKUP(PACKT04Table[[#This Row],[EmployeeID]],EmployeeListLookupTable[],4,FALSE)","v":"Employee Job Title 44"},null,null,null,null,null,null,null,null,null,null,null,null,{"$f":"VLOOKUP(PACKT04Table[[#This Row],[EmployeeID]],EmployeeListLookupTable[#All],10,FALSE)=\"Y\"","v":true}]
[null,"EMP0045",{"$f":"VLOOKUP(PACKT04Table[[#This Row],[EmployeeID]],EmployeeListLookupTable[],2,FALSE)","v":"EMPN045"},{"$f":"VLOOKUP(PACKT04Table[[#This Row],[EmployeeID]],EmployeeListLookupTable[],3,FALSE)","v":"Employee Name 45"},{"$f":"VLOOKUP(PACKT04Table[[#This Row],[EmployeeID]],EmployeeListLookupTable[],4,FALSE)","v":"Employee Job Title 45"},null,null,null,null,null,null,null,null,null,null,null,null,{"$f":"VLOOKUP(PACKT04Table[[#This Row],[EmployeeID]],EmployeeListLookupTable[#All],10,FALSE)=\"Y\"","v":true}]
[null,"EMP0046",{"$f":"VLOOKUP(PACKT04Table[[#This Row],[EmployeeID]],EmployeeListLookupTable[],2,FALSE)","v":"EMPN046"},{"$f":"VLOOKUP(PACKT04Table[[#This Row],[EmployeeID]],EmployeeListLookupTable[],3,FALSE)","v":"Employee Name 46"},{"$f":"VLOOKUP(PACKT04Table[[#This Row],[EmployeeID]],EmployeeListLookupTable[],4,FALSE)","v":"Employee Job Title 46"},null,null,null,null,null,null,null,null,null,null,null,null,{"$f":"VLOOKUP(PACKT04Table[[#This Row],[EmployeeID]],EmployeeListLookupTable[#All],10,FALSE)=\"Y\"","v":true}]
[null,"EMP0047",{"$f":"VLOOKUP(PACKT04Table[[#This Row],[EmployeeID]],EmployeeListLookupTable[],2,FALSE)","v":"EMPN047"},{"$f":"VLOOKUP(PACKT04Table[[#This Row],[EmployeeID]],EmployeeListLookupTable[],3,FALSE)","v":"Employee Name 47"},{"$f":"VLOOKUP(PACKT04Table[[#This Row],[EmployeeID]],EmployeeListLookupTable[],4,FALSE)","v":"Employee Job Title 47"},null,null,null,null,null,null,null,null,null,null,null,null,{"$f":"VLOOKUP(PACKT04Table[[#This Row],[EmployeeID]],EmployeeListLookupTable[#All],10,FALSE)=\"Y\"","v":true}]
[null,"EMP0048",{"$f":"VLOOKUP(PACKT04Table[[#This Row],[EmployeeID]],EmployeeListLookupTable[],2,FALSE)","v":"EMPN048"},{"$f":"VLOOKUP(PACKT04Table[[#This Row],[EmployeeID]],EmployeeListLookupTable[],3,FALSE)","v":"Employee Name 48"},{"$f":"VLOOKUP(PACKT04Table[[#This Row],[EmployeeID]],EmployeeListLookupTable[],4,FALSE)","v":"Employee Job Title 48"},null,null,null,null,null,null,null,null,null,null,null,null,{"$f":"VLOOKUP(PACKT04Table[[#This Row],[EmployeeID]],EmployeeListLookupTable[#All],10,FALSE)=\"Y\"","v":true}]
[null,"EMP0049",{"$f":"VLOOKUP(PACKT04Table[[#This Row],[EmployeeID]],EmployeeListLookupTable[],2,FALSE)","v":"EMPN049"},{"$f":"VLOOKUP(PACKT04Table[[#This Row],[EmployeeID]],EmployeeListLookupTable[],3,FALSE)","v":"Employee Name 49"},{"$f":"VLOOKUP(PACKT04Table[[#This Row],[EmployeeID]],EmployeeListLookupTable[],4,FALSE)","v":"Employee Job Title 49"},null,null,null,null,null,null,null,null,null,null,null,null,{"$f":"VLOOKUP(PACKT04Table[[#This Row],[EmployeeID]],EmployeeListLookupTable[#All],10,FALSE)=\"Y\"","v":true}]
[null,"EMP0050",{"$f":"VLOOKUP(PACKT04Table[[#This Row],[EmployeeID]],EmployeeListLookupTable[],2,FALSE)","v":"EMPN050"},{"$f":"VLOOKUP(PACKT04Table[[#This Row],[EmployeeID]],EmployeeListLookupTable[],3,FALSE)","v":"Employee Name 50"},{"$f":"VLOOKUP(PACKT04Table[[#This Row],[EmployeeID]],EmployeeListLookupTable[],4,FALSE)","v":"Employee Job Title 50"},null,null,null,null,null,null,null,null,null,null,null,null,{"$f":"VLOOKUP(PACKT04Table[[#This Row],[EmployeeID]],EmployeeListLookupTable[#All],10,FALSE)=\"Y\"","v":true}]
[null,"EMP0051",{"$f":"VLOOKUP(PACKT04Table[[#This Row],[EmployeeID]],EmployeeListLookupTable[],2,FALSE)","v":"EMPN051"},{"$f":"VLOOKUP(PACKT04Table[[#This Row],[EmployeeID]],EmployeeListLookupTable[],3,FALSE)","v":"Employee Name 51"},{"$f":"VLOOKUP(PACKT04Table[[#This Row],[EmployeeID]],EmployeeListLookupTable[],4,FALSE)","v":"Employee Job Title 51"},null,null,null,null,null,null,null,null,null,null,null,null,{"$f":"VLOOKUP(PACKT04Table[[#This Row],[EmployeeID]],EmployeeListLookupTable[#All],10,FALSE)=\"Y\"","v":true}]
[null,"EMP0052",{"$f":"VLOOKUP(PACKT04Table[[#This Row],[EmployeeID]],EmployeeListLookupTable[],2,FALSE)","v":"EMPN052"},{"$f":"VLOOKUP(PACKT04Table[[#This Row],[EmployeeID]],EmployeeListLookupTable[],3,FALSE)","v":"Employee Name 52"},{"$f":"VLOOKUP(PACKT04Table[[#This Row],[EmployeeID]],EmployeeListLookupTable[],4,FALSE)","v":"Employee Job Title 52"},null,null,null,null,null,null,null,null,null,null,null,null,{"$f":"VLOOKUP(PACKT04Table[[#This Row],[EmployeeID]],EmployeeListLookupTable[#All],10,FALSE)=\"Y\"","v":true}]
[null,"EMP0053",{"$f":"VLOOKUP(PACKT04Table[[#This Row],[EmployeeID]],EmployeeListLookupTable[],2,FALSE)","v":"EMPN053"},{"$f":"VLOOKUP(PACKT04Table[[#This Row],[EmployeeID]],EmployeeListLookupTable[],3,FALSE)","v":"Employee Name 53"},{"$f":"VLOOKUP(PACKT04Table[[#This Row],[EmployeeID]],EmployeeListLookupTable[],4,FALSE)","v":"Employee Job Title 53"},null,null,null,null,null,null,null,null,null,null,null,null,{"$f":"VLOOKUP(PACKT04Table[[#This Row],[EmployeeID]],EmployeeListLookupTable[#All],10,FALSE)=\"Y\"","v":true}]
[null,"EMP0054",{"$f":"VLOOKUP(PACKT04Table[[#This Row],[EmployeeID]],EmployeeListLookupTable[],2,FALSE)","v":"EMPN054"},{"$f":"VLOOKUP(PACKT04Table[[#This Row],[EmployeeID]],EmployeeListLookupTable[],3,FALSE)","v":"Employee Name 54"},{"$f":"VLOOKUP(PACKT04Table[[#This Row],[EmployeeID]],EmployeeListLookupTable[],4,FALSE)","v":"Employee Job Title 54"},null,null,null,null,null,null,null,null,null,null,null,null,{"$f":"VLOOKUP(PACKT04Table[[#This Row],[EmployeeID]],EmployeeListLookupTable[#All],10,FALSE)=\"Y\"","v":true}]
[null,"EMP0055",{"$f":"VLOOKUP(PACKT04Table[[#This Row],[EmployeeID]],EmployeeListLookupTable[],2,FALSE)","v":"EMPN055"},{"$f":"VLOOKUP(PACKT04Table[[#This Row],[EmployeeID]],EmployeeListLookupTable[],3,FALSE)","v":"Employee Name 55"},{"$f":"VLOOKUP(PACKT04Table[[#This Row],[EmployeeID]],EmployeeListLookupTable[],4,FALSE)","v":"Employee Job Title 55"},null,null,null,null,null,null,null,null,null,null,null,null,{"$f":"VLOOKUP(PACKT04Table[[#This Row],[EmployeeID]],EmployeeListLookupTable[#All],10,FALSE)=\"Y\"","v":true}]
[null,"EMP0056",{"$f":"VLOOKUP(PACKT04Table[[#This Row],[EmployeeID]],EmployeeListLookupTable[],2,FALSE)","v":"EMPN056"},{"$f":"VLOOKUP(PACKT04Table[[#This Row],[EmployeeID]],EmployeeListLookupTable[],3,FALSE)","v":"Employee Name 56"},{"$f":"VLOOKUP(PACKT04Table[[#This Row],[EmployeeID]],EmployeeListLookupTable[],4,FALSE)","v":"Employee Job Title 56"},null,null,null,null,null,null,null,null,null,null,null,null,{"$f":"VLOOKUP(PACKT04Table[[#This Row],[EmployeeID]],EmployeeListLookupTable[#All],10,FALSE)=\"Y\"","v":true}]
[null,"EMP0057",{"$f":"VLOOKUP(PACKT04Table[[#This Row],[EmployeeID]],EmployeeListLookupTable[],2,FALSE)","v":"EMPN057"},{"$f":"VLOOKUP(PACKT04Table[[#This Row],[EmployeeID]],EmployeeListLookupTable[],3,FALSE)","v":"Employee Name 57"},{"$f":"VLOOKUP(PACKT04Table[[#This Row],[EmployeeID]],EmployeeListLookupTable[],4,FALSE)","v":"Employee Job Title 57"},null,null,null,null,null,null,null,null,null,null,null,null,{"$f":"VLOOKUP(PACKT04Table[[#This Row],[EmployeeID]],EmployeeListLookupTable[#All],10,FALSE)=\"Y\"","v":true}]
[null,"EMP0058",{"$f":"VLOOKUP(PACKT04Table[[#This Row],[EmployeeID]],EmployeeListLookupTable[],2,FALSE)","v":"EMPN058"},{"$f":"VLOOKUP(PACKT04Table[[#This Row],[EmployeeID]],EmployeeListLookupTable[],3,FALSE)","v":"Employee Name 58"},{"$f":"VLOOKUP(PACKT04Table[[#This Row],[EmployeeID]],EmployeeListLookupTable[],4,FALSE)","v":"Employee Job Title 58"},null,null,null,null,null,null,null,null,null,null,null,null,{"$f":"VLOOKUP(PACKT04Table[[#This Row],[EmployeeID]],EmployeeListLookupTable[#All],10,FALSE)=\"Y\"","v":true}]
[null,"EMP0059",{"$f":"VLOOKUP(PACKT04Table[[#This Row],[EmployeeID]],EmployeeListLookupTable[],2,FALSE)","v":"EMPN059"},{"$f":"VLOOKUP(PACKT04Table[[#This Row],[EmployeeID]],EmployeeListLookupTable[],3,FALSE)","v":"Employee Name 59"},{"$f":"VLOOKUP(PACKT04Table[[#This Row],[EmployeeID]],EmployeeListLookupTable[],4,FALSE)","v":"Employee Job Title 59"},null,null,null,null,null,null,null,null,null,null,null,null,{"$f":"VLOOKUP(PACKT04Table[[#This Row],[EmployeeID]],EmployeeListLookupTable[#All],10,FALSE)=\"Y\"","v":true}]
[null,"EMP0060",{"$f":"VLOOKUP(PACKT04Table[[#This Row],[EmployeeID]],EmployeeListLookupTable[],2,FALSE)","v":"EMPN060"},{"$f":"VLOOKUP(PACKT04Table[[#This Row],[EmployeeID]],EmployeeListLookupTable[],3,FALSE)","v":"Employee Name 60"},{"$f":"VLOOKUP(PACKT04Table[[#This Row],[EmployeeID]],EmployeeListLookupTable[],4,FALSE)","v":"Employee Job Title 60"},null,null,null,null,null,null,null,null,null,null,null,null,{"$f":"VLOOKUP(PACKT04Table[[#This Row],[EmployeeID]],EmployeeListLookupTable[#All],10,FALSE)=\"Y\"","v":true}]
[null,"EMP0061",{"$f":"VLOOKUP(PACKT04Table[[#This Row],[EmployeeID]],EmployeeListLookupTable[],2,FALSE)","v":"EMPN061"},{"$f":"VLOOKUP(PACKT04Table[[#This Row],[EmployeeID]],EmployeeListLookupTable[],3,FALSE)","v":"Employee Name 61"},{"$f":"VLOOKUP(PACKT04Table[[#This Row],[EmployeeID]],EmployeeListLookupTable[],4,FALSE)","v":"Employee Job Title 61"},null,null,null,null,null,null,null,null,null,null,null,null,{"$f":"VLOOKUP(PACKT04Table[[#This Row],[EmployeeID]],EmployeeListLookupTable[#All],10,FALSE)=\"Y\"","v":true}]
[null,"EMP0062",{"$f":"VLOOKUP(PACKT04Table[[#This Row],[EmployeeID]],EmployeeListLookupTable[],2,FALSE)","v":"EMPN062"},{"$f":"VLOOKUP(PACKT04Table[[#This Row],[EmployeeID]],EmployeeListLookupTable[],3,FALSE)","v":"Employee Name 62"},{"$f":"VLOOKUP(PACKT04Table[[#This Row],[EmployeeID]],EmployeeListLookupTable[],4,FALSE)","v":"Employee Job Title 62"},null,null,null,null,null,null,null,null,null,null,null,null,{"$f":"VLOOKUP(PACKT04Table[[#This Row],[EmployeeID]],EmployeeListLookupTable[#All],10,FALSE)=\"Y\"","v":true}]
[null,"EMP0063",{"$f":"VLOOKUP(PACKT04Table[[#This Row],[EmployeeID]],EmployeeListLookupTable[],2,FALSE)","v":"EMPN063"},{"$f":"VLOOKUP(PACKT04Table[[#This Row],[EmployeeID]],EmployeeListLookupTable[],3,FALSE)","v":"Employee Name 63"},{"$f":"VLOOKUP(PACKT04Table[[#This Row],[EmployeeID]],EmployeeListLookupTable[],4,FALSE)","v":"Employee Job Title 63"},null,null,null,null,null,null,null,null,null,null,null,null,{"$f":"VLOOKUP(PACKT04Table[[#This Row],[EmployeeID]],EmployeeListLookupTable[#All],10,FALSE)=\"Y\"","v":true}]
[null,"EMP0064",{"$f":"VLOOKUP(PACKT04Table[[#This Row],[EmployeeID]],EmployeeListLookupTable[],2,FALSE)","v":"EMPN064"},{"$f":"VLOOKUP(PACKT04Table[[#This Row],[EmployeeID]],EmployeeListLookupTable[],3,FALSE)","v":"Employee Name 64"},{"$f":"VLOOKUP(PACKT04Table[[#This Row],[EmployeeID]],EmployeeListLookupTable[],4,FALSE)","v":"Employee Job Title 64"},null,null,null,null,null,null,null,null,null,null,null,null,{"$f":"VLOOKUP(PACKT04Table[[#This Row],[EmployeeID]],EmployeeListLookupTable[#All],10,FALSE)=\"Y\"","v":true}]
[null,"EMP0065",{"$f":"VLOOKUP(PACKT04Table[[#This Row],[EmployeeID]],EmployeeListLookupTable[],2,FALSE)","v":"EMPN065"},{"$f":"VLOOKUP(PACKT04Table[[#This Row],[EmployeeID]],EmployeeListLookupTable[],3,FALSE)","v":"Employee Name 65"},{"$f":"VLOOKUP(PACKT04Table[[#This Row],[EmployeeID]],EmployeeListLookupTable[],4,FALSE)","v":"Employee Job Title 65"},null,null,null,null,null,null,null,null,null,null,null,null,{"$f":"VLOOKUP(PACKT04Table[[#This Row],[EmployeeID]],EmployeeListLookupTable[#All],10,FALSE)=\"Y\"","v":true}]
[null,"EMP0066",{"$f":"VLOOKUP(PACKT04Table[[#This Row],[EmployeeID]],EmployeeListLookupTable[],2,FALSE)","v":"EMPN066"},{"$f":"VLOOKUP(PACKT04Table[[#This Row],[EmployeeID]],EmployeeListLookupTable[],3,FALSE)","v":"Employee Name 66"},{"$f":"VLOOKUP(PACKT04Table[[#This Row],[EmployeeID]],EmployeeListLookupTable[],4,FALSE)","v":"Employee Job Title 66"},null,null,null,null,null,null,null,null,null,null,null,null,{"$f":"VLOOKUP(PACKT04Table[[#This Row],[EmployeeID]],EmployeeListLookupTable[#All],10,FALSE)=\"Y\"","v":true}]
[null,"EMP0067",{"$f":"VLOOKUP(PACKT04Table[[#This Row],[EmployeeID]],EmployeeListLookupTable[],2,FALSE)","v":"EMPN067"},{"$f":"VLOOKUP(PACKT04Table[[#This Row],[EmployeeID]],EmployeeListLookupTable[],3,FALSE)","v":"Employee Name 67"},{"$f":"VLOOKUP(PACKT04Table[[#This Row],[EmployeeID]],EmployeeListLookupTable[],4,FALSE)","v":"Employee Job Title 67"},null,null,null,null,null,null,null,null,null,null,null,null,{"$f":"VLOOKUP(PACKT04Table[[#This Row],[EmployeeID]],EmployeeListLookupTable[#All],10,FALSE)=\"Y\"","v":true}]
[null,"EMP0068",{"$f":"VLOOKUP(PACKT04Table[[#This Row],[EmployeeID]],EmployeeListLookupTable[],2,FALSE)","v":"EMPN068"},{"$f":"VLOOKUP(PACKT04Table[[#This Row],[EmployeeID]],EmployeeListLookupTable[],3,FALSE)","v":"Employee Name 68"},{"$f":"VLOOKUP(PACKT04Table[[#This Row],[EmployeeID]],EmployeeListLookupTable[],4,FALSE)","v":"Employee Job Title 68"},null,null,null,null,null,null,null,null,null,null,null,null,{"$f":"VLOOKUP(PACKT04Table[[#This Row],[EmployeeID]],EmployeeListLookupTable[#All],10,FALSE)=\"Y\"","v":true}]
[null,"EMP0069",{"$f":"VLOOKUP(PACKT04Table[[#This Row],[EmployeeID]],EmployeeListLookupTable[],2,FALSE)","v":"EMPN069"},{"$f":"VLOOKUP(PACKT04Table[[#This Row],[EmployeeID]],EmployeeListLookupTable[],3,FALSE)","v":"Employee Name 69"},{"$f":"VLOOKUP(PACKT04Table[[#This Row],[EmployeeID]],EmployeeListLookupTable[],4,FALSE)","v":"Employee Job Title 69"},null,null,null,null,null,null,null,null,null,null,null,null,{"$f":"VLOOKUP(PACKT04Table[[#This Row],[EmployeeID]],EmployeeListLookupTable[#All],10,FALSE)=\"Y\"","v":true}]
[null,"EMP0070",{"$f":"VLOOKUP(PACKT04Table[[#This Row],[EmployeeID]],EmployeeListLookupTable[],2,FALSE)","v":"EMPN070"},{"$f":"VLOOKUP(PACKT04Table[[#This Row],[EmployeeID]],EmployeeListLookupTable[],3,FALSE)","v":"Employee Name 70"},{"$f":"VLOOKUP(PACKT04Table[[#This Row],[EmployeeID]],EmployeeListLookupTable[],4,FALSE)","v":"Employee Job Title 70"},null,null,null,null,null,null,null,null,null,null,null,null,{"$f":"VLOOKUP(PACKT04Table[[#This Row],[EmployeeID]],EmployeeListLookupTable[#All],10,FALSE)=\"Y\"","v":true}]
[null,"EMP0071",{"$f":"VLOOKUP(PACKT04Table[[#This Row],[EmployeeID]],EmployeeListLookupTable[],2,FALSE)","v":"EMPN071"},{"$f":"VLOOKUP(PACKT04Table[[#This Row],[EmployeeID]],EmployeeListLookupTable[],3,FALSE)","v":"Employee Name 71"},{"$f":"VLOOKUP(PACKT04Table[[#This Row],[EmployeeID]],EmployeeListLookupTable[],4,FALSE)","v":"Employee Job Title 71"},null,null,null,null,null,null,null,null,null,null,null,null,{"$f":"VLOOKUP(PACKT04Table[[#This Row],[EmployeeID]],EmployeeListLookupTable[#All],10,FALSE)=\"Y\"","v":true}]
[null,"EMP0072",{"$f":"VLOOKUP(PACKT04Table[[#This Row],[EmployeeID]],EmployeeListLookupTable[],2,FALSE)","v":"EMPN072"},{"$f":"VLOOKUP(PACKT04Table[[#This Row],[EmployeeID]],EmployeeListLookupTable[],3,FALSE)","v":"Employee Name 72"},{"$f":"VLOOKUP(PACKT04Table[[#This Row],[EmployeeID]],EmployeeListLookupTable[],4,FALSE)","v":"Employee Job Title 72"},null,null,null,null,null,null,null,null,null,null,null,null,{"$f":"VLOOKUP(PACKT04Table[[#This Row],[EmployeeID]],EmployeeListLookupTable[#All],10,FALSE)=\"Y\"","v":true}]
[null,"EMP0073",{"$f":"VLOOKUP(PACKT04Table[[#This Row],[EmployeeID]],EmployeeListLookupTable[],2,FALSE)","v":"EMPN073"},{"$f":"VLOOKUP(PACKT04Table[[#This Row],[EmployeeID]],EmployeeListLookupTable[],3,FALSE)","v":"Employee Name 73"},{"$f":"VLOOKUP(PACKT04Table[[#This Row],[EmployeeID]],EmployeeListLookupTable[],4,FALSE)","v":"Employee Job Title 73"},null,null,null,null,null,null,null,null,null,null,null,null,{"$f":"VLOOKUP(PACKT04Table[[#This Row],[EmployeeID]],EmployeeListLookupTable[#All],10,FALSE)=\"Y\"","v":true}]
[null,"EMP0074",{"$f":"VLOOKUP(PACKT04Table[[#This Row],[EmployeeID]],EmployeeListLookupTable[],2,FALSE)","v":"EMPN074"},{"$f":"VLOOKUP(PACKT04Table[[#This Row],[EmployeeID]],EmployeeListLookupTable[],3,FALSE)","v":"Employee Name 74"},{"$f":"VLOOKUP(PACKT04Table[[#This Row],[EmployeeID]],EmployeeListLookupTable[],4,FALSE)","v":"Employee Job Title 74"},null,null,null,null,null,null,null,null,null,null,null,null,{"$f":"VLOOKUP(PACKT04Table[[#This Row],[EmployeeID]],EmployeeListLookupTable[#All],10,FALSE)=\"Y\"","v":true}]
[null,"EMP0075",{"$f":"VLOOKUP(PACKT04Table[[#This Row],[EmployeeID]],EmployeeListLookupTable[],2,FALSE)","v":"EMPN075"},{"$f":"VLOOKUP(PACKT04Table[[#This Row],[EmployeeID]],EmployeeListLookupTable[],3,FALSE)","v":"Employee Name 75"},{"$f":"VLOOKUP(PACKT04Table[[#This Row],[EmployeeID]],EmployeeListLookupTable[],4,FALSE)","v":"Employee Job Title 75"},null,null,null,null,null,null,null,null,null,null,null,null,{"$f":"VLOOKUP(PACKT04Table[[#This Row],[EmployeeID]],EmployeeListLookupTable[#All],10,FALSE)=\"Y\"","v":true}]
[null,"EMP0076",{"$f":"VLOOKUP(PACKT04Table[[#This Row],[EmployeeID]],EmployeeListLookupTable[],2,FALSE)","v":"EMPN076"},{"$f":"VLOOKUP(PACKT04Table[[#This Row],[EmployeeID]],EmployeeListLookupTable[],3,FALSE)","v":"Employee Name 76"},{"$f":"VLOOKUP(PACKT04Table[[#This Row],[EmployeeID]],EmployeeListLookupTable[],4,FALSE)","v":"Employee Job Title 76"},null,null,null,null,null,null,null,null,null,null,null,null,{"$f":"VLOOKUP(PACKT04Table[[#This Row],[EmployeeID]],EmployeeListLookupTable[#All],10,FALSE)=\"Y\"","v":true}]
[null,"EMP0077",{"$f":"VLOOKUP(PACKT04Table[[#This Row],[EmployeeID]],EmployeeListLookupTable[],2,FALSE)","v":"EMPN077"},{"$f":"VLOOKUP(PACKT04Table[[#This Row],[EmployeeID]],EmployeeListLookupTable[],3,FALSE)","v":"Employee Name 77"},{"$f":"VLOOKUP(PACKT04Table[[#This Row],[EmployeeID]],EmployeeListLookupTable[],4,FALSE)","v":"Employee Job Title 77"},null,null,null,null,null,null,null,null,null,null,null,null,{"$f":"VLOOKUP(PACKT04Table[[#This Row],[EmployeeID]],EmployeeListLookupTable[#All],10,FALSE)=\"Y\"","v":true}]
[null,"EMP0078",{"$f":"VLOOKUP(PACKT04Table[[#This Row],[EmployeeID]],EmployeeListLookupTable[],2,FALSE)","v":"EMPN078"},{"$f":"VLOOKUP(PACKT04Table[[#This Row],[EmployeeID]],EmployeeListLookupTable[],3,FALSE)","v":"Employee Name 78"},{"$f":"VLOOKUP(PACKT04Table[[#This Row],[EmployeeID]],EmployeeListLookupTable[],4,FALSE)","v":"Employee Job Title 78"},null,null,null,null,null,null,null,null,null,null,null,null,{"$f":"VLOOKUP(PACKT04Table[[#This Row],[EmployeeID]],EmployeeListLookupTable[#All],10,FALSE)=\"Y\"","v":true}]
[null,"EMP0079",{"$f":"VLOOKUP(PACKT04Table[[#This Row],[EmployeeID]],EmployeeListLookupTable[],2,FALSE)","v":"EMPN079"},{"$f":"VLOOKUP(PACKT04Table[[#This Row],[EmployeeID]],EmployeeListLookupTable[],3,FALSE)","v":"Employee Name 79"},{"$f":"VLOOKUP(PACKT04Table[[#This Row],[EmployeeID]],EmployeeListLookupTable[],4,FALSE)","v":"Employee Job Title 79"},null,null,null,null,null,null,null,null,null,null,null,null,{"$f":"VLOOKUP(PACKT04Table[[#This Row],[EmployeeID]],EmployeeListLookupTable[#All],10,FALSE)=\"Y\"","v":true}]
[null,"EMP0080",{"$f":"VLOOKUP(PACKT04Table[[#This Row],[EmployeeID]],EmployeeListLookupTable[],2,FALSE)","v":"EMPN080"},{"$f":"VLOOKUP(PACKT04Table[[#This Row],[EmployeeID]],EmployeeListLookupTable[],3,FALSE)","v":"Employee Name 80"},{"$f":"VLOOKUP(PACKT04Table[[#This Row],[EmployeeID]],EmployeeListLookupTable[],4,FALSE)","v":"Employee Job Title 80"},null,null,null,null,null,null,null,null,null,null,null,null,{"$f":"VLOOKUP(PACKT04Table[[#This Row],[EmployeeID]],EmployeeListLookupTable[#All],10,FALSE)=\"Y\"","v":true}]
[null,"EMP0081",{"$f":"VLOOKUP(PACKT04Table[[#This Row],[EmployeeID]],EmployeeListLookupTable[],2,FALSE)","v":"EMPN081"},{"$f":"VLOOKUP(PACKT04Table[[#This Row],[EmployeeID]],EmployeeListLookupTable[],3,FALSE)","v":"Employee Name 81"},{"$f":"VLOOKUP(PACKT04Table[[#This Row],[EmployeeID]],EmployeeListLookupTable[],4,FALSE)","v":"Employee Job Title 81"},null,null,null,null,null,null,null,null,null,null,null,null,{"$f":"VLOOKUP(PACKT04Table[[#This Row],[EmployeeID]],EmployeeListLookupTable[#All],10,FALSE)=\"Y\"","v":true}]
[null,"EMP0082",{"$f":"VLOOKUP(PACKT04Table[[#This Row],[EmployeeID]],EmployeeListLookupTable[],2,FALSE)","v":"EMPN082"},{"$f":"VLOOKUP(PACKT04Table[[#This Row],[EmployeeID]],EmployeeListLookupTable[],3,FALSE)","v":"Employee Name 82"},{"$f":"VLOOKUP(PACKT04Table[[#This Row],[EmployeeID]],EmployeeListLookupTable[],4,FALSE)","v":"Employee Job Title 82"},null,null,null,null,null,null,null,null,null,null,null,null,{"$f":"VLOOKUP(PACKT04Table[[#This Row],[EmployeeID]],EmployeeListLookupTable[#All],10,FALSE)=\"Y\"","v":true}]
[null,"EMP0083",{"$f":"VLOOKUP(PACKT04Table[[#This Row],[EmployeeID]],EmployeeListLookupTable[],2,FALSE)","v":"EMPN083"},{"$f":"VLOOKUP(PACKT04Table[[#This Row],[EmployeeID]],EmployeeListLookupTable[],3,FALSE)","v":"Employee Name 83"},{"$f":"VLOOKUP(PACKT04Table[[#This Row],[EmployeeID]],EmployeeListLookupTable[],4,FALSE)","v":"Employee Job Title 83"},null,null,null,null,null,null,null,null,null,null,null,null,{"$f":"VLOOKUP(PACKT04Table[[#This Row],[EmployeeID]],EmployeeListLookupTable[#All],10,FALSE)=\"Y\"","v":true}]
[null,"EMP0084",{"$f":"VLOOKUP(PACKT04Table[[#This Row],[EmployeeID]],EmployeeListLookupTable[],2,FALSE)","v":"EMPN084"},{"$f":"VLOOKUP(PACKT04Table[[#This Row],[EmployeeID]],EmployeeListLookupTable[],3,FALSE)","v":"Employee Name 84"},{"$f":"VLOOKUP(PACKT04Table[[#This Row],[EmployeeID]],EmployeeListLookupTable[],4,FALSE)","v":"Employee Job Title 84"},null,null,null,null,null,null,null,null,null,null,null,null,{"$f":"VLOOKUP(PACKT04Table[[#This Row],[EmployeeID]],EmployeeListLookupTable[#All],10,FALSE)=\"Y\"","v":true}]
[null,"EMP0085",{"$f":"VLOOKUP(PACKT04Table[[#This Row],[EmployeeID]],EmployeeListLookupTable[],2,FALSE)","v":"EMPN085"},{"$f":"VLOOKUP(PACKT04Table[[#This Row],[EmployeeID]],EmployeeListLookupTable[],3,FALSE)","v":"Employee Name 85"},{"$f":"VLOOKUP(PACKT04Table[[#This Row],[EmployeeID]],EmployeeListLookupTable[],4,FALSE)","v":"Employee Job Title 85"},null,null,null,null,null,null,null,null,null,null,null,null,{"$f":"VLOOKUP(PACKT04Table[[#This Row],[EmployeeID]],EmployeeListLookupTable[#All],10,FALSE)=\"Y\"","v":true}]
[null,"EMP0086",{"$f":"VLOOKUP(PACKT04Table[[#This Row],[EmployeeID]],EmployeeListLookupTable[],2,FALSE)","v":"EMPN086"},{"$f":"VLOOKUP(PACKT04Table[[#This Row],[EmployeeID]],EmployeeListLookupTable[],3,FALSE)","v":"Employee Name 86"},{"$f":"VLOOKUP(PACKT04Table[[#This Row],[EmployeeID]],EmployeeListLookupTable[],4,FALSE)","v":"Employee Job Title 86"},null,null,null,null,null,null,null,null,null,null,null,null,{"$f":"VLOOKUP(PACKT04Table[[#This Row],[EmployeeID]],EmployeeListLookupTable[#All],10,FALSE)=\"Y\"","v":true}]
[null,"EMP0087",{"$f":"VLOOKUP(PACKT04Table[[#This Row],[EmployeeID]],EmployeeListLookupTable[],2,FALSE)","v":"EMPN087"},{"$f":"VLOOKUP(PACKT04Table[[#This Row],[EmployeeID]],EmployeeListLookupTable[],3,FALSE)","v":"Employee Name 87"},{"$f":"VLOOKUP(PACKT04Table[[#This Row],[EmployeeID]],EmployeeListLookupTable[],4,FALSE)","v":"Employee Job Title 87"},null,null,null,null,null,null,null,null,null,null,null,null,{"$f":"VLOOKUP(PACKT04Table[[#This Row],[EmployeeID]],EmployeeListLookupTable[#All],10,FALSE)=\"Y\"","v":true}]
[null,"EMP0088",{"$f":"VLOOKUP(PACKT04Table[[#This Row],[EmployeeID]],EmployeeListLookupTable[],2,FALSE)","v":"EMPN088"},{"$f":"VLOOKUP(PACKT04Table[[#This Row],[EmployeeID]],EmployeeListLookupTable[],3,FALSE)","v":"Employee Name 88"},{"$f":"VLOOKUP(PACKT04Table[[#This Row],[EmployeeID]],EmployeeListLookupTable[],4,FALSE)","v":"Employee Job Title 88"},null,null,null,null,null,null,null,null,null,null,null,null,{"$f":"VLOOKUP(PACKT04Table[[#This Row],[EmployeeID]],EmployeeListLookupTable[#All],10,FALSE)=\"Y\"","v":true}]
[null,"EMP0089",{"$f":"VLOOKUP(PACKT04Table[[#This Row],[EmployeeID]],EmployeeListLookupTable[],2,FALSE)","v":"EMPN089"},{"$f":"VLOOKUP(PACKT04Table[[#This Row],[EmployeeID]],EmployeeListLookupTable[],3,FALSE)","v":"Employee Name 89"},{"$f":"VLOOKUP(PACKT04Table[[#This Row],[EmployeeID]],EmployeeListLookupTable[],4,FALSE)","v":"Employee Job Title 89"},null,null,null,null,null,null,null,null,null,null,null,null,{"$f":"VLOOKUP(PACKT04Table[[#This Row],[EmployeeID]],EmployeeListLookupTable[#All],10,FALSE)=\"Y\"","v":true}]
[null,"EMP0090",{"$f":"VLOOKUP(PACKT04Table[[#This Row],[EmployeeID]],EmployeeListLookupTable[],2,FALSE)","v":"EMPN090"},{"$f":"VLOOKUP(PACKT04Table[[#This Row],[EmployeeID]],EmployeeListLookupTable[],3,FALSE)","v":"Employee Name 90"},{"$f":"VLOOKUP(PACKT04Table[[#This Row],[EmployeeID]],EmployeeListLookupTable[],4,FALSE)","v":"Employee Job Title 90"},null,null,null,null,null,null,null,null,null,null,null,null,{"$f":"VLOOKUP(PACKT04Table[[#This Row],[EmployeeID]],EmployeeListLookupTable[#All],10,FALSE)=\"Y\"","v":true}]
[null,"EMP0091",{"$f":"VLOOKUP(PACKT04Table[[#This Row],[EmployeeID]],EmployeeListLookupTable[],2,FALSE)","v":"EMPN091"},{"$f":"VLOOKUP(PACKT04Table[[#This Row],[EmployeeID]],EmployeeListLookupTable[],3,FALSE)","v":"Employee Name 91"},{"$f":"VLOOKUP(PACKT04Table[[#This Row],[EmployeeID]],EmployeeListLookupTable[],4,FALSE)","v":"Employee Job Title 91"},null,null,null,null,null,null,null,null,null,null,null,null,{"$f":"VLOOKUP(PACKT04Table[[#This Row],[EmployeeID]],EmployeeListLookupTable[#All],10,FALSE)=\"Y\"","v":true}]
[null,"EMP0092",{"$f":"VLOOKUP(PACKT04Table[[#This Row],[EmployeeID]],EmployeeListLookupTable[],2,FALSE)","v":"EMPN092"},{"$f":"VLOOKUP(PACKT04Table[[#This Row],[EmployeeID]],EmployeeListLookupTable[],3,FALSE)","v":"Employee Name 92"},{"$f":"VLOOKUP(PACKT04Table[[#This Row],[EmployeeID]],EmployeeListLookupTable[],4,FALSE)","v":"Employee Job Title 92"},null,null,null,null,null,null,null,null,null,null,null,null,{"$f":"VLOOKUP(PACKT04Table[[#This Row],[EmployeeID]],EmployeeListLookupTable[#All],10,FALSE)=\"Y\"","v":true}]
[null,"EMP0093",{"$f":"VLOOKUP(PACKT04Table[[#This Row],[EmployeeID]],EmployeeListLookupTable[],2,FALSE)","v":"EMPN093"},{"$f":"VLOOKUP(PACKT04Table[[#This Row],[EmployeeID]],EmployeeListLookupTable[],3,FALSE)","v":"Employee Name 93"},{"$f":"VLOOKUP(PACKT04Table[[#This Row],[EmployeeID]],EmployeeListLookupTable[],4,FALSE)","v":"Employee Job Title 93"},null,null,null,null,null,null,null,null,null,null,null,null,{"$f":"VLOOKUP(PACKT04Table[[#This Row],[EmployeeID]],EmployeeListLookupTable[#All],10,FALSE)=\"Y\"","v":true}]
[null,"EMP0094",{"$f":"VLOOKUP(PACKT04Table[[#This Row],[EmployeeID]],EmployeeListLookupTable[],2,FALSE)","v":"EMPN094"},{"$f":"VLOOKUP(PACKT04Table[[#This Row],[EmployeeID]],EmployeeListLookupTable[],3,FALSE)","v":"Employee Name 94"},{"$f":"VLOOKUP(PACKT04Table[[#This Row],[EmployeeID]],EmployeeListLookupTable[],4,FALSE)","v":"Employee Job Title 94"},null,null,null,null,null,null,null,null,null,null,null,null,{"$f":"VLOOKUP(PACKT04Table[[#This Row],[EmployeeID]],EmployeeListLookupTable[#All],10,FALSE)=\"Y\"","v":true}]
[null,"EMP0095",{"$f":"VLOOKUP(PACKT04Table[[#This Row],[EmployeeID]],EmployeeListLookupTable[],2,FALSE)","v":"EMPN095"},{"$f":"VLOOKUP(PACKT04Table[[#This Row],[EmployeeID]],EmployeeListLookupTable[],3,FALSE)","v":"Employee Name 95"},{"$f":"VLOOKUP(PACKT04Table[[#This Row],[EmployeeID]],EmployeeListLookupTable[],4,FALSE)","v":"Employee Job Title 95"},null,null,null,null,null,null,null,null,null,null,null,null,{"$f":"VLOOKUP(PACKT04Table[[#This Row],[EmployeeID]],EmployeeListLookupTable[#All],10,FALSE)=\"Y\"","v":true}]
[null,"EMP0096",{"$f":"VLOOKUP(PACKT04Table[[#This Row],[EmployeeID]],EmployeeListLookupTable[],2,FALSE)","v":"EMPN096"},{"$f":"VLOOKUP(PACKT04Table[[#This Row],[EmployeeID]],EmployeeListLookupTable[],3,FALSE)","v":"Employee Name 96"},{"$f":"VLOOKUP(PACKT04Table[[#This Row],[EmployeeID]],EmployeeListLookupTable[],4,FALSE)","v":"Employee Job Title 96"},null,null,null,null,null,null,null,null,null,null,null,null,{"$f":"VLOOKUP(PACKT04Table[[#This Row],[EmployeeID]],EmployeeListLookupTable[#All],10,FALSE)=\"Y\"","v":true}]
[null,"EMP0097",{"$f":"VLOOKUP(PACKT04Table[[#This Row],[EmployeeID]],EmployeeListLookupTable[],2,FALSE)","v":"EMPN097"},{"$f":"VLOOKUP(PACKT04Table[[#This Row],[EmployeeID]],EmployeeListLookupTable[],3,FALSE)","v":"Employee Name 97"},{"$f":"VLOOKUP(PACKT04Table[[#This Row],[EmployeeID]],EmployeeListLookupTable[],4,FALSE)","v":"Employee Job Title 97"},null,null,null,null,null,null,null,null,null,null,null,null,{"$f":"VLOOKUP(PACKT04Table[[#This Row],[EmployeeID]],EmployeeListLookupTable[#All],10,FALSE)=\"Y\"","v":true}]
[null,"EMP0098",{"$f":"VLOOKUP(PACKT04Table[[#This Row],[EmployeeID]],EmployeeListLookupTable[],2,FALSE)","v":"EMPN098"},{"$f":"VLOOKUP(PACKT04Table[[#This Row],[EmployeeID]],EmployeeListLookupTable[],3,FALSE)","v":"Employee Name 98"},{"$f":"VLOOKUP(PACKT04Table[[#This Row],[EmployeeID]],EmployeeListLookupTable[],4,FALSE)","v":"Employee Job Title 98"},null,null,null,null,null,null,null,null,null,null,null,null,{"$f":"VLOOKUP(PACKT04Table[[#This Row],[EmployeeID]],EmployeeListLookupTable[#All],10,FALSE)=\"Y\"","v":true}]
[null,"EMP0099",{"$f":"VLOOKUP(PACKT04Table[[#This Row],[EmployeeID]],EmployeeListLookupTable[],2,FALSE)","v":"EMPN099"},{"$f":"VLOOKUP(PACKT04Table[[#This Row],[EmployeeID]],EmployeeListLookupTable[],3,FALSE)","v":"Employee Name 99"},{"$f":"VLOOKUP(PACKT04Table[[#This Row],[EmployeeID]],EmployeeListLookupTable[],4,FALSE)","v":"Employee Job Title 99"},null,null,null,null,null,null,null,null,null,null,null,null,{"$f":"VLOOKUP(PACKT04Table[[#This Row],[EmployeeID]],EmployeeListLookupTable[#All],10,FALSE)=\"Y\"","v":true}]
[null,"EMP0100",{"$f":"VLOOKUP(PACKT04Table[[#This Row],[EmployeeID]],EmployeeListLookupTable[],2,FALSE)","v":"EMPN100"},{"$f":"VLOOKUP(PACKT04Table[[#This Row],[EmployeeID]],EmployeeListLookupTable[],3,FALSE)","v":"Employee Name 100"},{"$f":"VLOOKUP(PACKT04Table[[#This Row],[EmployeeID]],EmployeeListLookupTable[],4,FALSE)","v":"Employee Job Title 100"},null,null,null,null,null,null,null,null,null,null,null,null,{"$f":"VLOOKUP(PACKT04Table[[#This Row],[EmployeeID]],EmployeeListLookupTable[#All],10,FALSE)=\"Y\"","v":true}]
[null,"Total",null,null,"Total",{"$f":"SUBTOTAL(109,PACKT04Table[1])","v":0},{"$f":"SUBTOTAL(109,PACKT04Table[2])","v":0},{"$f":"SUBTOTAL(109,PACKT04Table[3])","v":0},{"$f":"SUBTOTAL(109,PACKT04Table[4])","v":0},{"$f":"SUBTOTAL(109,PACKT04Table[5])","v":0},{"$f":"SUBTOTAL(109,PACKT04Table[6])","v":0},{"$f":"SUBTOTAL(109,PACKT04Table[7])","v":0},{"$f":"SUBTOTAL(109,PACKT04Table[8])","v":0},{"$f":"SUBTOTAL(109,PACKT04Table[9])","v":0},{"$f":"SUBTOTAL(109,PACKT04Table[10])","v":0},{"$f":"SUBTOTAL(109,PACKT04Table[11])","v":0},{"$f":"SUBTOTAL(109,PACKT04Table[12])","v":0}]

{"sheet":"PACKT05","index":13,"n_rows":112,"n_cols":18,"rows_kept":112,"cut":false,"hidden":false,"merged":[[1,2,1,4],[1,6,1,10],[2,2,2,10]]}
[null,null,"Menu"]
[null,null,{"$f":"EntityName","v":"Company A"},null,null,null,{"$f":"YearEnd","v":"2013-02-28"}]
[null,null,{"$f":"VLOOKUP(D6,PackageItemListLookup[],4,FALSE)","v":"PACKT05"}]
[]
[]
[null,null,"Package Item code:","PACK005","Employer SDL %",0.01]
[null,null,"Package Item name:",{"$f":"VLOOKUP(D6,PackageItemListLookup[],2,FALSE)","v":"SDL"}]
[null,null,null,null,"Total",{"$f":"PACKT05Table[[#Totals],[1]]","v":0},{"$f":"PACKT05Table[[#Totals],[2]]","v":0},{"$f":"PACKT05Table[[#Totals],[3]]","v":0},{"$f":"PACKT05Table[[#Totals],[4]]","v":0},{"$f":"PACKT05Table[[#Totals],[5]]","v":0},{"$f":"PACKT05Table[[#Totals],[6]]","v":0},{"$f":"PACKT05Table[[#Totals],[7]]","v":0},{"$f":"PACKT05Table[[#Totals],[8]]","v":0},{"$f":"PACKT05Table[[#Totals],[9]]","v":0},{"$f":"PACKT05Table[[#Totals],[10]]","v":0},{"$f":"PACKT05Table[[#Totals],[11]]","v":0},{"$f":"PACKT05Table[[#Totals],[12]]","v":0}]
[]
[null,null,null,null,null,{"$f":"VLOOKUP(PackageItemTable[[#Headers],[1]],CalendarMonthText,5,FALSE)","v":"March"},{"$f":"VLOOKUP(PackageItemTable[[#Headers],[2]],CalendarMonthText,5,FALSE)","v":"April"},{"$f":"VLOOKUP(PackageItemTable[[#Headers],[3]],CalendarMonthText,5,FALSE)","v":"May"},{"$f":"VLOOKUP(PackageItemTable[[#Headers],[4]],CalendarMonthText,5,FALSE)","v":"June"},{"$f":"VLOOKUP(PackageItemTable[[#Headers],[5]],CalendarMonthText,5,FALSE)","v":"July"},{"$f":"VLOOKUP(PackageItemTable[[#Headers],[6]],CalendarMonthText,5,FALSE)","v":"August"},{"$f":"VLOOKUP(PackageItemTable[[#Headers],[7]],CalendarMonthText,5,FALSE)","v":"September"},{"$f":"VLOOKUP(PackageItemTable[[#Headers],[8]],CalendarMonthText,5,FALSE)","v":"October"},{"$f":"VLOOKUP(PackageItemTable[[#Headers],[9]],CalendarMonthText,5,FALSE)","v":"November"},{"$f":"VLOOKUP(PackageItemTable[[#Headers],[10]],CalendarMonthText,5,FALSE)","v":"December"},{"$f":"VLOOKUP(PackageItemTable[[#Headers],[11]],CalendarMonthText,5,FALSE)","v":"January"},{"$f":"VLOOKUP(PackageItemTable[[#Headers],[12]],CalendarMonthText,5,FALSE)","v":"February"}]
[null,"EmployeeID","EmployeeNumber","EmployeeName","EmployeeJobTitle","1","2","3","4","5","6","7","8","9","10","11","12","Selected"]
[null,"EMP0001",{"$f":"VLOOKUP(PACKT05Table[[#This Row],[EmployeeID]],EmployeeListLookupTable[],2,FALSE)","v":"EMPN001"},{"$f":"VLOOKUP(PACKT05Table[[#This Row],[EmployeeID]],EmployeeListLookupTable[],3,FALSE)","v":"Employee Name 1"},{"$f":"VLOOKUP(PACKT05Table[[#This Row],[EmployeeID]],EmployeeListLookupTable[],4,FALSE)","v":"Employee Job Title 1"},{"$f":"(PACKT01!F12*PACKT05!$F$6)","v":0},{"$f":"(PACKT01!G12*PACKT05!$F$6)","v":0},{"$f":"(PACKT01!H12*PACKT05!$F$6)","v":0},{"$f":"(PACKT01!I12*PACKT05!$F$6)","v":0},{"$f":"(PACKT01!J12*PACKT05!$F$6)","v":0},{"$f":"(PACKT01!K12*PACKT05!$F$6)","v":0},{"$f":"(PACKT01!L12*PACKT05!$F$6)","v":0},{"$f":"(PACKT01!M12*PACKT05!$F$6)","v":0},{"$f":"(PACKT01!N12*PACKT05!$F$6)","v":0},{"$f":"(PACKT01!O12*PACKT05!$F$6)","v":0},{"$f":"(PACKT01!P12*PACKT05!$F$6)","v":0},{"$f":"(PACKT01!Q12*PACKT05!$F$6)","v":0},{"$f":"VLOOKUP(PACKT05Table[[#This Row],[EmployeeID]],EmployeeListLookupTable[#All],11,FALSE)=\"Y\"","v":true}]
[null,"EMP0002",{"$f":"VLOOKUP(PACKT05Table[[#This Row],[EmployeeID]],EmployeeListLookupTable[],2,FALSE)","v":"EMPN002"},{"$f":"VLOOKUP(PACKT05Table[[#This Row],[EmployeeID]],EmployeeListLookupTable[],3,FALSE)","v":"Employee Name 2"},{"$f":"VLOOKUP(PACKT05Table[[#This Row],[EmployeeID]],EmployeeListLookupTable[],4,FALSE)","v":"Employee Job Title 2"},{"$f":"(PACKT01!F13*PACKT05!$F$6)","v":0},{"$f":"(PACKT01!G13*PACKT05!$F$6)","v":0},{"$f":"(PACKT01!H13*PACKT05!$F$6)","v":0},{"$f":"(PACKT01!I13*PACKT05!$F$6)","v":0},{"$f":"(PACKT01!J13*PACKT05!$F$6)","v":0},{"$f":"(PACKT01!K13*PACKT05!$F$6)","v":0},{"$f":"(PACKT01!L13*PACKT05!$F$6)","v":0},{"$f":"(PACKT01!M13*PACKT05!$F$6)","v":0},{"$f":"(PACKT01!N13*PACKT05!$F$6)","v":0},{"$f":"(PACKT01!O13*PACKT05!$F$6)","v":0},{"$f":"(PACKT01!P13*PACKT05!$F$6)","v":0},{"$f":"(PACKT01!Q13*PACKT05!$F$6)","v":0},{"$f":"VLOOKUP(PACKT05Table[[#This Row],[EmployeeID]],EmployeeListLookupTable[#All],11,FALSE)=\"Y\"","v":true}]
[null,"EMP0003",{"$f":"VLOOKUP(PACKT05Table[[#This Row],[EmployeeID]],EmployeeListLookupTable[],2,FALSE)","v":"EMPN003"},{"$f":"VLOOKUP(PACKT05Table[[#This Row],[EmployeeID]],EmployeeListLookupTable[],3,FALSE)","v":"Employee Name 3"},{"$f":"VLOOKUP(PACKT05Table[[#This Row],[EmployeeID]],EmployeeListLookupTable[],4,FALSE)","v":"Employee Job Title 3"},{"$f":"(PACKT01!F14*PACKT05!$F$6)","v":0},{"$f":"(PACKT01!G14*PACKT05!$F$6)","v":0},{"$f":"(PACKT01!H14*PACKT05!$F$6)","v":0},{"$f":"(PACKT01!I14*PACKT05!$F$6)","v":0},{"$f":"(PACKT01!J14*PACKT05!$F$6)","v":0},{"$f":"(PACKT01!K14*PACKT05!$F$6)","v":0},{"$f":"(PACKT01!L14*PACKT05!$F$6)","v":0},{"$f":"(PACKT01!M14*PACKT05!$F$6)","v":0},{"$f":"(PACKT01!N14*PACKT05!$F$6)","v":0},{"$f":"(PACKT01!O14*PACKT05!$F$6)","v":0},{"$f":"(PACKT01!P14*PACKT05!$F$6)","v":0},{"$f":"(PACKT01!Q14*PACKT05!$F$6)","v":0},{"$f":"VLOOKUP(PACKT05Table[[#This Row],[EmployeeID]],EmployeeListLookupTable[#All],11,FALSE)=\"Y\"","v":true}]
[null,"EMP0004",{"$f":"VLOOKUP(PACKT05Table[[#This Row],[EmployeeID]],EmployeeListLookupTable[],2,FALSE)","v":"EMPN004"},{"$f":"VLOOKUP(PACKT05Table[[#This Row],[EmployeeID]],EmployeeListLookupTable[],3,FALSE)","v":"Employee Name 4"},{"$f":"VLOOKUP(PACKT05Table[[#This Row],[EmployeeID]],EmployeeListLookupTable[],4,FALSE)","v":"Employee Job Title 4"},{"$f":"(PACKT01!F15*PACKT05!$F$6)","v":0},{"$f":"(PACKT01!G15*PACKT05!$F$6)","v":0},{"$f":"(PACKT01!H15*PACKT05!$F$6)","v":0},{"$f":"(PACKT01!I15*PACKT05!$F$6)","v":0},{"$f":"(PACKT01!J15*PACKT05!$F$6)","v":0},{"$f":"(PACKT01!K15*PACKT05!$F$6)","v":0},{"$f":"(PACKT01!L15*PACKT05!$F$6)","v":0},{"$f":"(PACKT01!M15*PACKT05!$F$6)","v":0},{"$f":"(PACKT01!N15*PACKT05!$F$6)","v":0},{"$f":"(PACKT01!O15*PACKT05!$F$6)","v":0},{"$f":"(PACKT01!P15*PACKT05!$F$6)","v":0},{"$f":"(PACKT01!Q15*PACKT05!$F$6)","v":0},{"$f":"VLOOKUP(PACKT05Table[[#This Row],[EmployeeID]],EmployeeListLookupTable[#All],11,FALSE)=\"Y\"","v":true}]
[null,"EMP0005",{"$f":"VLOOKUP(PACKT05Table[[#This Row],[EmployeeID]],EmployeeListLookupTable[],2,FALSE)","v":"EMPN005"},{"$f":"VLOOKUP(PACKT05Table[[#This Row],[EmployeeID]],EmployeeListLookupTable[],3,FALSE)","v":"Employee Name 5"},{"$f":"VLOOKUP(PACKT05Table[[#This Row],[EmployeeID]],EmployeeListLookupTable[],4,FALSE)","v":"Employee Job Title 5"},{"$f":"(PACKT01!F16*PACKT05!$F$6)","v":0},{"$f":"(PACKT01!G16*PACKT05!$F$6)","v":0},{"$f":"(PACKT01!H16*PACKT05!$F$6)","v":0},{"$f":"(PACKT01!I16*PACKT05!$F$6)","v":0},{"$f":"(PACKT01!J16*PACKT05!$F$6)","v":0},{"$f":"(PACKT01!K16*PACKT05!$F$6)","v":0},{"$f":"(PACKT01!L16*PACKT05!$F$6)","v":0},{"$f":"(PACKT01!M16*PACKT05!$F$6)","v":0},{"$f":"(PACKT01!N16*PACKT05!$F$6)","v":0},{"$f":"(PACKT01!O16*PACKT05!$F$6)","v":0},{"$f":"(PACKT01!P16*PACKT05!$F$6)","v":0},{"$f":"(PACKT01!Q16*PACKT05!$F$6)","v":0},{"$f":"VLOOKUP(PACKT05Table[[#This Row],[EmployeeID]],EmployeeListLookupTable[#All],11,FALSE)=\"Y\"","v":true}]
[null,"EMP0006",{"$f":"VLOOKUP(PACKT05Table[[#This Row],[EmployeeID]],EmployeeListLookupTable[],2,FALSE)","v":"EMPN006"},{"$f":"VLOOKUP(PACKT05Table[[#This Row],[EmployeeID]],EmployeeListLookupTable[],3,FALSE)","v":"Employee Name 6"},{"$f":"VLOOKUP(PACKT05Table[[#This Row],[EmployeeID]],EmployeeListLookupTable[],4,FALSE)","v":"Employee Job Title 6"},{"$f":"(PACKT01!F17*PACKT05!$F$6)","v":0},{"$f":"(PACKT01!G17*PACKT05!$F$6)","v":0},{"$f":"(PACKT01!H17*PACKT05!$F$6)","v":0},{"$f":"(PACKT01!I17*PACKT05!$F$6)","v":0},{"$f":"(PACKT01!J17*PACKT05!$F$6)","v":0},{"$f":"(PACKT01!K17*PACKT05!$F$6)","v":0},{"$f":"(PACKT01!L17*PACKT05!$F$6)","v":0},{"$f":"(PACKT01!M17*PACKT05!$F$6)","v":0},{"$f":"(PACKT01!N17*PACKT05!$F$6)","v":0},{"$f":"(PACKT01!O17*PACKT05!$F$6)","v":0},{"$f":"(PACKT01!P17*PACKT05!$F$6)","v":0},{"$f":"(PACKT01!Q17*PACKT05!$F$6)","v":0},{"$f":"VLOOKUP(PACKT05Table[[#This Row],[EmployeeID]],EmployeeListLookupTable[#All],11,FALSE)=\"Y\"","v":true}]
[null,"EMP0007",{"$f":"VLOOKUP(PACKT05Table[[#This Row],[EmployeeID]],EmployeeListLookupTable[],2,FALSE)","v":"EMPN007"},{"$f":"VLOOKUP(PACKT05Table[[#This Row],[EmployeeID]],EmployeeListLookupTable[],3,FALSE)","v":"Employee Name 7"},{"$f":"VLOOKUP(PACKT05Table[[#This Row],[EmployeeID]],EmployeeListLookupTable[],4,FALSE)","v":"Employee Job Title 7"},{"$f":"(PACKT01!F18*PACKT05!$F$6)","v":0},{"$f":"(PACKT01!G18*PACKT05!$F$6)","v":0},{"$f":"(PACKT01!H18*PACKT05!$F$6)","v":0},{"$f":"(PACKT01!I18*PACKT05!$F$6)","v":0},{"$f":"(PACKT01!J18*PACKT05!$F$6)","v":0},{"$f":"(PACKT01!K18*PACKT05!$F$6)","v":0},{"$f":"(PACKT01!L18*PACKT05!$F$6)","v":0},{"$f":"(PACKT01!M18*PACKT05!$F$6)","v":0},{"$f":"(PACKT01!N18*PACKT05!$F$6)","v":0},{"$f":"(PACKT01!O18*PACKT05!$F$6)","v":0},{"$f":"(PACKT01!P18*PACKT05!$F$6)","v":0},{"$f":"(PACKT01!Q18*PACKT05!$F$6)","v":0},{"$f":"VLOOKUP(PACKT05Table[[#This Row],[EmployeeID]],EmployeeListLookupTable[#All],11,FALSE)=\"Y\"","v":true}]
[null,"EMP0008",{"$f":"VLOOKUP(PACKT05Table[[#This Row],[EmployeeID]],EmployeeListLookupTable[],2,FALSE)","v":"EMPN008"},{"$f":"VLOOKUP(PACKT05Table[[#This Row],[EmployeeID]],EmployeeListLookupTable[],3,FALSE)","v":"Employee Name 8"},{"$f":"VLOOKUP(PACKT05Table[[#This Row],[EmployeeID]],EmployeeListLookupTable[],4,FALSE)","v":"Employee Job Title 8"},{"$f":"(PACKT01!F19*PACKT05!$F$6)","v":0},{"$f":"(PACKT01!G19*PACKT05!$F$6)","v":0},{"$f":"(PACKT01!H19*PACKT05!$F$6)","v":0},{"$f":"(PACKT01!I19*PACKT05!$F$6)","v":0},{"$f":"(PACKT01!J19*PACKT05!$F$6)","v":0},{"$f":"(PACKT01!K19*PACKT05!$F$6)","v":0},{"$f":"(PACKT01!L19*PACKT05!$F$6)","v":0},{"$f":"(PACKT01!M19*PACKT05!$F$6)","v":0},{"$f":"(PACKT01!N19*PACKT05!$F$6)","v":0},{"$f":"(PACKT01!O19*PACKT05!$F$6)","v":0},{"$f":"(PACKT01!P19*PACKT05!$F$6)","v":0},{"$f":"(PACKT01!Q19*PACKT05!$F$6)","v":0},{"$f":"VLOOKUP(PACKT05Table[[#This Row],[EmployeeID]],EmployeeListLookupTable[#All],11,FALSE)=\"Y\"","v":true}]
[null,"EMP0009",{"$f":"VLOOKUP(PACKT05Table[[#This Row],[EmployeeID]],EmployeeListLookupTable[],2,FALSE)","v":"EMPN009"},{"$f":"VLOOKUP(PACKT05Table[[#This Row],[EmployeeID]],EmployeeListLookupTable[],3,FALSE)","v":"Employee Name 9"},{"$f":"VLOOKUP(PACKT05Table[[#This Row],[EmployeeID]],EmployeeListLookupTable[],4,FALSE)","v":"Employee Job Title 9"},{"$f":"(PACKT01!F20*PACKT05!$F$6)","v":0},{"$f":"(PACKT01!G20*PACKT05!$F$6)","v":0},{"$f":"(PACKT01!H20*PACKT05!$F$6)","v":0},{"$f":"(PACKT01!I20*PACKT05!$F$6)","v":0},{"$f":"(PACKT01!J20*PACKT05!$F$6)","v":0},{"$f":"(PACKT01!K20*PACKT05!$F$6)","v":0},{"$f":"(PACKT01!L20*PACKT05!$F$6)","v":0},{"$f":"(PACKT01!M20*PACKT05!$F$6)","v":0},{"$f":"(PACKT01!N20*PACKT05!$F$6)","v":0},{"$f":"(PACKT01!O20*PACKT05!$F$6)","v":0},{"$f":"(PACKT01!P20*PACKT05!$F$6)","v":0},{"$f":"(PACKT01!Q20*PACKT05!$F$6)","v":0},{"$f":"VLOOKUP(PACKT05Table[[#This Row],[EmployeeID]],EmployeeListLookupTable[#All],11,FALSE)=\"Y\"","v":true}]
[null,"EMP0010",{"$f":"VLOOKUP(PACKT05Table[[#This Row],[EmployeeID]],EmployeeListLookupTable[],2,FALSE)","v":"EMPN010"},{"$f":"VLOOKUP(PACKT05Table[[#This Row],[EmployeeID]],EmployeeListLookupTable[],3,FALSE)","v":"Employee Name 10"},{"$f":"VLOOKUP(PACKT05Table[[#This Row],[EmployeeID]],EmployeeListLookupTable[],4,FALSE)","v":"Employee Job Title 10"},{"$f":"(PACKT01!F21*PACKT05!$F$6)","v":0},{"$f":"(PACKT01!G21*PACKT05!$F$6)","v":0},{"$f":"(PACKT01!H21*PACKT05!$F$6)","v":0},{"$f":"(PACKT01!I21*PACKT05!$F$6)","v":0},{"$f":"(PACKT01!J21*PACKT05!$F$6)","v":0},{"$f":"(PACKT01!K21*PACKT05!$F$6)","v":0},{"$f":"(PACKT01!L21*PACKT05!$F$6)","v":0},{"$f":"(PACKT01!M21*PACKT05!$F$6)","v":0},{"$f":"(PACKT01!N21*PACKT05!$F$6)","v":0},{"$f":"(PACKT01!O21*PACKT05!$F$6)","v":0},{"$f":"(PACKT01!P21*PACKT05!$F$6)","v":0},{"$f":"(PACKT01!Q21*PACKT05!$F$6)","v":0},{"$f":"VLOOKUP(PACKT05Table[[#This Row],[EmployeeID]],EmployeeListLookupTable[#All],11,FALSE)=\"Y\"","v":true}]
[null,"EMP0011",{"$f":"VLOOKUP(PACKT05Table[[#This Row],[EmployeeID]],EmployeeListLookupTable[],2,FALSE)","v":"EMPN011"},{"$f":"VLOOKUP(PACKT05Table[[#This Row],[EmployeeID]],EmployeeListLookupTable[],3,FALSE)","v":"Employee Name 11"},{"$f":"VLOOKUP(PACKT05Table[[#This Row],[EmployeeID]],EmployeeListLookupTable[],4,FALSE)","v":"Employee Job Title 11"},{"$f":"(PACKT01!F22*PACKT05!$F$6)","v":0},{"$f":"(PACKT01!G22*PACKT05!$F$6)","v":0},{"$f":"(PACKT01!H22*PACKT05!$F$6)","v":0},{"$f":"(PACKT01!I22*PACKT05!$F$6)","v":0},{"$f":"(PACKT01!J22*PACKT05!$F$6)","v":0},{"$f":"(PACKT01!K22*PACKT05!$F$6)","v":0},{"$f":"(PACKT01!L22*PACKT05!$F$6)","v":0},{"$f":"(PACKT01!M22*PACKT05!$F$6)","v":0},{"$f":"(PACKT01!N22*PACKT05!$F$6)","v":0},{"$f":"(PACKT01!O22*PACKT05!$F$6)","v":0},{"$f":"(PACKT01!P22*PACKT05!$F$6)","v":0},{"$f":"(PACKT01!Q22*PACKT05!$F$6)","v":0},{"$f":"VLOOKUP(PACKT05Table[[#This Row],[EmployeeID]],EmployeeListLookupTable[#All],11,FALSE)=\"Y\"","v":true}]
[null,"EMP0012",{"$f":"VLOOKUP(PACKT05Table[[#This Row],[EmployeeID]],EmployeeListLookupTable[],2,FALSE)","v":"EMPN012"},{"$f":"VLOOKUP(PACKT05Table[[#This Row],[EmployeeID]],EmployeeListLookupTable[],3,FALSE)","v":"Employee Name 12"},{"$f":"VLOOKUP(PACKT05Table[[#This Row],[EmployeeID]],EmployeeListLookupTable[],4,FALSE)","v":"Employee Job Title 12"},{"$f":"(PACKT01!F23*PACKT05!$F$6)","v":0},{"$f":"(PACKT01!G23*PACKT05!$F$6)","v":0},{"$f":"(PACKT01!H23*PACKT05!$F$6)","v":0},{"$f":"(PACKT01!I23*PACKT05!$F$6)","v":0},{"$f":"(PACKT01!J23*PACKT05!$F$6)","v":0},{"$f":"(PACKT01!K23*PACKT05!$F$6)","v":0},{"$f":"(PACKT01!L23*PACKT05!$F$6)","v":0},{"$f":"(PACKT01!M23*PACKT05!$F$6)","v":0},{"$f":"(PACKT01!N23*PACKT05!$F$6)","v":0},{"$f":"(PACKT01!O23*PACKT05!$F$6)","v":0},{"$f":"(PACKT01!P23*PACKT05!$F$6)","v":0},{"$f":"(PACKT01!Q23*PACKT05!$F$6)","v":0},{"$f":"VLOOKUP(PACKT05Table[[#This Row],[EmployeeID]],EmployeeListLookupTable[#All],11,FALSE)=\"Y\"","v":true}]
[null,"EMP0013",{"$f":"VLOOKUP(PACKT05Table[[#This Row],[EmployeeID]],EmployeeListLookupTable[],2,FALSE)","v":"EMPN013"},{"$f":"VLOOKUP(PACKT05Table[[#This Row],[EmployeeID]],EmployeeListLookupTable[],3,FALSE)","v":"Employee Name 13"},{"$f":"VLOOKUP(PACKT05Table[[#This Row],[EmployeeID]],EmployeeListLookupTable[],4,FALSE)","v":"Employee Job Title 13"},{"$f":"(PACKT01!F24*PACKT05!$F$6)","v":0},{"$f":"(PACKT01!G24*PACKT05!$F$6)","v":0},{"$f":"(PACKT01!H24*PACKT05!$F$6)","v":0},{"$f":"(PACKT01!I24*PACKT05!$F$6)","v":0},{"$f":"(PACKT01!J24*PACKT05!$F$6)","v":0},{"$f":"(PACKT01!K24*PACKT05!$F$6)","v":0},{"$f":"(PACKT01!L24*PACKT05!$F$6)","v":0},{"$f":"(PACKT01!M24*PACKT05!$F$6)","v":0},{"$f":"(PACKT01!N24*PACKT05!$F$6)","v":0},{"$f":"(PACKT01!O24*PACKT05!$F$6)","v":0},{"$f":"(PACKT01!P24*PACKT05!$F$6)","v":0},{"$f":"(PACKT01!Q24*PACKT05!$F$6)","v":0},{"$f":"VLOOKUP(PACKT05Table[[#This Row],[EmployeeID]],EmployeeListLookupTable[#All],11,FALSE)=\"Y\"","v":true}]
[null,"EMP0014",{"$f":"VLOOKUP(PACKT05Table[[#This Row],[EmployeeID]],EmployeeListLookupTable[],2,FALSE)","v":"EMPN014"},{"$f":"VLOOKUP(PACKT05Table[[#This Row],[EmployeeID]],EmployeeListLookupTable[],3,FALSE)","v":"Employee Name 14"},{"$f":"VLOOKUP(PACKT05Table[[#This Row],[EmployeeID]],EmployeeListLookupTable[],4,FALSE)","v":"Employee Job Title 14"},{"$f":"(PACKT01!F25*PACKT05!$F$6)","v":0},{"$f":"(PACKT01!G25*PACKT05!$F$6)","v":0},{"$f":"(PACKT01!H25*PACKT05!$F$6)","v":0},{"$f":"(PACKT01!I25*PACKT05!$F$6)","v":0},{"$f":"(PACKT01!J25*PACKT05!$F$6)","v":0},{"$f":"(PACKT01!K25*PACKT05!$F$6)","v":0},{"$f":"(PACKT01!L25*PACKT05!$F$6)","v":0},{"$f":"(PACKT01!M25*PACKT05!$F$6)","v":0},{"$f":"(PACKT01!N25*PACKT05!$F$6)","v":0},{"$f":"(PACKT01!O25*PACKT05!$F$6)","v":0},{"$f":"(PACKT01!P25*PACKT05!$F$6)","v":0},{"$f":"(PACKT01!Q25*PACKT05!$F$6)","v":0},{"$f":"VLOOKUP(PACKT05Table[[#This Row],[EmployeeID]],EmployeeListLookupTable[#All],11,FALSE)=\"Y\"","v":true}]
[null,"EMP0015",{"$f":"VLOOKUP(PACKT05Table[[#This Row],[EmployeeID]],EmployeeListLookupTable[],2,FALSE)","v":"EMPN015"},{"$f":"VLOOKUP(PACKT05Table[[#This Row],[EmployeeID]],EmployeeListLookupTable[],3,FALSE)","v":"Employee Name 15"},{"$f":"VLOOKUP(PACKT05Table[[#This Row],[EmployeeID]],EmployeeListLookupTable[],4,FALSE)","v":"Employee Job Title 15"},{"$f":"(PACKT01!F26*PACKT05!$F$6)","v":0},{"$f":"(PACKT01!G26*PACKT05!$F$6)","v":0},{"$f":"(PACKT01!H26*PACKT05!$F$6)","v":0},{"$f":"(PACKT01!I26*PACKT05!$F$6)","v":0},{"$f":"(PACKT01!J26*PACKT05!$F$6)","v":0},{"$f":"(PACKT01!K26*PACKT05!$F$6)","v":0},{"$f":"(PACKT01!L26*PACKT05!$F$6)","v":0},{"$f":"(PACKT01!M26*PACKT05!$F$6)","v":0},{"$f":"(PACKT01!N26*PACKT05!$F$6)","v":0},{"$f":"(PACKT01!O26*PACKT05!$F$6)","v":0},{"$f":"(PACKT01!P26*PACKT05!$F$6)","v":0},{"$f":"(PACKT01!Q26*PACKT05!$F$6)","v":0},{"$f":"VLOOKUP(PACKT05Table[[#This Row],[EmployeeID]],EmployeeListLookupTable[#All],11,FALSE)=\"Y\"","v":true}]
[null,"EMP0016",{"$f":"VLOOKUP(PACKT05Table[[#This Row],[EmployeeID]],EmployeeListLookupTable[],2,FALSE)","v":"EMPN016"},{"$f":"VLOOKUP(PACKT05Table[[#This Row],[EmployeeID]],EmployeeListLookupTable[],3,FALSE)","v":"Employee Name 16"},{"$f":"VLOOKUP(PACKT05Table[[#This Row],[EmployeeID]],EmployeeListLookupTable[],4,FALSE)","v":"Employee Job Title 16"},{"$f":"(PACKT01!F27*PACKT05!$F$6)","v":0},{"$f":"(PACKT01!G27*PACKT05!$F$6)","v":0},{"$f":"(PACKT01!H27*PACKT05!$F$6)","v":0},{"$f":"(PACKT01!I27*PACKT05!$F$6)","v":0},{"$f":"(PACKT01!J27*PACKT05!$F$6)","v":0},{"$f":"(PACKT01!K27*PACKT05!$F$6)","v":0},{"$f":"(PACKT01!L27*PACKT05!$F$6)","v":0},{"$f":"(PACKT01!M27*PACKT05!$F$6)","v":0},{"$f":"(PACKT01!N27*PACKT05!$F$6)","v":0},{"$f":"(PACKT01!O27*PACKT05!$F$6)","v":0},{"$f":"(PACKT01!P27*PACKT05!$F$6)","v":0},{"$f":"(PACKT01!Q27*PACKT05!$F$6)","v":0},{"$f":"VLOOKUP(PACKT05Table[[#This Row],[EmployeeID]],EmployeeListLookupTable[#All],11,FALSE)=\"Y\"","v":true}]
[null,"EMP0017",{"$f":"VLOOKUP(PACKT05Table[[#This Row],[EmployeeID]],EmployeeListLookupTable[],2,FALSE)","v":"EMPN017"},{"$f":"VLOOKUP(PACKT05Table[[#This Row],[EmployeeID]],EmployeeListLookupTable[],3,FALSE)","v":"Employee Name 17"},{"$f":"VLOOKUP(PACKT05Table[[#This Row],[EmployeeID]],EmployeeListLookupTable[],4,FALSE)","v":"Employee Job Title 17"},{"$f":"(PACKT01!F28*PACKT05!$F$6)","v":0},{"$f":"(PACKT01!G28*PACKT05!$F$6)","v":0},{"$f":"(PACKT01!H28*PACKT05!$F$6)","v":0},{"$f":"(PACKT01!I28*PACKT05!$F$6)","v":0},{"$f":"(PACKT01!J28*PACKT05!$F$6)","v":0},{"$f":"(PACKT01!K28*PACKT05!$F$6)","v":0},{"$f":"(PACKT01!L28*PACKT05!$F$6)","v":0},{"$f":"(PACKT01!M28*PACKT05!$F$6)","v":0},{"$f":"(PACKT01!N28*PACKT05!$F$6)","v":0},{"$f":"(PACKT01!O28*PACKT05!$F$6)","v":0},{"$f":"(PACKT01!P28*PACKT05!$F$6)","v":0},{"$f":"(PACKT01!Q28*PACKT05!$F$6)","v":0},{"$f":"VLOOKUP(PACKT05Table[[#This Row],[EmployeeID]],EmployeeListLookupTable[#All],11,FALSE)=\"Y\"","v":true}]
[null,"EMP0018",{"$f":"VLOOKUP(PACKT05Table[[#This Row],[EmployeeID]],EmployeeListLookupTable[],2,FALSE)","v":"EMPN018"},{"$f":"VLOOKUP(PACKT05Table[[#This Row],[EmployeeID]],EmployeeListLookupTable[],3,FALSE)","v":"Employee Name 18"},{"$f":"VLOOKUP(PACKT05Table[[#This Row],[EmployeeID]],EmployeeListLookupTable[],4,FALSE)","v":"Employee Job Title 18"},{"$f":"(PACKT01!F29*PACKT05!$F$6)","v":0},{"$f":"(PACKT01!G29*PACKT05!$F$6)","v":0},{"$f":"(PACKT01!H29*PACKT05!$F$6)","v":0},{"$f":"(PACKT01!I29*PACKT05!$F$6)","v":0},{"$f":"(PACKT01!J29*PACKT05!$F$6)","v":0},{"$f":"(PACKT01!K29*PACKT05!$F$6)","v":0},{"$f":"(PACKT01!L29*PACKT05!$F$6)","v":0},{"$f":"(PACKT01!M29*PACKT05!$F$6)","v":0},{"$f":"(PACKT01!N29*PACKT05!$F$6)","v":0},{"$f":"(PACKT01!O29*PACKT05!$F$6)","v":0},{"$f":"(PACKT01!P29*PACKT05!$F$6)","v":0},{"$f":"(PACKT01!Q29*PACKT05!$F$6)","v":0},{"$f":"VLOOKUP(PACKT05Table[[#This Row],[EmployeeID]],EmployeeListLookupTable[#All],11,FALSE)=\"Y\"","v":true}]
[null,"EMP0019",{"$f":"VLOOKUP(PACKT05Table[[#This Row],[EmployeeID]],EmployeeListLookupTable[],2,FALSE)","v":"EMPN019"},{"$f":"VLOOKUP(PACKT05Table[[#This Row],[EmployeeID]],EmployeeListLookupTable[],3,FALSE)","v":"Employee Name 19"},{"$f":"VLOOKUP(PACKT05Table[[#This Row],[EmployeeID]],EmployeeListLookupTable[],4,FALSE)","v":"Employee Job Title 19"},{"$f":"(PACKT01!F30*PACKT05!$F$6)","v":0},{"$f":"(PACKT01!G30*PACKT05!$F$6)","v":0},{"$f":"(PACKT01!H30*PACKT05!$F$6)","v":0},{"$f":"(PACKT01!I30*PACKT05!$F$6)","v":0},{"$f":"(PACKT01!J30*PACKT05!$F$6)","v":0},{"$f":"(PACKT01!K30*PACKT05!$F$6)","v":0},{"$f":"(PACKT01!L30*PACKT05!$F$6)","v":0},{"$f":"(PACKT01!M30*PACKT05!$F$6)","v":0},{"$f":"(PACKT01!N30*PACKT05!$F$6)","v":0},{"$f":"(PACKT01!O30*PACKT05!$F$6)","v":0},{"$f":"(PACKT01!P30*PACKT05!$F$6)","v":0},{"$f":"(PACKT01!Q30*PACKT05!$F$6)","v":0},{"$f":"VLOOKUP(PACKT05Table[[#This Row],[EmployeeID]],EmployeeListLookupTable[#All],11,FALSE)=\"Y\"","v":true}]
[null,"EMP0020",{"$f":"VLOOKUP(PACKT05Table[[#This Row],[EmployeeID]],EmployeeListLookupTable[],2,FALSE)","v":"EMPN020"},{"$f":"VLOOKUP(PACKT05Table[[#This Row],[EmployeeID]],EmployeeListLookupTable[],3,FALSE)","v":"Employee Name 20"},{"$f":"VLOOKUP(PACKT05Table[[#This Row],[EmployeeID]],EmployeeListLookupTable[],4,FALSE)","v":"Employee Job Title 20"},{"$f":"(PACKT01!F31*PACKT05!$F$6)","v":0},{"$f":"(PACKT01!G31*PACKT05!$F$6)","v":0},{"$f":"(PACKT01!H31*PACKT05!$F$6)","v":0},{"$f":"(PACKT01!I31*PACKT05!$F$6)","v":0},{"$f":"(PACKT01!J31*PACKT05!$F$6)","v":0},{"$f":"(PACKT01!K31*PACKT05!$F$6)","v":0},{"$f":"(PACKT01!L31*PACKT05!$F$6)","v":0},{"$f":"(PACKT01!M31*PACKT05!$F$6)","v":0},{"$f":"(PACKT01!N31*PACKT05!$F$6)","v":0},{"$f":"(PACKT01!O31*PACKT05!$F$6)","v":0},{"$f":"(PACKT01!P31*PACKT05!$F$6)","v":0},{"$f":"(PACKT01!Q31*PACKT05!$F$6)","v":0},{"$f":"VLOOKUP(PACKT05Table[[#This Row],[EmployeeID]],EmployeeListLookupTable[#All],11,FALSE)=\"Y\"","v":true}]
[null,"EMP0021",{"$f":"VLOOKUP(PACKT05Table[[#This Row],[EmployeeID]],EmployeeListLookupTable[],2,FALSE)","v":"EMPN021"},{"$f":"VLOOKUP(PACKT05Table[[#This Row],[EmployeeID]],EmployeeListLookupTable[],3,FALSE)","v":"Employee Name 21"},{"$f":"VLOOKUP(PACKT05Table[[#This Row],[EmployeeID]],EmployeeListLookupTable[],4,FALSE)","v":"Employee Job Title 21"},{"$f":"(PACKT01!F32*PACKT05!$F$6)","v":0},{"$f":"(PACKT01!G32*PACKT05!$F$6)","v":0},{"$f":"(PACKT01!H32*PACKT05!$F$6)","v":0},{"$f":"(PACKT01!I32*PACKT05!$F$6)","v":0},{"$f":"(PACKT01!J32*PACKT05!$F$6)","v":0},{"$f":"(PACKT01!K32*PACKT05!$F$6)","v":0},{"$f":"(PACKT01!L32*PACKT05!$F$6)","v":0},{"$f":"(PACKT01!M32*PACKT05!$F$6)","v":0},{"$f":"(PACKT01!N32*PACKT05!$F$6)","v":0},{"$f":"(PACKT01!O32*PACKT05!$F$6)","v":0},{"$f":"(PACKT01!P32*PACKT05!$F$6)","v":0},{"$f":"(PACKT01!Q32*PACKT05!$F$6)","v":0},{"$f":"VLOOKUP(PACKT05Table[[#This Row],[EmployeeID]],EmployeeListLookupTable[#All],11,FALSE)=\"Y\"","v":true}]
[null,"EMP0022",{"$f":"VLOOKUP(PACKT05Table[[#This Row],[EmployeeID]],EmployeeListLookupTable[],2,FALSE)","v":"EMPN022"},{"$f":"VLOOKUP(PACKT05Table[[#This Row],[EmployeeID]],EmployeeListLookupTable[],3,FALSE)","v":"Employee Name 22"},{"$f":"VLOOKUP(PACKT05Table[[#This Row],[EmployeeID]],EmployeeListLookupTable[],4,FALSE)","v":"Employee Job Title 22"},{"$f":"(PACKT01!F33*PACKT05!$F$6)","v":0},{"$f":"(PACKT01!G33*PACKT05!$F$6)","v":0},{"$f":"(PACKT01!H33*PACKT05!$F$6)","v":0},{"$f":"(PACKT01!I33*PACKT05!$F$6)","v":0},{"$f":"(PACKT01!J33*PACKT05!$F$6)","v":0},{"$f":"(PACKT01!K33*PACKT05!$F$6)","v":0},{"$f":"(PACKT01!L33*PACKT05!$F$6)","v":0},{"$f":"(PACKT01!M33*PACKT05!$F$6)","v":0},{"$f":"(PACKT01!N33*PACKT05!$F$6)","v":0},{"$f":"(PACKT01!O33*PACKT05!$F$6)","v":0},{"$f":"(PACKT01!P33*PACKT05!$F$6)","v":0},{"$f":"(PACKT01!Q33*PACKT05!$F$6)","v":0},{"$f":"VLOOKUP(PACKT05Table[[#This Row],[EmployeeID]],EmployeeListLookupTable[#All],11,FALSE)=\"Y\"","v":true}]
[null,"EMP0023",{"$f":"VLOOKUP(PACKT05Table[[#This Row],[EmployeeID]],EmployeeListLookupTable[],2,FALSE)","v":"EMPN023"},{"$f":"VLOOKUP(PACKT05Table[[#This Row],[EmployeeID]],EmployeeListLookupTable[],3,FALSE)","v":"Employee Name 23"},{"$f":"VLOOKUP(PACKT05Table[[#This Row],[EmployeeID]],EmployeeListLookupTable[],4,FALSE)","v":"Employee Job Title 23"},{"$f":"(PACKT01!F34*PACKT05!$F$6)","v":0},{"$f":"(PACKT01!G34*PACKT05!$F$6)","v":0},{"$f":"(PACKT01!H34*PACKT05!$F$6)","v":0},{"$f":"(PACKT01!I34*PACKT05!$F$6)","v":0},{"$f":"(PACKT01!J34*PACKT05!$F$6)","v":0},{"$f":"(PACKT01!K34*PACKT05!$F$6)","v":0},{"$f":"(PACKT01!L34*PACKT05!$F$6)","v":0},{"$f":"(PACKT01!M34*PACKT05!$F$6)","v":0},{"$f":"(PACKT01!N34*PACKT05!$F$6)","v":0},{"$f":"(PACKT01!O34*PACKT05!$F$6)","v":0},{"$f":"(PACKT01!P34*PACKT05!$F$6)","v":0},{"$f":"(PACKT01!Q34*PACKT05!$F$6)","v":0},{"$f":"VLOOKUP(PACKT05Table[[#This Row],[EmployeeID]],EmployeeListLookupTable[#All],11,FALSE)=\"Y\"","v":true}]
[null,"EMP0024",{"$f":"VLOOKUP(PACKT05Table[[#This Row],[EmployeeID]],EmployeeListLookupTable[],2,FALSE)","v":"EMPN024"},{"$f":"VLOOKUP(PACKT05Table[[#This Row],[EmployeeID]],EmployeeListLookupTable[],3,FALSE)","v":"Employee Name 24"},{"$f":"VLOOKUP(PACKT05Table[[#This Row],[EmployeeID]],EmployeeListLookupTable[],4,FALSE)","v":"Employee Job Title 24"},{"$f":"(PACKT01!F35*PACKT05!$F$6)","v":0},{"$f":"(PACKT01!G35*PACKT05!$F$6)","v":0},{"$f":"(PACKT01!H35*PACKT05!$F$6)","v":0},{"$f":"(PACKT01!I35*PACKT05!$F$6)","v":0},{"$f":"(PACKT01!J35*PACKT05!$F$6)","v":0},{"$f":"(PACKT01!K35*PACKT05!$F$6)","v":0},{"$f":"(PACKT01!L35*PACKT05!$F$6)","v":0},{"$f":"(PACKT01!M35*PACKT05!$F$6)","v":0},{"$f":"(PACKT01!N35*PACKT05!$F$6)","v":0},{"$f":"(PACKT01!O35*PACKT05!$F$6)","v":0},{"$f":"(PACKT01!P35*PACKT05!$F$6)","v":0},{"$f":"(PACKT01!Q35*PACKT05!$F$6)","v":0},{"$f":"VLOOKUP(PACKT05Table[[#This Row],[EmployeeID]],EmployeeListLookupTable[#All],11,FALSE)=\"Y\"","v":true}]
[null,"EMP0025",{"$f":"VLOOKUP(PACKT05Table[[#This Row],[EmployeeID]],EmployeeListLookupTable[],2,FALSE)","v":"EMPN025"},{"$f":"VLOOKUP(PACKT05Table[[#This Row],[EmployeeID]],EmployeeListLookupTable[],3,FALSE)","v":"Employee Name 25"},{"$f":"VLOOKUP(PACKT05Table[[#This Row],[EmployeeID]],EmployeeListLookupTable[],4,FALSE)","v":"Employee Job Title 25"},{"$f":"(PACKT01!F36*PACKT05!$F$6)","v":0},{"$f":"(PACKT01!G36*PACKT05!$F$6)","v":0},{"$f":"(PACKT01!H36*PACKT05!$F$6)","v":0},{"$f":"(PACKT01!I36*PACKT05!$F$6)","v":0},{"$f":"(PACKT01!J36*PACKT05!$F$6)","v":0},{"$f":"(PACKT01!K36*PACKT05!$F$6)","v":0},{"$f":"(PACKT01!L36*PACKT05!$F$6)","v":0},{"$f":"(PACKT01!M36*PACKT05!$F$6)","v":0},{"$f":"(PACKT01!N36*PACKT05!$F$6)","v":0},{"$f":"(PACKT01!O36*PACKT05!$F$6)","v":0},{"$f":"(PACKT01!P36*PACKT05!$F$6)","v":0},{"$f":"(PACKT01!Q36*PACKT05!$F$6)","v":0},{"$f":"VLOOKUP(PACKT05Table[[#This Row],[EmployeeID]],EmployeeListLookupTable[#All],11,FALSE)=\"Y\"","v":true}]
[null,"EMP0026",{"$f":"VLOOKUP(PACKT05Table[[#This Row],[EmployeeID]],EmployeeListLookupTable[],2,FALSE)","v":"EMPN026"},{"$f":"VLOOKUP(PACKT05Table[[#This Row],[EmployeeID]],EmployeeListLookupTable[],3,FALSE)","v":"Employee Name 26"},{"$f":"VLOOKUP(PACKT05Table[[#This Row],[EmployeeID]],EmployeeListLookupTable[],4,FALSE)","v":"Employee Job Title 26"},{"$f":"(PACKT01!F37*PACKT05!$F$6)","v":0},{"$f":"(PACKT01!G37*PACKT05!$F$6)","v":0},{"$f":"(PACKT01!H37*PACKT05!$F$6)","v":0},{"$f":"(PACKT01!I37*PACKT05!$F$6)","v":0},{"$f":"(PACKT01!J37*PACKT05!$F$6)","v":0},{"$f":"(PACKT01!K37*PACKT05!$F$6)","v":0},{"$f":"(PACKT01!L37*PACKT05!$F$6)","v":0},{"$f":"(PACKT01!M37*PACKT05!$F$6)","v":0},{"$f":"(PACKT01!N37*PACKT05!$F$6)","v":0},{"$f":"(PACKT01!O37*PACKT05!$F$6)","v":0},{"$f":"(PACKT01!P37*PACKT05!$F$6)","v":0},{"$f":"(PACKT01!Q37*PACKT05!$F$6)","v":0},{"$f":"VLOOKUP(PACKT05Table[[#This Row],[EmployeeID]],EmployeeListLookupTable[#All],11,FALSE)=\"Y\"","v":true}]
[null,"EMP0027",{"$f":"VLOOKUP(PACKT05Table[[#This Row],[EmployeeID]],EmployeeListLookupTable[],2,FALSE)","v":"EMPN027"},{"$f":"VLOOKUP(PACKT05Table[[#This Row],[EmployeeID]],EmployeeListLookupTable[],3,FALSE)","v":"Employee Name 27"},{"$f":"VLOOKUP(PACKT05Table[[#This Row],[EmployeeID]],EmployeeListLookupTable[],4,FALSE)","v":"Employee Job Title 27"},{"$f":"(PACKT01!F38*PACKT05!$F$6)","v":0},{"$f":"(PACKT01!G38*PACKT05!$F$6)","v":0},{"$f":"(PACKT01!H38*PACKT05!$F$6)","v":0},{"$f":"(PACKT01!I38*PACKT05!$F$6)","v":0},{"$f":"(PACKT01!J38*PACKT05!$F$6)","v":0},{"$f":"(PACKT01!K38*PACKT05!$F$6)","v":0},{"$f":"(PACKT01!L38*PACKT05!$F$6)","v":0},{"$f":"(PACKT01!M38*PACKT05!$F$6)","v":0},{"$f":"(PACKT01!N38*PACKT05!$F$6)","v":0},{"$f":"(PACKT01!O38*PACKT05!$F$6)","v":0},{"$f":"(PACKT01!P38*PACKT05!$F$6)","v":0},{"$f":"(PACKT01!Q38*PACKT05!$F$6)","v":0},{"$f":"VLOOKUP(PACKT05Table[[#This Row],[EmployeeID]],EmployeeListLookupTable[#All],11,FALSE)=\"Y\"","v":true}]
[null,"EMP0028",{"$f":"VLOOKUP(PACKT05Table[[#This Row],[EmployeeID]],EmployeeListLookupTable[],2,FALSE)","v":"EMPN028"},{"$f":"VLOOKUP(PACKT05Table[[#This Row],[EmployeeID]],EmployeeListLookupTable[],3,FALSE)","v":"Employee Name 28"},{"$f":"VLOOKUP(PACKT05Table[[#This Row],[EmployeeID]],EmployeeListLookupTable[],4,FALSE)","v":"Employee Job Title 28"},{"$f":"(PACKT01!F39*PACKT05!$F$6)","v":0},{"$f":"(PACKT01!G39*PACKT05!$F$6)","v":0},{"$f":"(PACKT01!H39*PACKT05!$F$6)","v":0},{"$f":"(PACKT01!I39*PACKT05!$F$6)","v":0},{"$f":"(PACKT01!J39*PACKT05!$F$6)","v":0},{"$f":"(PACKT01!K39*PACKT05!$F$6)","v":0},{"$f":"(PACKT01!L39*PACKT05!$F$6)","v":0},{"$f":"(PACKT01!M39*PACKT05!$F$6)","v":0},{"$f":"(PACKT01!N39*PACKT05!$F$6)","v":0},{"$f":"(PACKT01!O39*PACKT05!$F$6)","v":0},{"$f":"(PACKT01!P39*PACKT05!$F$6)","v":0},{"$f":"(PACKT01!Q39*PACKT05!$F$6)","v":0},{"$f":"VLOOKUP(PACKT05Table[[#This Row],[EmployeeID]],EmployeeListLookupTable[#All],11,FALSE)=\"Y\"","v":true}]
[null,"EMP0029",{"$f":"VLOOKUP(PACKT05Table[[#This Row],[EmployeeID]],EmployeeListLookupTable[],2,FALSE)","v":"EMPN029"},{"$f":"VLOOKUP(PACKT05Table[[#This Row],[EmployeeID]],EmployeeListLookupTable[],3,FALSE)","v":"Employee Name 29"},{"$f":"VLOOKUP(PACKT05Table[[#This Row],[EmployeeID]],EmployeeListLookupTable[],4,FALSE)","v":"Employee Job Title 29"},{"$f":"(PACKT01!F40*PACKT05!$F$6)","v":0},{"$f":"(PACKT01!G40*PACKT05!$F$6)","v":0},{"$f":"(PACKT01!H40*PACKT05!$F$6)","v":0},{"$f":"(PACKT01!I40*PACKT05!$F$6)","v":0},{"$f":"(PACKT01!J40*PACKT05!$F$6)","v":0},{"$f":"(PACKT01!K40*PACKT05!$F$6)","v":0},{"$f":"(PACKT01!L40*PACKT05!$F$6)","v":0},{"$f":"(PACKT01!M40*PACKT05!$F$6)","v":0},{"$f":"(PACKT01!N40*PACKT05!$F$6)","v":0},{"$f":"(PACKT01!O40*PACKT05!$F$6)","v":0},{"$f":"(PACKT01!P40*PACKT05!$F$6)","v":0},{"$f":"(PACKT01!Q40*PACKT05!$F$6)","v":0},{"$f":"VLOOKUP(PACKT05Table[[#This Row],[EmployeeID]],EmployeeListLookupTable[#All],11,FALSE)=\"Y\"","v":true}]
[null,"EMP0030",{"$f":"VLOOKUP(PACKT05Table[[#This Row],[EmployeeID]],EmployeeListLookupTable[],2,FALSE)","v":"EMPN030"},{"$f":"VLOOKUP(PACKT05Table[[#This Row],[EmployeeID]],EmployeeListLookupTable[],3,FALSE)","v":"Employee Name 30"},{"$f":"VLOOKUP(PACKT05Table[[#This Row],[EmployeeID]],EmployeeListLookupTable[],4,FALSE)","v":"Employee Job Title 30"},{"$f":"(PACKT01!F41*PACKT05!$F$6)","v":0},{"$f":"(PACKT01!G41*PACKT05!$F$6)","v":0},{"$f":"(PACKT01!H41*PACKT05!$F$6)","v":0},{"$f":"(PACKT01!I41*PACKT05!$F$6)","v":0},{"$f":"(PACKT01!J41*PACKT05!$F$6)","v":0},{"$f":"(PACKT01!K41*PACKT05!$F$6)","v":0},{"$f":"(PACKT01!L41*PACKT05!$F$6)","v":0},{"$f":"(PACKT01!M41*PACKT05!$F$6)","v":0},{"$f":"(PACKT01!N41*PACKT05!$F$6)","v":0},{"$f":"(PACKT01!O41*PACKT05!$F$6)","v":0},{"$f":"(PACKT01!P41*PACKT05!$F$6)","v":0},{"$f":"(PACKT01!Q41*PACKT05!$F$6)","v":0},{"$f":"VLOOKUP(PACKT05Table[[#This Row],[EmployeeID]],EmployeeListLookupTable[#All],11,FALSE)=\"Y\"","v":true}]
[null,"EMP0031",{"$f":"VLOOKUP(PACKT05Table[[#This Row],[EmployeeID]],EmployeeListLookupTable[],2,FALSE)","v":"EMPN031"},{"$f":"VLOOKUP(PACKT05Table[[#This Row],[EmployeeID]],EmployeeListLookupTable[],3,FALSE)","v":"Employee Name 31"},{"$f":"VLOOKUP(PACKT05Table[[#This Row],[EmployeeID]],EmployeeListLookupTable[],4,FALSE)","v":"Employee Job Title 31"},{"$f":"(PACKT01!F42*PACKT05!$F$6)","v":0},{"$f":"(PACKT01!G42*PACKT05!$F$6)","v":0},{"$f":"(PACKT01!H42*PACKT05!$F$6)","v":0},{"$f":"(PACKT01!I42*PACKT05!$F$6)","v":0},{"$f":"(PACKT01!J42*PACKT05!$F$6)","v":0},{"$f":"(PACKT01!K42*PACKT05!$F$6)","v":0},{"$f":"(PACKT01!L42*PACKT05!$F$6)","v":0},{"$f":"(PACKT01!M42*PACKT05!$F$6)","v":0},{"$f":"(PACKT01!N42*PACKT05!$F$6)","v":0},{"$f":"(PACKT01!O42*PACKT05!$F$6)","v":0},{"$f":"(PACKT01!P42*PACKT05!$F$6)","v":0},{"$f":"(PACKT01!Q42*PACKT05!$F$6)","v":0},{"$f":"VLOOKUP(PACKT05Table[[#This Row],[EmployeeID]],EmployeeListLookupTable[#All],11,FALSE)=\"Y\"","v":true}]
[null,"EMP0032",{"$f":"VLOOKUP(PACKT05Table[[#This Row],[EmployeeID]],EmployeeListLookupTable[],2,FALSE)","v":"EMPN032"},{"$f":"VLOOKUP(PACKT05Table[[#This Row],[EmployeeID]],EmployeeListLookupTable[],3,FALSE)","v":"Employee Name 32"},{"$f":"VLOOKUP(PACKT05Table[[#This Row],[EmployeeID]],EmployeeListLookupTable[],4,FALSE)","v":"Employee Job Title 32"},{"$f":"(PACKT01!F43*PACKT05!$F$6)","v":0},{"$f":"(PACKT01!G43*PACKT05!$F$6)","v":0},{"$f":"(PACKT01!H43*PACKT05!$F$6)","v":0},{"$f":"(PACKT01!I43*PACKT05!$F$6)","v":0},{"$f":"(PACKT01!J43*PACKT05!$F$6)","v":0},{"$f":"(PACKT01!K43*PACKT05!$F$6)","v":0},{"$f":"(PACKT01!L43*PACKT05!$F$6)","v":0},{"$f":"(PACKT01!M43*PACKT05!$F$6)","v":0},{"$f":"(PACKT01!N43*PACKT05!$F$6)","v":0},{"$f":"(PACKT01!O43*PACKT05!$F$6)","v":0},{"$f":"(PACKT01!P43*PACKT05!$F$6)","v":0},{"$f":"(PACKT01!Q43*PACKT05!$F$6)","v":0},{"$f":"VLOOKUP(PACKT05Table[[#This Row],[EmployeeID]],EmployeeListLookupTable[#All],11,FALSE)=\"Y\"","v":true}]
[null,"EMP0033",{"$f":"VLOOKUP(PACKT05Table[[#This Row],[EmployeeID]],EmployeeListLookupTable[],2,FALSE)","v":"EMPN033"},{"$f":"VLOOKUP(PACKT05Table[[#This Row],[EmployeeID]],EmployeeListLookupTable[],3,FALSE)","v":"Employee Name 33"},{"$f":"VLOOKUP(PACKT05Table[[#This Row],[EmployeeID]],EmployeeListLookupTable[],4,FALSE)","v":"Employee Job Title 33"},{"$f":"(PACKT01!F44*PACKT05!$F$6)","v":0},{"$f":"(PACKT01!G44*PACKT05!$F$6)","v":0},{"$f":"(PACKT01!H44*PACKT05!$F$6)","v":0},{"$f":"(PACKT01!I44*PACKT05!$F$6)","v":0},{"$f":"(PACKT01!J44*PACKT05!$F$6)","v":0},{"$f":"(PACKT01!K44*PACKT05!$F$6)","v":0},{"$f":"(PACKT01!L44*PACKT05!$F$6)","v":0},{"$f":"(PACKT01!M44*PACKT05!$F$6)","v":0},{"$f":"(PACKT01!N44*PACKT05!$F$6)","v":0},{"$f":"(PACKT01!O44*PACKT05!$F$6)","v":0},{"$f":"(PACKT01!P44*PACKT05!$F$6)","v":0},{"$f":"(PACKT01!Q44*PACKT05!$F$6)","v":0},{"$f":"VLOOKUP(PACKT05Table[[#This Row],[EmployeeID]],EmployeeListLookupTable[#All],11,FALSE)=\"Y\"","v":true}]
[null,"EMP0034",{"$f":"VLOOKUP(PACKT05Table[[#This Row],[EmployeeID]],EmployeeListLookupTable[],2,FALSE)","v":"EMPN034"},{"$f":"VLOOKUP(PACKT05Table[[#This Row],[EmployeeID]],EmployeeListLookupTable[],3,FALSE)","v":"Employee Name 34"},{"$f":"VLOOKUP(PACKT05Table[[#This Row],[EmployeeID]],EmployeeListLookupTable[],4,FALSE)","v":"Employee Job Title 34"},{"$f":"(PACKT01!F45*PACKT05!$F$6)","v":0},{"$f":"(PACKT01!G45*PACKT05!$F$6)","v":0},{"$f":"(PACKT01!H45*PACKT05!$F$6)","v":0},{"$f":"(PACKT01!I45*PACKT05!$F$6)","v":0},{"$f":"(PACKT01!J45*PACKT05!$F$6)","v":0},{"$f":"(PACKT01!K45*PACKT05!$F$6)","v":0},{"$f":"(PACKT01!L45*PACKT05!$F$6)","v":0},{"$f":"(PACKT01!M45*PACKT05!$F$6)","v":0},{"$f":"(PACKT01!N45*PACKT05!$F$6)","v":0},{"$f":"(PACKT01!O45*PACKT05!$F$6)","v":0},{"$f":"(PACKT01!P45*PACKT05!$F$6)","v":0},{"$f":"(PACKT01!Q45*PACKT05!$F$6)","v":0},{"$f":"VLOOKUP(PACKT05Table[[#This Row],[EmployeeID]],EmployeeListLookupTable[#All],11,FALSE)=\"Y\"","v":true}]
[null,"EMP0035",{"$f":"VLOOKUP(PACKT05Table[[#This Row],[EmployeeID]],EmployeeListLookupTable[],2,FALSE)","v":"EMPN035"},{"$f":"VLOOKUP(PACKT05Table[[#This Row],[EmployeeID]],EmployeeListLookupTable[],3,FALSE)","v":"Employee Name 35"},{"$f":"VLOOKUP(PACKT05Table[[#This Row],[EmployeeID]],EmployeeListLookupTable[],4,FALSE)","v":"Employee Job Title 35"},{"$f":"(PACKT01!F46*PACKT05!$F$6)","v":0},{"$f":"(PACKT01!G46*PACKT05!$F$6)","v":0},{"$f":"(PACKT01!H46*PACKT05!$F$6)","v":0},{"$f":"(PACKT01!I46*PACKT05!$F$6)","v":0},{"$f":"(PACKT01!J46*PACKT05!$F$6)","v":0},{"$f":"(PACKT01!K46*PACKT05!$F$6)","v":0},{"$f":"(PACKT01!L46*PACKT05!$F$6)","v":0},{"$f":"(PACKT01!M46*PACKT05!$F$6)","v":0},{"$f":"(PACKT01!N46*PACKT05!$F$6)","v":0},{"$f":"(PACKT01!O46*PACKT05!$F$6)","v":0},{"$f":"(PACKT01!P46*PACKT05!$F$6)","v":0},{"$f":"(PACKT01!Q46*PACKT05!$F$6)","v":0},{"$f":"VLOOKUP(PACKT05Table[[#This Row],[EmployeeID]],EmployeeListLookupTable[#All],11,FALSE)=\"Y\"","v":true}]
[null,"EMP0036",{"$f":"VLOOKUP(PACKT05Table[[#This Row],[EmployeeID]],EmployeeListLookupTable[],2,FALSE)","v":"EMPN036"},{"$f":"VLOOKUP(PACKT05Table[[#This Row],[EmployeeID]],EmployeeListLookupTable[],3,FALSE)","v":"Employee Name 36"},{"$f":"VLOOKUP(PACKT05Table[[#This Row],[EmployeeID]],EmployeeListLookupTable[],4,FALSE)","v":"Employee Job Title 36"},{"$f":"(PACKT01!F47*PACKT05!$F$6)","v":0},{"$f":"(PACKT01!G47*PACKT05!$F$6)","v":0},{"$f":"(PACKT01!H47*PACKT05!$F$6)","v":0},{"$f":"(PACKT01!I47*PACKT05!$F$6)","v":0},{"$f":"(PACKT01!J47*PACKT05!$F$6)","v":0},{"$f":"(PACKT01!K47*PACKT05!$F$6)","v":0},{"$f":"(PACKT01!L47*PACKT05!$F$6)","v":0},{"$f":"(PACKT01!M47*PACKT05!$F$6)","v":0},{"$f":"(PACKT01!N47*PACKT05!$F$6)","v":0},{"$f":"(PACKT01!O47*PACKT05!$F$6)","v":0},{"$f":"(PACKT01!P47*PACKT05!$F$6)","v":0},{"$f":"(PACKT01!Q47*PACKT05!$F$6)","v":0},{"$f":"VLOOKUP(PACKT05Table[[#This Row],[EmployeeID]],EmployeeListLookupTable[#All],11,FALSE)=\"Y\"","v":true}]
[null,"EMP0037",{"$f":"VLOOKUP(PACKT05Table[[#This Row],[EmployeeID]],EmployeeListLookupTable[],2,FALSE)","v":"EMPN037"},{"$f":"VLOOKUP(PACKT05Table[[#This Row],[EmployeeID]],EmployeeListLookupTable[],3,FALSE)","v":"Employee Name 37"},{"$f":"VLOOKUP(PACKT05Table[[#This Row],[EmployeeID]],EmployeeListLookupTable[],4,FALSE)","v":"Employee Job Title 37"},{"$f":"(PACKT01!F48*PACKT05!$F$6)","v":0},{"$f":"(PACKT01!G48*PACKT05!$F$6)","v":0},{"$f":"(PACKT01!H48*PACKT05!$F$6)","v":0},{"$f":"(PACKT01!I48*PACKT05!$F$6)","v":0},{"$f":"(PACKT01!J48*PACKT05!$F$6)","v":0},{"$f":"(PACKT01!K48*PACKT05!$F$6)","v":0},{"$f":"(PACKT01!L48*PACKT05!$F$6)","v":0},{"$f":"(PACKT01!M48*PACKT05!$F$6)","v":0},{"$f":"(PACKT01!N48*PACKT05!$F$6)","v":0},{"$f":"(PACKT01!O48*PACKT05!$F$6)","v":0},{"$f":"(PACKT01!P48*PACKT05!$F$6)","v":0},{"$f":"(PACKT01!Q48*PACKT05!$F$6)","v":0},{"$f":"VLOOKUP(PACKT05Table[[#This Row],[EmployeeID]],EmployeeListLookupTable[#All],11,FALSE)=\"Y\"","v":true}]
[null,"EMP0038",{"$f":"VLOOKUP(PACKT05Table[[#This Row],[EmployeeID]],EmployeeListLookupTable[],2,FALSE)","v":"EMPN038"},{"$f":"VLOOKUP(PACKT05Table[[#This Row],[EmployeeID]],EmployeeListLookupTable[],3,FALSE)","v":"Employee Name 38"},{"$f":"VLOOKUP(PACKT05Table[[#This Row],[EmployeeID]],EmployeeListLookupTable[],4,FALSE)","v":"Employee Job Title 38"},{"$f":"(PACKT01!F49*PACKT05!$F$6)","v":0},{"$f":"(PACKT01!G49*PACKT05!$F$6)","v":0},{"$f":"(PACKT01!H49*PACKT05!$F$6)","v":0},{"$f":"(PACKT01!I49*PACKT05!$F$6)","v":0},{"$f":"(PACKT01!J49*PACKT05!$F$6)","v":0},{"$f":"(PACKT01!K49*PACKT05!$F$6)","v":0},{"$f":"(PACKT01!L49*PACKT05!$F$6)","v":0},{"$f":"(PACKT01!M49*PACKT05!$F$6)","v":0},{"$f":"(PACKT01!N49*PACKT05!$F$6)","v":0},{"$f":"(PACKT01!O49*PACKT05!$F$6)","v":0},{"$f":"(PACKT01!P49*PACKT05!$F$6)","v":0},{"$f":"(PACKT01!Q49*PACKT05!$F$6)","v":0},{"$f":"VLOOKUP(PACKT05Table[[#This Row],[EmployeeID]],EmployeeListLookupTable[#All],11,FALSE)=\"Y\"","v":true}]
[null,"EMP0039",{"$f":"VLOOKUP(PACKT05Table[[#This Row],[EmployeeID]],EmployeeListLookupTable[],2,FALSE)","v":"EMPN039"},{"$f":"VLOOKUP(PACKT05Table[[#This Row],[EmployeeID]],EmployeeListLookupTable[],3,FALSE)","v":"Employee Name 39"},{"$f":"VLOOKUP(PACKT05Table[[#This Row],[EmployeeID]],EmployeeListLookupTable[],4,FALSE)","v":"Employee Job Title 39"},{"$f":"(PACKT01!F50*PACKT05!$F$6)","v":0},{"$f":"(PACKT01!G50*PACKT05!$F$6)","v":0},{"$f":"(PACKT01!H50*PACKT05!$F$6)","v":0},{"$f":"(PACKT01!I50*PACKT05!$F$6)","v":0},{"$f":"(PACKT01!J50*PACKT05!$F$6)","v":0},{"$f":"(PACKT01!K50*PACKT05!$F$6)","v":0},{"$f":"(PACKT01!L50*PACKT05!$F$6)","v":0},{"$f":"(PACKT01!M50*PACKT05!$F$6)","v":0},{"$f":"(PACKT01!N50*PACKT05!$F$6)","v":0},{"$f":"(PACKT01!O50*PACKT05!$F$6)","v":0},{"$f":"(PACKT01!P50*PACKT05!$F$6)","v":0},{"$f":"(PACKT01!Q50*PACKT05!$F$6)","v":0},{"$f":"VLOOKUP(PACKT05Table[[#This Row],[EmployeeID]],EmployeeListLookupTable[#All],11,FALSE)=\"Y\"","v":true}]
[null,"EMP0040",{"$f":"VLOOKUP(PACKT05Table[[#This Row],[EmployeeID]],EmployeeListLookupTable[],2,FALSE)","v":"EMPN040"},{"$f":"VLOOKUP(PACKT05Table[[#This Row],[EmployeeID]],EmployeeListLookupTable[],3,FALSE)","v":"Employee Name 40"},{"$f":"VLOOKUP(PACKT05Table[[#This Row],[EmployeeID]],EmployeeListLookupTable[],4,FALSE)","v":"Employee Job Title 40"},{"$f":"(PACKT01!F51*PACKT05!$F$6)","v":0},{"$f":"(PACKT01!G51*PACKT05!$F$6)","v":0},{"$f":"(PACKT01!H51*PACKT05!$F$6)","v":0},{"$f":"(PACKT01!I51*PACKT05!$F$6)","v":0},{"$f":"(PACKT01!J51*PACKT05!$F$6)","v":0},{"$f":"(PACKT01!K51*PACKT05!$F$6)","v":0},{"$f":"(PACKT01!L51*PACKT05!$F$6)","v":0},{"$f":"(PACKT01!M51*PACKT05!$F$6)","v":0},{"$f":"(PACKT01!N51*PACKT05!$F$6)","v":0},{"$f":"(PACKT01!O51*PACKT05!$F$6)","v":0},{"$f":"(PACKT01!P51*PACKT05!$F$6)","v":0},{"$f":"(PACKT01!Q51*PACKT05!$F$6)","v":0},{"$f":"VLOOKUP(PACKT05Table[[#This Row],[EmployeeID]],EmployeeListLookupTable[#All],11,FALSE)=\"Y\"","v":true}]
[null,"EMP0041",{"$f":"VLOOKUP(PACKT05Table[[#This Row],[EmployeeID]],EmployeeListLookupTable[],2,FALSE)","v":"EMPN041"},{"$f":"VLOOKUP(PACKT05Table[[#This Row],[EmployeeID]],EmployeeListLookupTable[],3,FALSE)","v":"Employee Name 41"},{"$f":"VLOOKUP(PACKT05Table[[#This Row],[EmployeeID]],EmployeeListLookupTable[],4,FALSE)","v":"Employee Job Title 41"},{"$f":"(PACKT01!F52*PACKT05!$F$6)","v":0},{"$f":"(PACKT01!G52*PACKT05!$F$6)","v":0},{"$f":"(PACKT01!H52*PACKT05!$F$6)","v":0},{"$f":"(PACKT01!I52*PACKT05!$F$6)","v":0},{"$f":"(PACKT01!J52*PACKT05!$F$6)","v":0},{"$f":"(PACKT01!K52*PACKT05!$F$6)","v":0},{"$f":"(PACKT01!L52*PACKT05!$F$6)","v":0},{"$f":"(PACKT01!M52*PACKT05!$F$6)","v":0},{"$f":"(PACKT01!N52*PACKT05!$F$6)","v":0},{"$f":"(PACKT01!O52*PACKT05!$F$6)","v":0},{"$f":"(PACKT01!P52*PACKT05!$F$6)","v":0},{"$f":"(PACKT01!Q52*PACKT05!$F$6)","v":0},{"$f":"VLOOKUP(PACKT05Table[[#This Row],[EmployeeID]],EmployeeListLookupTable[#All],11,FALSE)=\"Y\"","v":true}]
[null,"EMP0042",{"$f":"VLOOKUP(PACKT05Table[[#This Row],[EmployeeID]],EmployeeListLookupTable[],2,FALSE)","v":"EMPN042"},{"$f":"VLOOKUP(PACKT05Table[[#This Row],[EmployeeID]],EmployeeListLookupTable[],3,FALSE)","v":"Employee Name 42"},{"$f":"VLOOKUP(PACKT05Table[[#This Row],[EmployeeID]],EmployeeListLookupTable[],4,FALSE)","v":"Employee Job Title 42"},{"$f":"(PACKT01!F53*PACKT05!$F$6)","v":0},{"$f":"(PACKT01!G53*PACKT05!$F$6)","v":0},{"$f":"(PACKT01!H53*PACKT05!$F$6)","v":0},{"$f":"(PACKT01!I53*PACKT05!$F$6)","v":0},{"$f":"(PACKT01!J53*PACKT05!$F$6)","v":0},{"$f":"(PACKT01!K53*PACKT05!$F$6)","v":0},{"$f":"(PACKT01!L53*PACKT05!$F$6)","v":0},{"$f":"(PACKT01!M53*PACKT05!$F$6)","v":0},{"$f":"(PACKT01!N53*PACKT05!$F$6)","v":0},{"$f":"(PACKT01!O53*PACKT05!$F$6)","v":0},{"$f":"(PACKT01!P53*PACKT05!$F$6)","v":0},{"$f":"(PACKT01!Q53*PACKT05!$F$6)","v":0},{"$f":"VLOOKUP(PACKT05Table[[#This Row],[EmployeeID]],EmployeeListLookupTable[#All],11,FALSE)=\"Y\"","v":true}]
[null,"EMP0043",{"$f":"VLOOKUP(PACKT05Table[[#This Row],[EmployeeID]],EmployeeListLookupTable[],2,FALSE)","v":"EMPN043"},{"$f":"VLOOKUP(PACKT05Table[[#This Row],[EmployeeID]],EmployeeListLookupTable[],3,FALSE)","v":"Employee Name 43"},{"$f":"VLOOKUP(PACKT05Table[[#This Row],[EmployeeID]],EmployeeListLookupTable[],4,FALSE)","v":"Employee Job Title 43"},{"$f":"(PACKT01!F54*PACKT05!$F$6)","v":0},{"$f":"(PACKT01!G54*PACKT05!$F$6)","v":0},{"$f":"(PACKT01!H54*PACKT05!$F$6)","v":0},{"$f":"(PACKT01!I54*PACKT05!$F$6)","v":0},{"$f":"(PACKT01!J54*PACKT05!$F$6)","v":0},{"$f":"(PACKT01!K54*PACKT05!$F$6)","v":0},{"$f":"(PACKT01!L54*PACKT05!$F$6)","v":0},{"$f":"(PACKT01!M54*PACKT05!$F$6)","v":0},{"$f":"(PACKT01!N54*PACKT05!$F$6)","v":0},{"$f":"(PACKT01!O54*PACKT05!$F$6)","v":0},{"$f":"(PACKT01!P54*PACKT05!$F$6)","v":0},{"$f":"(PACKT01!Q54*PACKT05!$F$6)","v":0},{"$f":"VLOOKUP(PACKT05Table[[#This Row],[EmployeeID]],EmployeeListLookupTable[#All],11,FALSE)=\"Y\"","v":true}]
[null,"EMP0044",{"$f":"VLOOKUP(PACKT05Table[[#This Row],[EmployeeID]],EmployeeListLookupTable[],2,FALSE)","v":"EMPN044"},{"$f":"VLOOKUP(PACKT05Table[[#This Row],[EmployeeID]],EmployeeListLookupTable[],3,FALSE)","v":"Employee Name 44"},{"$f":"VLOOKUP(PACKT05Table[[#This Row],[EmployeeID]],EmployeeListLookupTable[],4,FALSE)","v":"Employee Job Title 44"},{"$f":"(PACKT01!F55*PACKT05!$F$6)","v":0},{"$f":"(PACKT01!G55*PACKT05!$F$6)","v":0},{"$f":"(PACKT01!H55*PACKT05!$F$6)","v":0},{"$f":"(PACKT01!I55*PACKT05!$F$6)","v":0},{"$f":"(PACKT01!J55*PACKT05!$F$6)","v":0},{"$f":"(PACKT01!K55*PACKT05!$F$6)","v":0},{"$f":"(PACKT01!L55*PACKT05!$F$6)","v":0},{"$f":"(PACKT01!M55*PACKT05!$F$6)","v":0},{"$f":"(PACKT01!N55*PACKT05!$F$6)","v":0},{"$f":"(PACKT01!O55*PACKT05!$F$6)","v":0},{"$f":"(PACKT01!P55*PACKT05!$F$6)","v":0},{"$f":"(PACKT01!Q55*PACKT05!$F$6)","v":0},{"$f":"VLOOKUP(PACKT05Table[[#This Row],[EmployeeID]],EmployeeListLookupTable[#All],11,FALSE)=\"Y\"","v":true}]
[null,"EMP0045",{"$f":"VLOOKUP(PACKT05Table[[#This Row],[EmployeeID]],EmployeeListLookupTable[],2,FALSE)","v":"EMPN045"},{"$f":"VLOOKUP(PACKT05Table[[#This Row],[EmployeeID]],EmployeeListLookupTable[],3,FALSE)","v":"Employee Name 45"},{"$f":"VLOOKUP(PACKT05Table[[#This Row],[EmployeeID]],EmployeeListLookupTable[],4,FALSE)","v":"Employee Job Title 45"},{"$f":"(PACKT01!F56*PACKT05!$F$6)","v":0},{"$f":"(PACKT01!G56*PACKT05!$F$6)","v":0},{"$f":"(PACKT01!H56*PACKT05!$F$6)","v":0},{"$f":"(PACKT01!I56*PACKT05!$F$6)","v":0},{"$f":"(PACKT01!J56*PACKT05!$F$6)","v":0},{"$f":"(PACKT01!K56*PACKT05!$F$6)","v":0},{"$f":"(PACKT01!L56*PACKT05!$F$6)","v":0},{"$f":"(PACKT01!M56*PACKT05!$F$6)","v":0},{"$f":"(PACKT01!N56*PACKT05!$F$6)","v":0},{"$f":"(PACKT01!O56*PACKT05!$F$6)","v":0},{"$f":"(PACKT01!P56*PACKT05!$F$6)","v":0},{"$f":"(PACKT01!Q56*PACKT05!$F$6)","v":0},{"$f":"VLOOKUP(PACKT05Table[[#This Row],[EmployeeID]],EmployeeListLookupTable[#All],11,FALSE)=\"Y\"","v":true}]
[null,"EMP0046",{"$f":"VLOOKUP(PACKT05Table[[#This Row],[EmployeeID]],EmployeeListLookupTable[],2,FALSE)","v":"EMPN046"},{"$f":"VLOOKUP(PACKT05Table[[#This Row],[EmployeeID]],EmployeeListLookupTable[],3,FALSE)","v":"Employee Name 46"},{"$f":"VLOOKUP(PACKT05Table[[#This Row],[EmployeeID]],EmployeeListLookupTable[],4,FALSE)","v":"Employee Job Title 46"},{"$f":"(PACKT01!F57*PACKT05!$F$6)","v":0},{"$f":"(PACKT01!G57*PACKT05!$F$6)","v":0},{"$f":"(PACKT01!H57*PACKT05!$F$6)","v":0},{"$f":"(PACKT01!I57*PACKT05!$F$6)","v":0},{"$f":"(PACKT01!J57*PACKT05!$F$6)","v":0},{"$f":"(PACKT01!K57*PACKT05!$F$6)","v":0},{"$f":"(PACKT01!L57*PACKT05!$F$6)","v":0},{"$f":"(PACKT01!M57*PACKT05!$F$6)","v":0},{"$f":"(PACKT01!N57*PACKT05!$F$6)","v":0},{"$f":"(PACKT01!O57*PACKT05!$F$6)","v":0},{"$f":"(PACKT01!P57*PACKT05!$F$6)","v":0},{"$f":"(PACKT01!Q57*PACKT05!$F$6)","v":0},{"$f":"VLOOKUP(PACKT05Table[[#This Row],[EmployeeID]],EmployeeListLookupTable[#All],11,FALSE)=\"Y\"","v":true}]
[null,"EMP0047",{"$f":"VLOOKUP(PACKT05Table[[#This Row],[EmployeeID]],EmployeeListLookupTable[],2,FALSE)","v":"EMPN047"},{"$f":"VLOOKUP(PACKT05Table[[#This Row],[EmployeeID]],EmployeeListLookupTable[],3,FALSE)","v":"Employee Name 47"},{"$f":"VLOOKUP(PACKT05Table[[#This Row],[EmployeeID]],EmployeeListLookupTable[],4,FALSE)","v":"Employee Job Title 47"},{"$f":"(PACKT01!F58*PACKT05!$F$6)","v":0},{"$f":"(PACKT01!G58*PACKT05!$F$6)","v":0},{"$f":"(PACKT01!H58*PACKT05!$F$6)","v":0},{"$f":"(PACKT01!I58*PACKT05!$F$6)","v":0},{"$f":"(PACKT01!J58*PACKT05!$F$6)","v":0},{"$f":"(PACKT01!K58*PACKT05!$F$6)","v":0},{"$f":"(PACKT01!L58*PACKT05!$F$6)","v":0},{"$f":"(PACKT01!M58*PACKT05!$F$6)","v":0},{"$f":"(PACKT01!N58*PACKT05!$F$6)","v":0},{"$f":"(PACKT01!O58*PACKT05!$F$6)","v":0},{"$f":"(PACKT01!P58*PACKT05!$F$6)","v":0},{"$f":"(PACKT01!Q58*PACKT05!$F$6)","v":0},{"$f":"VLOOKUP(PACKT05Table[[#This Row],[EmployeeID]],EmployeeListLookupTable[#All],11,FALSE)=\"Y\"","v":true}]
[null,"EMP0048",{"$f":"VLOOKUP(PACKT05Table[[#This Row],[EmployeeID]],EmployeeListLookupTable[],2,FALSE)","v":"EMPN048"},{"$f":"VLOOKUP(PACKT05Table[[#This Row],[EmployeeID]],EmployeeListLookupTable[],3,FALSE)","v":"Employee Name 48"},{"$f":"VLOOKUP(PACKT05Table[[#This Row],[EmployeeID]],EmployeeListLookupTable[],4,FALSE)","v":"Employee Job Title 48"},{"$f":"(PACKT01!F59*PACKT05!$F$6)","v":0},{"$f":"(PACKT01!G59*PACKT05!$F$6)","v":0},{"$f":"(PACKT01!H59*PACKT05!$F$6)","v":0},{"$f":"(PACKT01!I59*PACKT05!$F$6)","v":0},{"$f":"(PACKT01!J59*PACKT05!$F$6)","v":0},{"$f":"(PACKT01!K59*PACKT05!$F$6)","v":0},{"$f":"(PACKT01!L59*PACKT05!$F$6)","v":0},{"$f":"(PACKT01!M59*PACKT05!$F$6)","v":0},{"$f":"(PACKT01!N59*PACKT05!$F$6)","v":0},{"$f":"(PACKT01!O59*PACKT05!$F$6)","v":0},{"$f":"(PACKT01!P59*PACKT05!$F$6)","v":0},{"$f":"(PACKT01!Q59*PACKT05!$F$6)","v":0},{"$f":"VLOOKUP(PACKT05Table[[#This Row],[EmployeeID]],EmployeeListLookupTable[#All],11,FALSE)=\"Y\"","v":true}]
[null,"EMP0049",{"$f":"VLOOKUP(PACKT05Table[[#This Row],[EmployeeID]],EmployeeListLookupTable[],2,FALSE)","v":"EMPN049"},{"$f":"VLOOKUP(PACKT05Table[[#This Row],[EmployeeID]],EmployeeListLookupTable[],3,FALSE)","v":"Employee Name 49"},{"$f":"VLOOKUP(PACKT05Table[[#This Row],[EmployeeID]],EmployeeListLookupTable[],4,FALSE)","v":"Employee Job Title 49"},{"$f":"(PACKT01!F60*PACKT05!$F$6)","v":0},{"$f":"(PACKT01!G60*PACKT05!$F$6)","v":0},{"$f":"(PACKT01!H60*PACKT05!$F$6)","v":0},{"$f":"(PACKT01!I60*PACKT05!$F$6)","v":0},{"$f":"(PACKT01!J60*PACKT05!$F$6)","v":0},{"$f":"(PACKT01!K60*PACKT05!$F$6)","v":0},{"$f":"(PACKT01!L60*PACKT05!$F$6)","v":0},{"$f":"(PACKT01!M60*PACKT05!$F$6)","v":0},{"$f":"(PACKT01!N60*PACKT05!$F$6)","v":0},{"$f":"(PACKT01!O60*PACKT05!$F$6)","v":0},{"$f":"(PACKT01!P60*PACKT05!$F$6)","v":0},{"$f":"(PACKT01!Q60*PACKT05!$F$6)","v":0},{"$f":"VLOOKUP(PACKT05Table[[#This Row],[EmployeeID]],EmployeeListLookupTable[#All],11,FALSE)=\"Y\"","v":true}]
[null,"EMP0050",{"$f":"VLOOKUP(PACKT05Table[[#This Row],[EmployeeID]],EmployeeListLookupTable[],2,FALSE)","v":"EMPN050"},{"$f":"VLOOKUP(PACKT05Table[[#This Row],[EmployeeID]],EmployeeListLookupTable[],3,FALSE)","v":"Employee Name 50"},{"$f":"VLOOKUP(PACKT05Table[[#This Row],[EmployeeID]],EmployeeListLookupTable[],4,FALSE)","v":"Employee Job Title 50"},{"$f":"(PACKT01!F61*PACKT05!$F$6)","v":0},{"$f":"(PACKT01!G61*PACKT05!$F$6)","v":0},{"$f":"(PACKT01!H61*PACKT05!$F$6)","v":0},{"$f":"(PACKT01!I61*PACKT05!$F$6)","v":0},{"$f":"(PACKT01!J61*PACKT05!$F$6)","v":0},{"$f":"(PACKT01!K61*PACKT05!$F$6)","v":0},{"$f":"(PACKT01!L61*PACKT05!$F$6)","v":0},{"$f":"(PACKT01!M61*PACKT05!$F$6)","v":0},{"$f":"(PACKT01!N61*PACKT05!$F$6)","v":0},{"$f":"(PACKT01!O61*PACKT05!$F$6)","v":0},{"$f":"(PACKT01!P61*PACKT05!$F$6)","v":0},{"$f":"(PACKT01!Q61*PACKT05!$F$6)","v":0},{"$f":"VLOOKUP(PACKT05Table[[#This Row],[EmployeeID]],EmployeeListLookupTable[#All],11,FALSE)=\"Y\"","v":true}]
[null,"EMP0051",{"$f":"VLOOKUP(PACKT05Table[[#This Row],[EmployeeID]],EmployeeListLookupTable[],2,FALSE)","v":"EMPN051"},{"$f":"VLOOKUP(PACKT05Table[[#This Row],[EmployeeID]],EmployeeListLookupTable[],3,FALSE)","v":"Employee Name 51"},{"$f":"VLOOKUP(PACKT05Table[[#This Row],[EmployeeID]],EmployeeListLookupTable[],4,FALSE)","v":"Employee Job Title 51"},{"$f":"(PACKT01!F62*PACKT05!$F$6)","v":0},{"$f":"(PACKT01!G62*PACKT05!$F$6)","v":0},{"$f":"(PACKT01!H62*PACKT05!$F$6)","v":0},{"$f":"(PACKT01!I62*PACKT05!$F$6)","v":0},{"$f":"(PACKT01!J62*PACKT05!$F$6)","v":0},{"$f":"(PACKT01!K62*PACKT05!$F$6)","v":0},{"$f":"(PACKT01!L62*PACKT05!$F$6)","v":0},{"$f":"(PACKT01!M62*PACKT05!$F$6)","v":0},{"$f":"(PACKT01!N62*PACKT05!$F$6)","v":0},{"$f":"(PACKT01!O62*PACKT05!$F$6)","v":0},{"$f":"(PACKT01!P62*PACKT05!$F$6)","v":0},{"$f":"(PACKT01!Q62*PACKT05!$F$6)","v":0},{"$f":"VLOOKUP(PACKT05Table[[#This Row],[EmployeeID]],EmployeeListLookupTable[#All],11,FALSE)=\"Y\"","v":true}]
[null,"EMP0052",{"$f":"VLOOKUP(PACKT05Table[[#This Row],[EmployeeID]],EmployeeListLookupTable[],2,FALSE)","v":"EMPN052"},{"$f":"VLOOKUP(PACKT05Table[[#This Row],[EmployeeID]],EmployeeListLookupTable[],3,FALSE)","v":"Employee Name 52"},{"$f":"VLOOKUP(PACKT05Table[[#This Row],[EmployeeID]],EmployeeListLookupTable[],4,FALSE)","v":"Employee Job Title 52"},{"$f":"(PACKT01!F63*PACKT05!$F$6)","v":0},{"$f":"(PACKT01!G63*PACKT05!$F$6)","v":0},{"$f":"(PACKT01!H63*PACKT05!$F$6)","v":0},{"$f":"(PACKT01!I63*PACKT05!$F$6)","v":0},{"$f":"(PACKT01!J63*PACKT05!$F$6)","v":0},{"$f":"(PACKT01!K63*PACKT05!$F$6)","v":0},{"$f":"(PACKT01!L63*PACKT05!$F$6)","v":0},{"$f":"(PACKT01!M63*PACKT05!$F$6)","v":0},{"$f":"(PACKT01!N63*PACKT05!$F$6)","v":0},{"$f":"(PACKT01!O63*PACKT05!$F$6)","v":0},{"$f":"(PACKT01!P63*PACKT05!$F$6)","v":0},{"$f":"(PACKT01!Q63*PACKT05!$F$6)","v":0},{"$f":"VLOOKUP(PACKT05Table[[#This Row],[EmployeeID]],EmployeeListLookupTable[#All],11,FALSE)=\"Y\"","v":true}]
[null,"EMP0053",{"$f":"VLOOKUP(PACKT05Table[[#This Row],[EmployeeID]],EmployeeListLookupTable[],2,FALSE)","v":"EMPN053"},{"$f":"VLOOKUP(PACKT05Table[[#This Row],[EmployeeID]],EmployeeListLookupTable[],3,FALSE)","v":"Employee Name 53"},{"$f":"VLOOKUP(PACKT05Table[[#This Row],[EmployeeID]],EmployeeListLookupTable[],4,FALSE)","v":"Employee Job Title 53"},{"$f":"(PACKT01!F64*PACKT05!$F$6)","v":0},{"$f":"(PACKT01!G64*PACKT05!$F$6)","v":0},{"$f":"(PACKT01!H64*PACKT05!$F$6)","v":0},{"$f":"(PACKT01!I64*PACKT05!$F$6)","v":0},{"$f":"(PACKT01!J64*PACKT05!$F$6)","v":0},{"$f":"(PACKT01!K64*PACKT05!$F$6)","v":0},{"$f":"(PACKT01!L64*PACKT05!$F$6)","v":0},{"$f":"(PACKT01!M64*PACKT05!$F$6)","v":0},{"$f":"(PACKT01!N64*PACKT05!$F$6)","v":0},{"$f":"(PACKT01!O64*PACKT05!$F$6)","v":0},{"$f":"(PACKT01!P64*PACKT05!$F$6)","v":0},{"$f":"(PACKT01!Q64*PACKT05!$F$6)","v":0},{"$f":"VLOOKUP(PACKT05Table[[#This Row],[EmployeeID]],EmployeeListLookupTable[#All],11,FALSE)=\"Y\"","v":true}]
[null,"EMP0054",{"$f":"VLOOKUP(PACKT05Table[[#This Row],[EmployeeID]],EmployeeListLookupTable[],2,FALSE)","v":"EMPN054"},{"$f":"VLOOKUP(PACKT05Table[[#This Row],[EmployeeID]],EmployeeListLookupTable[],3,FALSE)","v":"Employee Name 54"},{"$f":"VLOOKUP(PACKT05Table[[#This Row],[EmployeeID]],EmployeeListLookupTable[],4,FALSE)","v":"Employee Job Title 54"},{"$f":"(PACKT01!F65*PACKT05!$F$6)","v":0},{"$f":"(PACKT01!G65*PACKT05!$F$6)","v":0},{"$f":"(PACKT01!H65*PACKT05!$F$6)","v":0},{"$f":"(PACKT01!I65*PACKT05!$F$6)","v":0},{"$f":"(PACKT01!J65*PACKT05!$F$6)","v":0},{"$f":"(PACKT01!K65*PACKT05!$F$6)","v":0},{"$f":"(PACKT01!L65*PACKT05!$F$6)","v":0},{"$f":"(PACKT01!M65*PACKT05!$F$6)","v":0},{"$f":"(PACKT01!N65*PACKT05!$F$6)","v":0},{"$f":"(PACKT01!O65*PACKT05!$F$6)","v":0},{"$f":"(PACKT01!P65*PACKT05!$F$6)","v":0},{"$f":"(PACKT01!Q65*PACKT05!$F$6)","v":0},{"$f":"VLOOKUP(PACKT05Table[[#This Row],[EmployeeID]],EmployeeListLookupTable[#All],11,FALSE)=\"Y\"","v":true}]
[null,"EMP0055",{"$f":"VLOOKUP(PACKT05Table[[#This Row],[EmployeeID]],EmployeeListLookupTable[],2,FALSE)","v":"EMPN055"},{"$f":"VLOOKUP(PACKT05Table[[#This Row],[EmployeeID]],EmployeeListLookupTable[],3,FALSE)","v":"Employee Name 55"},{"$f":"VLOOKUP(PACKT05Table[[#This Row],[EmployeeID]],EmployeeListLookupTable[],4,FALSE)","v":"Employee Job Title 55"},{"$f":"(PACKT01!F66*PACKT05!$F$6)","v":0},{"$f":"(PACKT01!G66*PACKT05!$F$6)","v":0},{"$f":"(PACKT01!H66*PACKT05!$F$6)","v":0},{"$f":"(PACKT01!I66*PACKT05!$F$6)","v":0},{"$f":"(PACKT01!J66*PACKT05!$F$6)","v":0},{"$f":"(PACKT01!K66*PACKT05!$F$6)","v":0},{"$f":"(PACKT01!L66*PACKT05!$F$6)","v":0},{"$f":"(PACKT01!M66*PACKT05!$F$6)","v":0},{"$f":"(PACKT01!N66*PACKT05!$F$6)","v":0},{"$f":"(PACKT01!O66*PACKT05!$F$6)","v":0},{"$f":"(PACKT01!P66*PACKT05!$F$6)","v":0},{"$f":"(PACKT01!Q66*PACKT05!$F$6)","v":0},{"$f":"VLOOKUP(PACKT05Table[[#This Row],[EmployeeID]],EmployeeListLookupTable[#All],11,FALSE)=\"Y\"","v":true}]
[null,"EMP0056",{"$f":"VLOOKUP(PACKT05Table[[#This Row],[EmployeeID]],EmployeeListLookupTable[],2,FALSE)","v":"EMPN056"},{"$f":"VLOOKUP(PACKT05Table[[#This Row],[EmployeeID]],EmployeeListLookupTable[],3,FALSE)","v":"Employee Name 56"},{"$f":"VLOOKUP(PACKT05Table[[#This Row],[EmployeeID]],EmployeeListLookupTable[],4,FALSE)","v":"Employee Job Title 56"},{"$f":"(PACKT01!F67*PACKT05!$F$6)","v":0},{"$f":"(PACKT01!G67*PACKT05!$F$6)","v":0},{"$f":"(PACKT01!H67*PACKT05!$F$6)","v":0},{"$f":"(PACKT01!I67*PACKT05!$F$6)","v":0},{"$f":"(PACKT01!J67*PACKT05!$F$6)","v":0},{"$f":"(PACKT01!K67*PACKT05!$F$6)","v":0},{"$f":"(PACKT01!L67*PACKT05!$F$6)","v":0},{"$f":"(PACKT01!M67*PACKT05!$F$6)","v":0},{"$f":"(PACKT01!N67*PACKT05!$F$6)","v":0},{"$f":"(PACKT01!O67*PACKT05!$F$6)","v":0},{"$f":"(PACKT01!P67*PACKT05!$F$6)","v":0},{"$f":"(PACKT01!Q67*PACKT05!$F$6)","v":0},{"$f":"VLOOKUP(PACKT05Table[[#This Row],[EmployeeID]],EmployeeListLookupTable[#All],11,FALSE)=\"Y\"","v":true}]
[null,"EMP0057",{"$f":"VLOOKUP(PACKT05Table[[#This Row],[EmployeeID]],EmployeeListLookupTable[],2,FALSE)","v":"EMPN057"},{"$f":"VLOOKUP(PACKT05Table[[#This Row],[EmployeeID]],EmployeeListLookupTable[],3,FALSE)","v":"Employee Name 57"},{"$f":"VLOOKUP(PACKT05Table[[#This Row],[EmployeeID]],EmployeeListLookupTable[],4,FALSE)","v":"Employee Job Title 57"},{"$f":"(PACKT01!F68*PACKT05!$F$6)","v":0},{"$f":"(PACKT01!G68*PACKT05!$F$6)","v":0},{"$f":"(PACKT01!H68*PACKT05!$F$6)","v":0},{"$f":"(PACKT01!I68*PACKT05!$F$6)","v":0},{"$f":"(PACKT01!J68*PACKT05!$F$6)","v":0},{"$f":"(PACKT01!K68*PACKT05!$F$6)","v":0},{"$f":"(PACKT01!L68*PACKT05!$F$6)","v":0},{"$f":"(PACKT01!M68*PACKT05!$F$6)","v":0},{"$f":"(PACKT01!N68*PACKT05!$F$6)","v":0},{"$f":"(PACKT01!O68*PACKT05!$F$6)","v":0},{"$f":"(PACKT01!P68*PACKT05!$F$6)","v":0},{"$f":"(PACKT01!Q68*PACKT05!$F$6)","v":0},{"$f":"VLOOKUP(PACKT05Table[[#This Row],[EmployeeID]],EmployeeListLookupTable[#All],11,FALSE)=\"Y\"","v":true}]
[null,"EMP0058",{"$f":"VLOOKUP(PACKT05Table[[#This Row],[EmployeeID]],EmployeeListLookupTable[],2,FALSE)","v":"EMPN058"},{"$f":"VLOOKUP(PACKT05Table[[#This Row],[EmployeeID]],EmployeeListLookupTable[],3,FALSE)","v":"Employee Name 58"},{"$f":"VLOOKUP(PACKT05Table[[#This Row],[EmployeeID]],EmployeeListLookupTable[],4,FALSE)","v":"Employee Job Title 58"},{"$f":"(PACKT01!F69*PACKT05!$F$6)","v":0},{"$f":"(PACKT01!G69*PACKT05!$F$6)","v":0},{"$f":"(PACKT01!H69*PACKT05!$F$6)","v":0},{"$f":"(PACKT01!I69*PACKT05!$F$6)","v":0},{"$f":"(PACKT01!J69*PACKT05!$F$6)","v":0},{"$f":"(PACKT01!K69*PACKT05!$F$6)","v":0},{"$f":"(PACKT01!L69*PACKT05!$F$6)","v":0},{"$f":"(PACKT01!M69*PACKT05!$F$6)","v":0},{"$f":"(PACKT01!N69*PACKT05!$F$6)","v":0},{"$f":"(PACKT01!O69*PACKT05!$F$6)","v":0},{"$f":"(PACKT01!P69*PACKT05!$F$6)","v":0},{"$f":"(PACKT01!Q69*PACKT05!$F$6)","v":0},{"$f":"VLOOKUP(PACKT05Table[[#This Row],[EmployeeID]],EmployeeListLookupTable[#All],11,FALSE)=\"Y\"","v":true}]
[null,"EMP0059",{"$f":"VLOOKUP(PACKT05Table[[#This Row],[EmployeeID]],EmployeeListLookupTable[],2,FALSE)","v":"EMPN059"},{"$f":"VLOOKUP(PACKT05Table[[#This Row],[EmployeeID]],EmployeeListLookupTable[],3,FALSE)","v":"Employee Name 59"},{"$f":"VLOOKUP(PACKT05Table[[#This Row],[EmployeeID]],EmployeeListLookupTable[],4,FALSE)","v":"Employee Job Title 59"},{"$f":"(PACKT01!F70*PACKT05!$F$6)","v":0},{"$f":"(PACKT01!G70*PACKT05!$F$6)","v":0},{"$f":"(PACKT01!H70*PACKT05!$F$6)","v":0},{"$f":"(PACKT01!I70*PACKT05!$F$6)","v":0},{"$f":"(PACKT01!J70*PACKT05!$F$6)","v":0},{"$f":"(PACKT01!K70*PACKT05!$F$6)","v":0},{"$f":"(PACKT01!L70*PACKT05!$F$6)","v":0},{"$f":"(PACKT01!M70*PACKT05!$F$6)","v":0},{"$f":"(PACKT01!N70*PACKT05!$F$6)","v":0},{"$f":"(PACKT01!O70*PACKT05!$F$6)","v":0},{"$f":"(PACKT01!P70*PACKT05!$F$6)","v":0},{"$f":"(PACKT01!Q70*PACKT05!$F$6)","v":0},{"$f":"VLOOKUP(PACKT05Table[[#This Row],[EmployeeID]],EmployeeListLookupTable[#All],11,FALSE)=\"Y\"","v":true}]
[null,"EMP0060",{"$f":"VLOOKUP(PACKT05Table[[#This Row],[EmployeeID]],EmployeeListLookupTable[],2,FALSE)","v":"EMPN060"},{"$f":"VLOOKUP(PACKT05Table[[#This Row],[EmployeeID]],EmployeeListLookupTable[],3,FALSE)","v":"Employee Name 60"},{"$f":"VLOOKUP(PACKT05Table[[#This Row],[EmployeeID]],EmployeeListLookupTable[],4,FALSE)","v":"Employee Job Title 60"},{"$f":"(PACKT01!F71*PACKT05!$F$6)","v":0},{"$f":"(PACKT01!G71*PACKT05!$F$6)","v":0},{"$f":"(PACKT01!H71*PACKT05!$F$6)","v":0},{"$f":"(PACKT01!I71*PACKT05!$F$6)","v":0},{"$f":"(PACKT01!J71*PACKT05!$F$6)","v":0},{"$f":"(PACKT01!K71*PACKT05!$F$6)","v":0},{"$f":"(PACKT01!L71*PACKT05!$F$6)","v":0},{"$f":"(PACKT01!M71*PACKT05!$F$6)","v":0},{"$f":"(PACKT01!N71*PACKT05!$F$6)","v":0},{"$f":"(PACKT01!O71*PACKT05!$F$6)","v":0},{"$f":"(PACKT01!P71*PACKT05!$F$6)","v":0},{"$f":"(PACKT01!Q71*PACKT05!$F$6)","v":0},{"$f":"VLOOKUP(PACKT05Table[[#This Row],[EmployeeID]],EmployeeListLookupTable[#All],11,FALSE)=\"Y\"","v":true}]
[null,"EMP0061",{"$f":"VLOOKUP(PACKT05Table[[#This Row],[EmployeeID]],EmployeeListLookupTable[],2,FALSE)","v":"EMPN061"},{"$f":"VLOOKUP(PACKT05Table[[#This Row],[EmployeeID]],EmployeeListLookupTable[],3,FALSE)","v":"Employee Name 61"},{"$f":"VLOOKUP(PACKT05Table[[#This Row],[EmployeeID]],EmployeeListLookupTable[],4,FALSE)","v":"Employee Job Title 61"},{"$f":"(PACKT01!F72*PACKT05!$F$6)","v":0},{"$f":"(PACKT01!G72*PACKT05!$F$6)","v":0},{"$f":"(PACKT01!H72*PACKT05!$F$6)","v":0},{"$f":"(PACKT01!I72*PACKT05!$F$6)","v":0},{"$f":"(PACKT01!J72*PACKT05!$F$6)","v":0},{"$f":"(PACKT01!K72*PACKT05!$F$6)","v":0},{"$f":"(PACKT01!L72*PACKT05!$F$6)","v":0},{"$f":"(PACKT01!M72*PACKT05!$F$6)","v":0},{"$f":"(PACKT01!N72*PACKT05!$F$6)","v":0},{"$f":"(PACKT01!O72*PACKT05!$F$6)","v":0},{"$f":"(PACKT01!P72*PACKT05!$F$6)","v":0},{"$f":"(PACKT01!Q72*PACKT05!$F$6)","v":0},{"$f":"VLOOKUP(PACKT05Table[[#This Row],[EmployeeID]],EmployeeListLookupTable[#All],11,FALSE)=\"Y\"","v":true}]
[null,"EMP0062",{"$f":"VLOOKUP(PACKT05Table[[#This Row],[EmployeeID]],EmployeeListLookupTable[],2,FALSE)","v":"EMPN062"},{"$f":"VLOOKUP(PACKT05Table[[#This Row],[EmployeeID]],EmployeeListLookupTable[],3,FALSE)","v":"Employee Name 62"},{"$f":"VLOOKUP(PACKT05Table[[#This Row],[EmployeeID]],EmployeeListLookupTable[],4,FALSE)","v":"Employee Job Title 62"},{"$f":"(PACKT01!F73*PACKT05!$F$6)","v":0},{"$f":"(PACKT01!G73*PACKT05!$F$6)","v":0},{"$f":"(PACKT01!H73*PACKT05!$F$6)","v":0},{"$f":"(PACKT01!I73*PACKT05!$F$6)","v":0},{"$f":"(PACKT01!J73*PACKT05!$F$6)","v":0},{"$f":"(PACKT01!K73*PACKT05!$F$6)","v":0},{"$f":"(PACKT01!L73*PACKT05!$F$6)","v":0},{"$f":"(PACKT01!M73*PACKT05!$F$6)","v":0},{"$f":"(PACKT01!N73*PACKT05!$F$6)","v":0},{"$f":"(PACKT01!O73*PACKT05!$F$6)","v":0},{"$f":"(PACKT01!P73*PACKT05!$F$6)","v":0},{"$f":"(PACKT01!Q73*PACKT05!$F$6)","v":0},{"$f":"VLOOKUP(PACKT05Table[[#This Row],[EmployeeID]],EmployeeListLookupTable[#All],11,FALSE)=\"Y\"","v":true}]
[null,"EMP0063",{"$f":"VLOOKUP(PACKT05Table[[#This Row],[EmployeeID]],EmployeeListLookupTable[],2,FALSE)","v":"EMPN063"},{"$f":"VLOOKUP(PACKT05Table[[#This Row],[EmployeeID]],EmployeeListLookupTable[],3,FALSE)","v":"Employee Name 63"},{"$f":"VLOOKUP(PACKT05Table[[#This Row],[EmployeeID]],EmployeeListLookupTable[],4,FALSE)","v":"Employee Job Title 63"},{"$f":"(PACKT01!F74*PACKT05!$F$6)","v":0},{"$f":"(PACKT01!G74*PACKT05!$F$6)","v":0},{"$f":"(PACKT01!H74*PACKT05!$F$6)","v":0},{"$f":"(PACKT01!I74*PACKT05!$F$6)","v":0},{"$f":"(PACKT01!J74*PACKT05!$F$6)","v":0},{"$f":"(PACKT01!K74*PACKT05!$F$6)","v":0},{"$f":"(PACKT01!L74*PACKT05!$F$6)","v":0},{"$f":"(PACKT01!M74*PACKT05!$F$6)","v":0},{"$f":"(PACKT01!N74*PACKT05!$F$6)","v":0},{"$f":"(PACKT01!O74*PACKT05!$F$6)","v":0},{"$f":"(PACKT01!P74*PACKT05!$F$6)","v":0},{"$f":"(PACKT01!Q74*PACKT05!$F$6)","v":0},{"$f":"VLOOKUP(PACKT05Table[[#This Row],[EmployeeID]],EmployeeListLookupTable[#All],11,FALSE)=\"Y\"","v":true}]
[null,"EMP0064",{"$f":"VLOOKUP(PACKT05Table[[#This Row],[EmployeeID]],EmployeeListLookupTable[],2,FALSE)","v":"EMPN064"},{"$f":"VLOOKUP(PACKT05Table[[#This Row],[EmployeeID]],EmployeeListLookupTable[],3,FALSE)","v":"Employee Name 64"},{"$f":"VLOOKUP(PACKT05Table[[#This Row],[EmployeeID]],EmployeeListLookupTable[],4,FALSE)","v":"Employee Job Title 64"},{"$f":"(PACKT01!F75*PACKT05!$F$6)","v":0},{"$f":"(PACKT01!G75*PACKT05!$F$6)","v":0},{"$f":"(PACKT01!H75*PACKT05!$F$6)","v":0},{"$f":"(PACKT01!I75*PACKT05!$F$6)","v":0},{"$f":"(PACKT01!J75*PACKT05!$F$6)","v":0},{"$f":"(PACKT01!K75*PACKT05!$F$6)","v":0},{"$f":"(PACKT01!L75*PACKT05!$F$6)","v":0},{"$f":"(PACKT01!M75*PACKT05!$F$6)","v":0},{"$f":"(PACKT01!N75*PACKT05!$F$6)","v":0},{"$f":"(PACKT01!O75*PACKT05!$F$6)","v":0},{"$f":"(PACKT01!P75*PACKT05!$F$6)","v":0},{"$f":"(PACKT01!Q75*PACKT05!$F$6)","v":0},{"$f":"VLOOKUP(PACKT05Table[[#This Row],[EmployeeID]],EmployeeListLookupTable[#All],11,FALSE)=\"Y\"","v":true}]
[null,"EMP0065",{"$f":"VLOOKUP(PACKT05Table[[#This Row],[EmployeeID]],EmployeeListLookupTable[],2,FALSE)","v":"EMPN065"},{"$f":"VLOOKUP(PACKT05Table[[#This Row],[EmployeeID]],EmployeeListLookupTable[],3,FALSE)","v":"Employee Name 65"},{"$f":"VLOOKUP(PACKT05Table[[#This Row],[EmployeeID]],EmployeeListLookupTable[],4,FALSE)","v":"Employee Job Title 65"},{"$f":"(PACKT01!F76*PACKT05!$F$6)","v":0},{"$f":"(PACKT01!G76*PACKT05!$F$6)","v":0},{"$f":"(PACKT01!H76*PACKT05!$F$6)","v":0},{"$f":"(PACKT01!I76*PACKT05!$F$6)","v":0},{"$f":"(PACKT01!J76*PACKT05!$F$6)","v":0},{"$f":"(PACKT01!K76*PACKT05!$F$6)","v":0},{"$f":"(PACKT01!L76*PACKT05!$F$6)","v":0},{"$f":"(PACKT01!M76*PACKT05!$F$6)","v":0},{"$f":"(PACKT01!N76*PACKT05!$F$6)","v":0},{"$f":"(PACKT01!O76*PACKT05!$F$6)","v":0},{"$f":"(PACKT01!P76*PACKT05!$F$6)","v":0},{"$f":"(PACKT01!Q76*PACKT05!$F$6)","v":0},{"$f":"VLOOKUP(PACKT05Table[[#This Row],[EmployeeID]],EmployeeListLookupTable[#All],11,FALSE)=\"Y\"","v":true}]
[null,"EMP0066",{"$f":"VLOOKUP(PACKT05Table[[#This Row],[EmployeeID]],EmployeeListLookupTable[],2,FALSE)","v":"EMPN066"},{"$f":"VLOOKUP(PACKT05Table[[#This Row],[EmployeeID]],EmployeeListLookupTable[],3,FALSE)","v":"Employee Name 66"},{"$f":"VLOOKUP(PACKT05Table[[#This Row],[EmployeeID]],EmployeeListLookupTable[],4,FALSE)","v":"Employee Job Title 66"},{"$f":"(PACKT01!F77*PACKT05!$F$6)","v":0},{"$f":"(PACKT01!G77*PACKT05!$F$6)","v":0},{"$f":"(PACKT01!H77*PACKT05!$F$6)","v":0},{"$f":"(PACKT01!I77*PACKT05!$F$6)","v":0},{"$f":"(PACKT01!J77*PACKT05!$F$6)","v":0},{"$f":"(PACKT01!K77*PACKT05!$F$6)","v":0},{"$f":"(PACKT01!L77*PACKT05!$F$6)","v":0},{"$f":"(PACKT01!M77*PACKT05!$F$6)","v":0},{"$f":"(PACKT01!N77*PACKT05!$F$6)","v":0},{"$f":"(PACKT01!O77*PACKT05!$F$6)","v":0},{"$f":"(PACKT01!P77*PACKT05!$F$6)","v":0},{"$f":"(PACKT01!Q77*PACKT05!$F$6)","v":0},{"$f":"VLOOKUP(PACKT05Table[[#This Row],[EmployeeID]],EmployeeListLookupTable[#All],11,FALSE)=\"Y\"","v":true}]
[null,"EMP0067",{"$f":"VLOOKUP(PACKT05Table[[#This Row],[EmployeeID]],EmployeeListLookupTable[],2,FALSE)","v":"EMPN067"},{"$f":"VLOOKUP(PACKT05Table[[#This Row],[EmployeeID]],EmployeeListLookupTable[],3,FALSE)","v":"Employee Name 67"},{"$f":"VLOOKUP(PACKT05Table[[#This Row],[EmployeeID]],EmployeeListLookupTable[],4,FALSE)","v":"Employee Job Title 67"},{"$f":"(PACKT01!F78*PACKT05!$F$6)","v":0},{"$f":"(PACKT01!G78*PACKT05!$F$6)","v":0},{"$f":"(PACKT01!H78*PACKT05!$F$6)","v":0},{"$f":"(PACKT01!I78*PACKT05!$F$6)","v":0},{"$f":"(PACKT01!J78*PACKT05!$F$6)","v":0},{"$f":"(PACKT01!K78*PACKT05!$F$6)","v":0},{"$f":"(PACKT01!L78*PACKT05!$F$6)","v":0},{"$f":"(PACKT01!M78*PACKT05!$F$6)","v":0},{"$f":"(PACKT01!N78*PACKT05!$F$6)","v":0},{"$f":"(PACKT01!O78*PACKT05!$F$6)","v":0},{"$f":"(PACKT01!P78*PACKT05!$F$6)","v":0},{"$f":"(PACKT01!Q78*PACKT05!$F$6)","v":0},{"$f":"VLOOKUP(PACKT05Table[[#This Row],[EmployeeID]],EmployeeListLookupTable[#All],11,FALSE)=\"Y\"","v":true}]
[null,"EMP0068",{"$f":"VLOOKUP(PACKT05Table[[#This Row],[EmployeeID]],EmployeeListLookupTable[],2,FALSE)","v":"EMPN068"},{"$f":"VLOOKUP(PACKT05Table[[#This Row],[EmployeeID]],EmployeeListLookupTable[],3,FALSE)","v":"Employee Name 68"},{"$f":"VLOOKUP(PACKT05Table[[#This Row],[EmployeeID]],EmployeeListLookupTable[],4,FALSE)","v":"Employee Job Title 68"},{"$f":"(PACKT01!F79*PACKT05!$F$6)","v":0},{"$f":"(PACKT01!G79*PACKT05!$F$6)","v":0},{"$f":"(PACKT01!H79*PACKT05!$F$6)","v":0},{"$f":"(PACKT01!I79*PACKT05!$F$6)","v":0},{"$f":"(PACKT01!J79*PACKT05!$F$6)","v":0},{"$f":"(PACKT01!K79*PACKT05!$F$6)","v":0},{"$f":"(PACKT01!L79*PACKT05!$F$6)","v":0},{"$f":"(PACKT01!M79*PACKT05!$F$6)","v":0},{"$f":"(PACKT01!N79*PACKT05!$F$6)","v":0},{"$f":"(PACKT01!O79*PACKT05!$F$6)","v":0},{"$f":"(PACKT01!P79*PACKT05!$F$6)","v":0},{"$f":"(PACKT01!Q79*PACKT05!$F$6)","v":0},{"$f":"VLOOKUP(PACKT05Table[[#This Row],[EmployeeID]],EmployeeListLookupTable[#All],11,FALSE)=\"Y\"","v":true}]
[null,"EMP0069",{"$f":"VLOOKUP(PACKT05Table[[#This Row],[EmployeeID]],EmployeeListLookupTable[],2,FALSE)","v":"EMPN069"},{"$f":"VLOOKUP(PACKT05Table[[#This Row],[EmployeeID]],EmployeeListLookupTable[],3,FALSE)","v":"Employee Name 69"},{"$f":"VLOOKUP(PACKT05Table[[#This Row],[EmployeeID]],EmployeeListLookupTable[],4,FALSE)","v":"Employee Job Title 69"},{"$f":"(PACKT01!F80*PACKT05!$F$6)","v":0},{"$f":"(PACKT01!G80*PACKT05!$F$6)","v":0},{"$f":"(PACKT01!H80*PACKT05!$F$6)","v":0},{"$f":"(PACKT01!I80*PACKT05!$F$6)","v":0},{"$f":"(PACKT01!J80*PACKT05!$F$6)","v":0},{"$f":"(PACKT01!K80*PACKT05!$F$6)","v":0},{"$f":"(PACKT01!L80*PACKT05!$F$6)","v":0},{"$f":"(PACKT01!M80*PACKT05!$F$6)","v":0},{"$f":"(PACKT01!N80*PACKT05!$F$6)","v":0},{"$f":"(PACKT01!O80*PACKT05!$F$6)","v":0},{"$f":"(PACKT01!P80*PACKT05!$F$6)","v":0},{"$f":"(PACKT01!Q80*PACKT05!$F$6)","v":0},{"$f":"VLOOKUP(PACKT05Table[[#This Row],[EmployeeID]],EmployeeListLookupTable[#All],11,FALSE)=\"Y\"","v":true}]
[null,"EMP0070",{"$f":"VLOOKUP(PACKT05Table[[#This Row],[EmployeeID]],EmployeeListLookupTable[],2,FALSE)","v":"EMPN070"},{"$f":"VLOOKUP(PACKT05Table[[#This Row],[EmployeeID]],EmployeeListLookupTable[],3,FALSE)","v":"Employee Name 70"},{"$f":"VLOOKUP(PACKT05Table[[#This Row],[EmployeeID]],EmployeeListLookupTable[],4,FALSE)","v":"Employee Job Title 70"},{"$f":"(PACKT01!F81*PACKT05!$F$6)","v":0},{"$f":"(PACKT01!G81*PACKT05!$F$6)","v":0},{"$f":"(PACKT01!H81*PACKT05!$F$6)","v":0},{"$f":"(PACKT01!I81*PACKT05!$F$6)","v":0},{"$f":"(PACKT01!J81*PACKT05!$F$6)","v":0},{"$f":"(PACKT01!K81*PACKT05!$F$6)","v":0},{"$f":"(PACKT01!L81*PACKT05!$F$6)","v":0},{"$f":"(PACKT01!M81*PACKT05!$F$6)","v":0},{"$f":"(PACKT01!N81*PACKT05!$F$6)","v":0},{"$f":"(PACKT01!O81*PACKT05!$F$6)","v":0},{"$f":"(PACKT01!P81*PACKT05!$F$6)","v":0},{"$f":"(PACKT01!Q81*PACKT05!$F$6)","v":0},{"$f":"VLOOKUP(PACKT05Table[[#This Row],[EmployeeID]],EmployeeListLookupTable[#All],11,FALSE)=\"Y\"","v":true}]
[null,"EMP0071",{"$f":"VLOOKUP(PACKT05Table[[#This Row],[EmployeeID]],EmployeeListLookupTable[],2,FALSE)","v":"EMPN071"},{"$f":"VLOOKUP(PACKT05Table[[#This Row],[EmployeeID]],EmployeeListLookupTable[],3,FALSE)","v":"Employee Name 71"},{"$f":"VLOOKUP(PACKT05Table[[#This Row],[EmployeeID]],EmployeeListLookupTable[],4,FALSE)","v":"Employee Job Title 71"},{"$f":"(PACKT01!F82*PACKT05!$F$6)","v":0},{"$f":"(PACKT01!G82*PACKT05!$F$6)","v":0},{"$f":"(PACKT01!H82*PACKT05!$F$6)","v":0},{"$f":"(PACKT01!I82*PACKT05!$F$6)","v":0},{"$f":"(PACKT01!J82*PACKT05!$F$6)","v":0},{"$f":"(PACKT01!K82*PACKT05!$F$6)","v":0},{"$f":"(PACKT01!L82*PACKT05!$F$6)","v":0},{"$f":"(PACKT01!M82*PACKT05!$F$6)","v":0},{"$f":"(PACKT01!N82*PACKT05!$F$6)","v":0},{"$f":"(PACKT01!O82*PACKT05!$F$6)","v":0},{"$f":"(PACKT01!P82*PACKT05!$F$6)","v":0},{"$f":"(PACKT01!Q82*PACKT05!$F$6)","v":0},{"$f":"VLOOKUP(PACKT05Table[[#This Row],[EmployeeID]],EmployeeListLookupTable[#All],11,FALSE)=\"Y\"","v":true}]
[null,"EMP0072",{"$f":"VLOOKUP(PACKT05Table[[#This Row],[EmployeeID]],EmployeeListLookupTable[],2,FALSE)","v":"EMPN072"},{"$f":"VLOOKUP(PACKT05Table[[#This Row],[EmployeeID]],EmployeeListLookupTable[],3,FALSE)","v":"Employee Name 72"},{"$f":"VLOOKUP(PACKT05Table[[#This Row],[EmployeeID]],EmployeeListLookupTable[],4,FALSE)","v":"Employee Job Title 72"},{"$f":"(PACKT01!F83*PACKT05!$F$6)","v":0},{"$f":"(PACKT01!G83*PACKT05!$F$6)","v":0},{"$f":"(PACKT01!H83*PACKT05!$F$6)","v":0},{"$f":"(PACKT01!I83*PACKT05!$F$6)","v":0},{"$f":"(PACKT01!J83*PACKT05!$F$6)","v":0},{"$f":"(PACKT01!K83*PACKT05!$F$6)","v":0},{"$f":"(PACKT01!L83*PACKT05!$F$6)","v":0},{"$f":"(PACKT01!M83*PACKT05!$F$6)","v":0},{"$f":"(PACKT01!N83*PACKT05!$F$6)","v":0},{"$f":"(PACKT01!O83*PACKT05!$F$6)","v":0},{"$f":"(PACKT01!P83*PACKT05!$F$6)","v":0},{"$f":"(PACKT01!Q83*PACKT05!$F$6)","v":0},{"$f":"VLOOKUP(PACKT05Table[[#This Row],[EmployeeID]],EmployeeListLookupTable[#All],11,FALSE)=\"Y\"","v":true}]
[null,"EMP0073",{"$f":"VLOOKUP(PACKT05Table[[#This Row],[EmployeeID]],EmployeeListLookupTable[],2,FALSE)","v":"EMPN073"},{"$f":"VLOOKUP(PACKT05Table[[#This Row],[EmployeeID]],EmployeeListLookupTable[],3,FALSE)","v":"Employee Name 73"},{"$f":"VLOOKUP(PACKT05Table[[#This Row],[EmployeeID]],EmployeeListLookupTable[],4,FALSE)","v":"Employee Job Title 73"},{"$f":"(PACKT01!F84*PACKT05!$F$6)","v":0},{"$f":"(PACKT01!G84*PACKT05!$F$6)","v":0},{"$f":"(PACKT01!H84*PACKT05!$F$6)","v":0},{"$f":"(PACKT01!I84*PACKT05!$F$6)","v":0},{"$f":"(PACKT01!J84*PACKT05!$F$6)","v":0},{"$f":"(PACKT01!K84*PACKT05!$F$6)","v":0},{"$f":"(PACKT01!L84*PACKT05!$F$6)","v":0},{"$f":"(PACKT01!M84*PACKT05!$F$6)","v":0},{"$f":"(PACKT01!N84*PACKT05!$F$6)","v":0},{"$f":"(PACKT01!O84*PACKT05!$F$6)","v":0},{"$f":"(PACKT01!P84*PACKT05!$F$6)","v":0},{"$f":"(PACKT01!Q84*PACKT05!$F$6)","v":0},{"$f":"VLOOKUP(PACKT05Table[[#This Row],[EmployeeID]],EmployeeListLookupTable[#All],11,FALSE)=\"Y\"","v":true}]
[null,"EMP0074",{"$f":"VLOOKUP(PACKT05Table[[#This Row],[EmployeeID]],EmployeeListLookupTable[],2,FALSE)","v":"EMPN074"},{"$f":"VLOOKUP(PACKT05Table[[#This Row],[EmployeeID]],EmployeeListLookupTable[],3,FALSE)","v":"Employee Name 74"},{"$f":"VLOOKUP(PACKT05Table[[#This Row],[EmployeeID]],EmployeeListLookupTable[],4,FALSE)","v":"Employee Job Title 74"},{"$f":"(PACKT01!F85*PACKT05!$F$6)","v":0},{"$f":"(PACKT01!G85*PACKT05!$F$6)","v":0},{"$f":"(PACKT01!H85*PACKT05!$F$6)","v":0},{"$f":"(PACKT01!I85*PACKT05!$F$6)","v":0},{"$f":"(PACKT01!J85*PACKT05!$F$6)","v":0},{"$f":"(PACKT01!K85*PACKT05!$F$6)","v":0},{"$f":"(PACKT01!L85*PACKT05!$F$6)","v":0},{"$f":"(PACKT01!M85*PACKT05!$F$6)","v":0},{"$f":"(PACKT01!N85*PACKT05!$F$6)","v":0},{"$f":"(PACKT01!O85*PACKT05!$F$6)","v":0},{"$f":"(PACKT01!P85*PACKT05!$F$6)","v":0},{"$f":"(PACKT01!Q85*PACKT05!$F$6)","v":0},{"$f":"VLOOKUP(PACKT05Table[[#This Row],[EmployeeID]],EmployeeListLookupTable[#All],11,FALSE)=\"Y\"","v":true}]
[null,"EMP0075",{"$f":"VLOOKUP(PACKT05Table[[#This Row],[EmployeeID]],EmployeeListLookupTable[],2,FALSE)","v":"EMPN075"},{"$f":"VLOOKUP(PACKT05Table[[#This Row],[EmployeeID]],EmployeeListLookupTable[],3,FALSE)","v":"Employee Name 75"},{"$f":"VLOOKUP(PACKT05Table[[#This Row],[EmployeeID]],EmployeeListLookupTable[],4,FALSE)","v":"Employee Job Title 75"},{"$f":"(PACKT01!F86*PACKT05!$F$6)","v":0},{"$f":"(PACKT01!G86*PACKT05!$F$6)","v":0},{"$f":"(PACKT01!H86*PACKT05!$F$6)","v":0},{"$f":"(PACKT01!I86*PACKT05!$F$6)","v":0},{"$f":"(PACKT01!J86*PACKT05!$F$6)","v":0},{"$f":"(PACKT01!K86*PACKT05!$F$6)","v":0},{"$f":"(PACKT01!L86*PACKT05!$F$6)","v":0},{"$f":"(PACKT01!M86*PACKT05!$F$6)","v":0},{"$f":"(PACKT01!N86*PACKT05!$F$6)","v":0},{"$f":"(PACKT01!O86*PACKT05!$F$6)","v":0},{"$f":"(PACKT01!P86*PACKT05!$F$6)","v":0},{"$f":"(PACKT01!Q86*PACKT05!$F$6)","v":0},{"$f":"VLOOKUP(PACKT05Table[[#This Row],[EmployeeID]],EmployeeListLookupTable[#All],11,FALSE)=\"Y\"","v":true}]
[null,"EMP0076",{"$f":"VLOOKUP(PACKT05Table[[#This Row],[EmployeeID]],EmployeeListLookupTable[],2,FALSE)","v":"EMPN076"},{"$f":"VLOOKUP(PACKT05Table[[#This Row],[EmployeeID]],EmployeeListLookupTable[],3,FALSE)","v":"Employee Name 76"},{"$f":"VLOOKUP(PACKT05Table[[#This Row],[EmployeeID]],EmployeeListLookupTable[],4,FALSE)","v":"Employee Job Title 76"},{"$f":"(PACKT01!F87*PACKT05!$F$6)","v":0},{"$f":"(PACKT01!G87*PACKT05!$F$6)","v":0},{"$f":"(PACKT01!H87*PACKT05!$F$6)","v":0},{"$f":"(PACKT01!I87*PACKT05!$F$6)","v":0},{"$f":"(PACKT01!J87*PACKT05!$F$6)","v":0},{"$f":"(PACKT01!K87*PACKT05!$F$6)","v":0},{"$f":"(PACKT01!L87*PACKT05!$F$6)","v":0},{"$f":"(PACKT01!M87*PACKT05!$F$6)","v":0},{"$f":"(PACKT01!N87*PACKT05!$F$6)","v":0},{"$f":"(PACKT01!O87*PACKT05!$F$6)","v":0},{"$f":"(PACKT01!P87*PACKT05!$F$6)","v":0},{"$f":"(PACKT01!Q87*PACKT05!$F$6)","v":0},{"$f":"VLOOKUP(PACKT05Table[[#This Row],[EmployeeID]],EmployeeListLookupTable[#All],11,FALSE)=\"Y\"","v":true}]
[null,"EMP0077",{"$f":"VLOOKUP(PACKT05Table[[#This Row],[EmployeeID]],EmployeeListLookupTable[],2,FALSE)","v":"EMPN077"},{"$f":"VLOOKUP(PACKT05Table[[#This Row],[EmployeeID]],EmployeeListLookupTable[],3,FALSE)","v":"Employee Name 77"},{"$f":"VLOOKUP(PACKT05Table[[#This Row],[EmployeeID]],EmployeeListLookupTable[],4,FALSE)","v":"Employee Job Title 77"},{"$f":"(PACKT01!F88*PACKT05!$F$6)","v":0},{"$f":"(PACKT01!G88*PACKT05!$F$6)","v":0},{"$f":"(PACKT01!H88*PACKT05!$F$6)","v":0},{"$f":"(PACKT01!I88*PACKT05!$F$6)","v":0},{"$f":"(PACKT01!J88*PACKT05!$F$6)","v":0},{"$f":"(PACKT01!K88*PACKT05!$F$6)","v":0},{"$f":"(PACKT01!L88*PACKT05!$F$6)","v":0},{"$f":"(PACKT01!M88*PACKT05!$F$6)","v":0},{"$f":"(PACKT01!N88*PACKT05!$F$6)","v":0},{"$f":"(PACKT01!O88*PACKT05!$F$6)","v":0},{"$f":"(PACKT01!P88*PACKT05!$F$6)","v":0},{"$f":"(PACKT01!Q88*PACKT05!$F$6)","v":0},{"$f":"VLOOKUP(PACKT05Table[[#This Row],[EmployeeID]],EmployeeListLookupTable[#All],11,FALSE)=\"Y\"","v":true}]
[null,"EMP0078",{"$f":"VLOOKUP(PACKT05Table[[#This Row],[EmployeeID]],EmployeeListLookupTable[],2,FALSE)","v":"EMPN078"},{"$f":"VLOOKUP(PACKT05Table[[#This Row],[EmployeeID]],EmployeeListLookupTable[],3,FALSE)","v":"Employee Name 78"},{"$f":"VLOOKUP(PACKT05Table[[#This Row],[EmployeeID]],EmployeeListLookupTable[],4,FALSE)","v":"Employee Job Title 78"},{"$f":"(PACKT01!F89*PACKT05!$F$6)","v":0},{"$f":"(PACKT01!G89*PACKT05!$F$6)","v":0},{"$f":"(PACKT01!H89*PACKT05!$F$6)","v":0},{"$f":"(PACKT01!I89*PACKT05!$F$6)","v":0},{"$f":"(PACKT01!J89*PACKT05!$F$6)","v":0},{"$f":"(PACKT01!K89*PACKT05!$F$6)","v":0},{"$f":"(PACKT01!L89*PACKT05!$F$6)","v":0},{"$f":"(PACKT01!M89*PACKT05!$F$6)","v":0},{"$f":"(PACKT01!N89*PACKT05!$F$6)","v":0},{"$f":"(PACKT01!O89*PACKT05!$F$6)","v":0},{"$f":"(PACKT01!P89*PACKT05!$F$6)","v":0},{"$f":"(PACKT01!Q89*PACKT05!$F$6)","v":0},{"$f":"VLOOKUP(PACKT05Table[[#This Row],[EmployeeID]],EmployeeListLookupTable[#All],11,FALSE)=\"Y\"","v":true}]
[null,"EMP0079",{"$f":"VLOOKUP(PACKT05Table[[#This Row],[EmployeeID]],EmployeeListLookupTable[],2,FALSE)","v":"EMPN079"},{"$f":"VLOOKUP(PACKT05Table[[#This Row],[EmployeeID]],EmployeeListLookupTable[],3,FALSE)","v":"Employee Name 79"},{"$f":"VLOOKUP(PACKT05Table[[#This Row],[EmployeeID]],EmployeeListLookupTable[],4,FALSE)","v":"Employee Job Title 79"},{"$f":"(PACKT01!F90*PACKT05!$F$6)","v":0},{"$f":"(PACKT01!G90*PACKT05!$F$6)","v":0},{"$f":"(PACKT01!H90*PACKT05!$F$6)","v":0},{"$f":"(PACKT01!I90*PACKT05!$F$6)","v":0},{"$f":"(PACKT01!J90*PACKT05!$F$6)","v":0},{"$f":"(PACKT01!K90*PACKT05!$F$6)","v":0},{"$f":"(PACKT01!L90*PACKT05!$F$6)","v":0},{"$f":"(PACKT01!M90*PACKT05!$F$6)","v":0},{"$f":"(PACKT01!N90*PACKT05!$F$6)","v":0},{"$f":"(PACKT01!O90*PACKT05!$F$6)","v":0},{"$f":"(PACKT01!P90*PACKT05!$F$6)","v":0},{"$f":"(PACKT01!Q90*PACKT05!$F$6)","v":0},{"$f":"VLOOKUP(PACKT05Table[[#This Row],[EmployeeID]],EmployeeListLookupTable[#All],11,FALSE)=\"Y\"","v":true}]
[null,"EMP0080",{"$f":"VLOOKUP(PACKT05Table[[#This Row],[EmployeeID]],EmployeeListLookupTable[],2,FALSE)","v":"EMPN080"},{"$f":"VLOOKUP(PACKT05Table[[#This Row],[EmployeeID]],EmployeeListLookupTable[],3,FALSE)","v":"Employee Name 80"},{"$f":"VLOOKUP(PACKT05Table[[#This Row],[EmployeeID]],EmployeeListLookupTable[],4,FALSE)","v":"Employee Job Title 80"},{"$f":"(PACKT01!F91*PACKT05!$F$6)","v":0},{"$f":"(PACKT01!G91*PACKT05!$F$6)","v":0},{"$f":"(PACKT01!H91*PACKT05!$F$6)","v":0},{"$f":"(PACKT01!I91*PACKT05!$F$6)","v":0},{"$f":"(PACKT01!J91*PACKT05!$F$6)","v":0},{"$f":"(PACKT01!K91*PACKT05!$F$6)","v":0},{"$f":"(PACKT01!L91*PACKT05!$F$6)","v":0},{"$f":"(PACKT01!M91*PACKT05!$F$6)","v":0},{"$f":"(PACKT01!N91*PACKT05!$F$6)","v":0},{"$f":"(PACKT01!O91*PACKT05!$F$6)","v":0},{"$f":"(PACKT01!P91*PACKT05!$F$6)","v":0},{"$f":"(PACKT01!Q91*PACKT05!$F$6)","v":0},{"$f":"VLOOKUP(PACKT05Table[[#This Row],[EmployeeID]],EmployeeListLookupTable[#All],11,FALSE)=\"Y\"","v":true}]
[null,"EMP0081",{"$f":"VLOOKUP(PACKT05Table[[#This Row],[EmployeeID]],EmployeeListLookupTable[],2,FALSE)","v":"EMPN081"},{"$f":"VLOOKUP(PACKT05Table[[#This Row],[EmployeeID]],EmployeeListLookupTable[],3,FALSE)","v":"Employee Name 81"},{"$f":"VLOOKUP(PACKT05Table[[#This Row],[EmployeeID]],EmployeeListLookupTable[],4,FALSE)","v":"Employee Job Title 81"},{"$f":"(PACKT01!F92*PACKT05!$F$6)","v":0},{"$f":"(PACKT01!G92*PACKT05!$F$6)","v":0},{"$f":"(PACKT01!H92*PACKT05!$F$6)","v":0},{"$f":"(PACKT01!I92*PACKT05!$F$6)","v":0},{"$f":"(PACKT01!J92*PACKT05!$F$6)","v":0},{"$f":"(PACKT01!K92*PACKT05!$F$6)","v":0},{"$f":"(PACKT01!L92*PACKT05!$F$6)","v":0},{"$f":"(PACKT01!M92*PACKT05!$F$6)","v":0},{"$f":"(PACKT01!N92*PACKT05!$F$6)","v":0},{"$f":"(PACKT01!O92*PACKT05!$F$6)","v":0},{"$f":"(PACKT01!P92*PACKT05!$F$6)","v":0},{"$f":"(PACKT01!Q92*PACKT05!$F$6)","v":0},{"$f":"VLOOKUP(PACKT05Table[[#This Row],[EmployeeID]],EmployeeListLookupTable[#All],11,FALSE)=\"Y\"","v":true}]
[null,"EMP0082",{"$f":"VLOOKUP(PACKT05Table[[#This Row],[EmployeeID]],EmployeeListLookupTable[],2,FALSE)","v":"EMPN082"},{"$f":"VLOOKUP(PACKT05Table[[#This Row],[EmployeeID]],EmployeeListLookupTable[],3,FALSE)","v":"Employee Name 82"},{"$f":"VLOOKUP(PACKT05Table[[#This Row],[EmployeeID]],EmployeeListLookupTable[],4,FALSE)","v":"Employee Job Title 82"},{"$f":"(PACKT01!F93*PACKT05!$F$6)","v":0},{"$f":"(PACKT01!G93*PACKT05!$F$6)","v":0},{"$f":"(PACKT01!H93*PACKT05!$F$6)","v":0},{"$f":"(PACKT01!I93*PACKT05!$F$6)","v":0},{"$f":"(PACKT01!J93*PACKT05!$F$6)","v":0},{"$f":"(PACKT01!K93*PACKT05!$F$6)","v":0},{"$f":"(PACKT01!L93*PACKT05!$F$6)","v":0},{"$f":"(PACKT01!M93*PACKT05!$F$6)","v":0},{"$f":"(PACKT01!N93*PACKT05!$F$6)","v":0},{"$f":"(PACKT01!O93*PACKT05!$F$6)","v":0},{"$f":"(PACKT01!P93*PACKT05!$F$6)","v":0},{"$f":"(PACKT01!Q93*PACKT05!$F$6)","v":0},{"$f":"VLOOKUP(PACKT05Table[[#This Row],[EmployeeID]],EmployeeListLookupTable[#All],11,FALSE)=\"Y\"","v":true}]
[null,"EMP0083",{"$f":"VLOOKUP(PACKT05Table[[#This Row],[EmployeeID]],EmployeeListLookupTable[],2,FALSE)","v":"EMPN083"},{"$f":"VLOOKUP(PACKT05Table[[#This Row],[EmployeeID]],EmployeeListLookupTable[],3,FALSE)","v":"Employee Name 83"},{"$f":"VLOOKUP(PACKT05Table[[#This Row],[EmployeeID]],EmployeeListLookupTable[],4,FALSE)","v":"Employee Job Title 83"},{"$f":"(PACKT01!F94*PACKT05!$F$6)","v":0},{"$f":"(PACKT01!G94*PACKT05!$F$6)","v":0},{"$f":"(PACKT01!H94*PACKT05!$F$6)","v":0},{"$f":"(PACKT01!I94*PACKT05!$F$6)","v":0},{"$f":"(PACKT01!J94*PACKT05!$F$6)","v":0},{"$f":"(PACKT01!K94*PACKT05!$F$6)","v":0},{"$f":"(PACKT01!L94*PACKT05!$F$6)","v":0},{"$f":"(PACKT01!M94*PACKT05!$F$6)","v":0},{"$f":"(PACKT01!N94*PACKT05!$F$6)","v":0},{"$f":"(PACKT01!O94*PACKT05!$F$6)","v":0},{"$f":"(PACKT01!P94*PACKT05!$F$6)","v":0},{"$f":"(PACKT01!Q94*PACKT05!$F$6)","v":0},{"$f":"VLOOKUP(PACKT05Table[[#This Row],[EmployeeID]],EmployeeListLookupTable[#All],11,FALSE)=\"Y\"","v":true}]
[null,"EMP0084",{"$f":"VLOOKUP(PACKT05Table[[#This Row],[EmployeeID]],EmployeeListLookupTable[],2,FALSE)","v":"EMPN084"},{"$f":"VLOOKUP(PACKT05Table[[#This Row],[EmployeeID]],EmployeeListLookupTable[],3,FALSE)","v":"Employee Name 84"},{"$f":"VLOOKUP(PACKT05Table[[#This Row],[EmployeeID]],EmployeeListLookupTable[],4,FALSE)","v":"Employee Job Title 84"},{"$f":"(PACKT01!F95*PACKT05!$F$6)","v":0},{"$f":"(PACKT01!G95*PACKT05!$F$6)","v":0},{"$f":"(PACKT01!H95*PACKT05!$F$6)","v":0},{"$f":"(PACKT01!I95*PACKT05!$F$6)","v":0},{"$f":"(PACKT01!J95*PACKT05!$F$6)","v":0},{"$f":"(PACKT01!K95*PACKT05!$F$6)","v":0},{"$f":"(PACKT01!L95*PACKT05!$F$6)","v":0},{"$f":"(PACKT01!M95*PACKT05!$F$6)","v":0},{"$f":"(PACKT01!N95*PACKT05!$F$6)","v":0},{"$f":"(PACKT01!O95*PACKT05!$F$6)","v":0},{"$f":"(PACKT01!P95*PACKT05!$F$6)","v":0},{"$f":"(PACKT01!Q95*PACKT05!$F$6)","v":0},{"$f":"VLOOKUP(PACKT05Table[[#This Row],[EmployeeID]],EmployeeListLookupTable[#All],11,FALSE)=\"Y\"","v":true}]
[null,"EMP0085",{"$f":"VLOOKUP(PACKT05Table[[#This Row],[EmployeeID]],EmployeeListLookupTable[],2,FALSE)","v":"EMPN085"},{"$f":"VLOOKUP(PACKT05Table[[#This Row],[EmployeeID]],EmployeeListLookupTable[],3,FALSE)","v":"Employee Name 85"},{"$f":"VLOOKUP(PACKT05Table[[#This Row],[EmployeeID]],EmployeeListLookupTable[],4,FALSE)","v":"Employee Job Title 85"},{"$f":"(PACKT01!F96*PACKT05!$F$6)","v":0},{"$f":"(PACKT01!G96*PACKT05!$F$6)","v":0},{"$f":"(PACKT01!H96*PACKT05!$F$6)","v":0},{"$f":"(PACKT01!I96*PACKT05!$F$6)","v":0},{"$f":"(PACKT01!J96*PACKT05!$F$6)","v":0},{"$f":"(PACKT01!K96*PACKT05!$F$6)","v":0},{"$f":"(PACKT01!L96*PACKT05!$F$6)","v":0},{"$f":"(PACKT01!M96*PACKT05!$F$6)","v":0},{"$f":"(PACKT01!N96*PACKT05!$F$6)","v":0},{"$f":"(PACKT01!O96*PACKT05!$F$6)","v":0},{"$f":"(PACKT01!P96*PACKT05!$F$6)","v":0},{"$f":"(PACKT01!Q96*PACKT05!$F$6)","v":0},{"$f":"VLOOKUP(PACKT05Table[[#This Row],[EmployeeID]],EmployeeListLookupTable[#All],11,FALSE)=\"Y\"","v":true}]
[null,"EMP0086",{"$f":"VLOOKUP(PACKT05Table[[#This Row],[EmployeeID]],EmployeeListLookupTable[],2,FALSE)","v":"EMPN086"},{"$f":"VLOOKUP(PACKT05Table[[#This Row],[EmployeeID]],EmployeeListLookupTable[],3,FALSE)","v":"Employee Name 86"},{"$f":"VLOOKUP(PACKT05Table[[#This Row],[EmployeeID]],EmployeeListLookupTable[],4,FALSE)","v":"Employee Job Title 86"},{"$f":"(PACKT01!F97*PACKT05!$F$6)","v":0},{"$f":"(PACKT01!G97*PACKT05!$F$6)","v":0},{"$f":"(PACKT01!H97*PACKT05!$F$6)","v":0},{"$f":"(PACKT01!I97*PACKT05!$F$6)","v":0},{"$f":"(PACKT01!J97*PACKT05!$F$6)","v":0},{"$f":"(PACKT01!K97*PACKT05!$F$6)","v":0},{"$f":"(PACKT01!L97*PACKT05!$F$6)","v":0},{"$f":"(PACKT01!M97*PACKT05!$F$6)","v":0},{"$f":"(PACKT01!N97*PACKT05!$F$6)","v":0},{"$f":"(PACKT01!O97*PACKT05!$F$6)","v":0},{"$f":"(PACKT01!P97*PACKT05!$F$6)","v":0},{"$f":"(PACKT01!Q97*PACKT05!$F$6)","v":0},{"$f":"VLOOKUP(PACKT05Table[[#This Row],[EmployeeID]],EmployeeListLookupTable[#All],11,FALSE)=\"Y\"","v":true}]
[null,"EMP0087",{"$f":"VLOOKUP(PACKT05Table[[#This Row],[EmployeeID]],EmployeeListLookupTable[],2,FALSE)","v":"EMPN087"},{"$f":"VLOOKUP(PACKT05Table[[#This Row],[EmployeeID]],EmployeeListLookupTable[],3,FALSE)","v":"Employee Name 87"},{"$f":"VLOOKUP(PACKT05Table[[#This Row],[EmployeeID]],EmployeeListLookupTable[],4,FALSE)","v":"Employee Job Title 87"},{"$f":"(PACKT01!F98*PACKT05!$F$6)","v":0},{"$f":"(PACKT01!G98*PACKT05!$F$6)","v":0},{"$f":"(PACKT01!H98*PACKT05!$F$6)","v":0},{"$f":"(PACKT01!I98*PACKT05!$F$6)","v":0},{"$f":"(PACKT01!J98*PACKT05!$F$6)","v":0},{"$f":"(PACKT01!K98*PACKT05!$F$6)","v":0},{"$f":"(PACKT01!L98*PACKT05!$F$6)","v":0},{"$f":"(PACKT01!M98*PACKT05!$F$6)","v":0},{"$f":"(PACKT01!N98*PACKT05!$F$6)","v":0},{"$f":"(PACKT01!O98*PACKT05!$F$6)","v":0},{"$f":"(PACKT01!P98*PACKT05!$F$6)","v":0},{"$f":"(PACKT01!Q98*PACKT05!$F$6)","v":0},{"$f":"VLOOKUP(PACKT05Table[[#This Row],[EmployeeID]],EmployeeListLookupTable[#All],11,FALSE)=\"Y\"","v":true}]
[null,"EMP0088",{"$f":"VLOOKUP(PACKT05Table[[#This Row],[EmployeeID]],EmployeeListLookupTable[],2,FALSE)","v":"EMPN088"},{"$f":"VLOOKUP(PACKT05Table[[#This Row],[EmployeeID]],EmployeeListLookupTable[],3,FALSE)","v":"Employee Name 88"},{"$f":"VLOOKUP(PACKT05Table[[#This Row],[EmployeeID]],EmployeeListLookupTable[],4,FALSE)","v":"Employee Job Title 88"},{"$f":"(PACKT01!F99*PACKT05!$F$6)","v":0},{"$f":"(PACKT01!G99*PACKT05!$F$6)","v":0},{"$f":"(PACKT01!H99*PACKT05!$F$6)","v":0},{"$f":"(PACKT01!I99*PACKT05!$F$6)","v":0},{"$f":"(PACKT01!J99*PACKT05!$F$6)","v":0},{"$f":"(PACKT01!K99*PACKT05!$F$6)","v":0},{"$f":"(PACKT01!L99*PACKT05!$F$6)","v":0},{"$f":"(PACKT01!M99*PACKT05!$F$6)","v":0},{"$f":"(PACKT01!N99*PACKT05!$F$6)","v":0},{"$f":"(PACKT01!O99*PACKT05!$F$6)","v":0},{"$f":"(PACKT01!P99*PACKT05!$F$6)","v":0},{"$f":"(PACKT01!Q99*PACKT05!$F$6)","v":0},{"$f":"VLOOKUP(PACKT05Table[[#This Row],[EmployeeID]],EmployeeListLookupTable[#All],11,FALSE)=\"Y\"","v":true}]
[null,"EMP0089",{"$f":"VLOOKUP(PACKT05Table[[#This Row],[EmployeeID]],EmployeeListLookupTable[],2,FALSE)","v":"EMPN089"},{"$f":"VLOOKUP(PACKT05Table[[#This Row],[EmployeeID]],EmployeeListLookupTable[],3,FALSE)","v":"Employee Name 89"},{"$f":"VLOOKUP(PACKT05Table[[#This Row],[EmployeeID]],EmployeeListLookupTable[],4,FALSE)","v":"Employee Job Title 89"},{"$f":"(PACKT01!F100*PACKT05!$F$6)","v":0},{"$f":"(PACKT01!G100*PACKT05!$F$6)","v":0},{"$f":"(PACKT01!H100*PACKT05!$F$6)","v":0},{"$f":"(PACKT01!I100*PACKT05!$F$6)","v":0},{"$f":"(PACKT01!J100*PACKT05!$F$6)","v":0},{"$f":"(PACKT01!K100*PACKT05!$F$6)","v":0},{"$f":"(PACKT01!L100*PACKT05!$F$6)","v":0},{"$f":"(PACKT01!M100*PACKT05!$F$6)","v":0},{"$f":"(PACKT01!N100*PACKT05!$F$6)","v":0},{"$f":"(PACKT01!O100*PACKT05!$F$6)","v":0},{"$f":"(PACKT01!P100*PACKT05!$F$6)","v":0},{"$f":"(PACKT01!Q100*PACKT05!$F$6)","v":0},{"$f":"VLOOKUP(PACKT05Table[[#This Row],[EmployeeID]],EmployeeListLookupTable[#All],11,FALSE)=\"Y\"","v":true}]
[null,"EMP0090",{"$f":"VLOOKUP(PACKT05Table[[#This Row],[EmployeeID]],EmployeeListLookupTable[],2,FALSE)","v":"EMPN090"},{"$f":"VLOOKUP(PACKT05Table[[#This Row],[EmployeeID]],EmployeeListLookupTable[],3,FALSE)","v":"Employee Name 90"},{"$f":"VLOOKUP(PACKT05Table[[#This Row],[EmployeeID]],EmployeeListLookupTable[],4,FALSE)","v":"Employee Job Title 90"},{"$f":"(PACKT01!F101*PACKT05!$F$6)","v":0},{"$f":"(PACKT01!G101*PACKT05!$F$6)","v":0},{"$f":"(PACKT01!H101*PACKT05!$F$6)","v":0},{"$f":"(PACKT01!I101*PACKT05!$F$6)","v":0},{"$f":"(PACKT01!J101*PACKT05!$F$6)","v":0},{"$f":"(PACKT01!K101*PACKT05!$F$6)","v":0},{"$f":"(PACKT01!L101*PACKT05!$F$6)","v":0},{"$f":"(PACKT01!M101*PACKT05!$F$6)","v":0},{"$f":"(PACKT01!N101*PACKT05!$F$6)","v":0},{"$f":"(PACKT01!O101*PACKT05!$F$6)","v":0},{"$f":"(PACKT01!P101*PACKT05!$F$6)","v":0},{"$f":"(PACKT01!Q101*PACKT05!$F$6)","v":0},{"$f":"VLOOKUP(PACKT05Table[[#This Row],[EmployeeID]],EmployeeListLookupTable[#All],11,FALSE)=\"Y\"","v":true}]
[null,"EMP0091",{"$f":"VLOOKUP(PACKT05Table[[#This Row],[EmployeeID]],EmployeeListLookupTable[],2,FALSE)","v":"EMPN091"},{"$f":"VLOOKUP(PACKT05Table[[#This Row],[EmployeeID]],EmployeeListLookupTable[],3,FALSE)","v":"Employee Name 91"},{"$f":"VLOOKUP(PACKT05Table[[#This Row],[EmployeeID]],EmployeeListLookupTable[],4,FALSE)","v":"Employee Job Title 91"},{"$f":"(PACKT01!F102*PACKT05!$F$6)","v":0},{"$f":"(PACKT01!G102*PACKT05!$F$6)","v":0},{"$f":"(PACKT01!H102*PACKT05!$F$6)","v":0},{"$f":"(PACKT01!I102*PACKT05!$F$6)","v":0},{"$f":"(PACKT01!J102*PACKT05!$F$6)","v":0},{"$f":"(PACKT01!K102*PACKT05!$F$6)","v":0},{"$f":"(PACKT01!L102*PACKT05!$F$6)","v":0},{"$f":"(PACKT01!M102*PACKT05!$F$6)","v":0},{"$f":"(PACKT01!N102*PACKT05!$F$6)","v":0},{"$f":"(PACKT01!O102*PACKT05!$F$6)","v":0},{"$f":"(PACKT01!P102*PACKT05!$F$6)","v":0},{"$f":"(PACKT01!Q102*PACKT05!$F$6)","v":0},{"$f":"VLOOKUP(PACKT05Table[[#This Row],[EmployeeID]],EmployeeListLookupTable[#All],11,FALSE)=\"Y\"","v":true}]
[null,"EMP0092",{"$f":"VLOOKUP(PACKT05Table[[#This Row],[EmployeeID]],EmployeeListLookupTable[],2,FALSE)","v":"EMPN092"},{"$f":"VLOOKUP(PACKT05Table[[#This Row],[EmployeeID]],EmployeeListLookupTable[],3,FALSE)","v":"Employee Name 92"},{"$f":"VLOOKUP(PACKT05Table[[#This Row],[EmployeeID]],EmployeeListLookupTable[],4,FALSE)","v":"Employee Job Title 92"},{"$f":"(PACKT01!F103*PACKT05!$F$6)","v":0},{"$f":"(PACKT01!G103*PACKT05!$F$6)","v":0},{"$f":"(PACKT01!H103*PACKT05!$F$6)","v":0},{"$f":"(PACKT01!I103*PACKT05!$F$6)","v":0},{"$f":"(PACKT01!J103*PACKT05!$F$6)","v":0},{"$f":"(PACKT01!K103*PACKT05!$F$6)","v":0},{"$f":"(PACKT01!L103*PACKT05!$F$6)","v":0},{"$f":"(PACKT01!M103*PACKT05!$F$6)","v":0},{"$f":"(PACKT01!N103*PACKT05!$F$6)","v":0},{"$f":"(PACKT01!O103*PACKT05!$F$6)","v":0},{"$f":"(PACKT01!P103*PACKT05!$F$6)","v":0},{"$f":"(PACKT01!Q103*PACKT05!$F$6)","v":0},{"$f":"VLOOKUP(PACKT05Table[[#This Row],[EmployeeID]],EmployeeListLookupTable[#All],11,FALSE)=\"Y\"","v":true}]
[null,"EMP0093",{"$f":"VLOOKUP(PACKT05Table[[#This Row],[EmployeeID]],EmployeeListLookupTable[],2,FALSE)","v":"EMPN093"},{"$f":"VLOOKUP(PACKT05Table[[#This Row],[EmployeeID]],EmployeeListLookupTable[],3,FALSE)","v":"Employee Name 93"},{"$f":"VLOOKUP(PACKT05Table[[#This Row],[EmployeeID]],EmployeeListLookupTable[],4,FALSE)","v":"Employee Job Title 93"},{"$f":"(PACKT01!F104*PACKT05!$F$6)","v":0},{"$f":"(PACKT01!G104*PACKT05!$F$6)","v":0},{"$f":"(PACKT01!H104*PACKT05!$F$6)","v":0},{"$f":"(PACKT01!I104*PACKT05!$F$6)","v":0},{"$f":"(PACKT01!J104*PACKT05!$F$6)","v":0},{"$f":"(PACKT01!K104*PACKT05!$F$6)","v":0},{"$f":"(PACKT01!L104*PACKT05!$F$6)","v":0},{"$f":"(PACKT01!M104*PACKT05!$F$6)","v":0},{"$f":"(PACKT01!N104*PACKT05!$F$6)","v":0},{"$f":"(PACKT01!O104*PACKT05!$F$6)","v":0},{"$f":"(PACKT01!P104*PACKT05!$F$6)","v":0},{"$f":"(PACKT01!Q104*PACKT05!$F$6)","v":0},{"$f":"VLOOKUP(PACKT05Table[[#This Row],[EmployeeID]],EmployeeListLookupTable[#All],11,FALSE)=\"Y\"","v":true}]
[null,"EMP0094",{"$f":"VLOOKUP(PACKT05Table[[#This Row],[EmployeeID]],EmployeeListLookupTable[],2,FALSE)","v":"EMPN094"},{"$f":"VLOOKUP(PACKT05Table[[#This Row],[EmployeeID]],EmployeeListLookupTable[],3,FALSE)","v":"Employee Name 94"},{"$f":"VLOOKUP(PACKT05Table[[#This Row],[EmployeeID]],EmployeeListLookupTable[],4,FALSE)","v":"Employee Job Title 94"},{"$f":"(PACKT01!F105*PACKT05!$F$6)","v":0},{"$f":"(PACKT01!G105*PACKT05!$F$6)","v":0},{"$f":"(PACKT01!H105*PACKT05!$F$6)","v":0},{"$f":"(PACKT01!I105*PACKT05!$F$6)","v":0},{"$f":"(PACKT01!J105*PACKT05!$F$6)","v":0},{"$f":"(PACKT01!K105*PACKT05!$F$6)","v":0},{"$f":"(PACKT01!L105*PACKT05!$F$6)","v":0},{"$f":"(PACKT01!M105*PACKT05!$F$6)","v":0},{"$f":"(PACKT01!N105*PACKT05!$F$6)","v":0},{"$f":"(PACKT01!O105*PACKT05!$F$6)","v":0},{"$f":"(PACKT01!P105*PACKT05!$F$6)","v":0},{"$f":"(PACKT01!Q105*PACKT05!$F$6)","v":0},{"$f":"VLOOKUP(PACKT05Table[[#This Row],[EmployeeID]],EmployeeListLookupTable[#All],11,FALSE)=\"Y\"","v":true}]
[null,"EMP0095",{"$f":"VLOOKUP(PACKT05Table[[#This Row],[EmployeeID]],EmployeeListLookupTable[],2,FALSE)","v":"EMPN095"},{"$f":"VLOOKUP(PACKT05Table[[#This Row],[EmployeeID]],EmployeeListLookupTable[],3,FALSE)","v":"Employee Name 95"},{"$f":"VLOOKUP(PACKT05Table[[#This Row],[EmployeeID]],EmployeeListLookupTable[],4,FALSE)","v":"Employee Job Title 95"},{"$f":"(PACKT01!F106*PACKT05!$F$6)","v":0},{"$f":"(PACKT01!G106*PACKT05!$F$6)","v":0},{"$f":"(PACKT01!H106*PACKT05!$F$6)","v":0},{"$f":"(PACKT01!I106*PACKT05!$F$6)","v":0},{"$f":"(PACKT01!J106*PACKT05!$F$6)","v":0},{"$f":"(PACKT01!K106*PACKT05!$F$6)","v":0},{"$f":"(PACKT01!L106*PACKT05!$F$6)","v":0},{"$f":"(PACKT01!M106*PACKT05!$F$6)","v":0},{"$f":"(PACKT01!N106*PACKT05!$F$6)","v":0},{"$f":"(PACKT01!O106*PACKT05!$F$6)","v":0},{"$f":"(PACKT01!P106*PACKT05!$F$6)","v":0},{"$f":"(PACKT01!Q106*PACKT05!$F$6)","v":0},{"$f":"VLOOKUP(PACKT05Table[[#This Row],[EmployeeID]],EmployeeListLookupTable[#All],11,FALSE)=\"Y\"","v":true}]
[null,"EMP0096",{"$f":"VLOOKUP(PACKT05Table[[#This Row],[EmployeeID]],EmployeeListLookupTable[],2,FALSE)","v":"EMPN096"},{"$f":"VLOOKUP(PACKT05Table[[#This Row],[EmployeeID]],EmployeeListLookupTable[],3,FALSE)","v":"Employee Name 96"},{"$f":"VLOOKUP(PACKT05Table[[#This Row],[EmployeeID]],EmployeeListLookupTable[],4,FALSE)","v":"Employee Job Title 96"},{"$f":"(PACKT01!F107*PACKT05!$F$6)","v":0},{"$f":"(PACKT01!G107*PACKT05!$F$6)","v":0},{"$f":"(PACKT01!H107*PACKT05!$F$6)","v":0},{"$f":"(PACKT01!I107*PACKT05!$F$6)","v":0},{"$f":"(PACKT01!J107*PACKT05!$F$6)","v":0},{"$f":"(PACKT01!K107*PACKT05!$F$6)","v":0},{"$f":"(PACKT01!L107*PACKT05!$F$6)","v":0},{"$f":"(PACKT01!M107*PACKT05!$F$6)","v":0},{"$f":"(PACKT01!N107*PACKT05!$F$6)","v":0},{"$f":"(PACKT01!O107*PACKT05!$F$6)","v":0},{"$f":"(PACKT01!P107*PACKT05!$F$6)","v":0},{"$f":"(PACKT01!Q107*PACKT05!$F$6)","v":0},{"$f":"VLOOKUP(PACKT05Table[[#This Row],[EmployeeID]],EmployeeListLookupTable[#All],11,FALSE)=\"Y\"","v":true}]
[null,"EMP0097",{"$f":"VLOOKUP(PACKT05Table[[#This Row],[EmployeeID]],EmployeeListLookupTable[],2,FALSE)","v":"EMPN097"},{"$f":"VLOOKUP(PACKT05Table[[#This Row],[EmployeeID]],EmployeeListLookupTable[],3,FALSE)","v":"Employee Name 97"},{"$f":"VLOOKUP(PACKT05Table[[#This Row],[EmployeeID]],EmployeeListLookupTable[],4,FALSE)","v":"Employee Job Title 97"},{"$f":"(PACKT01!F108*PACKT05!$F$6)","v":0},{"$f":"(PACKT01!G108*PACKT05!$F$6)","v":0},{"$f":"(PACKT01!H108*PACKT05!$F$6)","v":0},{"$f":"(PACKT01!I108*PACKT05!$F$6)","v":0},{"$f":"(PACKT01!J108*PACKT05!$F$6)","v":0},{"$f":"(PACKT01!K108*PACKT05!$F$6)","v":0},{"$f":"(PACKT01!L108*PACKT05!$F$6)","v":0},{"$f":"(PACKT01!M108*PACKT05!$F$6)","v":0},{"$f":"(PACKT01!N108*PACKT05!$F$6)","v":0},{"$f":"(PACKT01!O108*PACKT05!$F$6)","v":0},{"$f":"(PACKT01!P108*PACKT05!$F$6)","v":0},{"$f":"(PACKT01!Q108*PACKT05!$F$6)","v":0},{"$f":"VLOOKUP(PACKT05Table[[#This Row],[EmployeeID]],EmployeeListLookupTable[#All],11,FALSE)=\"Y\"","v":true}]
[null,"EMP0098",{"$f":"VLOOKUP(PACKT05Table[[#This Row],[EmployeeID]],EmployeeListLookupTable[],2,FALSE)","v":"EMPN098"},{"$f":"VLOOKUP(PACKT05Table[[#This Row],[EmployeeID]],EmployeeListLookupTable[],3,FALSE)","v":"Employee Name 98"},{"$f":"VLOOKUP(PACKT05Table[[#This Row],[EmployeeID]],EmployeeListLookupTable[],4,FALSE)","v":"Employee Job Title 98"},{"$f":"(PACKT01!F109*PACKT05!$F$6)","v":0},{"$f":"(PACKT01!G109*PACKT05!$F$6)","v":0},{"$f":"(PACKT01!H109*PACKT05!$F$6)","v":0},{"$f":"(PACKT01!I109*PACKT05!$F$6)","v":0},{"$f":"(PACKT01!J109*PACKT05!$F$6)","v":0},{"$f":"(PACKT01!K109*PACKT05!$F$6)","v":0},{"$f":"(PACKT01!L109*PACKT05!$F$6)","v":0},{"$f":"(PACKT01!M109*PACKT05!$F$6)","v":0},{"$f":"(PACKT01!N109*PACKT05!$F$6)","v":0},{"$f":"(PACKT01!O109*PACKT05!$F$6)","v":0},{"$f":"(PACKT01!P109*PACKT05!$F$6)","v":0},{"$f":"(PACKT01!Q109*PACKT05!$F$6)","v":0},{"$f":"VLOOKUP(PACKT05Table[[#This Row],[EmployeeID]],EmployeeListLookupTable[#All],11,FALSE)=\"Y\"","v":true}]
[null,"EMP0099",{"$f":"VLOOKUP(PACKT05Table[[#This Row],[EmployeeID]],EmployeeListLookupTable[],2,FALSE)","v":"EMPN099"},{"$f":"VLOOKUP(PACKT05Table[[#This Row],[EmployeeID]],EmployeeListLookupTable[],3,FALSE)","v":"Employee Name 99"},{"$f":"VLOOKUP(PACKT05Table[[#This Row],[EmployeeID]],EmployeeListLookupTable[],4,FALSE)","v":"Employee Job Title 99"},{"$f":"(PACKT01!F110*PACKT05!$F$6)","v":0},{"$f":"(PACKT01!G110*PACKT05!$F$6)","v":0},{"$f":"(PACKT01!H110*PACKT05!$F$6)","v":0},{"$f":"(PACKT01!I110*PACKT05!$F$6)","v":0},{"$f":"(PACKT01!J110*PACKT05!$F$6)","v":0},{"$f":"(PACKT01!K110*PACKT05!$F$6)","v":0},{"$f":"(PACKT01!L110*PACKT05!$F$6)","v":0},{"$f":"(PACKT01!M110*PACKT05!$F$6)","v":0},{"$f":"(PACKT01!N110*PACKT05!$F$6)","v":0},{"$f":"(PACKT01!O110*PACKT05!$F$6)","v":0},{"$f":"(PACKT01!P110*PACKT05!$F$6)","v":0},{"$f":"(PACKT01!Q110*PACKT05!$F$6)","v":0},{"$f":"VLOOKUP(PACKT05Table[[#This Row],[EmployeeID]],EmployeeListLookupTable[#All],11,FALSE)=\"Y\"","v":true}]
[null,"EMP0100",{"$f":"VLOOKUP(PACKT05Table[[#This Row],[EmployeeID]],EmployeeListLookupTable[],2,FALSE)","v":"EMPN100"},{"$f":"VLOOKUP(PACKT05Table[[#This Row],[EmployeeID]],EmployeeListLookupTable[],3,FALSE)","v":"Employee Name 100"},{"$f":"VLOOKUP(PACKT05Table[[#This Row],[EmployeeID]],EmployeeListLookupTable[],4,FALSE)","v":"Employee Job Title 100"},{"$f":"(PACKT01!F111*PACKT05!$F$6)","v":0},{"$f":"(PACKT01!G111*PACKT05!$F$6)","v":0},{"$f":"(PACKT01!H111*PACKT05!$F$6)","v":0},{"$f":"(PACKT01!I111*PACKT05!$F$6)","v":0},{"$f":"(PACKT01!J111*PACKT05!$F$6)","v":0},{"$f":"(PACKT01!K111*PACKT05!$F$6)","v":0},{"$f":"(PACKT01!L111*PACKT05!$F$6)","v":0},{"$f":"(PACKT01!M111*PACKT05!$F$6)","v":0},{"$f":"(PACKT01!N111*PACKT05!$F$6)","v":0},{"$f":"(PACKT01!O111*PACKT05!$F$6)","v":0},{"$f":"(PACKT01!P111*PACKT05!$F$6)","v":0},{"$f":"(PACKT01!Q111*PACKT05!$F$6)","v":0},{"$f":"VLOOKUP(PACKT05Table[[#This Row],[EmployeeID]],EmployeeListLookupTable[#All],11,FALSE)=\"Y\"","v":true}]
[null,"Total",null,null,"Total",{"$f":"SUBTOTAL(109,PACKT05Table[1])","v":0},{"$f":"SUBTOTAL(109,PACKT05Table[2])","v":0},{"$f":"SUBTOTAL(109,PACKT05Table[3])","v":0},{"$f":"SUBTOTAL(109,PACKT05Table[4])","v":0},{"$f":"SUBTOTAL(109,PACKT05Table[5])","v":0},{"$f":"SUBTOTAL(109,PACKT05Table[6])","v":0},{"$f":"SUBTOTAL(109,PACKT05Table[7])","v":0},{"$f":"SUBTOTAL(109,PACKT05Table[8])","v":0},{"$f":"SUBTOTAL(109,PACKT05Table[9])","v":0},{"$f":"SUBTOTAL(109,PACKT05Table[10])","v":0},{"$f":"SUBTOTAL(109,PACKT05Table[11])","v":0},{"$f":"SUBTOTAL(109,PACKT05Table[12])","v":0}]

{"sheet":"PACKT06","index":14,"n_rows":113,"n_cols":18,"rows_kept":113,"cut":false,"hidden":false,"merged":[[1,2,1,4],[1,6,1,10],[2,2,2,10]]}
[null,null,"Menu"]
[null,null,{"$f":"EntityName","v":"Company A"},null,null,null,{"$f":"YearEnd","v":"2013-02-28"}]
[null,null,{"$f":"VLOOKUP(D6,PackageItemListLookup[],4,FALSE)","v":"PACKT06"}]
[]
[]
[null,null,"Package Item code:","PACK006","Employer UIF % ",null,0.01]
[null,null,"Package Item name:",{"$f":"VLOOKUP(D6,PackageItemListLookup[],2,FALSE)","v":"UIF"},"Cap",null,250]
[]
[null,null,null,null,"Total",{"$f":"PACKT06Table[[#Totals],[1]]","v":0},{"$f":"PACKT06Table[[#Totals],[2]]","v":0},{"$f":"PACKT06Table[[#Totals],[3]]","v":0},{"$f":"PACKT06Table[[#Totals],[4]]","v":0},{"$f":"PACKT06Table[[#Totals],[5]]","v":0},{"$f":"PACKT06Table[[#Totals],[6]]","v":0},{"$f":"PACKT06Table[[#Totals],[7]]","v":0},{"$f":"PACKT06Table[[#Totals],[8]]","v":0},{"$f":"PACKT06Table[[#Totals],[9]]","v":0},{"$f":"PACKT06Table[[#Totals],[10]]","v":0},{"$f":"PACKT06Table[[#Totals],[11]]","v":0},{"$f":"PACKT06Table[[#Totals],[12]]","v":0}]
[]
[null,null,null,null,null,{"$f":"VLOOKUP(PackageItemTable[[#Headers],[1]],CalendarMonthText,5,FALSE)","v":"March"},{"$f":"VLOOKUP(PackageItemTable[[#Headers],[2]],CalendarMonthText,5,FALSE)","v":"April"},{"$f":"VLOOKUP(PackageItemTable[[#Headers],[3]],CalendarMonthText,5,FALSE)","v":"May"},{"$f":"VLOOKUP(PackageItemTable[[#Headers],[4]],CalendarMonthText,5,FALSE)","v":"June"},{"$f":"VLOOKUP(PackageItemTable[[#Headers],[5]],CalendarMonthText,5,FALSE)","v":"July"},{"$f":"VLOOKUP(PackageItemTable[[#Headers],[6]],CalendarMonthText,5,FALSE)","v":"August"},{"$f":"VLOOKUP(PackageItemTable[[#Headers],[7]],CalendarMonthText,5,FALSE)","v":"September"},{"$f":"VLOOKUP(PackageItemTable[[#Headers],[8]],CalendarMonthText,5,FALSE)","v":"October"},{"$f":"VLOOKUP(PackageItemTable[[#Headers],[9]],CalendarMonthText,5,FALSE)","v":"November"},{"$f":"VLOOKUP(PackageItemTable[[#Headers],[10]],CalendarMonthText,5,FALSE)","v":"December"},{"$f":"VLOOKUP(PackageItemTable[[#Headers],[11]],CalendarMonthText,5,FALSE)","v":"January"},{"$f":"VLOOKUP(PackageItemTable[[#Headers],[12]],CalendarMonthText,5,FALSE)","v":"February"}]
[null,"EmployeeID","EmployeeNumber","EmployeeName","EmployeeJobTitle","1","2","3","4","5","6","7","8","9","10","11","12","Selected"]
[null,"EMP0001",{"$f":"VLOOKUP(PACKT06Table[[#This Row],[EmployeeID]],EmployeeListLookupTable[],2,FALSE)","v":"EMPN001"},{"$f":"VLOOKUP(PACKT06Table[[#This Row],[EmployeeID]],EmployeeListLookupTable[],3,FALSE)","v":"Employee Name 1"},{"$f":"VLOOKUP(PACKT06Table[[#This Row],[EmployeeID]],EmployeeListLookupTable[],4,FALSE)","v":"Employee Job Title 1"},{"$f":"IF(PACKT01!F12*PACKT06!$G$6<$G$7,PACKT01!F12*PACKT06!$G$6,$G$7)","v":0},{"$f":"IF(PACKT01!G12*PACKT06!$G$6<$G$7,PACKT01!G12*PACKT06!$G$6,$G$7)","v":0},{"$f":"IF(PACKT01!H12*PACKT06!$G$6<$G$7,PACKT01!H12*PACKT06!$G$6,$G$7)","v":0},{"$f":"IF(PACKT01!I12*PACKT06!$G$6<$G$7,PACKT01!I12*PACKT06!$G$6,$G$7)","v":0},{"$f":"IF(PACKT01!J12*PACKT06!$G$6<$G$7,PACKT01!J12*PACKT06!$G$6,$G$7)","v":0},{"$f":"IF(PACKT01!K12*PACKT06!$G$6<$G$7,PACKT01!K12*PACKT06!$G$6,$G$7)","v":0},{"$f":"IF(PACKT01!L12*PACKT06!$G$6<$G$7,PACKT01!L12*PACKT06!$G$6,$G$7)","v":0},{"$f":"IF(PACKT01!M12*PACKT06!$G$6<$G$7,PACKT01!M12*PACKT06!$G$6,$G$7)","v":0},{"$f":"IF(PACKT01!N12*PACKT06!$G$6<$G$7,PACKT01!N12*PACKT06!$G$6,$G$7)","v":0},{"$f":"IF(PACKT01!O12*PACKT06!$G$6<$G$7,PACKT01!O12*PACKT06!$G$6,$G$7)","v":0},{"$f":"IF(PACKT01!P12*PACKT06!$G$6<$G$7,PACKT01!P12*PACKT06!$G$6,$G$7)","v":0},{"$f":"IF(PACKT01!Q12*PACKT06!$G$6<$G$7,PACKT01!Q12*PACKT06!$G$6,$G$7)","v":0},{"$f":"VLOOKUP(PACKT06Table[[#This Row],[EmployeeID]],EmployeeListLookupTable[#All],12,FALSE)=\"Y\"","v":true}]
[null,"EMP0002",{"$f":"VLOOKUP(PACKT06Table[[#This Row],[EmployeeID]],EmployeeListLookupTable[],2,FALSE)","v":"EMPN002"},{"$f":"VLOOKUP(PACKT06Table[[#This Row],[EmployeeID]],EmployeeListLookupTable[],3,FALSE)","v":"Employee Name 2"},{"$f":"VLOOKUP(PACKT06Table[[#This Row],[EmployeeID]],EmployeeListLookupTable[],4,FALSE)","v":"Employee Job Title 2"},{"$f":"IF(PACKT01!F13*PACKT06!$G$6<$G$7,PACKT01!F13*PACKT06!$G$6,$G$7)","v":0},{"$f":"IF(PACKT01!G13*PACKT06!$G$6<$G$7,PACKT01!G13*PACKT06!$G$6,$G$7)","v":0},{"$f":"IF(PACKT01!H13*PACKT06!$G$6<$G$7,PACKT01!H13*PACKT06!$G$6,$G$7)","v":0},{"$f":"IF(PACKT01!I13*PACKT06!$G$6<$G$7,PACKT01!I13*PACKT06!$G$6,$G$7)","v":0},{"$f":"IF(PACKT01!J13*PACKT06!$G$6<$G$7,PACKT01!J13*PACKT06!$G$6,$G$7)","v":0},{"$f":"IF(PACKT01!K13*PACKT06!$G$6<$G$7,PACKT01!K13*PACKT06!$G$6,$G$7)","v":0},{"$f":"IF(PACKT01!L13*PACKT06!$G$6<$G$7,PACKT01!L13*PACKT06!$G$6,$G$7)","v":0},{"$f":"IF(PACKT01!M13*PACKT06!$G$6<$G$7,PACKT01!M13*PACKT06!$G$6,$G$7)","v":0},{"$f":"IF(PACKT01!N13*PACKT06!$G$6<$G$7,PACKT01!N13*PACKT06!$G$6,$G$7)","v":0},{"$f":"IF(PACKT01!O13*PACKT06!$G$6<$G$7,PACKT01!O13*PACKT06!$G$6,$G$7)","v":0},{"$f":"IF(PACKT01!P13*PACKT06!$G$6<$G$7,PACKT01!P13*PACKT06!$G$6,$G$7)","v":0},{"$f":"IF(PACKT01!Q13*PACKT06!$G$6<$G$7,PACKT01!Q13*PACKT06!$G$6,$G$7)","v":0},{"$f":"VLOOKUP(PACKT06Table[[#This Row],[EmployeeID]],EmployeeListLookupTable[#All],12,FALSE)=\"Y\"","v":true}]
[null,"EMP0003",{"$f":"VLOOKUP(PACKT06Table[[#This Row],[EmployeeID]],EmployeeListLookupTable[],2,FALSE)","v":"EMPN003"},{"$f":"VLOOKUP(PACKT06Table[[#This Row],[EmployeeID]],EmployeeListLookupTable[],3,FALSE)","v":"Employee Name 3"},{"$f":"VLOOKUP(PACKT06Table[[#This Row],[EmployeeID]],EmployeeListLookupTable[],4,FALSE)","v":"Employee Job Title 3"},{"$f":"IF(PACKT01!F14*PACKT06!$G$6<$G$7,PACKT01!F14*PACKT06!$G$6,$G$7)","v":0},{"$f":"IF(PACKT01!G14*PACKT06!$G$6<$G$7,PACKT01!G14*PACKT06!$G$6,$G$7)","v":0},{"$f":"IF(PACKT01!H14*PACKT06!$G$6<$G$7,PACKT01!H14*PACKT06!$G$6,$G$7)","v":0},{"$f":"IF(PACKT01!I14*PACKT06!$G$6<$G$7,PACKT01!I14*PACKT06!$G$6,$G$7)","v":0},{"$f":"IF(PACKT01!J14*PACKT06!$G$6<$G$7,PACKT01!J14*PACKT06!$G$6,$G$7)","v":0},{"$f":"IF(PACKT01!K14*PACKT06!$G$6<$G$7,PACKT01!K14*PACKT06!$G$6,$G$7)","v":0},{"$f":"IF(PACKT01!L14*PACKT06!$G$6<$G$7,PACKT01!L14*PACKT06!$G$6,$G$7)","v":0},{"$f":"IF(PACKT01!M14*PACKT06!$G$6<$G$7,PACKT01!M14*PACKT06!$G$6,$G$7)","v":0},{"$f":"IF(PACKT01!N14*PACKT06!$G$6<$G$7,PACKT01!N14*PACKT06!$G$6,$G$7)","v":0},{"$f":"IF(PACKT01!O14*PACKT06!$G$6<$G$7,PACKT01!O14*PACKT06!$G$6,$G$7)","v":0},{"$f":"IF(PACKT01!P14*PACKT06!$G$6<$G$7,PACKT01!P14*PACKT06!$G$6,$G$7)","v":0},{"$f":"IF(PACKT01!Q14*PACKT06!$G$6<$G$7,PACKT01!Q14*PACKT06!$G$6,$G$7)","v":0},{"$f":"VLOOKUP(PACKT06Table[[#This Row],[EmployeeID]],EmployeeListLookupTable[#All],12,FALSE)=\"Y\"","v":true}]
[null,"EMP0004",{"$f":"VLOOKUP(PACKT06Table[[#This Row],[EmployeeID]],EmployeeListLookupTable[],2,FALSE)","v":"EMPN004"},{"$f":"VLOOKUP(PACKT06Table[[#This Row],[EmployeeID]],EmployeeListLookupTable[],3,FALSE)","v":"Employee Name 4"},{"$f":"VLOOKUP(PACKT06Table[[#This Row],[EmployeeID]],EmployeeListLookupTable[],4,FALSE)","v":"Employee Job Title 4"},{"$f":"IF(PACKT01!F15*PACKT06!$G$6<$G$7,PACKT01!F15*PACKT06!$G$6,$G$7)","v":0},{"$f":"IF(PACKT01!G15*PACKT06!$G$6<$G$7,PACKT01!G15*PACKT06!$G$6,$G$7)","v":0},{"$f":"IF(PACKT01!H15*PACKT06!$G$6<$G$7,PACKT01!H15*PACKT06!$G$6,$G$7)","v":0},{"$f":"IF(PACKT01!I15*PACKT06!$G$6<$G$7,PACKT01!I15*PACKT06!$G$6,$G$7)","v":0},{"$f":"IF(PACKT01!J15*PACKT06!$G$6<$G$7,PACKT01!J15*PACKT06!$G$6,$G$7)","v":0},{"$f":"IF(PACKT01!K15*PACKT06!$G$6<$G$7,PACKT01!K15*PACKT06!$G$6,$G$7)","v":0},{"$f":"IF(PACKT01!L15*PACKT06!$G$6<$G$7,PACKT01!L15*PACKT06!$G$6,$G$7)","v":0},{"$f":"IF(PACKT01!M15*PACKT06!$G$6<$G$7,PACKT01!M15*PACKT06!$G$6,$G$7)","v":0},{"$f":"IF(PACKT01!N15*PACKT06!$G$6<$G$7,PACKT01!N15*PACKT06!$G$6,$G$7)","v":0},{"$f":"IF(PACKT01!O15*PACKT06!$G$6<$G$7,PACKT01!O15*PACKT06!$G$6,$G$7)","v":0},{"$f":"IF(PACKT01!P15*PACKT06!$G$6<$G$7,PACKT01!P15*PACKT06!$G$6,$G$7)","v":0},{"$f":"IF(PACKT01!Q15*PACKT06!$G$6<$G$7,PACKT01!Q15*PACKT06!$G$6,$G$7)","v":0},{"$f":"VLOOKUP(PACKT06Table[[#This Row],[EmployeeID]],EmployeeListLookupTable[#All],12,FALSE)=\"Y\"","v":true}]
[null,"EMP0005",{"$f":"VLOOKUP(PACKT06Table[[#This Row],[EmployeeID]],EmployeeListLookupTable[],2,FALSE)","v":"EMPN005"},{"$f":"VLOOKUP(PACKT06Table[[#This Row],[EmployeeID]],EmployeeListLookupTable[],3,FALSE)","v":"Employee Name 5"},{"$f":"VLOOKUP(PACKT06Table[[#This Row],[EmployeeID]],EmployeeListLookupTable[],4,FALSE)","v":"Employee Job Title 5"},{"$f":"IF(PACKT01!F16*PACKT06!$G$6<$G$7,PACKT01!F16*PACKT06!$G$6,$G$7)","v":0},{"$f":"IF(PACKT01!G16*PACKT06!$G$6<$G$7,PACKT01!G16*PACKT06!$G$6,$G$7)","v":0},{"$f":"IF(PACKT01!H16*PACKT06!$G$6<$G$7,PACKT01!H16*PACKT06!$G$6,$G$7)","v":0},{"$f":"IF(PACKT01!I16*PACKT06!$G$6<$G$7,PACKT01!I16*PACKT06!$G$6,$G$7)","v":0},{"$f":"IF(PACKT01!J16*PACKT06!$G$6<$G$7,PACKT01!J16*PACKT06!$G$6,$G$7)","v":0},{"$f":"IF(PACKT01!K16*PACKT06!$G$6<$G$7,PACKT01!K16*PACKT06!$G$6,$G$7)","v":0},{"$f":"IF(PACKT01!L16*PACKT06!$G$6<$G$7,PACKT01!L16*PACKT06!$G$6,$G$7)","v":0},{"$f":"IF(PACKT01!M16*PACKT06!$G$6<$G$7,PACKT01!M16*PACKT06!$G$6,$G$7)","v":0},{"$f":"IF(PACKT01!N16*PACKT06!$G$6<$G$7,PACKT01!N16*PACKT06!$G$6,$G$7)","v":0},{"$f":"IF(PACKT01!O16*PACKT06!$G$6<$G$7,PACKT01!O16*PACKT06!$G$6,$G$7)","v":0},{"$f":"IF(PACKT01!P16*PACKT06!$G$6<$G$7,PACKT01!P16*PACKT06!$G$6,$G$7)","v":0},{"$f":"IF(PACKT01!Q16*PACKT06!$G$6<$G$7,PACKT01!Q16*PACKT06!$G$6,$G$7)","v":0},{"$f":"VLOOKUP(PACKT06Table[[#This Row],[EmployeeID]],EmployeeListLookupTable[#All],12,FALSE)=\"Y\"","v":true}]
[null,"EMP0006",{"$f":"VLOOKUP(PACKT06Table[[#This Row],[EmployeeID]],EmployeeListLookupTable[],2,FALSE)","v":"EMPN006"},{"$f":"VLOOKUP(PACKT06Table[[#This Row],[EmployeeID]],EmployeeListLookupTable[],3,FALSE)","v":"Employee Name 6"},{"$f":"VLOOKUP(PACKT06Table[[#This Row],[EmployeeID]],EmployeeListLookupTable[],4,FALSE)","v":"Employee Job Title 6"},{"$f":"IF(PACKT01!F17*PACKT06!$G$6<$G$7,PACKT01!F17*PACKT06!$G$6,$G$7)","v":0},{"$f":"IF(PACKT01!G17*PACKT06!$G$6<$G$7,PACKT01!G17*PACKT06!$G$6,$G$7)","v":0},{"$f":"IF(PACKT01!H17*PACKT06!$G$6<$G$7,PACKT01!H17*PACKT06!$G$6,$G$7)","v":0},{"$f":"IF(PACKT01!I17*PACKT06!$G$6<$G$7,PACKT01!I17*PACKT06!$G$6,$G$7)","v":0},{"$f":"IF(PACKT01!J17*PACKT06!$G$6<$G$7,PACKT01!J17*PACKT06!$G$6,$G$7)","v":0},{"$f":"IF(PACKT01!K17*PACKT06!$G$6<$G$7,PACKT01!K17*PACKT06!$G$6,$G$7)","v":0},{"$f":"IF(PACKT01!L17*PACKT06!$G$6<$G$7,PACKT01!L17*PACKT06!$G$6,$G$7)","v":0},{"$f":"IF(PACKT01!M17*PACKT06!$G$6<$G$7,PACKT01!M17*PACKT06!$G$6,$G$7)","v":0},{"$f":"IF(PACKT01!N17*PACKT06!$G$6<$G$7,PACKT01!N17*PACKT06!$G$6,$G$7)","v":0},{"$f":"IF(PACKT01!O17*PACKT06!$G$6<$G$7,PACKT01!O17*PACKT06!$G$6,$G$7)","v":0},{"$f":"IF(PACKT01!P17*PACKT06!$G$6<$G$7,PACKT01!P17*PACKT06!$G$6,$G$7)","v":0},{"$f":"IF(PACKT01!Q17*PACKT06!$G$6<$G$7,PACKT01!Q17*PACKT06!$G$6,$G$7)","v":0},{"$f":"VLOOKUP(PACKT06Table[[#This Row],[EmployeeID]],EmployeeListLookupTable[#All],12,FALSE)=\"Y\"","v":true}]
[null,"EMP0007",{"$f":"VLOOKUP(PACKT06Table[[#This Row],[EmployeeID]],EmployeeListLookupTable[],2,FALSE)","v":"EMPN007"},{"$f":"VLOOKUP(PACKT06Table[[#This Row],[EmployeeID]],EmployeeListLookupTable[],3,FALSE)","v":"Employee Name 7"},{"$f":"VLOOKUP(PACKT06Table[[#This Row],[EmployeeID]],EmployeeListLookupTable[],4,FALSE)","v":"Employee Job Title 7"},{"$f":"IF(PACKT01!F18*PACKT06!$G$6<$G$7,PACKT01!F18*PACKT06!$G$6,$G$7)","v":0},{"$f":"IF(PACKT01!G18*PACKT06!$G$6<$G$7,PACKT01!G18*PACKT06!$G$6,$G$7)","v":0},{"$f":"IF(PACKT01!H18*PACKT06!$G$6<$G$7,PACKT01!H18*PACKT06!$G$6,$G$7)","v":0},{"$f":"IF(PACKT01!I18*PACKT06!$G$6<$G$7,PACKT01!I18*PACKT06!$G$6,$G$7)","v":0},{"$f":"IF(PACKT01!J18*PACKT06!$G$6<$G$7,PACKT01!J18*PACKT06!$G$6,$G$7)","v":0},{"$f":"IF(PACKT01!K18*PACKT06!$G$6<$G$7,PACKT01!K18*PACKT06!$G$6,$G$7)","v":0},{"$f":"IF(PACKT01!L18*PACKT06!$G$6<$G$7,PACKT01!L18*PACKT06!$G$6,$G$7)","v":0},{"$f":"IF(PACKT01!M18*PACKT06!$G$6<$G$7,PACKT01!M18*PACKT06!$G$6,$G$7)","v":0},{"$f":"IF(PACKT01!N18*PACKT06!$G$6<$G$7,PACKT01!N18*PACKT06!$G$6,$G$7)","v":0},{"$f":"IF(PACKT01!O18*PACKT06!$G$6<$G$7,PACKT01!O18*PACKT06!$G$6,$G$7)","v":0},{"$f":"IF(PACKT01!P18*PACKT06!$G$6<$G$7,PACKT01!P18*PACKT06!$G$6,$G$7)","v":0},{"$f":"IF(PACKT01!Q18*PACKT06!$G$6<$G$7,PACKT01!Q18*PACKT06!$G$6,$G$7)","v":0},{"$f":"VLOOKUP(PACKT06Table[[#This Row],[EmployeeID]],EmployeeListLookupTable[#All],12,FALSE)=\"Y\"","v":true}]
[null,"EMP0008",{"$f":"VLOOKUP(PACKT06Table[[#This Row],[EmployeeID]],EmployeeListLookupTable[],2,FALSE)","v":"EMPN008"},{"$f":"VLOOKUP(PACKT06Table[[#This Row],[EmployeeID]],EmployeeListLookupTable[],3,FALSE)","v":"Employee Name 8"},{"$f":"VLOOKUP(PACKT06Table[[#This Row],[EmployeeID]],EmployeeListLookupTable[],4,FALSE)","v":"Employee Job Title 8"},{"$f":"IF(PACKT01!F19*PACKT06!$G$6<$G$7,PACKT01!F19*PACKT06!$G$6,$G$7)","v":0},{"$f":"IF(PACKT01!G19*PACKT06!$G$6<$G$7,PACKT01!G19*PACKT06!$G$6,$G$7)","v":0},{"$f":"IF(PACKT01!H19*PACKT06!$G$6<$G$7,PACKT01!H19*PACKT06!$G$6,$G$7)","v":0},{"$f":"IF(PACKT01!I19*PACKT06!$G$6<$G$7,PACKT01!I19*PACKT06!$G$6,$G$7)","v":0},{"$f":"IF(PACKT01!J19*PACKT06!$G$6<$G$7,PACKT01!J19*PACKT06!$G$6,$G$7)","v":0},{"$f":"IF(PACKT01!K19*PACKT06!$G$6<$G$7,PACKT01!K19*PACKT06!$G$6,$G$7)","v":0},{"$f":"IF(PACKT01!L19*PACKT06!$G$6<$G$7,PACKT01!L19*PACKT06!$G$6,$G$7)","v":0},{"$f":"IF(PACKT01!M19*PACKT06!$G$6<$G$7,PACKT01!M19*PACKT06!$G$6,$G$7)","v":0},{"$f":"IF(PACKT01!N19*PACKT06!$G$6<$G$7,PACKT01!N19*PACKT06!$G$6,$G$7)","v":0},{"$f":"IF(PACKT01!O19*PACKT06!$G$6<$G$7,PACKT01!O19*PACKT06!$G$6,$G$7)","v":0},{"$f":"IF(PACKT01!P19*PACKT06!$G$6<$G$7,PACKT01!P19*PACKT06!$G$6,$G$7)","v":0},{"$f":"IF(PACKT01!Q19*PACKT06!$G$6<$G$7,PACKT01!Q19*PACKT06!$G$6,$G$7)","v":0},{"$f":"VLOOKUP(PACKT06Table[[#This Row],[EmployeeID]],EmployeeListLookupTable[#All],12,FALSE)=\"Y\"","v":true}]
[null,"EMP0009",{"$f":"VLOOKUP(PACKT06Table[[#This Row],[EmployeeID]],EmployeeListLookupTable[],2,FALSE)","v":"EMPN009"},{"$f":"VLOOKUP(PACKT06Table[[#This Row],[EmployeeID]],EmployeeListLookupTable[],3,FALSE)","v":"Employee Name 9"},{"$f":"VLOOKUP(PACKT06Table[[#This Row],[EmployeeID]],EmployeeListLookupTable[],4,FALSE)","v":"Employee Job Title 9"},{"$f":"IF(PACKT01!F20*PACKT06!$G$6<$G$7,PACKT01!F20*PACKT06!$G$6,$G$7)","v":0},{"$f":"IF(PACKT01!G20*PACKT06!$G$6<$G$7,PACKT01!G20*PACKT06!$G$6,$G$7)","v":0},{"$f":"IF(PACKT01!H20*PACKT06!$G$6<$G$7,PACKT01!H20*PACKT06!$G$6,$G$7)","v":0},{"$f":"IF(PACKT01!I20*PACKT06!$G$6<$G$7,PACKT01!I20*PACKT06!$G$6,$G$7)","v":0},{"$f":"IF(PACKT01!J20*PACKT06!$G$6<$G$7,PACKT01!J20*PACKT06!$G$6,$G$7)","v":0},{"$f":"IF(PACKT01!K20*PACKT06!$G$6<$G$7,PACKT01!K20*PACKT06!$G$6,$G$7)","v":0},{"$f":"IF(PACKT01!L20*PACKT06!$G$6<$G$7,PACKT01!L20*PACKT06!$G$6,$G$7)","v":0},{"$f":"IF(PACKT01!M20*PACKT06!$G$6<$G$7,PACKT01!M20*PACKT06!$G$6,$G$7)","v":0},{"$f":"IF(PACKT01!N20*PACKT06!$G$6<$G$7,PACKT01!N20*PACKT06!$G$6,$G$7)","v":0},{"$f":"IF(PACKT01!O20*PACKT06!$G$6<$G$7,PACKT01!O20*PACKT06!$G$6,$G$7)","v":0},{"$f":"IF(PACKT01!P20*PACKT06!$G$6<$G$7,PACKT01!P20*PACKT06!$G$6,$G$7)","v":0},{"$f":"IF(PACKT01!Q20*PACKT06!$G$6<$G$7,PACKT01!Q20*PACKT06!$G$6,$G$7)","v":0},{"$f":"VLOOKUP(PACKT06Table[[#This Row],[EmployeeID]],EmployeeListLookupTable[#All],12,FALSE)=\"Y\"","v":true}]
[null,"EMP0010",{"$f":"VLOOKUP(PACKT06Table[[#This Row],[EmployeeID]],EmployeeListLookupTable[],2,FALSE)","v":"EMPN010"},{"$f":"VLOOKUP(PACKT06Table[[#This Row],[EmployeeID]],EmployeeListLookupTable[],3,FALSE)","v":"Employee Name 10"},{"$f":"VLOOKUP(PACKT06Table[[#This Row],[EmployeeID]],EmployeeListLookupTable[],4,FALSE)","v":"Employee Job Title 10"},{"$f":"IF(PACKT01!F21*PACKT06!$G$6<$G$7,PACKT01!F21*PACKT06!$G$6,$G$7)","v":0},{"$f":"IF(PACKT01!G21*PACKT06!$G$6<$G$7,PACKT01!G21*PACKT06!$G$6,$G$7)","v":0},{"$f":"IF(PACKT01!H21*PACKT06!$G$6<$G$7,PACKT01!H21*PACKT06!$G$6,$G$7)","v":0},{"$f":"IF(PACKT01!I21*PACKT06!$G$6<$G$7,PACKT01!I21*PACKT06!$G$6,$G$7)","v":0},{"$f":"IF(PACKT01!J21*PACKT06!$G$6<$G$7,PACKT01!J21*PACKT06!$G$6,$G$7)","v":0},{"$f":"IF(PACKT01!K21*PACKT06!$G$6<$G$7,PACKT01!K21*PACKT06!$G$6,$G$7)","v":0},{"$f":"IF(PACKT01!L21*PACKT06!$G$6<$G$7,PACKT01!L21*PACKT06!$G$6,$G$7)","v":0},{"$f":"IF(PACKT01!M21*PACKT06!$G$6<$G$7,PACKT01!M21*PACKT06!$G$6,$G$7)","v":0},{"$f":"IF(PACKT01!N21*PACKT06!$G$6<$G$7,PACKT01!N21*PACKT06!$G$6,$G$7)","v":0},{"$f":"IF(PACKT01!O21*PACKT06!$G$6<$G$7,PACKT01!O21*PACKT06!$G$6,$G$7)","v":0},{"$f":"IF(PACKT01!P21*PACKT06!$G$6<$G$7,PACKT01!P21*PACKT06!$G$6,$G$7)","v":0},{"$f":"IF(PACKT01!Q21*PACKT06!$G$6<$G$7,PACKT01!Q21*PACKT06!$G$6,$G$7)","v":0},{"$f":"VLOOKUP(PACKT06Table[[#This Row],[EmployeeID]],EmployeeListLookupTable[#All],12,FALSE)=\"Y\"","v":true}]
[null,"EMP0011",{"$f":"VLOOKUP(PACKT06Table[[#This Row],[EmployeeID]],EmployeeListLookupTable[],2,FALSE)","v":"EMPN011"},{"$f":"VLOOKUP(PACKT06Table[[#This Row],[EmployeeID]],EmployeeListLookupTable[],3,FALSE)","v":"Employee Name 11"},{"$f":"VLOOKUP(PACKT06Table[[#This Row],[EmployeeID]],EmployeeListLookupTable[],4,FALSE)","v":"Employee Job Title 11"},{"$f":"IF(PACKT01!F22*PACKT06!$G$6<$G$7,PACKT01!F22*PACKT06!$G$6,$G$7)","v":0},{"$f":"IF(PACKT01!G22*PACKT06!$G$6<$G$7,PACKT01!G22*PACKT06!$G$6,$G$7)","v":0},{"$f":"IF(PACKT01!H22*PACKT06!$G$6<$G$7,PACKT01!H22*PACKT06!$G$6,$G$7)","v":0},{"$f":"IF(PACKT01!I22*PACKT06!$G$6<$G$7,PACKT01!I22*PACKT06!$G$6,$G$7)","v":0},{"$f":"IF(PACKT01!J22*PACKT06!$G$6<$G$7,PACKT01!J22*PACKT06!$G$6,$G$7)","v":0},{"$f":"IF(PACKT01!K22*PACKT06!$G$6<$G$7,PACKT01!K22*PACKT06!$G$6,$G$7)","v":0},{"$f":"IF(PACKT01!L22*PACKT06!$G$6<$G$7,PACKT01!L22*PACKT06!$G$6,$G$7)","v":0},{"$f":"IF(PACKT01!M22*PACKT06!$G$6<$G$7,PACKT01!M22*PACKT06!$G$6,$G$7)","v":0},{"$f":"IF(PACKT01!N22*PACKT06!$G$6<$G$7,PACKT01!N22*PACKT06!$G$6,$G$7)","v":0},{"$f":"IF(PACKT01!O22*PACKT06!$G$6<$G$7,PACKT01!O22*PACKT06!$G$6,$G$7)","v":0},{"$f":"IF(PACKT01!P22*PACKT06!$G$6<$G$7,PACKT01!P22*PACKT06!$G$6,$G$7)","v":0},{"$f":"IF(PACKT01!Q22*PACKT06!$G$6<$G$7,PACKT01!Q22*PACKT06!$G$6,$G$7)","v":0},{"$f":"VLOOKUP(PACKT06Table[[#This Row],[EmployeeID]],EmployeeListLookupTable[#All],12,FALSE)=\"Y\"","v":true}]
[null,"EMP0012",{"$f":"VLOOKUP(PACKT06Table[[#This Row],[EmployeeID]],EmployeeListLookupTable[],2,FALSE)","v":"EMPN012"},{"$f":"VLOOKUP(PACKT06Table[[#This Row],[EmployeeID]],EmployeeListLookupTable[],3,FALSE)","v":"Employee Name 12"},{"$f":"VLOOKUP(PACKT06Table[[#This Row],[EmployeeID]],EmployeeListLookupTable[],4,FALSE)","v":"Employee Job Title 12"},{"$f":"IF(PACKT01!F23*PACKT06!$G$6<$G$7,PACKT01!F23*PACKT06!$G$6,$G$7)","v":0},{"$f":"IF(PACKT01!G23*PACKT06!$G$6<$G$7,PACKT01!G23*PACKT06!$G$6,$G$7)","v":0},{"$f":"IF(PACKT01!H23*PACKT06!$G$6<$G$7,PACKT01!H23*PACKT06!$G$6,$G$7)","v":0},{"$f":"IF(PACKT01!I23*PACKT06!$G$6<$G$7,PACKT01!I23*PACKT06!$G$6,$G$7)","v":0},{"$f":"IF(PACKT01!J23*PACKT06!$G$6<$G$7,PACKT01!J23*PACKT06!$G$6,$G$7)","v":0},{"$f":"IF(PACKT01!K23*PACKT06!$G$6<$G$7,PACKT01!K23*PACKT06!$G$6,$G$7)","v":0},{"$f":"IF(PACKT01!L23*PACKT06!$G$6<$G$7,PACKT01!L23*PACKT06!$G$6,$G$7)","v":0},{"$f":"IF(PACKT01!M23*PACKT06!$G$6<$G$7,PACKT01!M23*PACKT06!$G$6,$G$7)","v":0},{"$f":"IF(PACKT01!N23*PACKT06!$G$6<$G$7,PACKT01!N23*PACKT06!$G$6,$G$7)","v":0},{"$f":"IF(PACKT01!O23*PACKT06!$G$6<$G$7,PACKT01!O23*PACKT06!$G$6,$G$7)","v":0},{"$f":"IF(PACKT01!P23*PACKT06!$G$6<$G$7,PACKT01!P23*PACKT06!$G$6,$G$7)","v":0},{"$f":"IF(PACKT01!Q23*PACKT06!$G$6<$G$7,PACKT01!Q23*PACKT06!$G$6,$G$7)","v":0},{"$f":"VLOOKUP(PACKT06Table[[#This Row],[EmployeeID]],EmployeeListLookupTable[#All],12,FALSE)=\"Y\"","v":true}]
[null,"EMP0013",{"$f":"VLOOKUP(PACKT06Table[[#This Row],[EmployeeID]],EmployeeListLookupTable[],2,FALSE)","v":"EMPN013"},{"$f":"VLOOKUP(PACKT06Table[[#This Row],[EmployeeID]],EmployeeListLookupTable[],3,FALSE)","v":"Employee Name 13"},{"$f":"VLOOKUP(PACKT06Table[[#This Row],[EmployeeID]],EmployeeListLookupTable[],4,FALSE)","v":"Employee Job Title 13"},{"$f":"IF(PACKT01!F24*PACKT06!$G$6<$G$7,PACKT01!F24*PACKT06!$G$6,$G$7)","v":0},{"$f":"IF(PACKT01!G24*PACKT06!$G$6<$G$7,PACKT01!G24*PACKT06!$G$6,$G$7)","v":0},{"$f":"IF(PACKT01!H24*PACKT06!$G$6<$G$7,PACKT01!H24*PACKT06!$G$6,$G$7)","v":0},{"$f":"IF(PACKT01!I24*PACKT06!$G$6<$G$7,PACKT01!I24*PACKT06!$G$6,$G$7)","v":0},{"$f":"IF(PACKT01!J24*PACKT06!$G$6<$G$7,PACKT01!J24*PACKT06!$G$6,$G$7)","v":0},{"$f":"IF(PACKT01!K24*PACKT06!$G$6<$G$7,PACKT01!K24*PACKT06!$G$6,$G$7)","v":0},{"$f":"IF(PACKT01!L24*PACKT06!$G$6<$G$7,PACKT01!L24*PACKT06!$G$6,$G$7)","v":0},{"$f":"IF(PACKT01!M24*PACKT06!$G$6<$G$7,PACKT01!M24*PACKT06!$G$6,$G$7)","v":0},{"$f":"IF(PACKT01!N24*PACKT06!$G$6<$G$7,PACKT01!N24*PACKT06!$G$6,$G$7)","v":0},{"$f":"IF(PACKT01!O24*PACKT06!$G$6<$G$7,PACKT01!O24*PACKT06!$G$6,$G$7)","v":0},{"$f":"IF(PACKT01!P24*PACKT06!$G$6<$G$7,PACKT01!P24*PACKT06!$G$6,$G$7)","v":0},{"$f":"IF(PACKT01!Q24*PACKT06!$G$6<$G$7,PACKT01!Q24*PACKT06!$G$6,$G$7)","v":0},{"$f":"VLOOKUP(PACKT06Table[[#This Row],[EmployeeID]],EmployeeListLookupTable[#All],12,FALSE)=\"Y\"","v":true}]
[null,"EMP0014",{"$f":"VLOOKUP(PACKT06Table[[#This Row],[EmployeeID]],EmployeeListLookupTable[],2,FALSE)","v":"EMPN014"},{"$f":"VLOOKUP(PACKT06Table[[#This Row],[EmployeeID]],EmployeeListLookupTable[],3,FALSE)","v":"Employee Name 14"},{"$f":"VLOOKUP(PACKT06Table[[#This Row],[EmployeeID]],EmployeeListLookupTable[],4,FALSE)","v":"Employee Job Title 14"},{"$f":"IF(PACKT01!F25*PACKT06!$G$6<$G$7,PACKT01!F25*PACKT06!$G$6,$G$7)","v":0},{"$f":"IF(PACKT01!G25*PACKT06!$G$6<$G$7,PACKT01!G25*PACKT06!$G$6,$G$7)","v":0},{"$f":"IF(PACKT01!H25*PACKT06!$G$6<$G$7,PACKT01!H25*PACKT06!$G$6,$G$7)","v":0},{"$f":"IF(PACKT01!I25*PACKT06!$G$6<$G$7,PACKT01!I25*PACKT06!$G$6,$G$7)","v":0},{"$f":"IF(PACKT01!J25*PACKT06!$G$6<$G$7,PACKT01!J25*PACKT06!$G$6,$G$7)","v":0},{"$f":"IF(PACKT01!K25*PACKT06!$G$6<$G$7,PACKT01!K25*PACKT06!$G$6,$G$7)","v":0},{"$f":"IF(PACKT01!L25*PACKT06!$G$6<$G$7,PACKT01!L25*PACKT06!$G$6,$G$7)","v":0},{"$f":"IF(PACKT01!M25*PACKT06!$G$6<$G$7,PACKT01!M25*PACKT06!$G$6,$G$7)","v":0},{"$f":"IF(PACKT01!N25*PACKT06!$G$6<$G$7,PACKT01!N25*PACKT06!$G$6,$G$7)","v":0},{"$f":"IF(PACKT01!O25*PACKT06!$G$6<$G$7,PACKT01!O25*PACKT06!$G$6,$G$7)","v":0},{"$f":"IF(PACKT01!P25*PACKT06!$G$6<$G$7,PACKT01!P25*PACKT06!$G$6,$G$7)","v":0},{"$f":"IF(PACKT01!Q25*PACKT06!$G$6<$G$7,PACKT01!Q25*PACKT06!$G$6,$G$7)","v":0},{"$f":"VLOOKUP(PACKT06Table[[#This Row],[EmployeeID]],EmployeeListLookupTable[#All],12,FALSE)=\"Y\"","v":true}]
[null,"EMP0015",{"$f":"VLOOKUP(PACKT06Table[[#This Row],[EmployeeID]],EmployeeListLookupTable[],2,FALSE)","v":"EMPN015"},{"$f":"VLOOKUP(PACKT06Table[[#This Row],[EmployeeID]],EmployeeListLookupTable[],3,FALSE)","v":"Employee Name 15"},{"$f":"VLOOKUP(PACKT06Table[[#This Row],[EmployeeID]],EmployeeListLookupTable[],4,FALSE)","v":"Employee Job Title 15"},{"$f":"IF(PACKT01!F26*PACKT06!$G$6<$G$7,PACKT01!F26*PACKT06!$G$6,$G$7)","v":0},{"$f":"IF(PACKT01!G26*PACKT06!$G$6<$G$7,PACKT01!G26*PACKT06!$G$6,$G$7)","v":0},{"$f":"IF(PACKT01!H26*PACKT06!$G$6<$G$7,PACKT01!H26*PACKT06!$G$6,$G$7)","v":0},{"$f":"IF(PACKT01!I26*PACKT06!$G$6<$G$7,PACKT01!I26*PACKT06!$G$6,$G$7)","v":0},{"$f":"IF(PACKT01!J26*PACKT06!$G$6<$G$7,PACKT01!J26*PACKT06!$G$6,$G$7)","v":0},{"$f":"IF(PACKT01!K26*PACKT06!$G$6<$G$7,PACKT01!K26*PACKT06!$G$6,$G$7)","v":0},{"$f":"IF(PACKT01!L26*PACKT06!$G$6<$G$7,PACKT01!L26*PACKT06!$G$6,$G$7)","v":0},{"$f":"IF(PACKT01!M26*PACKT06!$G$6<$G$7,PACKT01!M26*PACKT06!$G$6,$G$7)","v":0},{"$f":"IF(PACKT01!N26*PACKT06!$G$6<$G$7,PACKT01!N26*PACKT06!$G$6,$G$7)","v":0},{"$f":"IF(PACKT01!O26*PACKT06!$G$6<$G$7,PACKT01!O26*PACKT06!$G$6,$G$7)","v":0},{"$f":"IF(PACKT01!P26*PACKT06!$G$6<$G$7,PACKT01!P26*PACKT06!$G$6,$G$7)","v":0},{"$f":"IF(PACKT01!Q26*PACKT06!$G$6<$G$7,PACKT01!Q26*PACKT06!$G$6,$G$7)","v":0},{"$f":"VLOOKUP(PACKT06Table[[#This Row],[EmployeeID]],EmployeeListLookupTable[#All],12,FALSE)=\"Y\"","v":true}]
[null,"EMP0016",{"$f":"VLOOKUP(PACKT06Table[[#This Row],[EmployeeID]],EmployeeListLookupTable[],2,FALSE)","v":"EMPN016"},{"$f":"VLOOKUP(PACKT06Table[[#This Row],[EmployeeID]],EmployeeListLookupTable[],3,FALSE)","v":"Employee Name 16"},{"$f":"VLOOKUP(PACKT06Table[[#This Row],[EmployeeID]],EmployeeListLookupTable[],4,FALSE)","v":"Employee Job Title 16"},{"$f":"IF(PACKT01!F27*PACKT06!$G$6<$G$7,PACKT01!F27*PACKT06!$G$6,$G$7)","v":0},{"$f":"IF(PACKT01!G27*PACKT06!$G$6<$G$7,PACKT01!G27*PACKT06!$G$6,$G$7)","v":0},{"$f":"IF(PACKT01!H27*PACKT06!$G$6<$G$7,PACKT01!H27*PACKT06!$G$6,$G$7)","v":0},{"$f":"IF(PACKT01!I27*PACKT06!$G$6<$G$7,PACKT01!I27*PACKT06!$G$6,$G$7)","v":0},{"$f":"IF(PACKT01!J27*PACKT06!$G$6<$G$7,PACKT01!J27*PACKT06!$G$6,$G$7)","v":0},{"$f":"IF(PACKT01!K27*PACKT06!$G$6<$G$7,PACKT01!K27*PACKT06!$G$6,$G$7)","v":0},{"$f":"IF(PACKT01!L27*PACKT06!$G$6<$G$7,PACKT01!L27*PACKT06!$G$6,$G$7)","v":0},{"$f":"IF(PACKT01!M27*PACKT06!$G$6<$G$7,PACKT01!M27*PACKT06!$G$6,$G$7)","v":0},{"$f":"IF(PACKT01!N27*PACKT06!$G$6<$G$7,PACKT01!N27*PACKT06!$G$6,$G$7)","v":0},{"$f":"IF(PACKT01!O27*PACKT06!$G$6<$G$7,PACKT01!O27*PACKT06!$G$6,$G$7)","v":0},{"$f":"IF(PACKT01!P27*PACKT06!$G$6<$G$7,PACKT01!P27*PACKT06!$G$6,$G$7)","v":0},{"$f":"IF(PACKT01!Q27*PACKT06!$G$6<$G$7,PACKT01!Q27*PACKT06!$G$6,$G$7)","v":0},{"$f":"VLOOKUP(PACKT06Table[[#This Row],[EmployeeID]],EmployeeListLookupTable[#All],12,FALSE)=\"Y\"","v":true}]
[null,"EMP0017",{"$f":"VLOOKUP(PACKT06Table[[#This Row],[EmployeeID]],EmployeeListLookupTable[],2,FALSE)","v":"EMPN017"},{"$f":"VLOOKUP(PACKT06Table[[#This Row],[EmployeeID]],EmployeeListLookupTable[],3,FALSE)","v":"Employee Name 17"},{"$f":"VLOOKUP(PACKT06Table[[#This Row],[EmployeeID]],EmployeeListLookupTable[],4,FALSE)","v":"Employee Job Title 17"},{"$f":"IF(PACKT01!F28*PACKT06!$G$6<$G$7,PACKT01!F28*PACKT06!$G$6,$G$7)","v":0},{"$f":"IF(PACKT01!G28*PACKT06!$G$6<$G$7,PACKT01!G28*PACKT06!$G$6,$G$7)","v":0},{"$f":"IF(PACKT01!H28*PACKT06!$G$6<$G$7,PACKT01!H28*PACKT06!$G$6,$G$7)","v":0},{"$f":"IF(PACKT01!I28*PACKT06!$G$6<$G$7,PACKT01!I28*PACKT06!$G$6,$G$7)","v":0},{"$f":"IF(PACKT01!J28*PACKT06!$G$6<$G$7,PACKT01!J28*PACKT06!$G$6,$G$7)","v":0},{"$f":"IF(PACKT01!K28*PACKT06!$G$6<$G$7,PACKT01!K28*PACKT06!$G$6,$G$7)","v":0},{"$f":"IF(PACKT01!L28*PACKT06!$G$6<$G$7,PACKT01!L28*PACKT06!$G$6,$G$7)","v":0},{"$f":"IF(PACKT01!M28*PACKT06!$G$6<$G$7,PACKT01!M28*PACKT06!$G$6,$G$7)","v":0},{"$f":"IF(PACKT01!N28*PACKT06!$G$6<$G$7,PACKT01!N28*PACKT06!$G$6,$G$7)","v":0},{"$f":"IF(PACKT01!O28*PACKT06!$G$6<$G$7,PACKT01!O28*PACKT06!$G$6,$G$7)","v":0},{"$f":"IF(PACKT01!P28*PACKT06!$G$6<$G$7,PACKT01!P28*PACKT06!$G$6,$G$7)","v":0},{"$f":"IF(PACKT01!Q28*PACKT06!$G$6<$G$7,PACKT01!Q28*PACKT06!$G$6,$G$7)","v":0},{"$f":"VLOOKUP(PACKT06Table[[#This Row],[EmployeeID]],EmployeeListLookupTable[#All],12,FALSE)=\"Y\"","v":true}]
[null,"EMP0018",{"$f":"VLOOKUP(PACKT06Table[[#This Row],[EmployeeID]],EmployeeListLookupTable[],2,FALSE)","v":"EMPN018"},{"$f":"VLOOKUP(PACKT06Table[[#This Row],[EmployeeID]],EmployeeListLookupTable[],3,FALSE)","v":"Employee Name 18"},{"$f":"VLOOKUP(PACKT06Table[[#This Row],[EmployeeID]],EmployeeListLookupTable[],4,FALSE)","v":"Employee Job Title 18"},{"$f":"IF(PACKT01!F29*PACKT06!$G$6<$G$7,PACKT01!F29*PACKT06!$G$6,$G$7)","v":0},{"$f":"IF(PACKT01!G29*PACKT06!$G$6<$G$7,PACKT01!G29*PACKT06!$G$6,$G$7)","v":0},{"$f":"IF(PACKT01!H29*PACKT06!$G$6<$G$7,PACKT01!H29*PACKT06!$G$6,$G$7)","v":0},{"$f":"IF(PACKT01!I29*PACKT06!$G$6<$G$7,PACKT01!I29*PACKT06!$G$6,$G$7)","v":0},{"$f":"IF(PACKT01!J29*PACKT06!$G$6<$G$7,PACKT01!J29*PACKT06!$G$6,$G$7)","v":0},{"$f":"IF(PACKT01!K29*PACKT06!$G$6<$G$7,PACKT01!K29*PACKT06!$G$6,$G$7)","v":0},{"$f":"IF(PACKT01!L29*PACKT06!$G$6<$G$7,PACKT01!L29*PACKT06!$G$6,$G$7)","v":0},{"$f":"IF(PACKT01!M29*PACKT06!$G$6<$G$7,PACKT01!M29*PACKT06!$G$6,$G$7)","v":0},{"$f":"IF(PACKT01!N29*PACKT06!$G$6<$G$7,PACKT01!N29*PACKT06!$G$6,$G$7)","v":0},{"$f":"IF(PACKT01!O29*PACKT06!$G$6<$G$7,PACKT01!O29*PACKT06!$G$6,$G$7)","v":0},{"$f":"IF(PACKT01!P29*PACKT06!$G$6<$G$7,PACKT01!P29*PACKT06!$G$6,$G$7)","v":0},{"$f":"IF(PACKT01!Q29*PACKT06!$G$6<$G$7,PACKT01!Q29*PACKT06!$G$6,$G$7)","v":0},{"$f":"VLOOKUP(PACKT06Table[[#This Row],[EmployeeID]],EmployeeListLookupTable[#All],12,FALSE)=\"Y\"","v":true}]
[null,"EMP0019",{"$f":"VLOOKUP(PACKT06Table[[#This Row],[EmployeeID]],EmployeeListLookupTable[],2,FALSE)","v":"EMPN019"},{"$f":"VLOOKUP(PACKT06Table[[#This Row],[EmployeeID]],EmployeeListLookupTable[],3,FALSE)","v":"Employee Name 19"},{"$f":"VLOOKUP(PACKT06Table[[#This Row],[EmployeeID]],EmployeeListLookupTable[],4,FALSE)","v":"Employee Job Title 19"},{"$f":"IF(PACKT01!F30*PACKT06!$G$6<$G$7,PACKT01!F30*PACKT06!$G$6,$G$7)","v":0},{"$f":"IF(PACKT01!G30*PACKT06!$G$6<$G$7,PACKT01!G30*PACKT06!$G$6,$G$7)","v":0},{"$f":"IF(PACKT01!H30*PACKT06!$G$6<$G$7,PACKT01!H30*PACKT06!$G$6,$G$7)","v":0},{"$f":"IF(PACKT01!I30*PACKT06!$G$6<$G$7,PACKT01!I30*PACKT06!$G$6,$G$7)","v":0},{"$f":"IF(PACKT01!J30*PACKT06!$G$6<$G$7,PACKT01!J30*PACKT06!$G$6,$G$7)","v":0},{"$f":"IF(PACKT01!K30*PACKT06!$G$6<$G$7,PACKT01!K30*PACKT06!$G$6,$G$7)","v":0},{"$f":"IF(PACKT01!L30*PACKT06!$G$6<$G$7,PACKT01!L30*PACKT06!$G$6,$G$7)","v":0},{"$f":"IF(PACKT01!M30*PACKT06!$G$6<$G$7,PACKT01!M30*PACKT06!$G$6,$G$7)","v":0},{"$f":"IF(PACKT01!N30*PACKT06!$G$6<$G$7,PACKT01!N30*PACKT06!$G$6,$G$7)","v":0},{"$f":"IF(PACKT01!O30*PACKT06!$G$6<$G$7,PACKT01!O30*PACKT06!$G$6,$G$7)","v":0},{"$f":"IF(PACKT01!P30*PACKT06!$G$6<$G$7,PACKT01!P30*PACKT06!$G$6,$G$7)","v":0},{"$f":"IF(PACKT01!Q30*PACKT06!$G$6<$G$7,PACKT01!Q30*PACKT06!$G$6,$G$7)","v":0},{"$f":"VLOOKUP(PACKT06Table[[#This Row],[EmployeeID]],EmployeeListLookupTable[#All],12,FALSE)=\"Y\"","v":true}]
[null,"EMP0020",{"$f":"VLOOKUP(PACKT06Table[[#This Row],[EmployeeID]],EmployeeListLookupTable[],2,FALSE)","v":"EMPN020"},{"$f":"VLOOKUP(PACKT06Table[[#This Row],[EmployeeID]],EmployeeListLookupTable[],3,FALSE)","v":"Employee Name 20"},{"$f":"VLOOKUP(PACKT06Table[[#This Row],[EmployeeID]],EmployeeListLookupTable[],4,FALSE)","v":"Employee Job Title 20"},{"$f":"IF(PACKT01!F31*PACKT06!$G$6<$G$7,PACKT01!F31*PACKT06!$G$6,$G$7)","v":0},{"$f":"IF(PACKT01!G31*PACKT06!$G$6<$G$7,PACKT01!G31*PACKT06!$G$6,$G$7)","v":0},{"$f":"IF(PACKT01!H31*PACKT06!$G$6<$G$7,PACKT01!H31*PACKT06!$G$6,$G$7)","v":0},{"$f":"IF(PACKT01!I31*PACKT06!$G$6<$G$7,PACKT01!I31*PACKT06!$G$6,$G$7)","v":0},{"$f":"IF(PACKT01!J31*PACKT06!$G$6<$G$7,PACKT01!J31*PACKT06!$G$6,$G$7)","v":0},{"$f":"IF(PACKT01!K31*PACKT06!$G$6<$G$7,PACKT01!K31*PACKT06!$G$6,$G$7)","v":0},{"$f":"IF(PACKT01!L31*PACKT06!$G$6<$G$7,PACKT01!L31*PACKT06!$G$6,$G$7)","v":0},{"$f":"IF(PACKT01!M31*PACKT06!$G$6<$G$7,PACKT01!M31*PACKT06!$G$6,$G$7)","v":0},{"$f":"IF(PACKT01!N31*PACKT06!$G$6<$G$7,PACKT01!N31*PACKT06!$G$6,$G$7)","v":0},{"$f":"IF(PACKT01!O31*PACKT06!$G$6<$G$7,PACKT01!O31*PACKT06!$G$6,$G$7)","v":0},{"$f":"IF(PACKT01!P31*PACKT06!$G$6<$G$7,PACKT01!P31*PACKT06!$G$6,$G$7)","v":0},{"$f":"IF(PACKT01!Q31*PACKT06!$G$6<$G$7,PACKT01!Q31*PACKT06!$G$6,$G$7)","v":0},{"$f":"VLOOKUP(PACKT06Table[[#This Row],[EmployeeID]],EmployeeListLookupTable[#All],12,FALSE)=\"Y\"","v":true}]
[null,"EMP0021",{"$f":"VLOOKUP(PACKT06Table[[#This Row],[EmployeeID]],EmployeeListLookupTable[],2,FALSE)","v":"EMPN021"},{"$f":"VLOOKUP(PACKT06Table[[#This Row],[EmployeeID]],EmployeeListLookupTable[],3,FALSE)","v":"Employee Name 21"},{"$f":"VLOOKUP(PACKT06Table[[#This Row],[EmployeeID]],EmployeeListLookupTable[],4,FALSE)","v":"Employee Job Title 21"},{"$f":"IF(PACKT01!F32*PACKT06!$G$6<$G$7,PACKT01!F32*PACKT06!$G$6,$G$7)","v":0},{"$f":"IF(PACKT01!G32*PACKT06!$G$6<$G$7,PACKT01!G32*PACKT06!$G$6,$G$7)","v":0},{"$f":"IF(PACKT01!H32*PACKT06!$G$6<$G$7,PACKT01!H32*PACKT06!$G$6,$G$7)","v":0},{"$f":"IF(PACKT01!I32*PACKT06!$G$6<$G$7,PACKT01!I32*PACKT06!$G$6,$G$7)","v":0},{"$f":"IF(PACKT01!J32*PACKT06!$G$6<$G$7,PACKT01!J32*PACKT06!$G$6,$G$7)","v":0},{"$f":"IF(PACKT01!K32*PACKT06!$G$6<$G$7,PACKT01!K32*PACKT06!$G$6,$G$7)","v":0},{"$f":"IF(PACKT01!L32*PACKT06!$G$6<$G$7,PACKT01!L32*PACKT06!$G$6,$G$7)","v":0},{"$f":"IF(PACKT01!M32*PACKT06!$G$6<$G$7,PACKT01!M32*PACKT06!$G$6,$G$7)","v":0},{"$f":"IF(PACKT01!N32*PACKT06!$G$6<$G$7,PACKT01!N32*PACKT06!$G$6,$G$7)","v":0},{"$f":"IF(PACKT01!O32*PACKT06!$G$6<$G$7,PACKT01!O32*PACKT06!$G$6,$G$7)","v":0},{"$f":"IF(PACKT01!P32*PACKT06!$G$6<$G$7,PACKT01!P32*PACKT06!$G$6,$G$7)","v":0},{"$f":"IF(PACKT01!Q32*PACKT06!$G$6<$G$7,PACKT01!Q32*PACKT06!$G$6,$G$7)","v":0},{"$f":"VLOOKUP(PACKT06Table[[#This Row],[EmployeeID]],EmployeeListLookupTable[#All],12,FALSE)=\"Y\"","v":true}]
[null,"EMP0022",{"$f":"VLOOKUP(PACKT06Table[[#This Row],[EmployeeID]],EmployeeListLookupTable[],2,FALSE)","v":"EMPN022"},{"$f":"VLOOKUP(PACKT06Table[[#This Row],[EmployeeID]],EmployeeListLookupTable[],3,FALSE)","v":"Employee Name 22"},{"$f":"VLOOKUP(PACKT06Table[[#This Row],[EmployeeID]],EmployeeListLookupTable[],4,FALSE)","v":"Employee Job Title 22"},{"$f":"IF(PACKT01!F33*PACKT06!$G$6<$G$7,PACKT01!F33*PACKT06!$G$6,$G$7)","v":0},{"$f":"IF(PACKT01!G33*PACKT06!$G$6<$G$7,PACKT01!G33*PACKT06!$G$6,$G$7)","v":0},{"$f":"IF(PACKT01!H33*PACKT06!$G$6<$G$7,PACKT01!H33*PACKT06!$G$6,$G$7)","v":0},{"$f":"IF(PACKT01!I33*PACKT06!$G$6<$G$7,PACKT01!I33*PACKT06!$G$6,$G$7)","v":0},{"$f":"IF(PACKT01!J33*PACKT06!$G$6<$G$7,PACKT01!J33*PACKT06!$G$6,$G$7)","v":0},{"$f":"IF(PACKT01!K33*PACKT06!$G$6<$G$7,PACKT01!K33*PACKT06!$G$6,$G$7)","v":0},{"$f":"IF(PACKT01!L33*PACKT06!$G$6<$G$7,PACKT01!L33*PACKT06!$G$6,$G$7)","v":0},{"$f":"IF(PACKT01!M33*PACKT06!$G$6<$G$7,PACKT01!M33*PACKT06!$G$6,$G$7)","v":0},{"$f":"IF(PACKT01!N33*PACKT06!$G$6<$G$7,PACKT01!N33*PACKT06!$G$6,$G$7)","v":0},{"$f":"IF(PACKT01!O33*PACKT06!$G$6<$G$7,PACKT01!O33*PACKT06!$G$6,$G$7)","v":0},{"$f":"IF(PACKT01!P33*PACKT06!$G$6<$G$7,PACKT01!P33*PACKT06!$G$6,$G$7)","v":0},{"$f":"IF(PACKT01!Q33*PACKT06!$G$6<$G$7,PACKT01!Q33*PACKT06!$G$6,$G$7)","v":0},{"$f":"VLOOKUP(PACKT06Table[[#This Row],[EmployeeID]],EmployeeListLookupTable[#All],12,FALSE)=\"Y\"","v":true}]
[null,"EMP0023",{"$f":"VLOOKUP(PACKT06Table[[#This Row],[EmployeeID]],EmployeeListLookupTable[],2,FALSE)","v":"EMPN023"},{"$f":"VLOOKUP(PACKT06Table[[#This Row],[EmployeeID]],EmployeeListLookupTable[],3,FALSE)","v":"Employee Name 23"},{"$f":"VLOOKUP(PACKT06Table[[#This Row],[EmployeeID]],EmployeeListLookupTable[],4,FALSE)","v":"Employee Job Title 23"},{"$f":"IF(PACKT01!F34*PACKT06!$G$6<$G$7,PACKT01!F34*PACKT06!$G$6,$G$7)","v":0},{"$f":"IF(PACKT01!G34*PACKT06!$G$6<$G$7,PACKT01!G34*PACKT06!$G$6,$G$7)","v":0},{"$f":"IF(PACKT01!H34*PACKT06!$G$6<$G$7,PACKT01!H34*PACKT06!$G$6,$G$7)","v":0},{"$f":"IF(PACKT01!I34*PACKT06!$G$6<$G$7,PACKT01!I34*PACKT06!$G$6,$G$7)","v":0},{"$f":"IF(PACKT01!J34*PACKT06!$G$6<$G$7,PACKT01!J34*PACKT06!$G$6,$G$7)","v":0},{"$f":"IF(PACKT01!K34*PACKT06!$G$6<$G$7,PACKT01!K34*PACKT06!$G$6,$G$7)","v":0},{"$f":"IF(PACKT01!L34*PACKT06!$G$6<$G$7,PACKT01!L34*PACKT06!$G$6,$G$7)","v":0},{"$f":"IF(PACKT01!M34*PACKT06!$G$6<$G$7,PACKT01!M34*PACKT06!$G$6,$G$7)","v":0},{"$f":"IF(PACKT01!N34*PACKT06!$G$6<$G$7,PACKT01!N34*PACKT06!$G$6,$G$7)","v":0},{"$f":"IF(PACKT01!O34*PACKT06!$G$6<$G$7,PACKT01!O34*PACKT06!$G$6,$G$7)","v":0},{"$f":"IF(PACKT01!P34*PACKT06!$G$6<$G$7,PACKT01!P34*PACKT06!$G$6,$G$7)","v":0},{"$f":"IF(PACKT01!Q34*PACKT06!$G$6<$G$7,PACKT01!Q34*PACKT06!$G$6,$G$7)","v":0},{"$f":"VLOOKUP(PACKT06Table[[#This Row],[EmployeeID]],EmployeeListLookupTable[#All],12,FALSE)=\"Y\"","v":true}]
[null,"EMP0024",{"$f":"VLOOKUP(PACKT06Table[[#This Row],[EmployeeID]],EmployeeListLookupTable[],2,FALSE)","v":"EMPN024"},{"$f":"VLOOKUP(PACKT06Table[[#This Row],[EmployeeID]],EmployeeListLookupTable[],3,FALSE)","v":"Employee Name 24"},{"$f":"VLOOKUP(PACKT06Table[[#This Row],[EmployeeID]],EmployeeListLookupTable[],4,FALSE)","v":"Employee Job Title 24"},{"$f":"IF(PACKT01!F35*PACKT06!$G$6<$G$7,PACKT01!F35*PACKT06!$G$6,$G$7)","v":0},{"$f":"IF(PACKT01!G35*PACKT06!$G$6<$G$7,PACKT01!G35*PACKT06!$G$6,$G$7)","v":0},{"$f":"IF(PACKT01!H35*PACKT06!$G$6<$G$7,PACKT01!H35*PACKT06!$G$6,$G$7)","v":0},{"$f":"IF(PACKT01!I35*PACKT06!$G$6<$G$7,PACKT01!I35*PACKT06!$G$6,$G$7)","v":0},{"$f":"IF(PACKT01!J35*PACKT06!$G$6<$G$7,PACKT01!J35*PACKT06!$G$6,$G$7)","v":0},{"$f":"IF(PACKT01!K35*PACKT06!$G$6<$G$7,PACKT01!K35*PACKT06!$G$6,$G$7)","v":0},{"$f":"IF(PACKT01!L35*PACKT06!$G$6<$G$7,PACKT01!L35*PACKT06!$G$6,$G$7)","v":0},{"$f":"IF(PACKT01!M35*PACKT06!$G$6<$G$7,PACKT01!M35*PACKT06!$G$6,$G$7)","v":0},{"$f":"IF(PACKT01!N35*PACKT06!$G$6<$G$7,PACKT01!N35*PACKT06!$G$6,$G$7)","v":0},{"$f":"IF(PACKT01!O35*PACKT06!$G$6<$G$7,PACKT01!O35*PACKT06!$G$6,$G$7)","v":0},{"$f":"IF(PACKT01!P35*PACKT06!$G$6<$G$7,PACKT01!P35*PACKT06!$G$6,$G$7)","v":0},{"$f":"IF(PACKT01!Q35*PACKT06!$G$6<$G$7,PACKT01!Q35*PACKT06!$G$6,$G$7)","v":0},{"$f":"VLOOKUP(PACKT06Table[[#This Row],[EmployeeID]],EmployeeListLookupTable[#All],12,FALSE)=\"Y\"","v":true}]
[null,"EMP0025",{"$f":"VLOOKUP(PACKT06Table[[#This Row],[EmployeeID]],EmployeeListLookupTable[],2,FALSE)","v":"EMPN025"},{"$f":"VLOOKUP(PACKT06Table[[#This Row],[EmployeeID]],EmployeeListLookupTable[],3,FALSE)","v":"Employee Name 25"},{"$f":"VLOOKUP(PACKT06Table[[#This Row],[EmployeeID]],EmployeeListLookupTable[],4,FALSE)","v":"Employee Job Title 25"},{"$f":"IF(PACKT01!F36*PACKT06!$G$6<$G$7,PACKT01!F36*PACKT06!$G$6,$G$7)","v":0},{"$f":"IF(PACKT01!G36*PACKT06!$G$6<$G$7,PACKT01!G36*PACKT06!$G$6,$G$7)","v":0},{"$f":"IF(PACKT01!H36*PACKT06!$G$6<$G$7,PACKT01!H36*PACKT06!$G$6,$G$7)","v":0},{"$f":"IF(PACKT01!I36*PACKT06!$G$6<$G$7,PACKT01!I36*PACKT06!$G$6,$G$7)","v":0},{"$f":"IF(PACKT01!J36*PACKT06!$G$6<$G$7,PACKT01!J36*PACKT06!$G$6,$G$7)","v":0},{"$f":"IF(PACKT01!K36*PACKT06!$G$6<$G$7,PACKT01!K36*PACKT06!$G$6,$G$7)","v":0},{"$f":"IF(PACKT01!L36*PACKT06!$G$6<$G$7,PACKT01!L36*PACKT06!$G$6,$G$7)","v":0},{"$f":"IF(PACKT01!M36*PACKT06!$G$6<$G$7,PACKT01!M36*PACKT06!$G$6,$G$7)","v":0},{"$f":"IF(PACKT01!N36*PACKT06!$G$6<$G$7,PACKT01!N36*PACKT06!$G$6,$G$7)","v":0},{"$f":"IF(PACKT01!O36*PACKT06!$G$6<$G$7,PACKT01!O36*PACKT06!$G$6,$G$7)","v":0},{"$f":"IF(PACKT01!P36*PACKT06!$G$6<$G$7,PACKT01!P36*PACKT06!$G$6,$G$7)","v":0},{"$f":"IF(PACKT01!Q36*PACKT06!$G$6<$G$7,PACKT01!Q36*PACKT06!$G$6,$G$7)","v":0},{"$f":"VLOOKUP(PACKT06Table[[#This Row],[EmployeeID]],EmployeeListLookupTable[#All],12,FALSE)=\"Y\"","v":true}]
[null,"EMP0026",{"$f":"VLOOKUP(PACKT06Table[[#This Row],[EmployeeID]],EmployeeListLookupTable[],2,FALSE)","v":"EMPN026"},{"$f":"VLOOKUP(PACKT06Table[[#This Row],[EmployeeID]],EmployeeListLookupTable[],3,FALSE)","v":"Employee Name 26"},{"$f":"VLOOKUP(PACKT06Table[[#This Row],[EmployeeID]],EmployeeListLookupTable[],4,FALSE)","v":"Employee Job Title 26"},{"$f":"IF(PACKT01!F37*PACKT06!$G$6<$G$7,PACKT01!F37*PACKT06!$G$6,$G$7)","v":0},{"$f":"IF(PACKT01!G37*PACKT06!$G$6<$G$7,PACKT01!G37*PACKT06!$G$6,$G$7)","v":0},{"$f":"IF(PACKT01!H37*PACKT06!$G$6<$G$7,PACKT01!H37*PACKT06!$G$6,$G$7)","v":0},{"$f":"IF(PACKT01!I37*PACKT06!$G$6<$G$7,PACKT01!I37*PACKT06!$G$6,$G$7)","v":0},{"$f":"IF(PACKT01!J37*PACKT06!$G$6<$G$7,PACKT01!J37*PACKT06!$G$6,$G$7)","v":0},{"$f":"IF(PACKT01!K37*PACKT06!$G$6<$G$7,PACKT01!K37*PACKT06!$G$6,$G$7)","v":0},{"$f":"IF(PACKT01!L37*PACKT06!$G$6<$G$7,PACKT01!L37*PACKT06!$G$6,$G$7)","v":0},{"$f":"IF(PACKT01!M37*PACKT06!$G$6<$G$7,PACKT01!M37*PACKT06!$G$6,$G$7)","v":0},{"$f":"IF(PACKT01!N37*PACKT06!$G$6<$G$7,PACKT01!N37*PACKT06!$G$6,$G$7)","v":0},{"$f":"IF(PACKT01!O37*PACKT06!$G$6<$G$7,PACKT01!O37*PACKT06!$G$6,$G$7)","v":0},{"$f":"IF(PACKT01!P37*PACKT06!$G$6<$G$7,PACKT01!P37*PACKT06!$G$6,$G$7)","v":0},{"$f":"IF(PACKT01!Q37*PACKT06!$G$6<$G$7,PACKT01!Q37*PACKT06!$G$6,$G$7)","v":0},{"$f":"VLOOKUP(PACKT06Table[[#This Row],[EmployeeID]],EmployeeListLookupTable[#All],12,FALSE)=\"Y\"","v":true}]
[null,"EMP0027",{"$f":"VLOOKUP(PACKT06Table[[#This Row],[EmployeeID]],EmployeeListLookupTable[],2,FALSE)","v":"EMPN027"},{"$f":"VLOOKUP(PACKT06Table[[#This Row],[EmployeeID]],EmployeeListLookupTable[],3,FALSE)","v":"Employee Name 27"},{"$f":"VLOOKUP(PACKT06Table[[#This Row],[EmployeeID]],EmployeeListLookupTable[],4,FALSE)","v":"Employee Job Title 27"},{"$f":"IF(PACKT01!F38*PACKT06!$G$6<$G$7,PACKT01!F38*PACKT06!$G$6,$G$7)","v":0},{"$f":"IF(PACKT01!G38*PACKT06!$G$6<$G$7,PACKT01!G38*PACKT06!$G$6,$G$7)","v":0},{"$f":"IF(PACKT01!H38*PACKT06!$G$6<$G$7,PACKT01!H38*PACKT06!$G$6,$G$7)","v":0},{"$f":"IF(PACKT01!I38*PACKT06!$G$6<$G$7,PACKT01!I38*PACKT06!$G$6,$G$7)","v":0},{"$f":"IF(PACKT01!J38*PACKT06!$G$6<$G$7,PACKT01!J38*PACKT06!$G$6,$G$7)","v":0},{"$f":"IF(PACKT01!K38*PACKT06!$G$6<$G$7,PACKT01!K38*PACKT06!$G$6,$G$7)","v":0},{"$f":"IF(PACKT01!L38*PACKT06!$G$6<$G$7,PACKT01!L38*PACKT06!$G$6,$G$7)","v":0},{"$f":"IF(PACKT01!M38*PACKT06!$G$6<$G$7,PACKT01!M38*PACKT06!$G$6,$G$7)","v":0},{"$f":"IF(PACKT01!N38*PACKT06!$G$6<$G$7,PACKT01!N38*PACKT06!$G$6,$G$7)","v":0},{"$f":"IF(PACKT01!O38*PACKT06!$G$6<$G$7,PACKT01!O38*PACKT06!$G$6,$G$7)","v":0},{"$f":"IF(PACKT01!P38*PACKT06!$G$6<$G$7,PACKT01!P38*PACKT06!$G$6,$G$7)","v":0},{"$f":"IF(PACKT01!Q38*PACKT06!$G$6<$G$7,PACKT01!Q38*PACKT06!$G$6,$G$7)","v":0},{"$f":"VLOOKUP(PACKT06Table[[#This Row],[EmployeeID]],EmployeeListLookupTable[#All],12,FALSE)=\"Y\"","v":true}]
[null,"EMP0028",{"$f":"VLOOKUP(PACKT06Table[[#This Row],[EmployeeID]],EmployeeListLookupTable[],2,FALSE)","v":"EMPN028"},{"$f":"VLOOKUP(PACKT06Table[[#This Row],[EmployeeID]],EmployeeListLookupTable[],3,FALSE)","v":"Employee Name 28"},{"$f":"VLOOKUP(PACKT06Table[[#This Row],[EmployeeID]],EmployeeListLookupTable[],4,FALSE)","v":"Employee Job Title 28"},{"$f":"IF(PACKT01!F39*PACKT06!$G$6<$G$7,PACKT01!F39*PACKT06!$G$6,$G$7)","v":0},{"$f":"IF(PACKT01!G39*PACKT06!$G$6<$G$7,PACKT01!G39*PACKT06!$G$6,$G$7)","v":0},{"$f":"IF(PACKT01!H39*PACKT06!$G$6<$G$7,PACKT01!H39*PACKT06!$G$6,$G$7)","v":0},{"$f":"IF(PACKT01!I39*PACKT06!$G$6<$G$7,PACKT01!I39*PACKT06!$G$6,$G$7)","v":0},{"$f":"IF(PACKT01!J39*PACKT06!$G$6<$G$7,PACKT01!J39*PACKT06!$G$6,$G$7)","v":0},{"$f":"IF(PACKT01!K39*PACKT06!$G$6<$G$7,PACKT01!K39*PACKT06!$G$6,$G$7)","v":0},{"$f":"IF(PACKT01!L39*PACKT06!$G$6<$G$7,PACKT01!L39*PACKT06!$G$6,$G$7)","v":0},{"$f":"IF(PACKT01!M39*PACKT06!$G$6<$G$7,PACKT01!M39*PACKT06!$G$6,$G$7)","v":0},{"$f":"IF(PACKT01!N39*PACKT06!$G$6<$G$7,PACKT01!N39*PACKT06!$G$6,$G$7)","v":0},{"$f":"IF(PACKT01!O39*PACKT06!$G$6<$G$7,PACKT01!O39*PACKT06!$G$6,$G$7)","v":0},{"$f":"IF(PACKT01!P39*PACKT06!$G$6<$G$7,PACKT01!P39*PACKT06!$G$6,$G$7)","v":0},{"$f":"IF(PACKT01!Q39*PACKT06!$G$6<$G$7,PACKT01!Q39*PACKT06!$G$6,$G$7)","v":0},{"$f":"VLOOKUP(PACKT06Table[[#This Row],[EmployeeID]],EmployeeListLookupTable[#All],12,FALSE)=\"Y\"","v":true}]
[null,"EMP0029",{"$f":"VLOOKUP(PACKT06Table[[#This Row],[EmployeeID]],EmployeeListLookupTable[],2,FALSE)","v":"EMPN029"},{"$f":"VLOOKUP(PACKT06Table[[#This Row],[EmployeeID]],EmployeeListLookupTable[],3,FALSE)","v":"Employee Name 29"},{"$f":"VLOOKUP(PACKT06Table[[#This Row],[EmployeeID]],EmployeeListLookupTable[],4,FALSE)","v":"Employee Job Title 29"},{"$f":"IF(PACKT01!F40*PACKT06!$G$6<$G$7,PACKT01!F40*PACKT06!$G$6,$G$7)","v":0},{"$f":"IF(PACKT01!G40*PACKT06!$G$6<$G$7,PACKT01!G40*PACKT06!$G$6,$G$7)","v":0},{"$f":"IF(PACKT01!H40*PACKT06!$G$6<$G$7,PACKT01!H40*PACKT06!$G$6,$G$7)","v":0},{"$f":"IF(PACKT01!I40*PACKT06!$G$6<$G$7,PACKT01!I40*PACKT06!$G$6,$G$7)","v":0},{"$f":"IF(PACKT01!J40*PACKT06!$G$6<$G$7,PACKT01!J40*PACKT06!$G$6,$G$7)","v":0},{"$f":"IF(PACKT01!K40*PACKT06!$G$6<$G$7,PACKT01!K40*PACKT06!$G$6,$G$7)","v":0},{"$f":"IF(PACKT01!L40*PACKT06!$G$6<$G$7,PACKT01!L40*PACKT06!$G$6,$G$7)","v":0},{"$f":"IF(PACKT01!M40*PACKT06!$G$6<$G$7,PACKT01!M40*PACKT06!$G$6,$G$7)","v":0},{"$f":"IF(PACKT01!N40*PACKT06!$G$6<$G$7,PACKT01!N40*PACKT06!$G$6,$G$7)","v":0},{"$f":"IF(PACKT01!O40*PACKT06!$G$6<$G$7,PACKT01!O40*PACKT06!$G$6,$G$7)","v":0},{"$f":"IF(PACKT01!P40*PACKT06!$G$6<$G$7,PACKT01!P40*PACKT06!$G$6,$G$7)","v":0},{"$f":"IF(PACKT01!Q40*PACKT06!$G$6<$G$7,PACKT01!Q40*PACKT06!$G$6,$G$7)","v":0},{"$f":"VLOOKUP(PACKT06Table[[#This Row],[EmployeeID]],EmployeeListLookupTable[#All],12,FALSE)=\"Y\"","v":true}]
[null,"EMP0030",{"$f":"VLOOKUP(PACKT06Table[[#This Row],[EmployeeID]],EmployeeListLookupTable[],2,FALSE)","v":"EMPN030"},{"$f":"VLOOKUP(PACKT06Table[[#This Row],[EmployeeID]],EmployeeListLookupTable[],3,FALSE)","v":"Employee Name 30"},{"$f":"VLOOKUP(PACKT06Table[[#This Row],[EmployeeID]],EmployeeListLookupTable[],4,FALSE)","v":"Employee Job Title 30"},{"$f":"IF(PACKT01!F41*PACKT06!$G$6<$G$7,PACKT01!F41*PACKT06!$G$6,$G$7)","v":0},{"$f":"IF(PACKT01!G41*PACKT06!$G$6<$G$7,PACKT01!G41*PACKT06!$G$6,$G$7)","v":0},{"$f":"IF(PACKT01!H41*PACKT06!$G$6<$G$7,PACKT01!H41*PACKT06!$G$6,$G$7)","v":0},{"$f":"IF(PACKT01!I41*PACKT06!$G$6<$G$7,PACKT01!I41*PACKT06!$G$6,$G$7)","v":0},{"$f":"IF(PACKT01!J41*PACKT06!$G$6<$G$7,PACKT01!J41*PACKT06!$G$6,$G$7)","v":0},{"$f":"IF(PACKT01!K41*PACKT06!$G$6<$G$7,PACKT01!K41*PACKT06!$G$6,$G$7)","v":0},{"$f":"IF(PACKT01!L41*PACKT06!$G$6<$G$7,PACKT01!L41*PACKT06!$G$6,$G$7)","v":0},{"$f":"IF(PACKT01!M41*PACKT06!$G$6<$G$7,PACKT01!M41*PACKT06!$G$6,$G$7)","v":0},{"$f":"IF(PACKT01!N41*PACKT06!$G$6<$G$7,PACKT01!N41*PACKT06!$G$6,$G$7)","v":0},{"$f":"IF(PACKT01!O41*PACKT06!$G$6<$G$7,PACKT01!O41*PACKT06!$G$6,$G$7)","v":0},{"$f":"IF(PACKT01!P41*PACKT06!$G$6<$G$7,PACKT01!P41*PACKT06!$G$6,$G$7)","v":0},{"$f":"IF(PACKT01!Q41*PACKT06!$G$6<$G$7,PACKT01!Q41*PACKT06!$G$6,$G$7)","v":0},{"$f":"VLOOKUP(PACKT06Table[[#This Row],[EmployeeID]],EmployeeListLookupTable[#All],12,FALSE)=\"Y\"","v":true}]
[null,"EMP0031",{"$f":"VLOOKUP(PACKT06Table[[#This Row],[EmployeeID]],EmployeeListLookupTable[],2,FALSE)","v":"EMPN031"},{"$f":"VLOOKUP(PACKT06Table[[#This Row],[EmployeeID]],EmployeeListLookupTable[],3,FALSE)","v":"Employee Name 31"},{"$f":"VLOOKUP(PACKT06Table[[#This Row],[EmployeeID]],EmployeeListLookupTable[],4,FALSE)","v":"Employee Job Title 31"},{"$f":"IF(PACKT01!F42*PACKT06!$G$6<$G$7,PACKT01!F42*PACKT06!$G$6,$G$7)","v":0},{"$f":"IF(PACKT01!G42*PACKT06!$G$6<$G$7,PACKT01!G42*PACKT06!$G$6,$G$7)","v":0},{"$f":"IF(PACKT01!H42*PACKT06!$G$6<$G$7,PACKT01!H42*PACKT06!$G$6,$G$7)","v":0},{"$f":"IF(PACKT01!I42*PACKT06!$G$6<$G$7,PACKT01!I42*PACKT06!$G$6,$G$7)","v":0},{"$f":"IF(PACKT01!J42*PACKT06!$G$6<$G$7,PACKT01!J42*PACKT06!$G$6,$G$7)","v":0},{"$f":"IF(PACKT01!K42*PACKT06!$G$6<$G$7,PACKT01!K42*PACKT06!$G$6,$G$7)","v":0},{"$f":"IF(PACKT01!L42*PACKT06!$G$6<$G$7,PACKT01!L42*PACKT06!$G$6,$G$7)","v":0},{"$f":"IF(PACKT01!M42*PACKT06!$G$6<$G$7,PACKT01!M42*PACKT06!$G$6,$G$7)","v":0},{"$f":"IF(PACKT01!N42*PACKT06!$G$6<$G$7,PACKT01!N42*PACKT06!$G$6,$G$7)","v":0},{"$f":"IF(PACKT01!O42*PACKT06!$G$6<$G$7,PACKT01!O42*PACKT06!$G$6,$G$7)","v":0},{"$f":"IF(PACKT01!P42*PACKT06!$G$6<$G$7,PACKT01!P42*PACKT06!$G$6,$G$7)","v":0},{"$f":"IF(PACKT01!Q42*PACKT06!$G$6<$G$7,PACKT01!Q42*PACKT06!$G$6,$G$7)","v":0},{"$f":"VLOOKUP(PACKT06Table[[#This Row],[EmployeeID]],EmployeeListLookupTable[#All],12,FALSE)=\"Y\"","v":true}]
[null,"EMP0032",{"$f":"VLOOKUP(PACKT06Table[[#This Row],[EmployeeID]],EmployeeListLookupTable[],2,FALSE)","v":"EMPN032"},{"$f":"VLOOKUP(PACKT06Table[[#This Row],[EmployeeID]],EmployeeListLookupTable[],3,FALSE)","v":"Employee Name 32"},{"$f":"VLOOKUP(PACKT06Table[[#This Row],[EmployeeID]],EmployeeListLookupTable[],4,FALSE)","v":"Employee Job Title 32"},{"$f":"IF(PACKT01!F43*PACKT06!$G$6<$G$7,PACKT01!F43*PACKT06!$G$6,$G$7)","v":0},{"$f":"IF(PACKT01!G43*PACKT06!$G$6<$G$7,PACKT01!G43*PACKT06!$G$6,$G$7)","v":0},{"$f":"IF(PACKT01!H43*PACKT06!$G$6<$G$7,PACKT01!H43*PACKT06!$G$6,$G$7)","v":0},{"$f":"IF(PACKT01!I43*PACKT06!$G$6<$G$7,PACKT01!I43*PACKT06!$G$6,$G$7)","v":0},{"$f":"IF(PACKT01!J43*PACKT06!$G$6<$G$7,PACKT01!J43*PACKT06!$G$6,$G$7)","v":0},{"$f":"IF(PACKT01!K43*PACKT06!$G$6<$G$7,PACKT01!K43*PACKT06!$G$6,$G$7)","v":0},{"$f":"IF(PACKT01!L43*PACKT06!$G$6<$G$7,PACKT01!L43*PACKT06!$G$6,$G$7)","v":0},{"$f":"IF(PACKT01!M43*PACKT06!$G$6<$G$7,PACKT01!M43*PACKT06!$G$6,$G$7)","v":0},{"$f":"IF(PACKT01!N43*PACKT06!$G$6<$G$7,PACKT01!N43*PACKT06!$G$6,$G$7)","v":0},{"$f":"IF(PACKT01!O43*PACKT06!$G$6<$G$7,PACKT01!O43*PACKT06!$G$6,$G$7)","v":0},{"$f":"IF(PACKT01!P43*PACKT06!$G$6<$G$7,PACKT01!P43*PACKT06!$G$6,$G$7)","v":0},{"$f":"IF(PACKT01!Q43*PACKT06!$G$6<$G$7,PACKT01!Q43*PACKT06!$G$6,$G$7)","v":0},{"$f":"VLOOKUP(PACKT06Table[[#This Row],[EmployeeID]],EmployeeListLookupTable[#All],12,FALSE)=\"Y\"","v":true}]
[null,"EMP0033",{"$f":"VLOOKUP(PACKT06Table[[#This Row],[EmployeeID]],EmployeeListLookupTable[],2,FALSE)","v":"EMPN033"},{"$f":"VLOOKUP(PACKT06Table[[#This Row],[EmployeeID]],EmployeeListLookupTable[],3,FALSE)","v":"Employee Name 33"},{"$f":"VLOOKUP(PACKT06Table[[#This Row],[EmployeeID]],EmployeeListLookupTable[],4,FALSE)","v":"Employee Job Title 33"},{"$f":"IF(PACKT01!F44*PACKT06!$G$6<$G$7,PACKT01!F44*PACKT06!$G$6,$G$7)","v":0},{"$f":"IF(PACKT01!G44*PACKT06!$G$6<$G$7,PACKT01!G44*PACKT06!$G$6,$G$7)","v":0},{"$f":"IF(PACKT01!H44*PACKT06!$G$6<$G$7,PACKT01!H44*PACKT06!$G$6,$G$7)","v":0},{"$f":"IF(PACKT01!I44*PACKT06!$G$6<$G$7,PACKT01!I44*PACKT06!$G$6,$G$7)","v":0},{"$f":"IF(PACKT01!J44*PACKT06!$G$6<$G$7,PACKT01!J44*PACKT06!$G$6,$G$7)","v":0},{"$f":"IF(PACKT01!K44*PACKT06!$G$6<$G$7,PACKT01!K44*PACKT06!$G$6,$G$7)","v":0},{"$f":"IF(PACKT01!L44*PACKT06!$G$6<$G$7,PACKT01!L44*PACKT06!$G$6,$G$7)","v":0},{"$f":"IF(PACKT01!M44*PACKT06!$G$6<$G$7,PACKT01!M44*PACKT06!$G$6,$G$7)","v":0},{"$f":"IF(PACKT01!N44*PACKT06!$G$6<$G$7,PACKT01!N44*PACKT06!$G$6,$G$7)","v":0},{"$f":"IF(PACKT01!O44*PACKT06!$G$6<$G$7,PACKT01!O44*PACKT06!$G$6,$G$7)","v":0},{"$f":"IF(PACKT01!P44*PACKT06!$G$6<$G$7,PACKT01!P44*PACKT06!$G$6,$G$7)","v":0},{"$f":"IF(PACKT01!Q44*PACKT06!$G$6<$G$7,PACKT01!Q44*PACKT06!$G$6,$G$7)","v":0},{"$f":"VLOOKUP(PACKT06Table[[#This Row],[EmployeeID]],EmployeeListLookupTable[#All],12,FALSE)=\"Y\"","v":true}]
[null,"EMP0034",{"$f":"VLOOKUP(PACKT06Table[[#This Row],[EmployeeID]],EmployeeListLookupTable[],2,FALSE)","v":"EMPN034"},{"$f":"VLOOKUP(PACKT06Table[[#This Row],[EmployeeID]],EmployeeListLookupTable[],3,FALSE)","v":"Employee Name 34"},{"$f":"VLOOKUP(PACKT06Table[[#This Row],[EmployeeID]],EmployeeListLookupTable[],4,FALSE)","v":"Employee Job Title 34"},{"$f":"IF(PACKT01!F45*PACKT06!$G$6<$G$7,PACKT01!F45*PACKT06!$G$6,$G$7)","v":0},{"$f":"IF(PACKT01!G45*PACKT06!$G$6<$G$7,PACKT01!G45*PACKT06!$G$6,$G$7)","v":0},{"$f":"IF(PACKT01!H45*PACKT06!$G$6<$G$7,PACKT01!H45*PACKT06!$G$6,$G$7)","v":0},{"$f":"IF(PACKT01!I45*PACKT06!$G$6<$G$7,PACKT01!I45*PACKT06!$G$6,$G$7)","v":0},{"$f":"IF(PACKT01!J45*PACKT06!$G$6<$G$7,PACKT01!J45*PACKT06!$G$6,$G$7)","v":0},{"$f":"IF(PACKT01!K45*PACKT06!$G$6<$G$7,PACKT01!K45*PACKT06!$G$6,$G$7)","v":0},{"$f":"IF(PACKT01!L45*PACKT06!$G$6<$G$7,PACKT01!L45*PACKT06!$G$6,$G$7)","v":0},{"$f":"IF(PACKT01!M45*PACKT06!$G$6<$G$7,PACKT01!M45*PACKT06!$G$6,$G$7)","v":0},{"$f":"IF(PACKT01!N45*PACKT06!$G$6<$G$7,PACKT01!N45*PACKT06!$G$6,$G$7)","v":0},{"$f":"IF(PACKT01!O45*PACKT06!$G$6<$G$7,PACKT01!O45*PACKT06!$G$6,$G$7)","v":0},{"$f":"IF(PACKT01!P45*PACKT06!$G$6<$G$7,PACKT01!P45*PACKT06!$G$6,$G$7)","v":0},{"$f":"IF(PACKT01!Q45*PACKT06!$G$6<$G$7,PACKT01!Q45*PACKT06!$G$6,$G$7)","v":0},{"$f":"VLOOKUP(PACKT06Table[[#This Row],[EmployeeID]],EmployeeListLookupTable[#All],12,FALSE)=\"Y\"","v":true}]
[null,"EMP0035",{"$f":"VLOOKUP(PACKT06Table[[#This Row],[EmployeeID]],EmployeeListLookupTable[],2,FALSE)","v":"EMPN035"},{"$f":"VLOOKUP(PACKT06Table[[#This Row],[EmployeeID]],EmployeeListLookupTable[],3,FALSE)","v":"Employee Name 35"},{"$f":"VLOOKUP(PACKT06Table[[#This Row],[EmployeeID]],EmployeeListLookupTable[],4,FALSE)","v":"Employee Job Title 35"},{"$f":"IF(PACKT01!F46*PACKT06!$G$6<$G$7,PACKT01!F46*PACKT06!$G$6,$G$7)","v":0},{"$f":"IF(PACKT01!G46*PACKT06!$G$6<$G$7,PACKT01!G46*PACKT06!$G$6,$G$7)","v":0},{"$f":"IF(PACKT01!H46*PACKT06!$G$6<$G$7,PACKT01!H46*PACKT06!$G$6,$G$7)","v":0},{"$f":"IF(PACKT01!I46*PACKT06!$G$6<$G$7,PACKT01!I46*PACKT06!$G$6,$G$7)","v":0},{"$f":"IF(PACKT01!J46*PACKT06!$G$6<$G$7,PACKT01!J46*PACKT06!$G$6,$G$7)","v":0},{"$f":"IF(PACKT01!K46*PACKT06!$G$6<$G$7,PACKT01!K46*PACKT06!$G$6,$G$7)","v":0},{"$f":"IF(PACKT01!L46*PACKT06!$G$6<$G$7,PACKT01!L46*PACKT06!$G$6,$G$7)","v":0},{"$f":"IF(PACKT01!M46*PACKT06!$G$6<$G$7,PACKT01!M46*PACKT06!$G$6,$G$7)","v":0},{"$f":"IF(PACKT01!N46*PACKT06!$G$6<$G$7,PACKT01!N46*PACKT06!$G$6,$G$7)","v":0},{"$f":"IF(PACKT01!O46*PACKT06!$G$6<$G$7,PACKT01!O46*PACKT06!$G$6,$G$7)","v":0},{"$f":"IF(PACKT01!P46*PACKT06!$G$6<$G$7,PACKT01!P46*PACKT06!$G$6,$G$7)","v":0},{"$f":"IF(PACKT01!Q46*PACKT06!$G$6<$G$7,PACKT01!Q46*PACKT06!$G$6,$G$7)","v":0},{"$f":"VLOOKUP(PACKT06Table[[#This Row],[EmployeeID]],EmployeeListLookupTable[#All],12,FALSE)=\"Y\"","v":true}]
[null,"EMP0036",{"$f":"VLOOKUP(PACKT06Table[[#This Row],[EmployeeID]],EmployeeListLookupTable[],2,FALSE)","v":"EMPN036"},{"$f":"VLOOKUP(PACKT06Table[[#This Row],[EmployeeID]],EmployeeListLookupTable[],3,FALSE)","v":"Employee Name 36"},{"$f":"VLOOKUP(PACKT06Table[[#This Row],[EmployeeID]],EmployeeListLookupTable[],4,FALSE)","v":"Employee Job Title 36"},{"$f":"IF(PACKT01!F47*PACKT06!$G$6<$G$7,PACKT01!F47*PACKT06!$G$6,$G$7)","v":0},{"$f":"IF(PACKT01!G47*PACKT06!$G$6<$G$7,PACKT01!G47*PACKT06!$G$6,$G$7)","v":0},{"$f":"IF(PACKT01!H47*PACKT06!$G$6<$G$7,PACKT01!H47*PACKT06!$G$6,$G$7)","v":0},{"$f":"IF(PACKT01!I47*PACKT06!$G$6<$G$7,PACKT01!I47*PACKT06!$G$6,$G$7)","v":0},{"$f":"IF(PACKT01!J47*PACKT06!$G$6<$G$7,PACKT01!J47*PACKT06!$G$6,$G$7)","v":0},{"$f":"IF(PACKT01!K47*PACKT06!$G$6<$G$7,PACKT01!K47*PACKT06!$G$6,$G$7)","v":0},{"$f":"IF(PACKT01!L47*PACKT06!$G$6<$G$7,PACKT01!L47*PACKT06!$G$6,$G$7)","v":0},{"$f":"IF(PACKT01!M47*PACKT06!$G$6<$G$7,PACKT01!M47*PACKT06!$G$6,$G$7)","v":0},{"$f":"IF(PACKT01!N47*PACKT06!$G$6<$G$7,PACKT01!N47*PACKT06!$G$6,$G$7)","v":0},{"$f":"IF(PACKT01!O47*PACKT06!$G$6<$G$7,PACKT01!O47*PACKT06!$G$6,$G$7)","v":0},{"$f":"IF(PACKT01!P47*PACKT06!$G$6<$G$7,PACKT01!P47*PACKT06!$G$6,$G$7)","v":0},{"$f":"IF(PACKT01!Q47*PACKT06!$G$6<$G$7,PACKT01!Q47*PACKT06!$G$6,$G$7)","v":0},{"$f":"VLOOKUP(PACKT06Table[[#This Row],[EmployeeID]],EmployeeListLookupTable[#All],12,FALSE)=\"Y\"","v":true}]
[null,"EMP0037",{"$f":"VLOOKUP(PACKT06Table[[#This Row],[EmployeeID]],EmployeeListLookupTable[],2,FALSE)","v":"EMPN037"},{"$f":"VLOOKUP(PACKT06Table[[#This Row],[EmployeeID]],EmployeeListLookupTable[],3,FALSE)","v":"Employee Name 37"},{"$f":"VLOOKUP(PACKT06Table[[#This Row],[EmployeeID]],EmployeeListLookupTable[],4,FALSE)","v":"Employee Job Title 37"},{"$f":"IF(PACKT01!F48*PACKT06!$G$6<$G$7,PACKT01!F48*PACKT06!$G$6,$G$7)","v":0},{"$f":"IF(PACKT01!G48*PACKT06!$G$6<$G$7,PACKT01!G48*PACKT06!$G$6,$G$7)","v":0},{"$f":"IF(PACKT01!H48*PACKT06!$G$6<$G$7,PACKT01!H48*PACKT06!$G$6,$G$7)","v":0},{"$f":"IF(PACKT01!I48*PACKT06!$G$6<$G$7,PACKT01!I48*PACKT06!$G$6,$G$7)","v":0},{"$f":"IF(PACKT01!J48*PACKT06!$G$6<$G$7,PACKT01!J48*PACKT06!$G$6,$G$7)","v":0},{"$f":"IF(PACKT01!K48*PACKT06!$G$6<$G$7,PACKT01!K48*PACKT06!$G$6,$G$7)","v":0},{"$f":"IF(PACKT01!L48*PACKT06!$G$6<$G$7,PACKT01!L48*PACKT06!$G$6,$G$7)","v":0},{"$f":"IF(PACKT01!M48*PACKT06!$G$6<$G$7,PACKT01!M48*PACKT06!$G$6,$G$7)","v":0},{"$f":"IF(PACKT01!N48*PACKT06!$G$6<$G$7,PACKT01!N48*PACKT06!$G$6,$G$7)","v":0},{"$f":"IF(PACKT01!O48*PACKT06!$G$6<$G$7,PACKT01!O48*PACKT06!$G$6,$G$7)","v":0},{"$f":"IF(PACKT01!P48*PACKT06!$G$6<$G$7,PACKT01!P48*PACKT06!$G$6,$G$7)","v":0},{"$f":"IF(PACKT01!Q48*PACKT06!$G$6<$G$7,PACKT01!Q48*PACKT06!$G$6,$G$7)","v":0},{"$f":"VLOOKUP(PACKT06Table[[#This Row],[EmployeeID]],EmployeeListLookupTable[#All],12,FALSE)=\"Y\"","v":true}]
[null,"EMP0038",{"$f":"VLOOKUP(PACKT06Table[[#This Row],[EmployeeID]],EmployeeListLookupTable[],2,FALSE)","v":"EMPN038"},{"$f":"VLOOKUP(PACKT06Table[[#This Row],[EmployeeID]],EmployeeListLookupTable[],3,FALSE)","v":"Employee Name 38"},{"$f":"VLOOKUP(PACKT06Table[[#This Row],[EmployeeID]],EmployeeListLookupTable[],4,FALSE)","v":"Employee Job Title 38"},{"$f":"IF(PACKT01!F49*PACKT06!$G$6<$G$7,PACKT01!F49*PACKT06!$G$6,$G$7)","v":0},{"$f":"IF(PACKT01!G49*PACKT06!$G$6<$G$7,PACKT01!G49*PACKT06!$G$6,$G$7)","v":0},{"$f":"IF(PACKT01!H49*PACKT06!$G$6<$G$7,PACKT01!H49*PACKT06!$G$6,$G$7)","v":0},{"$f":"IF(PACKT01!I49*PACKT06!$G$6<$G$7,PACKT01!I49*PACKT06!$G$6,$G$7)","v":0},{"$f":"IF(PACKT01!J49*PACKT06!$G$6<$G$7,PACKT01!J49*PACKT06!$G$6,$G$7)","v":0},{"$f":"IF(PACKT01!K49*PACKT06!$G$6<$G$7,PACKT01!K49*PACKT06!$G$6,$G$7)","v":0},{"$f":"IF(PACKT01!L49*PACKT06!$G$6<$G$7,PACKT01!L49*PACKT06!$G$6,$G$7)","v":0},{"$f":"IF(PACKT01!M49*PACKT06!$G$6<$G$7,PACKT01!M49*PACKT06!$G$6,$G$7)","v":0},{"$f":"IF(PACKT01!N49*PACKT06!$G$6<$G$7,PACKT01!N49*PACKT06!$G$6,$G$7)","v":0},{"$f":"IF(PACKT01!O49*PACKT06!$G$6<$G$7,PACKT01!O49*PACKT06!$G$6,$G$7)","v":0},{"$f":"IF(PACKT01!P49*PACKT06!$G$6<$G$7,PACKT01!P49*PACKT06!$G$6,$G$7)","v":0},{"$f":"IF(PACKT01!Q49*PACKT06!$G$6<$G$7,PACKT01!Q49*PACKT06!$G$6,$G$7)","v":0},{"$f":"VLOOKUP(PACKT06Table[[#This Row],[EmployeeID]],EmployeeListLookupTable[#All],12,FALSE)=\"Y\"","v":true}]
[null,"EMP0039",{"$f":"VLOOKUP(PACKT06Table[[#This Row],[EmployeeID]],EmployeeListLookupTable[],2,FALSE)","v":"EMPN039"},{"$f":"VLOOKUP(PACKT06Table[[#This Row],[EmployeeID]],EmployeeListLookupTable[],3,FALSE)","v":"Employee Name 39"},{"$f":"VLOOKUP(PACKT06Table[[#This Row],[EmployeeID]],EmployeeListLookupTable[],4,FALSE)","v":"Employee Job Title 39"},{"$f":"IF(PACKT01!F50*PACKT06!$G$6<$G$7,PACKT01!F50*PACKT06!$G$6,$G$7)","v":0},{"$f":"IF(PACKT01!G50*PACKT06!$G$6<$G$7,PACKT01!G50*PACKT06!$G$6,$G$7)","v":0},{"$f":"IF(PACKT01!H50*PACKT06!$G$6<$G$7,PACKT01!H50*PACKT06!$G$6,$G$7)","v":0},{"$f":"IF(PACKT01!I50*PACKT06!$G$6<$G$7,PACKT01!I50*PACKT06!$G$6,$G$7)","v":0},{"$f":"IF(PACKT01!J50*PACKT06!$G$6<$G$7,PACKT01!J50*PACKT06!$G$6,$G$7)","v":0},{"$f":"IF(PACKT01!K50*PACKT06!$G$6<$G$7,PACKT01!K50*PACKT06!$G$6,$G$7)","v":0},{"$f":"IF(PACKT01!L50*PACKT06!$G$6<$G$7,PACKT01!L50*PACKT06!$G$6,$G$7)","v":0},{"$f":"IF(PACKT01!M50*PACKT06!$G$6<$G$7,PACKT01!M50*PACKT06!$G$6,$G$7)","v":0},{"$f":"IF(PACKT01!N50*PACKT06!$G$6<$G$7,PACKT01!N50*PACKT06!$G$6,$G$7)","v":0},{"$f":"IF(PACKT01!O50*PACKT06!$G$6<$G$7,PACKT01!O50*PACKT06!$G$6,$G$7)","v":0},{"$f":"IF(PACKT01!P50*PACKT06!$G$6<$G$7,PACKT01!P50*PACKT06!$G$6,$G$7)","v":0},{"$f":"IF(PACKT01!Q50*PACKT06!$G$6<$G$7,PACKT01!Q50*PACKT06!$G$6,$G$7)","v":0},{"$f":"VLOOKUP(PACKT06Table[[#This Row],[EmployeeID]],EmployeeListLookupTable[#All],12,FALSE)=\"Y\"","v":true}]
[null,"EMP0040",{"$f":"VLOOKUP(PACKT06Table[[#This Row],[EmployeeID]],EmployeeListLookupTable[],2,FALSE)","v":"EMPN040"},{"$f":"VLOOKUP(PACKT06Table[[#This Row],[EmployeeID]],EmployeeListLookupTable[],3,FALSE)","v":"Employee Name 40"},{"$f":"VLOOKUP(PACKT06Table[[#This Row],[EmployeeID]],EmployeeListLookupTable[],4,FALSE)","v":"Employee Job Title 40"},{"$f":"IF(PACKT01!F51*PACKT06!$G$6<$G$7,PACKT01!F51*PACKT06!$G$6,$G$7)","v":0},{"$f":"IF(PACKT01!G51*PACKT06!$G$6<$G$7,PACKT01!G51*PACKT06!$G$6,$G$7)","v":0},{"$f":"IF(PACKT01!H51*PACKT06!$G$6<$G$7,PACKT01!H51*PACKT06!$G$6,$G$7)","v":0},{"$f":"IF(PACKT01!I51*PACKT06!$G$6<$G$7,PACKT01!I51*PACKT06!$G$6,$G$7)","v":0},{"$f":"IF(PACKT01!J51*PACKT06!$G$6<$G$7,PACKT01!J51*PACKT06!$G$6,$G$7)","v":0},{"$f":"IF(PACKT01!K51*PACKT06!$G$6<$G$7,PACKT01!K51*PACKT06!$G$6,$G$7)","v":0},{"$f":"IF(PACKT01!L51*PACKT06!$G$6<$G$7,PACKT01!L51*PACKT06!$G$6,$G$7)","v":0},{"$f":"IF(PACKT01!M51*PACKT06!$G$6<$G$7,PACKT01!M51*PACKT06!$G$6,$G$7)","v":0},{"$f":"IF(PACKT01!N51*PACKT06!$G$6<$G$7,PACKT01!N51*PACKT06!$G$6,$G$7)","v":0},{"$f":"IF(PACKT01!O51*PACKT06!$G$6<$G$7,PACKT01!O51*PACKT06!$G$6,$G$7)","v":0},{"$f":"IF(PACKT01!P51*PACKT06!$G$6<$G$7,PACKT01!P51*PACKT06!$G$6,$G$7)","v":0},{"$f":"IF(PACKT01!Q51*PACKT06!$G$6<$G$7,PACKT01!Q51*PACKT06!$G$6,$G$7)","v":0},{"$f":"VLOOKUP(PACKT06Table[[#This Row],[EmployeeID]],EmployeeListLookupTable[#All],12,FALSE)=\"Y\"","v":true}]
[null,"EMP0041",{"$f":"VLOOKUP(PACKT06Table[[#This Row],[EmployeeID]],EmployeeListLookupTable[],2,FALSE)","v":"EMPN041"},{"$f":"VLOOKUP(PACKT06Table[[#This Row],[EmployeeID]],EmployeeListLookupTable[],3,FALSE)","v":"Employee Name 41"},{"$f":"VLOOKUP(PACKT06Table[[#This Row],[EmployeeID]],EmployeeListLookupTable[],4,FALSE)","v":"Employee Job Title 41"},{"$f":"IF(PACKT01!F52*PACKT06!$G$6<$G$7,PACKT01!F52*PACKT06!$G$6,$G$7)","v":0},{"$f":"IF(PACKT01!G52*PACKT06!$G$6<$G$7,PACKT01!G52*PACKT06!$G$6,$G$7)","v":0},{"$f":"IF(PACKT01!H52*PACKT06!$G$6<$G$7,PACKT01!H52*PACKT06!$G$6,$G$7)","v":0},{"$f":"IF(PACKT01!I52*PACKT06!$G$6<$G$7,PACKT01!I52*PACKT06!$G$6,$G$7)","v":0},{"$f":"IF(PACKT01!J52*PACKT06!$G$6<$G$7,PACKT01!J52*PACKT06!$G$6,$G$7)","v":0},{"$f":"IF(PACKT01!K52*PACKT06!$G$6<$G$7,PACKT01!K52*PACKT06!$G$6,$G$7)","v":0},{"$f":"IF(PACKT01!L52*PACKT06!$G$6<$G$7,PACKT01!L52*PACKT06!$G$6,$G$7)","v":0},{"$f":"IF(PACKT01!M52*PACKT06!$G$6<$G$7,PACKT01!M52*PACKT06!$G$6,$G$7)","v":0},{"$f":"IF(PACKT01!N52*PACKT06!$G$6<$G$7,PACKT01!N52*PACKT06!$G$6,$G$7)","v":0},{"$f":"IF(PACKT01!O52*PACKT06!$G$6<$G$7,PACKT01!O52*PACKT06!$G$6,$G$7)","v":0},{"$f":"IF(PACKT01!P52*PACKT06!$G$6<$G$7,PACKT01!P52*PACKT06!$G$6,$G$7)","v":0},{"$f":"IF(PACKT01!Q52*PACKT06!$G$6<$G$7,PACKT01!Q52*PACKT06!$G$6,$G$7)","v":0},{"$f":"VLOOKUP(PACKT06Table[[#This Row],[EmployeeID]],EmployeeListLookupTable[#All],12,FALSE)=\"Y\"","v":true}]
[null,"EMP0042",{"$f":"VLOOKUP(PACKT06Table[[#This Row],[EmployeeID]],EmployeeListLookupTable[],2,FALSE)","v":"EMPN042"},{"$f":"VLOOKUP(PACKT06Table[[#This Row],[EmployeeID]],EmployeeListLookupTable[],3,FALSE)","v":"Employee Name 42"},{"$f":"VLOOKUP(PACKT06Table[[#This Row],[EmployeeID]],EmployeeListLookupTable[],4,FALSE)","v":"Employee Job Title 42"},{"$f":"IF(PACKT01!F53*PACKT06!$G$6<$G$7,PACKT01!F53*PACKT06!$G$6,$G$7)","v":0},{"$f":"IF(PACKT01!G53*PACKT06!$G$6<$G$7,PACKT01!G53*PACKT06!$G$6,$G$7)","v":0},{"$f":"IF(PACKT01!H53*PACKT06!$G$6<$G$7,PACKT01!H53*PACKT06!$G$6,$G$7)","v":0},{"$f":"IF(PACKT01!I53*PACKT06!$G$6<$G$7,PACKT01!I53*PACKT06!$G$6,$G$7)","v":0},{"$f":"IF(PACKT01!J53*PACKT06!$G$6<$G$7,PACKT01!J53*PACKT06!$G$6,$G$7)","v":0},{"$f":"IF(PACKT01!K53*PACKT06!$G$6<$G$7,PACKT01!K53*PACKT06!$G$6,$G$7)","v":0},{"$f":"IF(PACKT01!L53*PACKT06!$G$6<$G$7,PACKT01!L53*PACKT06!$G$6,$G$7)","v":0},{"$f":"IF(PACKT01!M53*PACKT06!$G$6<$G$7,PACKT01!M53*PACKT06!$G$6,$G$7)","v":0},{"$f":"IF(PACKT01!N53*PACKT06!$G$6<$G$7,PACKT01!N53*PACKT06!$G$6,$G$7)","v":0},{"$f":"IF(PACKT01!O53*PACKT06!$G$6<$G$7,PACKT01!O53*PACKT06!$G$6,$G$7)","v":0},{"$f":"IF(PACKT01!P53*PACKT06!$G$6<$G$7,PACKT01!P53*PACKT06!$G$6,$G$7)","v":0},{"$f":"IF(PACKT01!Q53*PACKT06!$G$6<$G$7,PACKT01!Q53*PACKT06!$G$6,$G$7)","v":0},{"$f":"VLOOKUP(PACKT06Table[[#This Row],[EmployeeID]],EmployeeListLookupTable[#All],12,FALSE)=\"Y\"","v":true}]
[null,"EMP0043",{"$f":"VLOOKUP(PACKT06Table[[#This Row],[EmployeeID]],EmployeeListLookupTable[],2,FALSE)","v":"EMPN043"},{"$f":"VLOOKUP(PACKT06Table[[#This Row],[EmployeeID]],EmployeeListLookupTable[],3,FALSE)","v":"Employee Name 43"},{"$f":"VLOOKUP(PACKT06Table[[#This Row],[EmployeeID]],EmployeeListLookupTable[],4,FALSE)","v":"Employee Job Title 43"},{"$f":"IF(PACKT01!F54*PACKT06!$G$6<$G$7,PACKT01!F54*PACKT06!$G$6,$G$7)","v":0},{"$f":"IF(PACKT01!G54*PACKT06!$G$6<$G$7,PACKT01!G54*PACKT06!$G$6,$G$7)","v":0},{"$f":"IF(PACKT01!H54*PACKT06!$G$6<$G$7,PACKT01!H54*PACKT06!$G$6,$G$7)","v":0},{"$f":"IF(PACKT01!I54*PACKT06!$G$6<$G$7,PACKT01!I54*PACKT06!$G$6,$G$7)","v":0},{"$f":"IF(PACKT01!J54*PACKT06!$G$6<$G$7,PACKT01!J54*PACKT06!$G$6,$G$7)","v":0},{"$f":"IF(PACKT01!K54*PACKT06!$G$6<$G$7,PACKT01!K54*PACKT06!$G$6,$G$7)","v":0},{"$f":"IF(PACKT01!L54*PACKT06!$G$6<$G$7,PACKT01!L54*PACKT06!$G$6,$G$7)","v":0},{"$f":"IF(PACKT01!M54*PACKT06!$G$6<$G$7,PACKT01!M54*PACKT06!$G$6,$G$7)","v":0},{"$f":"IF(PACKT01!N54*PACKT06!$G$6<$G$7,PACKT01!N54*PACKT06!$G$6,$G$7)","v":0},{"$f":"IF(PACKT01!O54*PACKT06!$G$6<$G$7,PACKT01!O54*PACKT06!$G$6,$G$7)","v":0},{"$f":"IF(PACKT01!P54*PACKT06!$G$6<$G$7,PACKT01!P54*PACKT06!$G$6,$G$7)","v":0},{"$f":"IF(PACKT01!Q54*PACKT06!$G$6<$G$7,PACKT01!Q54*PACKT06!$G$6,$G$7)","v":0},{"$f":"VLOOKUP(PACKT06Table[[#This Row],[EmployeeID]],EmployeeListLookupTable[#All],12,FALSE)=\"Y\"","v":true}]
[null,"EMP0044",{"$f":"VLOOKUP(PACKT06Table[[#This Row],[EmployeeID]],EmployeeListLookupTable[],2,FALSE)","v":"EMPN044"},{"$f":"VLOOKUP(PACKT06Table[[#This Row],[EmployeeID]],EmployeeListLookupTable[],3,FALSE)","v":"Employee Name 44"},{"$f":"VLOOKUP(PACKT06Table[[#This Row],[EmployeeID]],EmployeeListLookupTable[],4,FALSE)","v":"Employee Job Title 44"},{"$f":"IF(PACKT01!F55*PACKT06!$G$6<$G$7,PACKT01!F55*PACKT06!$G$6,$G$7)","v":0},{"$f":"IF(PACKT01!G55*PACKT06!$G$6<$G$7,PACKT01!G55*PACKT06!$G$6,$G$7)","v":0},{"$f":"IF(PACKT01!H55*PACKT06!$G$6<$G$7,PACKT01!H55*PACKT06!$G$6,$G$7)","v":0},{"$f":"IF(PACKT01!I55*PACKT06!$G$6<$G$7,PACKT01!I55*PACKT06!$G$6,$G$7)","v":0},{"$f":"IF(PACKT01!J55*PACKT06!$G$6<$G$7,PACKT01!J55*PACKT06!$G$6,$G$7)","v":0},{"$f":"IF(PACKT01!K55*PACKT06!$G$6<$G$7,PACKT01!K55*PACKT06!$G$6,$G$7)","v":0},{"$f":"IF(PACKT01!L55*PACKT06!$G$6<$G$7,PACKT01!L55*PACKT06!$G$6,$G$7)","v":0},{"$f":"IF(PACKT01!M55*PACKT06!$G$6<$G$7,PACKT01!M55*PACKT06!$G$6,$G$7)","v":0},{"$f":"IF(PACKT01!N55*PACKT06!$G$6<$G$7,PACKT01!N55*PACKT06!$G$6,$G$7)","v":0},{"$f":"IF(PACKT01!O55*PACKT06!$G$6<$G$7,PACKT01!O55*PACKT06!$G$6,$G$7)","v":0},{"$f":"IF(PACKT01!P55*PACKT06!$G$6<$G$7,PACKT01!P55*PACKT06!$G$6,$G$7)","v":0},{"$f":"IF(PACKT01!Q55*PACKT06!$G$6<$G$7,PACKT01!Q55*PACKT06!$G$6,$G$7)","v":0},{"$f":"VLOOKUP(PACKT06Table[[#This Row],[EmployeeID]],EmployeeListLookupTable[#All],12,FALSE)=\"Y\"","v":true}]
[null,"EMP0045",{"$f":"VLOOKUP(PACKT06Table[[#This Row],[EmployeeID]],EmployeeListLookupTable[],2,FALSE)","v":"EMPN045"},{"$f":"VLOOKUP(PACKT06Table[[#This Row],[EmployeeID]],EmployeeListLookupTable[],3,FALSE)","v":"Employee Name 45"},{"$f":"VLOOKUP(PACKT06Table[[#This Row],[EmployeeID]],EmployeeListLookupTable[],4,FALSE)","v":"Employee Job Title 45"},{"$f":"IF(PACKT01!F56*PACKT06!$G$6<$G$7,PACKT01!F56*PACKT06!$G$6,$G$7)","v":0},{"$f":"IF(PACKT01!G56*PACKT06!$G$6<$G$7,PACKT01!G56*PACKT06!$G$6,$G$7)","v":0},{"$f":"IF(PACKT01!H56*PACKT06!$G$6<$G$7,PACKT01!H56*PACKT06!$G$6,$G$7)","v":0},{"$f":"IF(PACKT01!I56*PACKT06!$G$6<$G$7,PACKT01!I56*PACKT06!$G$6,$G$7)","v":0},{"$f":"IF(PACKT01!J56*PACKT06!$G$6<$G$7,PACKT01!J56*PACKT06!$G$6,$G$7)","v":0},{"$f":"IF(PACKT01!K56*PACKT06!$G$6<$G$7,PACKT01!K56*PACKT06!$G$6,$G$7)","v":0},{"$f":"IF(PACKT01!L56*PACKT06!$G$6<$G$7,PACKT01!L56*PACKT06!$G$6,$G$7)","v":0},{"$f":"IF(PACKT01!M56*PACKT06!$G$6<$G$7,PACKT01!M56*PACKT06!$G$6,$G$7)","v":0},{"$f":"IF(PACKT01!N56*PACKT06!$G$6<$G$7,PACKT01!N56*PACKT06!$G$6,$G$7)","v":0},{"$f":"IF(PACKT01!O56*PACKT06!$G$6<$G$7,PACKT01!O56*PACKT06!$G$6,$G$7)","v":0},{"$f":"IF(PACKT01!P56*PACKT06!$G$6<$G$7,PACKT01!P56*PACKT06!$G$6,$G$7)","v":0},{"$f":"IF(PACKT01!Q56*PACKT06!$G$6<$G$7,PACKT01!Q56*PACKT06!$G$6,$G$7)","v":0},{"$f":"VLOOKUP(PACKT06Table[[#This Row],[EmployeeID]],EmployeeListLookupTable[#All],12,FALSE)=\"Y\"","v":true}]
[null,"EMP0046",{"$f":"VLOOKUP(PACKT06Table[[#This Row],[EmployeeID]],EmployeeListLookupTable[],2,FALSE)","v":"EMPN046"},{"$f":"VLOOKUP(PACKT06Table[[#This Row],[EmployeeID]],EmployeeListLookupTable[],3,FALSE)","v":"Employee Name 46"},{"$f":"VLOOKUP(PACKT06Table[[#This Row],[EmployeeID]],EmployeeListLookupTable[],4,FALSE)","v":"Employee Job Title 46"},{"$f":"IF(PACKT01!F57*PACKT06!$G$6<$G$7,PACKT01!F57*PACKT06!$G$6,$G$7)","v":0},{"$f":"IF(PACKT01!G57*PACKT06!$G$6<$G$7,PACKT01!G57*PACKT06!$G$6,$G$7)","v":0},{"$f":"IF(PACKT01!H57*PACKT06!$G$6<$G$7,PACKT01!H57*PACKT06!$G$6,$G$7)","v":0},{"$f":"IF(PACKT01!I57*PACKT06!$G$6<$G$7,PACKT01!I57*PACKT06!$G$6,$G$7)","v":0},{"$f":"IF(PACKT01!J57*PACKT06!$G$6<$G$7,PACKT01!J57*PACKT06!$G$6,$G$7)","v":0},{"$f":"IF(PACKT01!K57*PACKT06!$G$6<$G$7,PACKT01!K57*PACKT06!$G$6,$G$7)","v":0},{"$f":"IF(PACKT01!L57*PACKT06!$G$6<$G$7,PACKT01!L57*PACKT06!$G$6,$G$7)","v":0},{"$f":"IF(PACKT01!M57*PACKT06!$G$6<$G$7,PACKT01!M57*PACKT06!$G$6,$G$7)","v":0},{"$f":"IF(PACKT01!N57*PACKT06!$G$6<$G$7,PACKT01!N57*PACKT06!$G$6,$G$7)","v":0},{"$f":"IF(PACKT01!O57*PACKT06!$G$6<$G$7,PACKT01!O57*PACKT06!$G$6,$G$7)","v":0},{"$f":"IF(PACKT01!P57*PACKT06!$G$6<$G$7,PACKT01!P57*PACKT06!$G$6,$G$7)","v":0},{"$f":"IF(PACKT01!Q57*PACKT06!$G$6<$G$7,PACKT01!Q57*PACKT06!$G$6,$G$7)","v":0},{"$f":"VLOOKUP(PACKT06Table[[#This Row],[EmployeeID]],EmployeeListLookupTable[#All],12,FALSE)=\"Y\"","v":true}]
[null,"EMP0047",{"$f":"VLOOKUP(PACKT06Table[[#This Row],[EmployeeID]],EmployeeListLookupTable[],2,FALSE)","v":"EMPN047"},{"$f":"VLOOKUP(PACKT06Table[[#This Row],[EmployeeID]],EmployeeListLookupTable[],3,FALSE)","v":"Employee Name 47"},{"$f":"VLOOKUP(PACKT06Table[[#This Row],[EmployeeID]],EmployeeListLookupTable[],4,FALSE)","v":"Employee Job Title 47"},{"$f":"IF(PACKT01!F58*PACKT06!$G$6<$G$7,PACKT01!F58*PACKT06!$G$6,$G$7)","v":0},{"$f":"IF(PACKT01!G58*PACKT06!$G$6<$G$7,PACKT01!G58*PACKT06!$G$6,$G$7)","v":0},{"$f":"IF(PACKT01!H58*PACKT06!$G$6<$G$7,PACKT01!H58*PACKT06!$G$6,$G$7)","v":0},{"$f":"IF(PACKT01!I58*PACKT06!$G$6<$G$7,PACKT01!I58*PACKT06!$G$6,$G$7)","v":0},{"$f":"IF(PACKT01!J58*PACKT06!$G$6<$G$7,PACKT01!J58*PACKT06!$G$6,$G$7)","v":0},{"$f":"IF(PACKT01!K58*PACKT06!$G$6<$G$7,PACKT01!K58*PACKT06!$G$6,$G$7)","v":0},{"$f":"IF(PACKT01!L58*PACKT06!$G$6<$G$7,PACKT01!L58*PACKT06!$G$6,$G$7)","v":0},{"$f":"IF(PACKT01!M58*PACKT06!$G$6<$G$7,PACKT01!M58*PACKT06!$G$6,$G$7)","v":0},{"$f":"IF(PACKT01!N58*PACKT06!$G$6<$G$7,PACKT01!N58*PACKT06!$G$6,$G$7)","v":0},{"$f":"IF(PACKT01!O58*PACKT06!$G$6<$G$7,PACKT01!O58*PACKT06!$G$6,$G$7)","v":0},{"$f":"IF(PACKT01!P58*PACKT06!$G$6<$G$7,PACKT01!P58*PACKT06!$G$6,$G$7)","v":0},{"$f":"IF(PACKT01!Q58*PACKT06!$G$6<$G$7,PACKT01!Q58*PACKT06!$G$6,$G$7)","v":0},{"$f":"VLOOKUP(PACKT06Table[[#This Row],[EmployeeID]],EmployeeListLookupTable[#All],12,FALSE)=\"Y\"","v":true}]
[null,"EMP0048",{"$f":"VLOOKUP(PACKT06Table[[#This Row],[EmployeeID]],EmployeeListLookupTable[],2,FALSE)","v":"EMPN048"},{"$f":"VLOOKUP(PACKT06Table[[#This Row],[EmployeeID]],EmployeeListLookupTable[],3,FALSE)","v":"Employee Name 48"},{"$f":"VLOOKUP(PACKT06Table[[#This Row],[EmployeeID]],EmployeeListLookupTable[],4,FALSE)","v":"Employee Job Title 48"},{"$f":"IF(PACKT01!F59*PACKT06!$G$6<$G$7,PACKT01!F59*PACKT06!$G$6,$G$7)","v":0},{"$f":"IF(PACKT01!G59*PACKT06!$G$6<$G$7,PACKT01!G59*PACKT06!$G$6,$G$7)","v":0},{"$f":"IF(PACKT01!H59*PACKT06!$G$6<$G$7,PACKT01!H59*PACKT06!$G$6,$G$7)","v":0},{"$f":"IF(PACKT01!I59*PACKT06!$G$6<$G$7,PACKT01!I59*PACKT06!$G$6,$G$7)","v":0},{"$f":"IF(PACKT01!J59*PACKT06!$G$6<$G$7,PACKT01!J59*PACKT06!$G$6,$G$7)","v":0},{"$f":"IF(PACKT01!K59*PACKT06!$G$6<$G$7,PACKT01!K59*PACKT06!$G$6,$G$7)","v":0},{"$f":"IF(PACKT01!L59*PACKT06!$G$6<$G$7,PACKT01!L59*PACKT06!$G$6,$G$7)","v":0},{"$f":"IF(PACKT01!M59*PACKT06!$G$6<$G$7,PACKT01!M59*PACKT06!$G$6,$G$7)","v":0},{"$f":"IF(PACKT01!N59*PACKT06!$G$6<$G$7,PACKT01!N59*PACKT06!$G$6,$G$7)","v":0},{"$f":"IF(PACKT01!O59*PACKT06!$G$6<$G$7,PACKT01!O59*PACKT06!$G$6,$G$7)","v":0},{"$f":"IF(PACKT01!P59*PACKT06!$G$6<$G$7,PACKT01!P59*PACKT06!$G$6,$G$7)","v":0},{"$f":"IF(PACKT01!Q59*PACKT06!$G$6<$G$7,PACKT01!Q59*PACKT06!$G$6,$G$7)","v":0},{"$f":"VLOOKUP(PACKT06Table[[#This Row],[EmployeeID]],EmployeeListLookupTable[#All],12,FALSE)=\"Y\"","v":true}]
[null,"EMP0049",{"$f":"VLOOKUP(PACKT06Table[[#This Row],[EmployeeID]],EmployeeListLookupTable[],2,FALSE)","v":"EMPN049"},{"$f":"VLOOKUP(PACKT06Table[[#This Row],[EmployeeID]],EmployeeListLookupTable[],3,FALSE)","v":"Employee Name 49"},{"$f":"VLOOKUP(PACKT06Table[[#This Row],[EmployeeID]],EmployeeListLookupTable[],4,FALSE)","v":"Employee Job Title 49"},{"$f":"IF(PACKT01!F60*PACKT06!$G$6<$G$7,PACKT01!F60*PACKT06!$G$6,$G$7)","v":0},{"$f":"IF(PACKT01!G60*PACKT06!$G$6<$G$7,PACKT01!G60*PACKT06!$G$6,$G$7)","v":0},{"$f":"IF(PACKT01!H60*PACKT06!$G$6<$G$7,PACKT01!H60*PACKT06!$G$6,$G$7)","v":0},{"$f":"IF(PACKT01!I60*PACKT06!$G$6<$G$7,PACKT01!I60*PACKT06!$G$6,$G$7)","v":0},{"$f":"IF(PACKT01!J60*PACKT06!$G$6<$G$7,PACKT01!J60*PACKT06!$G$6,$G$7)","v":0},{"$f":"IF(PACKT01!K60*PACKT06!$G$6<$G$7,PACKT01!K60*PACKT06!$G$6,$G$7)","v":0},{"$f":"IF(PACKT01!L60*PACKT06!$G$6<$G$7,PACKT01!L60*PACKT06!$G$6,$G$7)","v":0},{"$f":"IF(PACKT01!M60*PACKT06!$G$6<$G$7,PACKT01!M60*PACKT06!$G$6,$G$7)","v":0},{"$f":"IF(PACKT01!N60*PACKT06!$G$6<$G$7,PACKT01!N60*PACKT06!$G$6,$G$7)","v":0},{"$f":"IF(PACKT01!O60*PACKT06!$G$6<$G$7,PACKT01!O60*PACKT06!$G$6,$G$7)","v":0},{"$f":"IF(PACKT01!P60*PACKT06!$G$6<$G$7,PACKT01!P60*PACKT06!$G$6,$G$7)","v":0},{"$f":"IF(PACKT01!Q60*PACKT06!$G$6<$G$7,PACKT01!Q60*PACKT06!$G$6,$G$7)","v":0},{"$f":"VLOOKUP(PACKT06Table[[#This Row],[EmployeeID]],EmployeeListLookupTable[#All],12,FALSE)=\"Y\"","v":true}]
[null,"EMP0050",{"$f":"VLOOKUP(PACKT06Table[[#This Row],[EmployeeID]],EmployeeListLookupTable[],2,FALSE)","v":"EMPN050"},{"$f":"VLOOKUP(PACKT06Table[[#This Row],[EmployeeID]],EmployeeListLookupTable[],3,FALSE)","v":"Employee Name 50"},{"$f":"VLOOKUP(PACKT06Table[[#This Row],[EmployeeID]],EmployeeListLookupTable[],4,FALSE)","v":"Employee Job Title 50"},{"$f":"IF(PACKT01!F61*PACKT06!$G$6<$G$7,PACKT01!F61*PACKT06!$G$6,$G$7)","v":0},{"$f":"IF(PACKT01!G61*PACKT06!$G$6<$G$7,PACKT01!G61*PACKT06!$G$6,$G$7)","v":0},{"$f":"IF(PACKT01!H61*PACKT06!$G$6<$G$7,PACKT01!H61*PACKT06!$G$6,$G$7)","v":0},{"$f":"IF(PACKT01!I61*PACKT06!$G$6<$G$7,PACKT01!I61*PACKT06!$G$6,$G$7)","v":0},{"$f":"IF(PACKT01!J61*PACKT06!$G$6<$G$7,PACKT01!J61*PACKT06!$G$6,$G$7)","v":0},{"$f":"IF(PACKT01!K61*PACKT06!$G$6<$G$7,PACKT01!K61*PACKT06!$G$6,$G$7)","v":0},{"$f":"IF(PACKT01!L61*PACKT06!$G$6<$G$7,PACKT01!L61*PACKT06!$G$6,$G$7)","v":0},{"$f":"IF(PACKT01!M61*PACKT06!$G$6<$G$7,PACKT01!M61*PACKT06!$G$6,$G$7)","v":0},{"$f":"IF(PACKT01!N61*PACKT06!$G$6<$G$7,PACKT01!N61*PACKT06!$G$6,$G$7)","v":0},{"$f":"IF(PACKT01!O61*PACKT06!$G$6<$G$7,PACKT01!O61*PACKT06!$G$6,$G$7)","v":0},{"$f":"IF(PACKT01!P61*PACKT06!$G$6<$G$7,PACKT01!P61*PACKT06!$G$6,$G$7)","v":0},{"$f":"IF(PACKT01!Q61*PACKT06!$G$6<$G$7,PACKT01!Q61*PACKT06!$G$6,$G$7)","v":0},{"$f":"VLOOKUP(PACKT06Table[[#This Row],[EmployeeID]],EmployeeListLookupTable[#All],12,FALSE)=\"Y\"","v":true}]
[null,"EMP0051",{"$f":"VLOOKUP(PACKT06Table[[#This Row],[EmployeeID]],EmployeeListLookupTable[],2,FALSE)","v":"EMPN051"},{"$f":"VLOOKUP(PACKT06Table[[#This Row],[EmployeeID]],EmployeeListLookupTable[],3,FALSE)","v":"Employee Name 51"},{"$f":"VLOOKUP(PACKT06Table[[#This Row],[EmployeeID]],EmployeeListLookupTable[],4,FALSE)","v":"Employee Job Title 51"},{"$f":"IF(PACKT01!F62*PACKT06!$G$6<$G$7,PACKT01!F62*PACKT06!$G$6,$G$7)","v":0},{"$f":"IF(PACKT01!G62*PACKT06!$G$6<$G$7,PACKT01!G62*PACKT06!$G$6,$G$7)","v":0},{"$f":"IF(PACKT01!H62*PACKT06!$G$6<$G$7,PACKT01!H62*PACKT06!$G$6,$G$7)","v":0},{"$f":"IF(PACKT01!I62*PACKT06!$G$6<$G$7,PACKT01!I62*PACKT06!$G$6,$G$7)","v":0},{"$f":"IF(PACKT01!J62*PACKT06!$G$6<$G$7,PACKT01!J62*PACKT06!$G$6,$G$7)","v":0},{"$f":"IF(PACKT01!K62*PACKT06!$G$6<$G$7,PACKT01!K62*PACKT06!$G$6,$G$7)","v":0},{"$f":"IF(PACKT01!L62*PACKT06!$G$6<$G$7,PACKT01!L62*PACKT06!$G$6,$G$7)","v":0},{"$f":"IF(PACKT01!M62*PACKT06!$G$6<$G$7,PACKT01!M62*PACKT06!$G$6,$G$7)","v":0},{"$f":"IF(PACKT01!N62*PACKT06!$G$6<$G$7,PACKT01!N62*PACKT06!$G$6,$G$7)","v":0},{"$f":"IF(PACKT01!O62*PACKT06!$G$6<$G$7,PACKT01!O62*PACKT06!$G$6,$G$7)","v":0},{"$f":"IF(PACKT01!P62*PACKT06!$G$6<$G$7,PACKT01!P62*PACKT06!$G$6,$G$7)","v":0},{"$f":"IF(PACKT01!Q62*PACKT06!$G$6<$G$7,PACKT01!Q62*PACKT06!$G$6,$G$7)","v":0},{"$f":"VLOOKUP(PACKT06Table[[#This Row],[EmployeeID]],EmployeeListLookupTable[#All],12,FALSE)=\"Y\"","v":true}]
[null,"EMP0052",{"$f":"VLOOKUP(PACKT06Table[[#This Row],[EmployeeID]],EmployeeListLookupTable[],2,FALSE)","v":"EMPN052"},{"$f":"VLOOKUP(PACKT06Table[[#This Row],[EmployeeID]],EmployeeListLookupTable[],3,FALSE)","v":"Employee Name 52"},{"$f":"VLOOKUP(PACKT06Table[[#This Row],[EmployeeID]],EmployeeListLookupTable[],4,FALSE)","v":"Employee Job Title 52"},{"$f":"IF(PACKT01!F63*PACKT06!$G$6<$G$7,PACKT01!F63*PACKT06!$G$6,$G$7)","v":0},{"$f":"IF(PACKT01!G63*PACKT06!$G$6<$G$7,PACKT01!G63*PACKT06!$G$6,$G$7)","v":0},{"$f":"IF(PACKT01!H63*PACKT06!$G$6<$G$7,PACKT01!H63*PACKT06!$G$6,$G$7)","v":0},{"$f":"IF(PACKT01!I63*PACKT06!$G$6<$G$7,PACKT01!I63*PACKT06!$G$6,$G$7)","v":0},{"$f":"IF(PACKT01!J63*PACKT06!$G$6<$G$7,PACKT01!J63*PACKT06!$G$6,$G$7)","v":0},{"$f":"IF(PACKT01!K63*PACKT06!$G$6<$G$7,PACKT01!K63*PACKT06!$G$6,$G$7)","v":0},{"$f":"IF(PACKT01!L63*PACKT06!$G$6<$G$7,PACKT01!L63*PACKT06!$G$6,$G$7)","v":0},{"$f":"IF(PACKT01!M63*PACKT06!$G$6<$G$7,PACKT01!M63*PACKT06!$G$6,$G$7)","v":0},{"$f":"IF(PACKT01!N63*PACKT06!$G$6<$G$7,PACKT01!N63*PACKT06!$G$6,$G$7)","v":0},{"$f":"IF(PACKT01!O63*PACKT06!$G$6<$G$7,PACKT01!O63*PACKT06!$G$6,$G$7)","v":0},{"$f":"IF(PACKT01!P63*PACKT06!$G$6<$G$7,PACKT01!P63*PACKT06!$G$6,$G$7)","v":0},{"$f":"IF(PACKT01!Q63*PACKT06!$G$6<$G$7,PACKT01!Q63*PACKT06!$G$6,$G$7)","v":0},{"$f":"VLOOKUP(PACKT06Table[[#This Row],[EmployeeID]],EmployeeListLookupTable[#All],12,FALSE)=\"Y\"","v":true}]
[null,"EMP0053",{"$f":"VLOOKUP(PACKT06Table[[#This Row],[EmployeeID]],EmployeeListLookupTable[],2,FALSE)","v":"EMPN053"},{"$f":"VLOOKUP(PACKT06Table[[#This Row],[EmployeeID]],EmployeeListLookupTable[],3,FALSE)","v":"Employee Name 53"},{"$f":"VLOOKUP(PACKT06Table[[#This Row],[EmployeeID]],EmployeeListLookupTable[],4,FALSE)","v":"Employee Job Title 53"},{"$f":"IF(PACKT01!F64*PACKT06!$G$6<$G$7,PACKT01!F64*PACKT06!$G$6,$G$7)","v":0},{"$f":"IF(PACKT01!G64*PACKT06!$G$6<$G$7,PACKT01!G64*PACKT06!$G$6,$G$7)","v":0},{"$f":"IF(PACKT01!H64*PACKT06!$G$6<$G$7,PACKT01!H64*PACKT06!$G$6,$G$7)","v":0},{"$f":"IF(PACKT01!I64*PACKT06!$G$6<$G$7,PACKT01!I64*PACKT06!$G$6,$G$7)","v":0},{"$f":"IF(PACKT01!J64*PACKT06!$G$6<$G$7,PACKT01!J64*PACKT06!$G$6,$G$7)","v":0},{"$f":"IF(PACKT01!K64*PACKT06!$G$6<$G$7,PACKT01!K64*PACKT06!$G$6,$G$7)","v":0},{"$f":"IF(PACKT01!L64*PACKT06!$G$6<$G$7,PACKT01!L64*PACKT06!$G$6,$G$7)","v":0},{"$f":"IF(PACKT01!M64*PACKT06!$G$6<$G$7,PACKT01!M64*PACKT06!$G$6,$G$7)","v":0},{"$f":"IF(PACKT01!N64*PACKT06!$G$6<$G$7,PACKT01!N64*PACKT06!$G$6,$G$7)","v":0},{"$f":"IF(PACKT01!O64*PACKT06!$G$6<$G$7,PACKT01!O64*PACKT06!$G$6,$G$7)","v":0},{"$f":"IF(PACKT01!P64*PACKT06!$G$6<$G$7,PACKT01!P64*PACKT06!$G$6,$G$7)","v":0},{"$f":"IF(PACKT01!Q64*PACKT06!$G$6<$G$7,PACKT01!Q64*PACKT06!$G$6,$G$7)","v":0},{"$f":"VLOOKUP(PACKT06Table[[#This Row],[EmployeeID]],EmployeeListLookupTable[#All],12,FALSE)=\"Y\"","v":true}]
[null,"EMP0054",{"$f":"VLOOKUP(PACKT06Table[[#This Row],[EmployeeID]],EmployeeListLookupTable[],2,FALSE)","v":"EMPN054"},{"$f":"VLOOKUP(PACKT06Table[[#This Row],[EmployeeID]],EmployeeListLookupTable[],3,FALSE)","v":"Employee Name 54"},{"$f":"VLOOKUP(PACKT06Table[[#This Row],[EmployeeID]],EmployeeListLookupTable[],4,FALSE)","v":"Employee Job Title 54"},{"$f":"IF(PACKT01!F65*PACKT06!$G$6<$G$7,PACKT01!F65*PACKT06!$G$6,$G$7)","v":0},{"$f":"IF(PACKT01!G65*PACKT06!$G$6<$G$7,PACKT01!G65*PACKT06!$G$6,$G$7)","v":0},{"$f":"IF(PACKT01!H65*PACKT06!$G$6<$G$7,PACKT01!H65*PACKT06!$G$6,$G$7)","v":0},{"$f":"IF(PACKT01!I65*PACKT06!$G$6<$G$7,PACKT01!I65*PACKT06!$G$6,$G$7)","v":0},{"$f":"IF(PACKT01!J65*PACKT06!$G$6<$G$7,PACKT01!J65*PACKT06!$G$6,$G$7)","v":0},{"$f":"IF(PACKT01!K65*PACKT06!$G$6<$G$7,PACKT01!K65*PACKT06!$G$6,$G$7)","v":0},{"$f":"IF(PACKT01!L65*PACKT06!$G$6<$G$7,PACKT01!L65*PACKT06!$G$6,$G$7)","v":0},{"$f":"IF(PACKT01!M65*PACKT06!$G$6<$G$7,PACKT01!M65*PACKT06!$G$6,$G$7)","v":0},{"$f":"IF(PACKT01!N65*PACKT06!$G$6<$G$7,PACKT01!N65*PACKT06!$G$6,$G$7)","v":0},{"$f":"IF(PACKT01!O65*PACKT06!$G$6<$G$7,PACKT01!O65*PACKT06!$G$6,$G$7)","v":0},{"$f":"IF(PACKT01!P65*PACKT06!$G$6<$G$7,PACKT01!P65*PACKT06!$G$6,$G$7)","v":0},{"$f":"IF(PACKT01!Q65*PACKT06!$G$6<$G$7,PACKT01!Q65*PACKT06!$G$6,$G$7)","v":0},{"$f":"VLOOKUP(PACKT06Table[[#This Row],[EmployeeID]],EmployeeListLookupTable[#All],12,FALSE)=\"Y\"","v":true}]
[null,"EMP0055",{"$f":"VLOOKUP(PACKT06Table[[#This Row],[EmployeeID]],EmployeeListLookupTable[],2,FALSE)","v":"EMPN055"},{"$f":"VLOOKUP(PACKT06Table[[#This Row],[EmployeeID]],EmployeeListLookupTable[],3,FALSE)","v":"Employee Name 55"},{"$f":"VLOOKUP(PACKT06Table[[#This Row],[EmployeeID]],EmployeeListLookupTable[],4,FALSE)","v":"Employee Job Title 55"},{"$f":"IF(PACKT01!F66*PACKT06!$G$6<$G$7,PACKT01!F66*PACKT06!$G$6,$G$7)","v":0},{"$f":"IF(PACKT01!G66*PACKT06!$G$6<$G$7,PACKT01!G66*PACKT06!$G$6,$G$7)","v":0},{"$f":"IF(PACKT01!H66*PACKT06!$G$6<$G$7,PACKT01!H66*PACKT06!$G$6,$G$7)","v":0},{"$f":"IF(PACKT01!I66*PACKT06!$G$6<$G$7,PACKT01!I66*PACKT06!$G$6,$G$7)","v":0},{"$f":"IF(PACKT01!J66*PACKT06!$G$6<$G$7,PACKT01!J66*PACKT06!$G$6,$G$7)","v":0},{"$f":"IF(PACKT01!K66*PACKT06!$G$6<$G$7,PACKT01!K66*PACKT06!$G$6,$G$7)","v":0},{"$f":"IF(PACKT01!L66*PACKT06!$G$6<$G$7,PACKT01!L66*PACKT06!$G$6,$G$7)","v":0},{"$f":"IF(PACKT01!M66*PACKT06!$G$6<$G$7,PACKT01!M66*PACKT06!$G$6,$G$7)","v":0},{"$f":"IF(PACKT01!N66*PACKT06!$G$6<$G$7,PACKT01!N66*PACKT06!$G$6,$G$7)","v":0},{"$f":"IF(PACKT01!O66*PACKT06!$G$6<$G$7,PACKT01!O66*PACKT06!$G$6,$G$7)","v":0},{"$f":"IF(PACKT01!P66*PACKT06!$G$6<$G$7,PACKT01!P66*PACKT06!$G$6,$G$7)","v":0},{"$f":"IF(PACKT01!Q66*PACKT06!$G$6<$G$7,PACKT01!Q66*PACKT06!$G$6,$G$7)","v":0},{"$f":"VLOOKUP(PACKT06Table[[#This Row],[EmployeeID]],EmployeeListLookupTable[#All],12,FALSE)=\"Y\"","v":true}]
[null,"EMP0056",{"$f":"VLOOKUP(PACKT06Table[[#This Row],[EmployeeID]],EmployeeListLookupTable[],2,FALSE)","v":"EMPN056"},{"$f":"VLOOKUP(PACKT06Table[[#This Row],[EmployeeID]],EmployeeListLookupTable[],3,FALSE)","v":"Employee Name 56"},{"$f":"VLOOKUP(PACKT06Table[[#This Row],[EmployeeID]],EmployeeListLookupTable[],4,FALSE)","v":"Employee Job Title 56"},{"$f":"IF(PACKT01!F67*PACKT06!$G$6<$G$7,PACKT01!F67*PACKT06!$G$6,$G$7)","v":0},{"$f":"IF(PACKT01!G67*PACKT06!$G$6<$G$7,PACKT01!G67*PACKT06!$G$6,$G$7)","v":0},{"$f":"IF(PACKT01!H67*PACKT06!$G$6<$G$7,PACKT01!H67*PACKT06!$G$6,$G$7)","v":0},{"$f":"IF(PACKT01!I67*PACKT06!$G$6<$G$7,PACKT01!I67*PACKT06!$G$6,$G$7)","v":0},{"$f":"IF(PACKT01!J67*PACKT06!$G$6<$G$7,PACKT01!J67*PACKT06!$G$6,$G$7)","v":0},{"$f":"IF(PACKT01!K67*PACKT06!$G$6<$G$7,PACKT01!K67*PACKT06!$G$6,$G$7)","v":0},{"$f":"IF(PACKT01!L67*PACKT06!$G$6<$G$7,PACKT01!L67*PACKT06!$G$6,$G$7)","v":0},{"$f":"IF(PACKT01!M67*PACKT06!$G$6<$G$7,PACKT01!M67*PACKT06!$G$6,$G$7)","v":0},{"$f":"IF(PACKT01!N67*PACKT06!$G$6<$G$7,PACKT01!N67*PACKT06!$G$6,$G$7)","v":0},{"$f":"IF(PACKT01!O67*PACKT06!$G$6<$G$7,PACKT01!O67*PACKT06!$G$6,$G$7)","v":0},{"$f":"IF(PACKT01!P67*PACKT06!$G$6<$G$7,PACKT01!P67*PACKT06!$G$6,$G$7)","v":0},{"$f":"IF(PACKT01!Q67*PACKT06!$G$6<$G$7,PACKT01!Q67*PACKT06!$G$6,$G$7)","v":0},{"$f":"VLOOKUP(PACKT06Table[[#This Row],[EmployeeID]],EmployeeListLookupTable[#All],12,FALSE)=\"Y\"","v":true}]
[null,"EMP0057",{"$f":"VLOOKUP(PACKT06Table[[#This Row],[EmployeeID]],EmployeeListLookupTable[],2,FALSE)","v":"EMPN057"},{"$f":"VLOOKUP(PACKT06Table[[#This Row],[EmployeeID]],EmployeeListLookupTable[],3,FALSE)","v":"Employee Name 57"},{"$f":"VLOOKUP(PACKT06Table[[#This Row],[EmployeeID]],EmployeeListLookupTable[],4,FALSE)","v":"Employee Job Title 57"},{"$f":"IF(PACKT01!F68*PACKT06!$G$6<$G$7,PACKT01!F68*PACKT06!$G$6,$G$7)","v":0},{"$f":"IF(PACKT01!G68*PACKT06!$G$6<$G$7,PACKT01!G68*PACKT06!$G$6,$G$7)","v":0},{"$f":"IF(PACKT01!H68*PACKT06!$G$6<$G$7,PACKT01!H68*PACKT06!$G$6,$G$7)","v":0},{"$f":"IF(PACKT01!I68*PACKT06!$G$6<$G$7,PACKT01!I68*PACKT06!$G$6,$G$7)","v":0},{"$f":"IF(PACKT01!J68*PACKT06!$G$6<$G$7,PACKT01!J68*PACKT06!$G$6,$G$7)","v":0},{"$f":"IF(PACKT01!K68*PACKT06!$G$6<$G$7,PACKT01!K68*PACKT06!$G$6,$G$7)","v":0},{"$f":"IF(PACKT01!L68*PACKT06!$G$6<$G$7,PACKT01!L68*PACKT06!$G$6,$G$7)","v":0},{"$f":"IF(PACKT01!M68*PACKT06!$G$6<$G$7,PACKT01!M68*PACKT06!$G$6,$G$7)","v":0},{"$f":"IF(PACKT01!N68*PACKT06!$G$6<$G$7,PACKT01!N68*PACKT06!$G$6,$G$7)","v":0},{"$f":"IF(PACKT01!O68*PACKT06!$G$6<$G$7,PACKT01!O68*PACKT06!$G$6,$G$7)","v":0},{"$f":"IF(PACKT01!P68*PACKT06!$G$6<$G$7,PACKT01!P68*PACKT06!$G$6,$G$7)","v":0},{"$f":"IF(PACKT01!Q68*PACKT06!$G$6<$G$7,PACKT01!Q68*PACKT06!$G$6,$G$7)","v":0},{"$f":"VLOOKUP(PACKT06Table[[#This Row],[EmployeeID]],EmployeeListLookupTable[#All],12,FALSE)=\"Y\"","v":true}]
[null,"EMP0058",{"$f":"VLOOKUP(PACKT06Table[[#This Row],[EmployeeID]],EmployeeListLookupTable[],2,FALSE)","v":"EMPN058"},{"$f":"VLOOKUP(PACKT06Table[[#This Row],[EmployeeID]],EmployeeListLookupTable[],3,FALSE)","v":"Employee Name 58"},{"$f":"VLOOKUP(PACKT06Table[[#This Row],[EmployeeID]],EmployeeListLookupTable[],4,FALSE)","v":"Employee Job Title 58"},{"$f":"IF(PACKT01!F69*PACKT06!$G$6<$G$7,PACKT01!F69*PACKT06!$G$6,$G$7)","v":0},{"$f":"IF(PACKT01!G69*PACKT06!$G$6<$G$7,PACKT01!G69*PACKT06!$G$6,$G$7)","v":0},{"$f":"IF(PACKT01!H69*PACKT06!$G$6<$G$7,PACKT01!H69*PACKT06!$G$6,$G$7)","v":0},{"$f":"IF(PACKT01!I69*PACKT06!$G$6<$G$7,PACKT01!I69*PACKT06!$G$6,$G$7)","v":0},{"$f":"IF(PACKT01!J69*PACKT06!$G$6<$G$7,PACKT01!J69*PACKT06!$G$6,$G$7)","v":0},{"$f":"IF(PACKT01!K69*PACKT06!$G$6<$G$7,PACKT01!K69*PACKT06!$G$6,$G$7)","v":0},{"$f":"IF(PACKT01!L69*PACKT06!$G$6<$G$7,PACKT01!L69*PACKT06!$G$6,$G$7)","v":0},{"$f":"IF(PACKT01!M69*PACKT06!$G$6<$G$7,PACKT01!M69*PACKT06!$G$6,$G$7)","v":0},{"$f":"IF(PACKT01!N69*PACKT06!$G$6<$G$7,PACKT01!N69*PACKT06!$G$6,$G$7)","v":0},{"$f":"IF(PACKT01!O69*PACKT06!$G$6<$G$7,PACKT01!O69*PACKT06!$G$6,$G$7)","v":0},{"$f":"IF(PACKT01!P69*PACKT06!$G$6<$G$7,PACKT01!P69*PACKT06!$G$6,$G$7)","v":0},{"$f":"IF(PACKT01!Q69*PACKT06!$G$6<$G$7,PACKT01!Q69*PACKT06!$G$6,$G$7)","v":0},{"$f":"VLOOKUP(PACKT06Table[[#This Row],[EmployeeID]],EmployeeListLookupTable[#All],12,FALSE)=\"Y\"","v":true}]
[null,"EMP0059",{"$f":"VLOOKUP(PACKT06Table[[#This Row],[EmployeeID]],EmployeeListLookupTable[],2,FALSE)","v":"EMPN059"},{"$f":"VLOOKUP(PACKT06Table[[#This Row],[EmployeeID]],EmployeeListLookupTable[],3,FALSE)","v":"Employee Name 59"},{"$f":"VLOOKUP(PACKT06Table[[#This Row],[EmployeeID]],EmployeeListLookupTable[],4,FALSE)","v":"Employee Job Title 59"},{"$f":"IF(PACKT01!F70*PACKT06!$G$6<$G$7,PACKT01!F70*PACKT06!$G$6,$G$7)","v":0},{"$f":"IF(PACKT01!G70*PACKT06!$G$6<$G$7,PACKT01!G70*PACKT06!$G$6,$G$7)","v":0},{"$f":"IF(PACKT01!H70*PACKT06!$G$6<$G$7,PACKT01!H70*PACKT06!$G$6,$G$7)","v":0},{"$f":"IF(PACKT01!I70*PACKT06!$G$6<$G$7,PACKT01!I70*PACKT06!$G$6,$G$7)","v":0},{"$f":"IF(PACKT01!J70*PACKT06!$G$6<$G$7,PACKT01!J70*PACKT06!$G$6,$G$7)","v":0},{"$f":"IF(PACKT01!K70*PACKT06!$G$6<$G$7,PACKT01!K70*PACKT06!$G$6,$G$7)","v":0},{"$f":"IF(PACKT01!L70*PACKT06!$G$6<$G$7,PACKT01!L70*PACKT06!$G$6,$G$7)","v":0},{"$f":"IF(PACKT01!M70*PACKT06!$G$6<$G$7,PACKT01!M70*PACKT06!$G$6,$G$7)","v":0},{"$f":"IF(PACKT01!N70*PACKT06!$G$6<$G$7,PACKT01!N70*PACKT06!$G$6,$G$7)","v":0},{"$f":"IF(PACKT01!O70*PACKT06!$G$6<$G$7,PACKT01!O70*PACKT06!$G$6,$G$7)","v":0},{"$f":"IF(PACKT01!P70*PACKT06!$G$6<$G$7,PACKT01!P70*PACKT06!$G$6,$G$7)","v":0},{"$f":"IF(PACKT01!Q70*PACKT06!$G$6<$G$7,PACKT01!Q70*PACKT06!$G$6,$G$7)","v":0},{"$f":"VLOOKUP(PACKT06Table[[#This Row],[EmployeeID]],EmployeeListLookupTable[#All],12,FALSE)=\"Y\"","v":true}]
[null,"EMP0060",{"$f":"VLOOKUP(PACKT06Table[[#This Row],[EmployeeID]],EmployeeListLookupTable[],2,FALSE)","v":"EMPN060"},{"$f":"VLOOKUP(PACKT06Table[[#This Row],[EmployeeID]],EmployeeListLookupTable[],3,FALSE)","v":"Employee Name 60"},{"$f":"VLOOKUP(PACKT06Table[[#This Row],[EmployeeID]],EmployeeListLookupTable[],4,FALSE)","v":"Employee Job Title 60"},{"$f":"IF(PACKT01!F71*PACKT06!$G$6<$G$7,PACKT01!F71*PACKT06!$G$6,$G$7)","v":0},{"$f":"IF(PACKT01!G71*PACKT06!$G$6<$G$7,PACKT01!G71*PACKT06!$G$6,$G$7)","v":0},{"$f":"IF(PACKT01!H71*PACKT06!$G$6<$G$7,PACKT01!H71*PACKT06!$G$6,$G$7)","v":0},{"$f":"IF(PACKT01!I71*PACKT06!$G$6<$G$7,PACKT01!I71*PACKT06!$G$6,$G$7)","v":0},{"$f":"IF(PACKT01!J71*PACKT06!$G$6<$G$7,PACKT01!J71*PACKT06!$G$6,$G$7)","v":0},{"$f":"IF(PACKT01!K71*PACKT06!$G$6<$G$7,PACKT01!K71*PACKT06!$G$6,$G$7)","v":0},{"$f":"IF(PACKT01!L71*PACKT06!$G$6<$G$7,PACKT01!L71*PACKT06!$G$6,$G$7)","v":0},{"$f":"IF(PACKT01!M71*PACKT06!$G$6<$G$7,PACKT01!M71*PACKT06!$G$6,$G$7)","v":0},{"$f":"IF(PACKT01!N71*PACKT06!$G$6<$G$7,PACKT01!N71*PACKT06!$G$6,$G$7)","v":0},{"$f":"IF(PACKT01!O71*PACKT06!$G$6<$G$7,PACKT01!O71*PACKT06!$G$6,$G$7)","v":0},{"$f":"IF(PACKT01!P71*PACKT06!$G$6<$G$7,PACKT01!P71*PACKT06!$G$6,$G$7)","v":0},{"$f":"IF(PACKT01!Q71*PACKT06!$G$6<$G$7,PACKT01!Q71*PACKT06!$G$6,$G$7)","v":0},{"$f":"VLOOKUP(PACKT06Table[[#This Row],[EmployeeID]],EmployeeListLookupTable[#All],12,FALSE)=\"Y\"","v":true}]
[null,"EMP0061",{"$f":"VLOOKUP(PACKT06Table[[#This Row],[EmployeeID]],EmployeeListLookupTable[],2,FALSE)","v":"EMPN061"},{"$f":"VLOOKUP(PACKT06Table[[#This Row],[EmployeeID]],EmployeeListLookupTable[],3,FALSE)","v":"Employee Name 61"},{"$f":"VLOOKUP(PACKT06Table[[#This Row],[EmployeeID]],EmployeeListLookupTable[],4,FALSE)","v":"Employee Job Title 61"},{"$f":"IF(PACKT01!F72*PACKT06!$G$6<$G$7,PACKT01!F72*PACKT06!$G$6,$G$7)","v":0},{"$f":"IF(PACKT01!G72*PACKT06!$G$6<$G$7,PACKT01!G72*PACKT06!$G$6,$G$7)","v":0},{"$f":"IF(PACKT01!H72*PACKT06!$G$6<$G$7,PACKT01!H72*PACKT06!$G$6,$G$7)","v":0},{"$f":"IF(PACKT01!I72*PACKT06!$G$6<$G$7,PACKT01!I72*PACKT06!$G$6,$G$7)","v":0},{"$f":"IF(PACKT01!J72*PACKT06!$G$6<$G$7,PACKT01!J72*PACKT06!$G$6,$G$7)","v":0},{"$f":"IF(PACKT01!K72*PACKT06!$G$6<$G$7,PACKT01!K72*PACKT06!$G$6,$G$7)","v":0},{"$f":"IF(PACKT01!L72*PACKT06!$G$6<$G$7,PACKT01!L72*PACKT06!$G$6,$G$7)","v":0},{"$f":"IF(PACKT01!M72*PACKT06!$G$6<$G$7,PACKT01!M72*PACKT06!$G$6,$G$7)","v":0},{"$f":"IF(PACKT01!N72*PACKT06!$G$6<$G$7,PACKT01!N72*PACKT06!$G$6,$G$7)","v":0},{"$f":"IF(PACKT01!O72*PACKT06!$G$6<$G$7,PACKT01!O72*PACKT06!$G$6,$G$7)","v":0},{"$f":"IF(PACKT01!P72*PACKT06!$G$6<$G$7,PACKT01!P72*PACKT06!$G$6,$G$7)","v":0},{"$f":"IF(PACKT01!Q72*PACKT06!$G$6<$G$7,PACKT01!Q72*PACKT06!$G$6,$G$7)","v":0},{"$f":"VLOOKUP(PACKT06Table[[#This Row],[EmployeeID]],EmployeeListLookupTable[#All],12,FALSE)=\"Y\"","v":true}]
[null,"EMP0062",{"$f":"VLOOKUP(PACKT06Table[[#This Row],[EmployeeID]],EmployeeListLookupTable[],2,FALSE)","v":"EMPN062"},{"$f":"VLOOKUP(PACKT06Table[[#This Row],[EmployeeID]],EmployeeListLookupTable[],3,FALSE)","v":"Employee Name 62"},{"$f":"VLOOKUP(PACKT06Table[[#This Row],[EmployeeID]],EmployeeListLookupTable[],4,FALSE)","v":"Employee Job Title 62"},{"$f":"IF(PACKT01!F73*PACKT06!$G$6<$G$7,PACKT01!F73*PACKT06!$G$6,$G$7)","v":0},{"$f":"IF(PACKT01!G73*PACKT06!$G$6<$G$7,PACKT01!G73*PACKT06!$G$6,$G$7)","v":0},{"$f":"IF(PACKT01!H73*PACKT06!$G$6<$G$7,PACKT01!H73*PACKT06!$G$6,$G$7)","v":0},{"$f":"IF(PACKT01!I73*PACKT06!$G$6<$G$7,PACKT01!I73*PACKT06!$G$6,$G$7)","v":0},{"$f":"IF(PACKT01!J73*PACKT06!$G$6<$G$7,PACKT01!J73*PACKT06!$G$6,$G$7)","v":0},{"$f":"IF(PACKT01!K73*PACKT06!$G$6<$G$7,PACKT01!K73*PACKT06!$G$6,$G$7)","v":0},{"$f":"IF(PACKT01!L73*PACKT06!$G$6<$G$7,PACKT01!L73*PACKT06!$G$6,$G$7)","v":0},{"$f":"IF(PACKT01!M73*PACKT06!$G$6<$G$7,PACKT01!M73*PACKT06!$G$6,$G$7)","v":0},{"$f":"IF(PACKT01!N73*PACKT06!$G$6<$G$7,PACKT01!N73*PACKT06!$G$6,$G$7)","v":0},{"$f":"IF(PACKT01!O73*PACKT06!$G$6<$G$7,PACKT01!O73*PACKT06!$G$6,$G$7)","v":0},{"$f":"IF(PACKT01!P73*PACKT06!$G$6<$G$7,PACKT01!P73*PACKT06!$G$6,$G$7)","v":0},{"$f":"IF(PACKT01!Q73*PACKT06!$G$6<$G$7,PACKT01!Q73*PACKT06!$G$6,$G$7)","v":0},{"$f":"VLOOKUP(PACKT06Table[[#This Row],[EmployeeID]],EmployeeListLookupTable[#All],12,FALSE)=\"Y\"","v":true}]
[null,"EMP0063",{"$f":"VLOOKUP(PACKT06Table[[#This Row],[EmployeeID]],EmployeeListLookupTable[],2,FALSE)","v":"EMPN063"},{"$f":"VLOOKUP(PACKT06Table[[#This Row],[EmployeeID]],EmployeeListLookupTable[],3,FALSE)","v":"Employee Name 63"},{"$f":"VLOOKUP(PACKT06Table[[#This Row],[EmployeeID]],EmployeeListLookupTable[],4,FALSE)","v":"Employee Job Title 63"},{"$f":"IF(PACKT01!F74*PACKT06!$G$6<$G$7,PACKT01!F74*PACKT06!$G$6,$G$7)","v":0},{"$f":"IF(PACKT01!G74*PACKT06!$G$6<$G$7,PACKT01!G74*PACKT06!$G$6,$G$7)","v":0},{"$f":"IF(PACKT01!H74*PACKT06!$G$6<$G$7,PACKT01!H74*PACKT06!$G$6,$G$7)","v":0},{"$f":"IF(PACKT01!I74*PACKT06!$G$6<$G$7,PACKT01!I74*PACKT06!$G$6,$G$7)","v":0},{"$f":"IF(PACKT01!J74*PACKT06!$G$6<$G$7,PACKT01!J74*PACKT06!$G$6,$G$7)","v":0},{"$f":"IF(PACKT01!K74*PACKT06!$G$6<$G$7,PACKT01!K74*PACKT06!$G$6,$G$7)","v":0},{"$f":"IF(PACKT01!L74*PACKT06!$G$6<$G$7,PACKT01!L74*PACKT06!$G$6,$G$7)","v":0},{"$f":"IF(PACKT01!M74*PACKT06!$G$6<$G$7,PACKT01!M74*PACKT06!$G$6,$G$7)","v":0},{"$f":"IF(PACKT01!N74*PACKT06!$G$6<$G$7,PACKT01!N74*PACKT06!$G$6,$G$7)","v":0},{"$f":"IF(PACKT01!O74*PACKT06!$G$6<$G$7,PACKT01!O74*PACKT06!$G$6,$G$7)","v":0},{"$f":"IF(PACKT01!P74*PACKT06!$G$6<$G$7,PACKT01!P74*PACKT06!$G$6,$G$7)","v":0},{"$f":"IF(PACKT01!Q74*PACKT06!$G$6<$G$7,PACKT01!Q74*PACKT06!$G$6,$G$7)","v":0},{"$f":"VLOOKUP(PACKT06Table[[#This Row],[EmployeeID]],EmployeeListLookupTable[#All],12,FALSE)=\"Y\"","v":true}]
[null,"EMP0064",{"$f":"VLOOKUP(PACKT06Table[[#This Row],[EmployeeID]],EmployeeListLookupTable[],2,FALSE)","v":"EMPN064"},{"$f":"VLOOKUP(PACKT06Table[[#This Row],[EmployeeID]],EmployeeListLookupTable[],3,FALSE)","v":"Employee Name 64"},{"$f":"VLOOKUP(PACKT06Table[[#This Row],[EmployeeID]],EmployeeListLookupTable[],4,FALSE)","v":"Employee Job Title 64"},{"$f":"IF(PACKT01!F75*PACKT06!$G$6<$G$7,PACKT01!F75*PACKT06!$G$6,$G$7)","v":0},{"$f":"IF(PACKT01!G75*PACKT06!$G$6<$G$7,PACKT01!G75*PACKT06!$G$6,$G$7)","v":0},{"$f":"IF(PACKT01!H75*PACKT06!$G$6<$G$7,PACKT01!H75*PACKT06!$G$6,$G$7)","v":0},{"$f":"IF(PACKT01!I75*PACKT06!$G$6<$G$7,PACKT01!I75*PACKT06!$G$6,$G$7)","v":0},{"$f":"IF(PACKT01!J75*PACKT06!$G$6<$G$7,PACKT01!J75*PACKT06!$G$6,$G$7)","v":0},{"$f":"IF(PACKT01!K75*PACKT06!$G$6<$G$7,PACKT01!K75*PACKT06!$G$6,$G$7)","v":0},{"$f":"IF(PACKT01!L75*PACKT06!$G$6<$G$7,PACKT01!L75*PACKT06!$G$6,$G$7)","v":0},{"$f":"IF(PACKT01!M75*PACKT06!$G$6<$G$7,PACKT01!M75*PACKT06!$G$6,$G$7)","v":0},{"$f":"IF(PACKT01!N75*PACKT06!$G$6<$G$7,PACKT01!N75*PACKT06!$G$6,$G$7)","v":0},{"$f":"IF(PACKT01!O75*PACKT06!$G$6<$G$7,PACKT01!O75*PACKT06!$G$6,$G$7)","v":0},{"$f":"IF(PACKT01!P75*PACKT06!$G$6<$G$7,PACKT01!P75*PACKT06!$G$6,$G$7)","v":0},{"$f":"IF(PACKT01!Q75*PACKT06!$G$6<$G$7,PACKT01!Q75*PACKT06!$G$6,$G$7)","v":0},{"$f":"VLOOKUP(PACKT06Table[[#This Row],[EmployeeID]],EmployeeListLookupTable[#All],12,FALSE)=\"Y\"","v":true}]
[null,"EMP0065",{"$f":"VLOOKUP(PACKT06Table[[#This Row],[EmployeeID]],EmployeeListLookupTable[],2,FALSE)","v":"EMPN065"},{"$f":"VLOOKUP(PACKT06Table[[#This Row],[EmployeeID]],EmployeeListLookupTable[],3,FALSE)","v":"Employee Name 65"},{"$f":"VLOOKUP(PACKT06Table[[#This Row],[EmployeeID]],EmployeeListLookupTable[],4,FALSE)","v":"Employee Job Title 65"},{"$f":"IF(PACKT01!F76*PACKT06!$G$6<$G$7,PACKT01!F76*PACKT06!$G$6,$G$7)","v":0},{"$f":"IF(PACKT01!G76*PACKT06!$G$6<$G$7,PACKT01!G76*PACKT06!$G$6,$G$7)","v":0},{"$f":"IF(PACKT01!H76*PACKT06!$G$6<$G$7,PACKT01!H76*PACKT06!$G$6,$G$7)","v":0},{"$f":"IF(PACKT01!I76*PACKT06!$G$6<$G$7,PACKT01!I76*PACKT06!$G$6,$G$7)","v":0},{"$f":"IF(PACKT01!J76*PACKT06!$G$6<$G$7,PACKT01!J76*PACKT06!$G$6,$G$7)","v":0},{"$f":"IF(PACKT01!K76*PACKT06!$G$6<$G$7,PACKT01!K76*PACKT06!$G$6,$G$7)","v":0},{"$f":"IF(PACKT01!L76*PACKT06!$G$6<$G$7,PACKT01!L76*PACKT06!$G$6,$G$7)","v":0},{"$f":"IF(PACKT01!M76*PACKT06!$G$6<$G$7,PACKT01!M76*PACKT06!$G$6,$G$7)","v":0},{"$f":"IF(PACKT01!N76*PACKT06!$G$6<$G$7,PACKT01!N76*PACKT06!$G$6,$G$7)","v":0},{"$f":"IF(PACKT01!O76*PACKT06!$G$6<$G$7,PACKT01!O76*PACKT06!$G$6,$G$7)","v":0},{"$f":"IF(PACKT01!P76*PACKT06!$G$6<$G$7,PACKT01!P76*PACKT06!$G$6,$G$7)","v":0},{"$f":"IF(PACKT01!Q76*PACKT06!$G$6<$G$7,PACKT01!Q76*PACKT06!$G$6,$G$7)","v":0},{"$f":"VLOOKUP(PACKT06Table[[#This Row],[EmployeeID]],EmployeeListLookupTable[#All],12,FALSE)=\"Y\"","v":true}]
[null,"EMP0066",{"$f":"VLOOKUP(PACKT06Table[[#This Row],[EmployeeID]],EmployeeListLookupTable[],2,FALSE)","v":"EMPN066"},{"$f":"VLOOKUP(PACKT06Table[[#This Row],[EmployeeID]],EmployeeListLookupTable[],3,FALSE)","v":"Employee Name 66"},{"$f":"VLOOKUP(PACKT06Table[[#This Row],[EmployeeID]],EmployeeListLookupTable[],4,FALSE)","v":"Employee Job Title 66"},{"$f":"IF(PACKT01!F77*PACKT06!$G$6<$G$7,PACKT01!F77*PACKT06!$G$6,$G$7)","v":0},{"$f":"IF(PACKT01!G77*PACKT06!$G$6<$G$7,PACKT01!G77*PACKT06!$G$6,$G$7)","v":0},{"$f":"IF(PACKT01!H77*PACKT06!$G$6<$G$7,PACKT01!H77*PACKT06!$G$6,$G$7)","v":0},{"$f":"IF(PACKT01!I77*PACKT06!$G$6<$G$7,PACKT01!I77*PACKT06!$G$6,$G$7)","v":0},{"$f":"IF(PACKT01!J77*PACKT06!$G$6<$G$7,PACKT01!J77*PACKT06!$G$6,$G$7)","v":0},{"$f":"IF(PACKT01!K77*PACKT06!$G$6<$G$7,PACKT01!K77*PACKT06!$G$6,$G$7)","v":0},{"$f":"IF(PACKT01!L77*PACKT06!$G$6<$G$7,PACKT01!L77*PACKT06!$G$6,$G$7)","v":0},{"$f":"IF(PACKT01!M77*PACKT06!$G$6<$G$7,PACKT01!M77*PACKT06!$G$6,$G$7)","v":0},{"$f":"IF(PACKT01!N77*PACKT06!$G$6<$G$7,PACKT01!N77*PACKT06!$G$6,$G$7)","v":0},{"$f":"IF(PACKT01!O77*PACKT06!$G$6<$G$7,PACKT01!O77*PACKT06!$G$6,$G$7)","v":0},{"$f":"IF(PACKT01!P77*PACKT06!$G$6<$G$7,PACKT01!P77*PACKT06!$G$6,$G$7)","v":0},{"$f":"IF(PACKT01!Q77*PACKT06!$G$6<$G$7,PACKT01!Q77*PACKT06!$G$6,$G$7)","v":0},{"$f":"VLOOKUP(PACKT06Table[[#This Row],[EmployeeID]],EmployeeListLookupTable[#All],12,FALSE)=\"Y\"","v":true}]
[null,"EMP0067",{"$f":"VLOOKUP(PACKT06Table[[#This Row],[EmployeeID]],EmployeeListLookupTable[],2,FALSE)","v":"EMPN067"},{"$f":"VLOOKUP(PACKT06Table[[#This Row],[EmployeeID]],EmployeeListLookupTable[],3,FALSE)","v":"Employee Name 67"},{"$f":"VLOOKUP(PACKT06Table[[#This Row],[EmployeeID]],EmployeeListLookupTable[],4,FALSE)","v":"Employee Job Title 67"},{"$f":"IF(PACKT01!F78*PACKT06!$G$6<$G$7,PACKT01!F78*PACKT06!$G$6,$G$7)","v":0},{"$f":"IF(PACKT01!G78*PACKT06!$G$6<$G$7,PACKT01!G78*PACKT06!$G$6,$G$7)","v":0},{"$f":"IF(PACKT01!H78*PACKT06!$G$6<$G$7,PACKT01!H78*PACKT06!$G$6,$G$7)","v":0},{"$f":"IF(PACKT01!I78*PACKT06!$G$6<$G$7,PACKT01!I78*PACKT06!$G$6,$G$7)","v":0},{"$f":"IF(PACKT01!J78*PACKT06!$G$6<$G$7,PACKT01!J78*PACKT06!$G$6,$G$7)","v":0},{"$f":"IF(PACKT01!K78*PACKT06!$G$6<$G$7,PACKT01!K78*PACKT06!$G$6,$G$7)","v":0},{"$f":"IF(PACKT01!L78*PACKT06!$G$6<$G$7,PACKT01!L78*PACKT06!$G$6,$G$7)","v":0},{"$f":"IF(PACKT01!M78*PACKT06!$G$6<$G$7,PACKT01!M78*PACKT06!$G$6,$G$7)","v":0},{"$f":"IF(PACKT01!N78*PACKT06!$G$6<$G$7,PACKT01!N78*PACKT06!$G$6,$G$7)","v":0},{"$f":"IF(PACKT01!O78*PACKT06!$G$6<$G$7,PACKT01!O78*PACKT06!$G$6,$G$7)","v":0},{"$f":"IF(PACKT01!P78*PACKT06!$G$6<$G$7,PACKT01!P78*PACKT06!$G$6,$G$7)","v":0},{"$f":"IF(PACKT01!Q78*PACKT06!$G$6<$G$7,PACKT01!Q78*PACKT06!$G$6,$G$7)","v":0},{"$f":"VLOOKUP(PACKT06Table[[#This Row],[EmployeeID]],EmployeeListLookupTable[#All],12,FALSE)=\"Y\"","v":true}]
[null,"EMP0068",{"$f":"VLOOKUP(PACKT06Table[[#This Row],[EmployeeID]],EmployeeListLookupTable[],2,FALSE)","v":"EMPN068"},{"$f":"VLOOKUP(PACKT06Table[[#This Row],[EmployeeID]],EmployeeListLookupTable[],3,FALSE)","v":"Employee Name 68"},{"$f":"VLOOKUP(PACKT06Table[[#This Row],[EmployeeID]],EmployeeListLookupTable[],4,FALSE)","v":"Employee Job Title 68"},{"$f":"IF(PACKT01!F79*PACKT06!$G$6<$G$7,PACKT01!F79*PACKT06!$G$6,$G$7)","v":0},{"$f":"IF(PACKT01!G79*PACKT06!$G$6<$G$7,PACKT01!G79*PACKT06!$G$6,$G$7)","v":0},{"$f":"IF(PACKT01!H79*PACKT06!$G$6<$G$7,PACKT01!H79*PACKT06!$G$6,$G$7)","v":0},{"$f":"IF(PACKT01!I79*PACKT06!$G$6<$G$7,PACKT01!I79*PACKT06!$G$6,$G$7)","v":0},{"$f":"IF(PACKT01!J79*PACKT06!$G$6<$G$7,PACKT01!J79*PACKT06!$G$6,$G$7)","v":0},{"$f":"IF(PACKT01!K79*PACKT06!$G$6<$G$7,PACKT01!K79*PACKT06!$G$6,$G$7)","v":0},{"$f":"IF(PACKT01!L79*PACKT06!$G$6<$G$7,PACKT01!L79*PACKT06!$G$6,$G$7)","v":0},{"$f":"IF(PACKT01!M79*PACKT06!$G$6<$G$7,PACKT01!M79*PACKT06!$G$6,$G$7)","v":0},{"$f":"IF(PACKT01!N79*PACKT06!$G$6<$G$7,PACKT01!N79*PACKT06!$G$6,$G$7)","v":0},{"$f":"IF(PACKT01!O79*PACKT06!$G$6<$G$7,PACKT01!O79*PACKT06!$G$6,$G$7)","v":0},{"$f":"IF(PACKT01!P79*PACKT06!$G$6<$G$7,PACKT01!P79*PACKT06!$G$6,$G$7)","v":0},{"$f":"IF(PACKT01!Q79*PACKT06!$G$6<$G$7,PACKT01!Q79*PACKT06!$G$6,$G$7)","v":0},{"$f":"VLOOKUP(PACKT06Table[[#This Row],[EmployeeID]],EmployeeListLookupTable[#All],12,FALSE)=\"Y\"","v":true}]
[null,"EMP0069",{"$f":"VLOOKUP(PACKT06Table[[#This Row],[EmployeeID]],EmployeeListLookupTable[],2,FALSE)","v":"EMPN069"},{"$f":"VLOOKUP(PACKT06Table[[#This Row],[EmployeeID]],EmployeeListLookupTable[],3,FALSE)","v":"Employee Name 69"},{"$f":"VLOOKUP(PACKT06Table[[#This Row],[EmployeeID]],EmployeeListLookupTable[],4,FALSE)","v":"Employee Job Title 69"},{"$f":"IF(PACKT01!F80*PACKT06!$G$6<$G$7,PACKT01!F80*PACKT06!$G$6,$G$7)","v":0},{"$f":"IF(PACKT01!G80*PACKT06!$G$6<$G$7,PACKT01!G80*PACKT06!$G$6,$G$7)","v":0},{"$f":"IF(PACKT01!H80*PACKT06!$G$6<$G$7,PACKT01!H80*PACKT06!$G$6,$G$7)","v":0},{"$f":"IF(PACKT01!I80*PACKT06!$G$6<$G$7,PACKT01!I80*PACKT06!$G$6,$G$7)","v":0},{"$f":"IF(PACKT01!J80*PACKT06!$G$6<$G$7,PACKT01!J80*PACKT06!$G$6,$G$7)","v":0},{"$f":"IF(PACKT01!K80*PACKT06!$G$6<$G$7,PACKT01!K80*PACKT06!$G$6,$G$7)","v":0},{"$f":"IF(PACKT01!L80*PACKT06!$G$6<$G$7,PACKT01!L80*PACKT06!$G$6,$G$7)","v":0},{"$f":"IF(PACKT01!M80*PACKT06!$G$6<$G$7,PACKT01!M80*PACKT06!$G$6,$G$7)","v":0},{"$f":"IF(PACKT01!N80*PACKT06!$G$6<$G$7,PACKT01!N80*PACKT06!$G$6,$G$7)","v":0},{"$f":"IF(PACKT01!O80*PACKT06!$G$6<$G$7,PACKT01!O80*PACKT06!$G$6,$G$7)","v":0},{"$f":"IF(PACKT01!P80*PACKT06!$G$6<$G$7,PACKT01!P80*PACKT06!$G$6,$G$7)","v":0},{"$f":"IF(PACKT01!Q80*PACKT06!$G$6<$G$7,PACKT01!Q80*PACKT06!$G$6,$G$7)","v":0},{"$f":"VLOOKUP(PACKT06Table[[#This Row],[EmployeeID]],EmployeeListLookupTable[#All],12,FALSE)=\"Y\"","v":true}]
[null,"EMP0070",{"$f":"VLOOKUP(PACKT06Table[[#This Row],[EmployeeID]],EmployeeListLookupTable[],2,FALSE)","v":"EMPN070"},{"$f":"VLOOKUP(PACKT06Table[[#This Row],[EmployeeID]],EmployeeListLookupTable[],3,FALSE)","v":"Employee Name 70"},{"$f":"VLOOKUP(PACKT06Table[[#This Row],[EmployeeID]],EmployeeListLookupTable[],4,FALSE)","v":"Employee Job Title 70"},{"$f":"IF(PACKT01!F81*PACKT06!$G$6<$G$7,PACKT01!F81*PACKT06!$G$6,$G$7)","v":0},{"$f":"IF(PACKT01!G81*PACKT06!$G$6<$G$7,PACKT01!G81*PACKT06!$G$6,$G$7)","v":0},{"$f":"IF(PACKT01!H81*PACKT06!$G$6<$G$7,PACKT01!H81*PACKT06!$G$6,$G$7)","v":0},{"$f":"IF(PACKT01!I81*PACKT06!$G$6<$G$7,PACKT01!I81*PACKT06!$G$6,$G$7)","v":0},{"$f":"IF(PACKT01!J81*PACKT06!$G$6<$G$7,PACKT01!J81*PACKT06!$G$6,$G$7)","v":0},{"$f":"IF(PACKT01!K81*PACKT06!$G$6<$G$7,PACKT01!K81*PACKT06!$G$6,$G$7)","v":0},{"$f":"IF(PACKT01!L81*PACKT06!$G$6<$G$7,PACKT01!L81*PACKT06!$G$6,$G$7)","v":0},{"$f":"IF(PACKT01!M81*PACKT06!$G$6<$G$7,PACKT01!M81*PACKT06!$G$6,$G$7)","v":0},{"$f":"IF(PACKT01!N81*PACKT06!$G$6<$G$7,PACKT01!N81*PACKT06!$G$6,$G$7)","v":0},{"$f":"IF(PACKT01!O81*PACKT06!$G$6<$G$7,PACKT01!O81*PACKT06!$G$6,$G$7)","v":0},{"$f":"IF(PACKT01!P81*PACKT06!$G$6<$G$7,PACKT01!P81*PACKT06!$G$6,$G$7)","v":0},{"$f":"IF(PACKT01!Q81*PACKT06!$G$6<$G$7,PACKT01!Q81*PACKT06!$G$6,$G$7)","v":0},{"$f":"VLOOKUP(PACKT06Table[[#This Row],[EmployeeID]],EmployeeListLookupTable[#All],12,FALSE)=\"Y\"","v":true}]
[null,"EMP0071",{"$f":"VLOOKUP(PACKT06Table[[#This Row],[EmployeeID]],EmployeeListLookupTable[],2,FALSE)","v":"EMPN071"},{"$f":"VLOOKUP(PACKT06Table[[#This Row],[EmployeeID]],EmployeeListLookupTable[],3,FALSE)","v":"Employee Name 71"},{"$f":"VLOOKUP(PACKT06Table[[#This Row],[EmployeeID]],EmployeeListLookupTable[],4,FALSE)","v":"Employee Job Title 71"},{"$f":"IF(PACKT01!F82*PACKT06!$G$6<$G$7,PACKT01!F82*PACKT06!$G$6,$G$7)","v":0},{"$f":"IF(PACKT01!G82*PACKT06!$G$6<$G$7,PACKT01!G82*PACKT06!$G$6,$G$7)","v":0},{"$f":"IF(PACKT01!H82*PACKT06!$G$6<$G$7,PACKT01!H82*PACKT06!$G$6,$G$7)","v":0},{"$f":"IF(PACKT01!I82*PACKT06!$G$6<$G$7,PACKT01!I82*PACKT06!$G$6,$G$7)","v":0},{"$f":"IF(PACKT01!J82*PACKT06!$G$6<$G$7,PACKT01!J82*PACKT06!$G$6,$G$7)","v":0},{"$f":"IF(PACKT01!K82*PACKT06!$G$6<$G$7,PACKT01!K82*PACKT06!$G$6,$G$7)","v":0},{"$f":"IF(PACKT01!L82*PACKT06!$G$6<$G$7,PACKT01!L82*PACKT06!$G$6,$G$7)","v":0},{"$f":"IF(PACKT01!M82*PACKT06!$G$6<$G$7,PACKT01!M82*PACKT06!$G$6,$G$7)","v":0},{"$f":"IF(PACKT01!N82*PACKT06!$G$6<$G$7,PACKT01!N82*PACKT06!$G$6,$G$7)","v":0},{"$f":"IF(PACKT01!O82*PACKT06!$G$6<$G$7,PACKT01!O82*PACKT06!$G$6,$G$7)","v":0},{"$f":"IF(PACKT01!P82*PACKT06!$G$6<$G$7,PACKT01!P82*PACKT06!$G$6,$G$7)","v":0},{"$f":"IF(PACKT01!Q82*PACKT06!$G$6<$G$7,PACKT01!Q82*PACKT06!$G$6,$G$7)","v":0},{"$f":"VLOOKUP(PACKT06Table[[#This Row],[EmployeeID]],EmployeeListLookupTable[#All],12,FALSE)=\"Y\"","v":true}]
[null,"EMP0072",{"$f":"VLOOKUP(PACKT06Table[[#This Row],[EmployeeID]],EmployeeListLookupTable[],2,FALSE)","v":"EMPN072"},{"$f":"VLOOKUP(PACKT06Table[[#This Row],[EmployeeID]],EmployeeListLookupTable[],3,FALSE)","v":"Employee Name 72"},{"$f":"VLOOKUP(PACKT06Table[[#This Row],[EmployeeID]],EmployeeListLookupTable[],4,FALSE)","v":"Employee Job Title 72"},{"$f":"IF(PACKT01!F83*PACKT06!$G$6<$G$7,PACKT01!F83*PACKT06!$G$6,$G$7)","v":0},{"$f":"IF(PACKT01!G83*PACKT06!$G$6<$G$7,PACKT01!G83*PACKT06!$G$6,$G$7)","v":0},{"$f":"IF(PACKT01!H83*PACKT06!$G$6<$G$7,PACKT01!H83*PACKT06!$G$6,$G$7)","v":0},{"$f":"IF(PACKT01!I83*PACKT06!$G$6<$G$7,PACKT01!I83*PACKT06!$G$6,$G$7)","v":0},{"$f":"IF(PACKT01!J83*PACKT06!$G$6<$G$7,PACKT01!J83*PACKT06!$G$6,$G$7)","v":0},{"$f":"IF(PACKT01!K83*PACKT06!$G$6<$G$7,PACKT01!K83*PACKT06!$G$6,$G$7)","v":0},{"$f":"IF(PACKT01!L83*PACKT06!$G$6<$G$7,PACKT01!L83*PACKT06!$G$6,$G$7)","v":0},{"$f":"IF(PACKT01!M83*PACKT06!$G$6<$G$7,PACKT01!M83*PACKT06!$G$6,$G$7)","v":0},{"$f":"IF(PACKT01!N83*PACKT06!$G$6<$G$7,PACKT01!N83*PACKT06!$G$6,$G$7)","v":0},{"$f":"IF(PACKT01!O83*PACKT06!$G$6<$G$7,PACKT01!O83*PACKT06!$G$6,$G$7)","v":0},{"$f":"IF(PACKT01!P83*PACKT06!$G$6<$G$7,PACKT01!P83*PACKT06!$G$6,$G$7)","v":0},{"$f":"IF(PACKT01!Q83*PACKT06!$G$6<$G$7,PACKT01!Q83*PACKT06!$G$6,$G$7)","v":0},{"$f":"VLOOKUP(PACKT06Table[[#This Row],[EmployeeID]],EmployeeListLookupTable[#All],12,FALSE)=\"Y\"","v":true}]
[null,"EMP0073",{"$f":"VLOOKUP(PACKT06Table[[#This Row],[EmployeeID]],EmployeeListLookupTable[],2,FALSE)","v":"EMPN073"},{"$f":"VLOOKUP(PACKT06Table[[#This Row],[EmployeeID]],EmployeeListLookupTable[],3,FALSE)","v":"Employee Name 73"},{"$f":"VLOOKUP(PACKT06Table[[#This Row],[EmployeeID]],EmployeeListLookupTable[],4,FALSE)","v":"Employee Job Title 73"},{"$f":"IF(PACKT01!F84*PACKT06!$G$6<$G$7,PACKT01!F84*PACKT06!$G$6,$G$7)","v":0},{"$f":"IF(PACKT01!G84*PACKT06!$G$6<$G$7,PACKT01!G84*PACKT06!$G$6,$G$7)","v":0},{"$f":"IF(PACKT01!H84*PACKT06!$G$6<$G$7,PACKT01!H84*PACKT06!$G$6,$G$7)","v":0},{"$f":"IF(PACKT01!I84*PACKT06!$G$6<$G$7,PACKT01!I84*PACKT06!$G$6,$G$7)","v":0},{"$f":"IF(PACKT01!J84*PACKT06!$G$6<$G$7,PACKT01!J84*PACKT06!$G$6,$G$7)","v":0},{"$f":"IF(PACKT01!K84*PACKT06!$G$6<$G$7,PACKT01!K84*PACKT06!$G$6,$G$7)","v":0},{"$f":"IF(PACKT01!L84*PACKT06!$G$6<$G$7,PACKT01!L84*PACKT06!$G$6,$G$7)","v":0},{"$f":"IF(PACKT01!M84*PACKT06!$G$6<$G$7,PACKT01!M84*PACKT06!$G$6,$G$7)","v":0},{"$f":"IF(PACKT01!N84*PACKT06!$G$6<$G$7,PACKT01!N84*PACKT06!$G$6,$G$7)","v":0},{"$f":"IF(PACKT01!O84*PACKT06!$G$6<$G$7,PACKT01!O84*PACKT06!$G$6,$G$7)","v":0},{"$f":"IF(PACKT01!P84*PACKT06!$G$6<$G$7,PACKT01!P84*PACKT06!$G$6,$G$7)","v":0},{"$f":"IF(PACKT01!Q84*PACKT06!$G$6<$G$7,PACKT01!Q84*PACKT06!$G$6,$G$7)","v":0},{"$f":"VLOOKUP(PACKT06Table[[#This Row],[EmployeeID]],EmployeeListLookupTable[#All],12,FALSE)=\"Y\"","v":true}]
[null,"EMP0074",{"$f":"VLOOKUP(PACKT06Table[[#This Row],[EmployeeID]],EmployeeListLookupTable[],2,FALSE)","v":"EMPN074"},{"$f":"VLOOKUP(PACKT06Table[[#This Row],[EmployeeID]],EmployeeListLookupTable[],3,FALSE)","v":"Employee Name 74"},{"$f":"VLOOKUP(PACKT06Table[[#This Row],[EmployeeID]],EmployeeListLookupTable[],4,FALSE)","v":"Employee Job Title 74"},{"$f":"IF(PACKT01!F85*PACKT06!$G$6<$G$7,PACKT01!F85*PACKT06!$G$6,$G$7)","v":0},{"$f":"IF(PACKT01!G85*PACKT06!$G$6<$G$7,PACKT01!G85*PACKT06!$G$6,$G$7)","v":0},{"$f":"IF(PACKT01!H85*PACKT06!$G$6<$G$7,PACKT01!H85*PACKT06!$G$6,$G$7)","v":0},{"$f":"IF(PACKT01!I85*PACKT06!$G$6<$G$7,PACKT01!I85*PACKT06!$G$6,$G$7)","v":0},{"$f":"IF(PACKT01!J85*PACKT06!$G$6<$G$7,PACKT01!J85*PACKT06!$G$6,$G$7)","v":0},{"$f":"IF(PACKT01!K85*PACKT06!$G$6<$G$7,PACKT01!K85*PACKT06!$G$6,$G$7)","v":0},{"$f":"IF(PACKT01!L85*PACKT06!$G$6<$G$7,PACKT01!L85*PACKT06!$G$6,$G$7)","v":0},{"$f":"IF(PACKT01!M85*PACKT06!$G$6<$G$7,PACKT01!M85*PACKT06!$G$6,$G$7)","v":0},{"$f":"IF(PACKT01!N85*PACKT06!$G$6<$G$7,PACKT01!N85*PACKT06!$G$6,$G$7)","v":0},{"$f":"IF(PACKT01!O85*PACKT06!$G$6<$G$7,PACKT01!O85*PACKT06!$G$6,$G$7)","v":0},{"$f":"IF(PACKT01!P85*PACKT06!$G$6<$G$7,PACKT01!P85*PACKT06!$G$6,$G$7)","v":0},{"$f":"IF(PACKT01!Q85*PACKT06!$G$6<$G$7,PACKT01!Q85*PACKT06!$G$6,$G$7)","v":0},{"$f":"VLOOKUP(PACKT06Table[[#This Row],[EmployeeID]],EmployeeListLookupTable[#All],12,FALSE)=\"Y\"","v":true}]
[null,"EMP0075",{"$f":"VLOOKUP(PACKT06Table[[#This Row],[EmployeeID]],EmployeeListLookupTable[],2,FALSE)","v":"EMPN075"},{"$f":"VLOOKUP(PACKT06Table[[#This Row],[EmployeeID]],EmployeeListLookupTable[],3,FALSE)","v":"Employee Name 75"},{"$f":"VLOOKUP(PACKT06Table[[#This Row],[EmployeeID]],EmployeeListLookupTable[],4,FALSE)","v":"Employee Job Title 75"},{"$f":"IF(PACKT01!F86*PACKT06!$G$6<$G$7,PACKT01!F86*PACKT06!$G$6,$G$7)","v":0},{"$f":"IF(PACKT01!G86*PACKT06!$G$6<$G$7,PACKT01!G86*PACKT06!$G$6,$G$7)","v":0},{"$f":"IF(PACKT01!H86*PACKT06!$G$6<$G$7,PACKT01!H86*PACKT06!$G$6,$G$7)","v":0},{"$f":"IF(PACKT01!I86*PACKT06!$G$6<$G$7,PACKT01!I86*PACKT06!$G$6,$G$7)","v":0},{"$f":"IF(PACKT01!J86*PACKT06!$G$6<$G$7,PACKT01!J86*PACKT06!$G$6,$G$7)","v":0},{"$f":"IF(PACKT01!K86*PACKT06!$G$6<$G$7,PACKT01!K86*PACKT06!$G$6,$G$7)","v":0},{"$f":"IF(PACKT01!L86*PACKT06!$G$6<$G$7,PACKT01!L86*PACKT06!$G$6,$G$7)","v":0},{"$f":"IF(PACKT01!M86*PACKT06!$G$6<$G$7,PACKT01!M86*PACKT06!$G$6,$G$7)","v":0},{"$f":"IF(PACKT01!N86*PACKT06!$G$6<$G$7,PACKT01!N86*PACKT06!$G$6,$G$7)","v":0},{"$f":"IF(PACKT01!O86*PACKT06!$G$6<$G$7,PACKT01!O86*PACKT06!$G$6,$G$7)","v":0},{"$f":"IF(PACKT01!P86*PACKT06!$G$6<$G$7,PACKT01!P86*PACKT06!$G$6,$G$7)","v":0},{"$f":"IF(PACKT01!Q86*PACKT06!$G$6<$G$7,PACKT01!Q86*PACKT06!$G$6,$G$7)","v":0},{"$f":"VLOOKUP(PACKT06Table[[#This Row],[EmployeeID]],EmployeeListLookupTable[#All],12,FALSE)=\"Y\"","v":true}]
[null,"EMP0076",{"$f":"VLOOKUP(PACKT06Table[[#This Row],[EmployeeID]],EmployeeListLookupTable[],2,FALSE)","v":"EMPN076"},{"$f":"VLOOKUP(PACKT06Table[[#This Row],[EmployeeID]],EmployeeListLookupTable[],3,FALSE)","v":"Employee Name 76"},{"$f":"VLOOKUP(PACKT06Table[[#This Row],[EmployeeID]],EmployeeListLookupTable[],4,FALSE)","v":"Employee Job Title 76"},{"$f":"IF(PACKT01!F87*PACKT06!$G$6<$G$7,PACKT01!F87*PACKT06!$G$6,$G$7)","v":0},{"$f":"IF(PACKT01!G87*PACKT06!$G$6<$G$7,PACKT01!G87*PACKT06!$G$6,$G$7)","v":0},{"$f":"IF(PACKT01!H87*PACKT06!$G$6<$G$7,PACKT01!H87*PACKT06!$G$6,$G$7)","v":0},{"$f":"IF(PACKT01!I87*PACKT06!$G$6<$G$7,PACKT01!I87*PACKT06!$G$6,$G$7)","v":0},{"$f":"IF(PACKT01!J87*PACKT06!$G$6<$G$7,PACKT01!J87*PACKT06!$G$6,$G$7)","v":0},{"$f":"IF(PACKT01!K87*PACKT06!$G$6<$G$7,PACKT01!K87*PACKT06!$G$6,$G$7)","v":0},{"$f":"IF(PACKT01!L87*PACKT06!$G$6<$G$7,PACKT01!L87*PACKT06!$G$6,$G$7)","v":0},{"$f":"IF(PACKT01!M87*PACKT06!$G$6<$G$7,PACKT01!M87*PACKT06!$G$6,$G$7)","v":0},{"$f":"IF(PACKT01!N87*PACKT06!$G$6<$G$7,PACKT01!N87*PACKT06!$G$6,$G$7)","v":0},{"$f":"IF(PACKT01!O87*PACKT06!$G$6<$G$7,PACKT01!O87*PACKT06!$G$6,$G$7)","v":0},{"$f":"IF(PACKT01!P87*PACKT06!$G$6<$G$7,PACKT01!P87*PACKT06!$G$6,$G$7)","v":0},{"$f":"IF(PACKT01!Q87*PACKT06!$G$6<$G$7,PACKT01!Q87*PACKT06!$G$6,$G$7)","v":0},{"$f":"VLOOKUP(PACKT06Table[[#This Row],[EmployeeID]],EmployeeListLookupTable[#All],12,FALSE)=\"Y\"","v":true}]
[null,"EMP0077",{"$f":"VLOOKUP(PACKT06Table[[#This Row],[EmployeeID]],EmployeeListLookupTable[],2,FALSE)","v":"EMPN077"},{"$f":"VLOOKUP(PACKT06Table[[#This Row],[EmployeeID]],EmployeeListLookupTable[],3,FALSE)","v":"Employee Name 77"},{"$f":"VLOOKUP(PACKT06Table[[#This Row],[EmployeeID]],EmployeeListLookupTable[],4,FALSE)","v":"Employee Job Title 77"},{"$f":"IF(PACKT01!F88*PACKT06!$G$6<$G$7,PACKT01!F88*PACKT06!$G$6,$G$7)","v":0},{"$f":"IF(PACKT01!G88*PACKT06!$G$6<$G$7,PACKT01!G88*PACKT06!$G$6,$G$7)","v":0},{"$f":"IF(PACKT01!H88*PACKT06!$G$6<$G$7,PACKT01!H88*PACKT06!$G$6,$G$7)","v":0},{"$f":"IF(PACKT01!I88*PACKT06!$G$6<$G$7,PACKT01!I88*PACKT06!$G$6,$G$7)","v":0},{"$f":"IF(PACKT01!J88*PACKT06!$G$6<$G$7,PACKT01!J88*PACKT06!$G$6,$G$7)","v":0},{"$f":"IF(PACKT01!K88*PACKT06!$G$6<$G$7,PACKT01!K88*PACKT06!$G$6,$G$7)","v":0},{"$f":"IF(PACKT01!L88*PACKT06!$G$6<$G$7,PACKT01!L88*PACKT06!$G$6,$G$7)","v":0},{"$f":"IF(PACKT01!M88*PACKT06!$G$6<$G$7,PACKT01!M88*PACKT06!$G$6,$G$7)","v":0},{"$f":"IF(PACKT01!N88*PACKT06!$G$6<$G$7,PACKT01!N88*PACKT06!$G$6,$G$7)","v":0},{"$f":"IF(PACKT01!O88*PACKT06!$G$6<$G$7,PACKT01!O88*PACKT06!$G$6,$G$7)","v":0},{"$f":"IF(PACKT01!P88*PACKT06!$G$6<$G$7,PACKT01!P88*PACKT06!$G$6,$G$7)","v":0},{"$f":"IF(PACKT01!Q88*PACKT06!$G$6<$G$7,PACKT01!Q88*PACKT06!$G$6,$G$7)","v":0},{"$f":"VLOOKUP(PACKT06Table[[#This Row],[EmployeeID]],EmployeeListLookupTable[#All],12,FALSE)=\"Y\"","v":true}]
[null,"EMP0078",{"$f":"VLOOKUP(PACKT06Table[[#This Row],[EmployeeID]],EmployeeListLookupTable[],2,FALSE)","v":"EMPN078"},{"$f":"VLOOKUP(PACKT06Table[[#This Row],[EmployeeID]],EmployeeListLookupTable[],3,FALSE)","v":"Employee Name 78"},{"$f":"VLOOKUP(PACKT06Table[[#This Row],[EmployeeID]],EmployeeListLookupTable[],4,FALSE)","v":"Employee Job Title 78"},{"$f":"IF(PACKT01!F89*PACKT06!$G$6<$G$7,PACKT01!F89*PACKT06!$G$6,$G$7)","v":0},{"$f":"IF(PACKT01!G89*PACKT06!$G$6<$G$7,PACKT01!G89*PACKT06!$G$6,$G$7)","v":0},{"$f":"IF(PACKT01!H89*PACKT06!$G$6<$G$7,PACKT01!H89*PACKT06!$G$6,$G$7)","v":0},{"$f":"IF(PACKT01!I89*PACKT06!$G$6<$G$7,PACKT01!I89*PACKT06!$G$6,$G$7)","v":0},{"$f":"IF(PACKT01!J89*PACKT06!$G$6<$G$7,PACKT01!J89*PACKT06!$G$6,$G$7)","v":0},{"$f":"IF(PACKT01!K89*PACKT06!$G$6<$G$7,PACKT01!K89*PACKT06!$G$6,$G$7)","v":0},{"$f":"IF(PACKT01!L89*PACKT06!$G$6<$G$7,PACKT01!L89*PACKT06!$G$6,$G$7)","v":0},{"$f":"IF(PACKT01!M89*PACKT06!$G$6<$G$7,PACKT01!M89*PACKT06!$G$6,$G$7)","v":0},{"$f":"IF(PACKT01!N89*PACKT06!$G$6<$G$7,PACKT01!N89*PACKT06!$G$6,$G$7)","v":0},{"$f":"IF(PACKT01!O89*PACKT06!$G$6<$G$7,PACKT01!O89*PACKT06!$G$6,$G$7)","v":0},{"$f":"IF(PACKT01!P89*PACKT06!$G$6<$G$7,PACKT01!P89*PACKT06!$G$6,$G$7)","v":0},{"$f":"IF(PACKT01!Q89*PACKT06!$G$6<$G$7,PACKT01!Q89*PACKT06!$G$6,$G$7)","v":0},{"$f":"VLOOKUP(PACKT06Table[[#This Row],[EmployeeID]],EmployeeListLookupTable[#All],12,FALSE)=\"Y\"","v":true}]
[null,"EMP0079",{"$f":"VLOOKUP(PACKT06Table[[#This Row],[EmployeeID]],EmployeeListLookupTable[],2,FALSE)","v":"EMPN079"},{"$f":"VLOOKUP(PACKT06Table[[#This Row],[EmployeeID]],EmployeeListLookupTable[],3,FALSE)","v":"Employee Name 79"},{"$f":"VLOOKUP(PACKT06Table[[#This Row],[EmployeeID]],EmployeeListLookupTable[],4,FALSE)","v":"Employee Job Title 79"},{"$f":"IF(PACKT01!F90*PACKT06!$G$6<$G$7,PACKT01!F90*PACKT06!$G$6,$G$7)","v":0},{"$f":"IF(PACKT01!G90*PACKT06!$G$6<$G$7,PACKT01!G90*PACKT06!$G$6,$G$7)","v":0},{"$f":"IF(PACKT01!H90*PACKT06!$G$6<$G$7,PACKT01!H90*PACKT06!$G$6,$G$7)","v":0},{"$f":"IF(PACKT01!I90*PACKT06!$G$6<$G$7,PACKT01!I90*PACKT06!$G$6,$G$7)","v":0},{"$f":"IF(PACKT01!J90*PACKT06!$G$6<$G$7,PACKT01!J90*PACKT06!$G$6,$G$7)","v":0},{"$f":"IF(PACKT01!K90*PACKT06!$G$6<$G$7,PACKT01!K90*PACKT06!$G$6,$G$7)","v":0},{"$f":"IF(PACKT01!L90*PACKT06!$G$6<$G$7,PACKT01!L90*PACKT06!$G$6,$G$7)","v":0},{"$f":"IF(PACKT01!M90*PACKT06!$G$6<$G$7,PACKT01!M90*PACKT06!$G$6,$G$7)","v":0},{"$f":"IF(PACKT01!N90*PACKT06!$G$6<$G$7,PACKT01!N90*PACKT06!$G$6,$G$7)","v":0},{"$f":"IF(PACKT01!O90*PACKT06!$G$6<$G$7,PACKT01!O90*PACKT06!$G$6,$G$7)","v":0},{"$f":"IF(PACKT01!P90*PACKT06!$G$6<$G$7,PACKT01!P90*PACKT06!$G$6,$G$7)","v":0},{"$f":"IF(PACKT01!Q90*PACKT06!$G$6<$G$7,PACKT01!Q90*PACKT06!$G$6,$G$7)","v":0},{"$f":"VLOOKUP(PACKT06Table[[#This Row],[EmployeeID]],EmployeeListLookupTable[#All],12,FALSE)=\"Y\"","v":true}]
[null,"EMP0080",{"$f":"VLOOKUP(PACKT06Table[[#This Row],[EmployeeID]],EmployeeListLookupTable[],2,FALSE)","v":"EMPN080"},{"$f":"VLOOKUP(PACKT06Table[[#This Row],[EmployeeID]],EmployeeListLookupTable[],3,FALSE)","v":"Employee Name 80"},{"$f":"VLOOKUP(PACKT06Table[[#This Row],[EmployeeID]],EmployeeListLookupTable[],4,FALSE)","v":"Employee Job Title 80"},{"$f":"IF(PACKT01!F91*PACKT06!$G$6<$G$7,PACKT01!F91*PACKT06!$G$6,$G$7)","v":0},{"$f":"IF(PACKT01!G91*PACKT06!$G$6<$G$7,PACKT01!G91*PACKT06!$G$6,$G$7)","v":0},{"$f":"IF(PACKT01!H91*PACKT06!$G$6<$G$7,PACKT01!H91*PACKT06!$G$6,$G$7)","v":0},{"$f":"IF(PACKT01!I91*PACKT06!$G$6<$G$7,PACKT01!I91*PACKT06!$G$6,$G$7)","v":0},{"$f":"IF(PACKT01!J91*PACKT06!$G$6<$G$7,PACKT01!J91*PACKT06!$G$6,$G$7)","v":0},{"$f":"IF(PACKT01!K91*PACKT06!$G$6<$G$7,PACKT01!K91*PACKT06!$G$6,$G$7)","v":0},{"$f":"IF(PACKT01!L91*PACKT06!$G$6<$G$7,PACKT01!L91*PACKT06!$G$6,$G$7)","v":0},{"$f":"IF(PACKT01!M91*PACKT06!$G$6<$G$7,PACKT01!M91*PACKT06!$G$6,$G$7)","v":0},{"$f":"IF(PACKT01!N91*PACKT06!$G$6<$G$7,PACKT01!N91*PACKT06!$G$6,$G$7)","v":0},{"$f":"IF(PACKT01!O91*PACKT06!$G$6<$G$7,PACKT01!O91*PACKT06!$G$6,$G$7)","v":0},{"$f":"IF(PACKT01!P91*PACKT06!$G$6<$G$7,PACKT01!P91*PACKT06!$G$6,$G$7)","v":0},{"$f":"IF(PACKT01!Q91*PACKT06!$G$6<$G$7,PACKT01!Q91*PACKT06!$G$6,$G$7)","v":0},{"$f":"VLOOKUP(PACKT06Table[[#This Row],[EmployeeID]],EmployeeListLookupTable[#All],12,FALSE)=\"Y\"","v":true}]
[null,"EMP0081",{"$f":"VLOOKUP(PACKT06Table[[#This Row],[EmployeeID]],EmployeeListLookupTable[],2,FALSE)","v":"EMPN081"},{"$f":"VLOOKUP(PACKT06Table[[#This Row],[EmployeeID]],EmployeeListLookupTable[],3,FALSE)","v":"Employee Name 81"},{"$f":"VLOOKUP(PACKT06Table[[#This Row],[EmployeeID]],EmployeeListLookupTable[],4,FALSE)","v":"Employee Job Title 81"},{"$f":"IF(PACKT01!F92*PACKT06!$G$6<$G$7,PACKT01!F92*PACKT06!$G$6,$G$7)","v":0},{"$f":"IF(PACKT01!G92*PACKT06!$G$6<$G$7,PACKT01!G92*PACKT06!$G$6,$G$7)","v":0},{"$f":"IF(PACKT01!H92*PACKT06!$G$6<$G$7,PACKT01!H92*PACKT06!$G$6,$G$7)","v":0},{"$f":"IF(PACKT01!I92*PACKT06!$G$6<$G$7,PACKT01!I92*PACKT06!$G$6,$G$7)","v":0},{"$f":"IF(PACKT01!J92*PACKT06!$G$6<$G$7,PACKT01!J92*PACKT06!$G$6,$G$7)","v":0},{"$f":"IF(PACKT01!K92*PACKT06!$G$6<$G$7,PACKT01!K92*PACKT06!$G$6,$G$7)","v":0},{"$f":"IF(PACKT01!L92*PACKT06!$G$6<$G$7,PACKT01!L92*PACKT06!$G$6,$G$7)","v":0},{"$f":"IF(PACKT01!M92*PACKT06!$G$6<$G$7,PACKT01!M92*PACKT06!$G$6,$G$7)","v":0},{"$f":"IF(PACKT01!N92*PACKT06!$G$6<$G$7,PACKT01!N92*PACKT06!$G$6,$G$7)","v":0},{"$f":"IF(PACKT01!O92*PACKT06!$G$6<$G$7,PACKT01!O92*PACKT06!$G$6,$G$7)","v":0},{"$f":"IF(PACKT01!P92*PACKT06!$G$6<$G$7,PACKT01!P92*PACKT06!$G$6,$G$7)","v":0},{"$f":"IF(PACKT01!Q92*PACKT06!$G$6<$G$7,PACKT01!Q92*PACKT06!$G$6,$G$7)","v":0},{"$f":"VLOOKUP(PACKT06Table[[#This Row],[EmployeeID]],EmployeeListLookupTable[#All],12,FALSE)=\"Y\"","v":true}]
[null,"EMP0082",{"$f":"VLOOKUP(PACKT06Table[[#This Row],[EmployeeID]],EmployeeListLookupTable[],2,FALSE)","v":"EMPN082"},{"$f":"VLOOKUP(PACKT06Table[[#This Row],[EmployeeID]],EmployeeListLookupTable[],3,FALSE)","v":"Employee Name 82"},{"$f":"VLOOKUP(PACKT06Table[[#This Row],[EmployeeID]],EmployeeListLookupTable[],4,FALSE)","v":"Employee Job Title 82"},{"$f":"IF(PACKT01!F93*PACKT06!$G$6<$G$7,PACKT01!F93*PACKT06!$G$6,$G$7)","v":0},{"$f":"IF(PACKT01!G93*PACKT06!$G$6<$G$7,PACKT01!G93*PACKT06!$G$6,$G$7)","v":0},{"$f":"IF(PACKT01!H93*PACKT06!$G$6<$G$7,PACKT01!H93*PACKT06!$G$6,$G$7)","v":0},{"$f":"IF(PACKT01!I93*PACKT06!$G$6<$G$7,PACKT01!I93*PACKT06!$G$6,$G$7)","v":0},{"$f":"IF(PACKT01!J93*PACKT06!$G$6<$G$7,PACKT01!J93*PACKT06!$G$6,$G$7)","v":0},{"$f":"IF(PACKT01!K93*PACKT06!$G$6<$G$7,PACKT01!K93*PACKT06!$G$6,$G$7)","v":0},{"$f":"IF(PACKT01!L93*PACKT06!$G$6<$G$7,PACKT01!L93*PACKT06!$G$6,$G$7)","v":0},{"$f":"IF(PACKT01!M93*PACKT06!$G$6<$G$7,PACKT01!M93*PACKT06!$G$6,$G$7)","v":0},{"$f":"IF(PACKT01!N93*PACKT06!$G$6<$G$7,PACKT01!N93*PACKT06!$G$6,$G$7)","v":0},{"$f":"IF(PACKT01!O93*PACKT06!$G$6<$G$7,PACKT01!O93*PACKT06!$G$6,$G$7)","v":0},{"$f":"IF(PACKT01!P93*PACKT06!$G$6<$G$7,PACKT01!P93*PACKT06!$G$6,$G$7)","v":0},{"$f":"IF(PACKT01!Q93*PACKT06!$G$6<$G$7,PACKT01!Q93*PACKT06!$G$6,$G$7)","v":0},{"$f":"VLOOKUP(PACKT06Table[[#This Row],[EmployeeID]],EmployeeListLookupTable[#All],12,FALSE)=\"Y\"","v":true}]
[null,"EMP0083",{"$f":"VLOOKUP(PACKT06Table[[#This Row],[EmployeeID]],EmployeeListLookupTable[],2,FALSE)","v":"EMPN083"},{"$f":"VLOOKUP(PACKT06Table[[#This Row],[EmployeeID]],EmployeeListLookupTable[],3,FALSE)","v":"Employee Name 83"},{"$f":"VLOOKUP(PACKT06Table[[#This Row],[EmployeeID]],EmployeeListLookupTable[],4,FALSE)","v":"Employee Job Title 83"},{"$f":"IF(PACKT01!F94*PACKT06!$G$6<$G$7,PACKT01!F94*PACKT06!$G$6,$G$7)","v":0},{"$f":"IF(PACKT01!G94*PACKT06!$G$6<$G$7,PACKT01!G94*PACKT06!$G$6,$G$7)","v":0},{"$f":"IF(PACKT01!H94*PACKT06!$G$6<$G$7,PACKT01!H94*PACKT06!$G$6,$G$7)","v":0},{"$f":"IF(PACKT01!I94*PACKT06!$G$6<$G$7,PACKT01!I94*PACKT06!$G$6,$G$7)","v":0},{"$f":"IF(PACKT01!J94*PACKT06!$G$6<$G$7,PACKT01!J94*PACKT06!$G$6,$G$7)","v":0},{"$f":"IF(PACKT01!K94*PACKT06!$G$6<$G$7,PACKT01!K94*PACKT06!$G$6,$G$7)","v":0},{"$f":"IF(PACKT01!L94*PACKT06!$G$6<$G$7,PACKT01!L94*PACKT06!$G$6,$G$7)","v":0},{"$f":"IF(PACKT01!M94*PACKT06!$G$6<$G$7,PACKT01!M94*PACKT06!$G$6,$G$7)","v":0},{"$f":"IF(PACKT01!N94*PACKT06!$G$6<$G$7,PACKT01!N94*PACKT06!$G$6,$G$7)","v":0},{"$f":"IF(PACKT01!O94*PACKT06!$G$6<$G$7,PACKT01!O94*PACKT06!$G$6,$G$7)","v":0},{"$f":"IF(PACKT01!P94*PACKT06!$G$6<$G$7,PACKT01!P94*PACKT06!$G$6,$G$7)","v":0},{"$f":"IF(PACKT01!Q94*PACKT06!$G$6<$G$7,PACKT01!Q94*PACKT06!$G$6,$G$7)","v":0},{"$f":"VLOOKUP(PACKT06Table[[#This Row],[EmployeeID]],EmployeeListLookupTable[#All],12,FALSE)=\"Y\"","v":true}]
[null,"EMP0084",{"$f":"VLOOKUP(PACKT06Table[[#This Row],[EmployeeID]],EmployeeListLookupTable[],2,FALSE)","v":"EMPN084"},{"$f":"VLOOKUP(PACKT06Table[[#This Row],[EmployeeID]],EmployeeListLookupTable[],3,FALSE)","v":"Employee Name 84"},{"$f":"VLOOKUP(PACKT06Table[[#This Row],[EmployeeID]],EmployeeListLookupTable[],4,FALSE)","v":"Employee Job Title 84"},{"$f":"IF(PACKT01!F95*PACKT06!$G$6<$G$7,PACKT01!F95*PACKT06!$G$6,$G$7)","v":0},{"$f":"IF(PACKT01!G95*PACKT06!$G$6<$G$7,PACKT01!G95*PACKT06!$G$6,$G$7)","v":0},{"$f":"IF(PACKT01!H95*PACKT06!$G$6<$G$7,PACKT01!H95*PACKT06!$G$6,$G$7)","v":0},{"$f":"IF(PACKT01!I95*PACKT06!$G$6<$G$7,PACKT01!I95*PACKT06!$G$6,$G$7)","v":0},{"$f":"IF(PACKT01!J95*PACKT06!$G$6<$G$7,PACKT01!J95*PACKT06!$G$6,$G$7)","v":0},{"$f":"IF(PACKT01!K95*PACKT06!$G$6<$G$7,PACKT01!K95*PACKT06!$G$6,$G$7)","v":0},{"$f":"IF(PACKT01!L95*PACKT06!$G$6<$G$7,PACKT01!L95*PACKT06!$G$6,$G$7)","v":0},{"$f":"IF(PACKT01!M95*PACKT06!$G$6<$G$7,PACKT01!M95*PACKT06!$G$6,$G$7)","v":0},{"$f":"IF(PACKT01!N95*PACKT06!$G$6<$G$7,PACKT01!N95*PACKT06!$G$6,$G$7)","v":0},{"$f":"IF(PACKT01!O95*PACKT06!$G$6<$G$7,PACKT01!O95*PACKT06!$G$6,$G$7)","v":0},{"$f":"IF(PACKT01!P95*PACKT06!$G$6<$G$7,PACKT01!P95*PACKT06!$G$6,$G$7)","v":0},{"$f":"IF(PACKT01!Q95*PACKT06!$G$6<$G$7,PACKT01!Q95*PACKT06!$G$6,$G$7)","v":0},{"$f":"VLOOKUP(PACKT06Table[[#This Row],[EmployeeID]],EmployeeListLookupTable[#All],12,FALSE)=\"Y\"","v":true}]
[null,"EMP0085",{"$f":"VLOOKUP(PACKT06Table[[#This Row],[EmployeeID]],EmployeeListLookupTable[],2,FALSE)","v":"EMPN085"},{"$f":"VLOOKUP(PACKT06Table[[#This Row],[EmployeeID]],EmployeeListLookupTable[],3,FALSE)","v":"Employee Name 85"},{"$f":"VLOOKUP(PACKT06Table[[#This Row],[EmployeeID]],EmployeeListLookupTable[],4,FALSE)","v":"Employee Job Title 85"},{"$f":"IF(PACKT01!F96*PACKT06!$G$6<$G$7,PACKT01!F96*PACKT06!$G$6,$G$7)","v":0},{"$f":"IF(PACKT01!G96*PACKT06!$G$6<$G$7,PACKT01!G96*PACKT06!$G$6,$G$7)","v":0},{"$f":"IF(PACKT01!H96*PACKT06!$G$6<$G$7,PACKT01!H96*PACKT06!$G$6,$G$7)","v":0},{"$f":"IF(PACKT01!I96*PACKT06!$G$6<$G$7,PACKT01!I96*PACKT06!$G$6,$G$7)","v":0},{"$f":"IF(PACKT01!J96*PACKT06!$G$6<$G$7,PACKT01!J96*PACKT06!$G$6,$G$7)","v":0},{"$f":"IF(PACKT01!K96*PACKT06!$G$6<$G$7,PACKT01!K96*PACKT06!$G$6,$G$7)","v":0},{"$f":"IF(PACKT01!L96*PACKT06!$G$6<$G$7,PACKT01!L96*PACKT06!$G$6,$G$7)","v":0},{"$f":"IF(PACKT01!M96*PACKT06!$G$6<$G$7,PACKT01!M96*PACKT06!$G$6,$G$7)","v":0},{"$f":"IF(PACKT01!N96*PACKT06!$G$6<$G$7,PACKT01!N96*PACKT06!$G$6,$G$7)","v":0},{"$f":"IF(PACKT01!O96*PACKT06!$G$6<$G$7,PACKT01!O96*PACKT06!$G$6,$G$7)","v":0},{"$f":"IF(PACKT01!P96*PACKT06!$G$6<$G$7,PACKT01!P96*PACKT06!$G$6,$G$7)","v":0},{"$f":"IF(PACKT01!Q96*PACKT06!$G$6<$G$7,PACKT01!Q96*PACKT06!$G$6,$G$7)","v":0},{"$f":"VLOOKUP(PACKT06Table[[#This Row],[EmployeeID]],EmployeeListLookupTable[#All],12,FALSE)=\"Y\"","v":true}]
[null,"EMP0086",{"$f":"VLOOKUP(PACKT06Table[[#This Row],[EmployeeID]],EmployeeListLookupTable[],2,FALSE)","v":"EMPN086"},{"$f":"VLOOKUP(PACKT06Table[[#This Row],[EmployeeID]],EmployeeListLookupTable[],3,FALSE)","v":"Employee Name 86"},{"$f":"VLOOKUP(PACKT06Table[[#This Row],[EmployeeID]],EmployeeListLookupTable[],4,FALSE)","v":"Employee Job Title 86"},{"$f":"IF(PACKT01!F97*PACKT06!$G$6<$G$7,PACKT01!F97*PACKT06!$G$6,$G$7)","v":0},{"$f":"IF(PACKT01!G97*PACKT06!$G$6<$G$7,PACKT01!G97*PACKT06!$G$6,$G$7)","v":0},{"$f":"IF(PACKT01!H97*PACKT06!$G$6<$G$7,PACKT01!H97*PACKT06!$G$6,$G$7)","v":0},{"$f":"IF(PACKT01!I97*PACKT06!$G$6<$G$7,PACKT01!I97*PACKT06!$G$6,$G$7)","v":0},{"$f":"IF(PACKT01!J97*PACKT06!$G$6<$G$7,PACKT01!J97*PACKT06!$G$6,$G$7)","v":0},{"$f":"IF(PACKT01!K97*PACKT06!$G$6<$G$7,PACKT01!K97*PACKT06!$G$6,$G$7)","v":0},{"$f":"IF(PACKT01!L97*PACKT06!$G$6<$G$7,PACKT01!L97*PACKT06!$G$6,$G$7)","v":0},{"$f":"IF(PACKT01!M97*PACKT06!$G$6<$G$7,PACKT01!M97*PACKT06!$G$6,$G$7)","v":0},{"$f":"IF(PACKT01!N97*PACKT06!$G$6<$G$7,PACKT01!N97*PACKT06!$G$6,$G$7)","v":0},{"$f":"IF(PACKT01!O97*PACKT06!$G$6<$G$7,PACKT01!O97*PACKT06!$G$6,$G$7)","v":0},{"$f":"IF(PACKT01!P97*PACKT06!$G$6<$G$7,PACKT01!P97*PACKT06!$G$6,$G$7)","v":0},{"$f":"IF(PACKT01!Q97*PACKT06!$G$6<$G$7,PACKT01!Q97*PACKT06!$G$6,$G$7)","v":0},{"$f":"VLOOKUP(PACKT06Table[[#This Row],[EmployeeID]],EmployeeListLookupTable[#All],12,FALSE)=\"Y\"","v":true}]
[null,"EMP0087",{"$f":"VLOOKUP(PACKT06Table[[#This Row],[EmployeeID]],EmployeeListLookupTable[],2,FALSE)","v":"EMPN087"},{"$f":"VLOOKUP(PACKT06Table[[#This Row],[EmployeeID]],EmployeeListLookupTable[],3,FALSE)","v":"Employee Name 87"},{"$f":"VLOOKUP(PACKT06Table[[#This Row],[EmployeeID]],EmployeeListLookupTable[],4,FALSE)","v":"Employee Job Title 87"},{"$f":"IF(PACKT01!F98*PACKT06!$G$6<$G$7,PACKT01!F98*PACKT06!$G$6,$G$7)","v":0},{"$f":"IF(PACKT01!G98*PACKT06!$G$6<$G$7,PACKT01!G98*PACKT06!$G$6,$G$7)","v":0},{"$f":"IF(PACKT01!H98*PACKT06!$G$6<$G$7,PACKT01!H98*PACKT06!$G$6,$G$7)","v":0},{"$f":"IF(PACKT01!I98*PACKT06!$G$6<$G$7,PACKT01!I98*PACKT06!$G$6,$G$7)","v":0},{"$f":"IF(PACKT01!J98*PACKT06!$G$6<$G$7,PACKT01!J98*PACKT06!$G$6,$G$7)","v":0},{"$f":"IF(PACKT01!K98*PACKT06!$G$6<$G$7,PACKT01!K98*PACKT06!$G$6,$G$7)","v":0},{"$f":"IF(PACKT01!L98*PACKT06!$G$6<$G$7,PACKT01!L98*PACKT06!$G$6,$G$7)","v":0},{"$f":"IF(PACKT01!M98*PACKT06!$G$6<$G$7,PACKT01!M98*PACKT06!$G$6,$G$7)","v":0},{"$f":"IF(PACKT01!N98*PACKT06!$G$6<$G$7,PACKT01!N98*PACKT06!$G$6,$G$7)","v":0},{"$f":"IF(PACKT01!O98*PACKT06!$G$6<$G$7,PACKT01!O98*PACKT06!$G$6,$G$7)","v":0},{"$f":"IF(PACKT01!P98*PACKT06!$G$6<$G$7,PACKT01!P98*PACKT06!$G$6,$G$7)","v":0},{"$f":"IF(PACKT01!Q98*PACKT06!$G$6<$G$7,PACKT01!Q98*PACKT06!$G$6,$G$7)","v":0},{"$f":"VLOOKUP(PACKT06Table[[#This Row],[EmployeeID]],EmployeeListLookupTable[#All],12,FALSE)=\"Y\"","v":true}]
[null,"EMP0088",{"$f":"VLOOKUP(PACKT06Table[[#This Row],[EmployeeID]],EmployeeListLookupTable[],2,FALSE)","v":"EMPN088"},{"$f":"VLOOKUP(PACKT06Table[[#This Row],[EmployeeID]],EmployeeListLookupTable[],3,FALSE)","v":"Employee Name 88"},{"$f":"VLOOKUP(PACKT06Table[[#This Row],[EmployeeID]],EmployeeListLookupTable[],4,FALSE)","v":"Employee Job Title 88"},{"$f":"IF(PACKT01!F99*PACKT06!$G$6<$G$7,PACKT01!F99*PACKT06!$G$6,$G$7)","v":0},{"$f":"IF(PACKT01!G99*PACKT06!$G$6<$G$7,PACKT01!G99*PACKT06!$G$6,$G$7)","v":0},{"$f":"IF(PACKT01!H99*PACKT06!$G$6<$G$7,PACKT01!H99*PACKT06!$G$6,$G$7)","v":0},{"$f":"IF(PACKT01!I99*PACKT06!$G$6<$G$7,PACKT01!I99*PACKT06!$G$6,$G$7)","v":0},{"$f":"IF(PACKT01!J99*PACKT06!$G$6<$G$7,PACKT01!J99*PACKT06!$G$6,$G$7)","v":0},{"$f":"IF(PACKT01!K99*PACKT06!$G$6<$G$7,PACKT01!K99*PACKT06!$G$6,$G$7)","v":0},{"$f":"IF(PACKT01!L99*PACKT06!$G$6<$G$7,PACKT01!L99*PACKT06!$G$6,$G$7)","v":0},{"$f":"IF(PACKT01!M99*PACKT06!$G$6<$G$7,PACKT01!M99*PACKT06!$G$6,$G$7)","v":0},{"$f":"IF(PACKT01!N99*PACKT06!$G$6<$G$7,PACKT01!N99*PACKT06!$G$6,$G$7)","v":0},{"$f":"IF(PACKT01!O99*PACKT06!$G$6<$G$7,PACKT01!O99*PACKT06!$G$6,$G$7)","v":0},{"$f":"IF(PACKT01!P99*PACKT06!$G$6<$G$7,PACKT01!P99*PACKT06!$G$6,$G$7)","v":0},{"$f":"IF(PACKT01!Q99*PACKT06!$G$6<$G$7,PACKT01!Q99*PACKT06!$G$6,$G$7)","v":0},{"$f":"VLOOKUP(PACKT06Table[[#This Row],[EmployeeID]],EmployeeListLookupTable[#All],12,FALSE)=\"Y\"","v":true}]
[null,"EMP0089",{"$f":"VLOOKUP(PACKT06Table[[#This Row],[EmployeeID]],EmployeeListLookupTable[],2,FALSE)","v":"EMPN089"},{"$f":"VLOOKUP(PACKT06Table[[#This Row],[EmployeeID]],EmployeeListLookupTable[],3,FALSE)","v":"Employee Name 89"},{"$f":"VLOOKUP(PACKT06Table[[#This Row],[EmployeeID]],EmployeeListLookupTable[],4,FALSE)","v":"Employee Job Title 89"},{"$f":"IF(PACKT01!F100*PACKT06!$G$6<$G$7,PACKT01!F100*PACKT06!$G$6,$G$7)","v":0},{"$f":"IF(PACKT01!G100*PACKT06!$G$6<$G$7,PACKT01!G100*PACKT06!$G$6,$G$7)","v":0},{"$f":"IF(PACKT01!H100*PACKT06!$G$6<$G$7,PACKT01!H100*PACKT06!$G$6,$G$7)","v":0},{"$f":"IF(PACKT01!I100*PACKT06!$G$6<$G$7,PACKT01!I100*PACKT06!$G$6,$G$7)","v":0},{"$f":"IF(PACKT01!J100*PACKT06!$G$6<$G$7,PACKT01!J100*PACKT06!$G$6,$G$7)","v":0},{"$f":"IF(PACKT01!K100*PACKT06!$G$6<$G$7,PACKT01!K100*PACKT06!$G$6,$G$7)","v":0},{"$f":"IF(PACKT01!L100*PACKT06!$G$6<$G$7,PACKT01!L100*PACKT06!$G$6,$G$7)","v":0},{"$f":"IF(PACKT01!M100*PACKT06!$G$6<$G$7,PACKT01!M100*PACKT06!$G$6,$G$7)","v":0},{"$f":"IF(PACKT01!N100*PACKT06!$G$6<$G$7,PACKT01!N100*PACKT06!$G$6,$G$7)","v":0},{"$f":"IF(PACKT01!O100*PACKT06!$G$6<$G$7,PACKT01!O100*PACKT06!$G$6,$G$7)","v":0},{"$f":"IF(PACKT01!P100*PACKT06!$G$6<$G$7,PACKT01!P100*PACKT06!$G$6,$G$7)","v":0},{"$f":"IF(PACKT01!Q100*PACKT06!$G$6<$G$7,PACKT01!Q100*PACKT06!$G$6,$G$7)","v":0},{"$f":"VLOOKUP(PACKT06Table[[#This Row],[EmployeeID]],EmployeeListLookupTable[#All],12,FALSE)=\"Y\"","v":true}]
[null,"EMP0090",{"$f":"VLOOKUP(PACKT06Table[[#This Row],[EmployeeID]],EmployeeListLookupTable[],2,FALSE)","v":"EMPN090"},{"$f":"VLOOKUP(PACKT06Table[[#This Row],[EmployeeID]],EmployeeListLookupTable[],3,FALSE)","v":"Employee Name 90"},{"$f":"VLOOKUP(PACKT06Table[[#This Row],[EmployeeID]],EmployeeListLookupTable[],4,FALSE)","v":"Employee Job Title 90"},{"$f":"IF(PACKT01!F101*PACKT06!$G$6<$G$7,PACKT01!F101*PACKT06!$G$6,$G$7)","v":0},{"$f":"IF(PACKT01!G101*PACKT06!$G$6<$G$7,PACKT01!G101*PACKT06!$G$6,$G$7)","v":0},{"$f":"IF(PACKT01!H101*PACKT06!$G$6<$G$7,PACKT01!H101*PACKT06!$G$6,$G$7)","v":0},{"$f":"IF(PACKT01!I101*PACKT06!$G$6<$G$7,PACKT01!I101*PACKT06!$G$6,$G$7)","v":0},{"$f":"IF(PACKT01!J101*PACKT06!$G$6<$G$7,PACKT01!J101*PACKT06!$G$6,$G$7)","v":0},{"$f":"IF(PACKT01!K101*PACKT06!$G$6<$G$7,PACKT01!K101*PACKT06!$G$6,$G$7)","v":0},{"$f":"IF(PACKT01!L101*PACKT06!$G$6<$G$7,PACKT01!L101*PACKT06!$G$6,$G$7)","v":0},{"$f":"IF(PACKT01!M101*PACKT06!$G$6<$G$7,PACKT01!M101*PACKT06!$G$6,$G$7)","v":0},{"$f":"IF(PACKT01!N101*PACKT06!$G$6<$G$7,PACKT01!N101*PACKT06!$G$6,$G$7)","v":0},{"$f":"IF(PACKT01!O101*PACKT06!$G$6<$G$7,PACKT01!O101*PACKT06!$G$6,$G$7)","v":0},{"$f":"IF(PACKT01!P101*PACKT06!$G$6<$G$7,PACKT01!P101*PACKT06!$G$6,$G$7)","v":0},{"$f":"IF(PACKT01!Q101*PACKT06!$G$6<$G$7,PACKT01!Q101*PACKT06!$G$6,$G$7)","v":0},{"$f":"VLOOKUP(PACKT06Table[[#This Row],[EmployeeID]],EmployeeListLookupTable[#All],12,FALSE)=\"Y\"","v":true}]
[null,"EMP0091",{"$f":"VLOOKUP(PACKT06Table[[#This Row],[EmployeeID]],EmployeeListLookupTable[],2,FALSE)","v":"EMPN091"},{"$f":"VLOOKUP(PACKT06Table[[#This Row],[EmployeeID]],EmployeeListLookupTable[],3,FALSE)","v":"Employee Name 91"},{"$f":"VLOOKUP(PACKT06Table[[#This Row],[EmployeeID]],EmployeeListLookupTable[],4,FALSE)","v":"Employee Job Title 91"},{"$f":"IF(PACKT01!F102*PACKT06!$G$6<$G$7,PACKT01!F102*PACKT06!$G$6,$G$7)","v":0},{"$f":"IF(PACKT01!G102*PACKT06!$G$6<$G$7,PACKT01!G102*PACKT06!$G$6,$G$7)","v":0},{"$f":"IF(PACKT01!H102*PACKT06!$G$6<$G$7,PACKT01!H102*PACKT06!$G$6,$G$7)","v":0},{"$f":"IF(PACKT01!I102*PACKT06!$G$6<$G$7,PACKT01!I102*PACKT06!$G$6,$G$7)","v":0},{"$f":"IF(PACKT01!J102*PACKT06!$G$6<$G$7,PACKT01!J102*PACKT06!$G$6,$G$7)","v":0},{"$f":"IF(PACKT01!K102*PACKT06!$G$6<$G$7,PACKT01!K102*PACKT06!$G$6,$G$7)","v":0},{"$f":"IF(PACKT01!L102*PACKT06!$G$6<$G$7,PACKT01!L102*PACKT06!$G$6,$G$7)","v":0},{"$f":"IF(PACKT01!M102*PACKT06!$G$6<$G$7,PACKT01!M102*PACKT06!$G$6,$G$7)","v":0},{"$f":"IF(PACKT01!N102*PACKT06!$G$6<$G$7,PACKT01!N102*PACKT06!$G$6,$G$7)","v":0},{"$f":"IF(PACKT01!O102*PACKT06!$G$6<$G$7,PACKT01!O102*PACKT06!$G$6,$G$7)","v":0},{"$f":"IF(PACKT01!P102*PACKT06!$G$6<$G$7,PACKT01!P102*PACKT06!$G$6,$G$7)","v":0},{"$f":"IF(PACKT01!Q102*PACKT06!$G$6<$G$7,PACKT01!Q102*PACKT06!$G$6,$G$7)","v":0},{"$f":"VLOOKUP(PACKT06Table[[#This Row],[EmployeeID]],EmployeeListLookupTable[#All],12,FALSE)=\"Y\"","v":true}]
[null,"EMP0092",{"$f":"VLOOKUP(PACKT06Table[[#This Row],[EmployeeID]],EmployeeListLookupTable[],2,FALSE)","v":"EMPN092"},{"$f":"VLOOKUP(PACKT06Table[[#This Row],[EmployeeID]],EmployeeListLookupTable[],3,FALSE)","v":"Employee Name 92"},{"$f":"VLOOKUP(PACKT06Table[[#This Row],[EmployeeID]],EmployeeListLookupTable[],4,FALSE)","v":"Employee Job Title 92"},{"$f":"IF(PACKT01!F103*PACKT06!$G$6<$G$7,PACKT01!F103*PACKT06!$G$6,$G$7)","v":0},{"$f":"IF(PACKT01!G103*PACKT06!$G$6<$G$7,PACKT01!G103*PACKT06!$G$6,$G$7)","v":0},{"$f":"IF(PACKT01!H103*PACKT06!$G$6<$G$7,PACKT01!H103*PACKT06!$G$6,$G$7)","v":0},{"$f":"IF(PACKT01!I103*PACKT06!$G$6<$G$7,PACKT01!I103*PACKT06!$G$6,$G$7)","v":0},{"$f":"IF(PACKT01!J103*PACKT06!$G$6<$G$7,PACKT01!J103*PACKT06!$G$6,$G$7)","v":0},{"$f":"IF(PACKT01!K103*PACKT06!$G$6<$G$7,PACKT01!K103*PACKT06!$G$6,$G$7)","v":0},{"$f":"IF(PACKT01!L103*PACKT06!$G$6<$G$7,PACKT01!L103*PACKT06!$G$6,$G$7)","v":0},{"$f":"IF(PACKT01!M103*PACKT06!$G$6<$G$7,PACKT01!M103*PACKT06!$G$6,$G$7)","v":0},{"$f":"IF(PACKT01!N103*PACKT06!$G$6<$G$7,PACKT01!N103*PACKT06!$G$6,$G$7)","v":0},{"$f":"IF(PACKT01!O103*PACKT06!$G$6<$G$7,PACKT01!O103*PACKT06!$G$6,$G$7)","v":0},{"$f":"IF(PACKT01!P103*PACKT06!$G$6<$G$7,PACKT01!P103*PACKT06!$G$6,$G$7)","v":0},{"$f":"IF(PACKT01!Q103*PACKT06!$G$6<$G$7,PACKT01!Q103*PACKT06!$G$6,$G$7)","v":0},{"$f":"VLOOKUP(PACKT06Table[[#This Row],[EmployeeID]],EmployeeListLookupTable[#All],12,FALSE)=\"Y\"","v":true}]
[null,"EMP0093",{"$f":"VLOOKUP(PACKT06Table[[#This Row],[EmployeeID]],EmployeeListLookupTable[],2,FALSE)","v":"EMPN093"},{"$f":"VLOOKUP(PACKT06Table[[#This Row],[EmployeeID]],EmployeeListLookupTable[],3,FALSE)","v":"Employee Name 93"},{"$f":"VLOOKUP(PACKT06Table[[#This Row],[EmployeeID]],EmployeeListLookupTable[],4,FALSE)","v":"Employee Job Title 93"},{"$f":"IF(PACKT01!F104*PACKT06!$G$6<$G$7,PACKT01!F104*PACKT06!$G$6,$G$7)","v":0},{"$f":"IF(PACKT01!G104*PACKT06!$G$6<$G$7,PACKT01!G104*PACKT06!$G$6,$G$7)","v":0},{"$f":"IF(PACKT01!H104*PACKT06!$G$6<$G$7,PACKT01!H104*PACKT06!$G$6,$G$7)","v":0},{"$f":"IF(PACKT01!I104*PACKT06!$G$6<$G$7,PACKT01!I104*PACKT06!$G$6,$G$7)","v":0},{"$f":"IF(PACKT01!J104*PACKT06!$G$6<$G$7,PACKT01!J104*PACKT06!$G$6,$G$7)","v":0},{"$f":"IF(PACKT01!K104*PACKT06!$G$6<$G$7,PACKT01!K104*PACKT06!$G$6,$G$7)","v":0},{"$f":"IF(PACKT01!L104*PACKT06!$G$6<$G$7,PACKT01!L104*PACKT06!$G$6,$G$7)","v":0},{"$f":"IF(PACKT01!M104*PACKT06!$G$6<$G$7,PACKT01!M104*PACKT06!$G$6,$G$7)","v":0},{"$f":"IF(PACKT01!N104*PACKT06!$G$6<$G$7,PACKT01!N104*PACKT06!$G$6,$G$7)","v":0},{"$f":"IF(PACKT01!O104*PACKT06!$G$6<$G$7,PACKT01!O104*PACKT06!$G$6,$G$7)","v":0},{"$f":"IF(PACKT01!P104*PACKT06!$G$6<$G$7,PACKT01!P104*PACKT06!$G$6,$G$7)","v":0},{"$f":"IF(PACKT01!Q104*PACKT06!$G$6<$G$7,PACKT01!Q104*PACKT06!$G$6,$G$7)","v":0},{"$f":"VLOOKUP(PACKT06Table[[#This Row],[EmployeeID]],EmployeeListLookupTable[#All],12,FALSE)=\"Y\"","v":true}]
[null,"EMP0094",{"$f":"VLOOKUP(PACKT06Table[[#This Row],[EmployeeID]],EmployeeListLookupTable[],2,FALSE)","v":"EMPN094"},{"$f":"VLOOKUP(PACKT06Table[[#This Row],[EmployeeID]],EmployeeListLookupTable[],3,FALSE)","v":"Employee Name 94"},{"$f":"VLOOKUP(PACKT06Table[[#This Row],[EmployeeID]],EmployeeListLookupTable[],4,FALSE)","v":"Employee Job Title 94"},{"$f":"IF(PACKT01!F105*PACKT06!$G$6<$G$7,PACKT01!F105*PACKT06!$G$6,$G$7)","v":0},{"$f":"IF(PACKT01!G105*PACKT06!$G$6<$G$7,PACKT01!G105*PACKT06!$G$6,$G$7)","v":0},{"$f":"IF(PACKT01!H105*PACKT06!$G$6<$G$7,PACKT01!H105*PACKT06!$G$6,$G$7)","v":0},{"$f":"IF(PACKT01!I105*PACKT06!$G$6<$G$7,PACKT01!I105*PACKT06!$G$6,$G$7)","v":0},{"$f":"IF(PACKT01!J105*PACKT06!$G$6<$G$7,PACKT01!J105*PACKT06!$G$6,$G$7)","v":0},{"$f":"IF(PACKT01!K105*PACKT06!$G$6<$G$7,PACKT01!K105*PACKT06!$G$6,$G$7)","v":0},{"$f":"IF(PACKT01!L105*PACKT06!$G$6<$G$7,PACKT01!L105*PACKT06!$G$6,$G$7)","v":0},{"$f":"IF(PACKT01!M105*PACKT06!$G$6<$G$7,PACKT01!M105*PACKT06!$G$6,$G$7)","v":0},{"$f":"IF(PACKT01!N105*PACKT06!$G$6<$G$7,PACKT01!N105*PACKT06!$G$6,$G$7)","v":0},{"$f":"IF(PACKT01!O105*PACKT06!$G$6<$G$7,PACKT01!O105*PACKT06!$G$6,$G$7)","v":0},{"$f":"IF(PACKT01!P105*PACKT06!$G$6<$G$7,PACKT01!P105*PACKT06!$G$6,$G$7)","v":0},{"$f":"IF(PACKT01!Q105*PACKT06!$G$6<$G$7,PACKT01!Q105*PACKT06!$G$6,$G$7)","v":0},{"$f":"VLOOKUP(PACKT06Table[[#This Row],[EmployeeID]],EmployeeListLookupTable[#All],12,FALSE)=\"Y\"","v":true}]
[null,"EMP0095",{"$f":"VLOOKUP(PACKT06Table[[#This Row],[EmployeeID]],EmployeeListLookupTable[],2,FALSE)","v":"EMPN095"},{"$f":"VLOOKUP(PACKT06Table[[#This Row],[EmployeeID]],EmployeeListLookupTable[],3,FALSE)","v":"Employee Name 95"},{"$f":"VLOOKUP(PACKT06Table[[#This Row],[EmployeeID]],EmployeeListLookupTable[],4,FALSE)","v":"Employee Job Title 95"},{"$f":"IF(PACKT01!F106*PACKT06!$G$6<$G$7,PACKT01!F106*PACKT06!$G$6,$G$7)","v":0},{"$f":"IF(PACKT01!G106*PACKT06!$G$6<$G$7,PACKT01!G106*PACKT06!$G$6,$G$7)","v":0},{"$f":"IF(PACKT01!H106*PACKT06!$G$6<$G$7,PACKT01!H106*PACKT06!$G$6,$G$7)","v":0},{"$f":"IF(PACKT01!I106*PACKT06!$G$6<$G$7,PACKT01!I106*PACKT06!$G$6,$G$7)","v":0},{"$f":"IF(PACKT01!J106*PACKT06!$G$6<$G$7,PACKT01!J106*PACKT06!$G$6,$G$7)","v":0},{"$f":"IF(PACKT01!K106*PACKT06!$G$6<$G$7,PACKT01!K106*PACKT06!$G$6,$G$7)","v":0},{"$f":"IF(PACKT01!L106*PACKT06!$G$6<$G$7,PACKT01!L106*PACKT06!$G$6,$G$7)","v":0},{"$f":"IF(PACKT01!M106*PACKT06!$G$6<$G$7,PACKT01!M106*PACKT06!$G$6,$G$7)","v":0},{"$f":"IF(PACKT01!N106*PACKT06!$G$6<$G$7,PACKT01!N106*PACKT06!$G$6,$G$7)","v":0},{"$f":"IF(PACKT01!O106*PACKT06!$G$6<$G$7,PACKT01!O106*PACKT06!$G$6,$G$7)","v":0},{"$f":"IF(PACKT01!P106*PACKT06!$G$6<$G$7,PACKT01!P106*PACKT06!$G$6,$G$7)","v":0},{"$f":"IF(PACKT01!Q106*PACKT06!$G$6<$G$7,PACKT01!Q106*PACKT06!$G$6,$G$7)","v":0},{"$f":"VLOOKUP(PACKT06Table[[#This Row],[EmployeeID]],EmployeeListLookupTable[#All],12,FALSE)=\"Y\"","v":true}]
[null,"EMP0096",{"$f":"VLOOKUP(PACKT06Table[[#This Row],[EmployeeID]],EmployeeListLookupTable[],2,FALSE)","v":"EMPN096"},{"$f":"VLOOKUP(PACKT06Table[[#This Row],[EmployeeID]],EmployeeListLookupTable[],3,FALSE)","v":"Employee Name 96"},{"$f":"VLOOKUP(PACKT06Table[[#This Row],[EmployeeID]],EmployeeListLookupTable[],4,FALSE)","v":"Employee Job Title 96"},{"$f":"IF(PACKT01!F107*PACKT06!$G$6<$G$7,PACKT01!F107*PACKT06!$G$6,$G$7)","v":0},{"$f":"IF(PACKT01!G107*PACKT06!$G$6<$G$7,PACKT01!G107*PACKT06!$G$6,$G$7)","v":0},{"$f":"IF(PACKT01!H107*PACKT06!$G$6<$G$7,PACKT01!H107*PACKT06!$G$6,$G$7)","v":0},{"$f":"IF(PACKT01!I107*PACKT06!$G$6<$G$7,PACKT01!I107*PACKT06!$G$6,$G$7)","v":0},{"$f":"IF(PACKT01!J107*PACKT06!$G$6<$G$7,PACKT01!J107*PACKT06!$G$6,$G$7)","v":0},{"$f":"IF(PACKT01!K107*PACKT06!$G$6<$G$7,PACKT01!K107*PACKT06!$G$6,$G$7)","v":0},{"$f":"IF(PACKT01!L107*PACKT06!$G$6<$G$7,PACKT01!L107*PACKT06!$G$6,$G$7)","v":0},{"$f":"IF(PACKT01!M107*PACKT06!$G$6<$G$7,PACKT01!M107*PACKT06!$G$6,$G$7)","v":0},{"$f":"IF(PACKT01!N107*PACKT06!$G$6<$G$7,PACKT01!N107*PACKT06!$G$6,$G$7)","v":0},{"$f":"IF(PACKT01!O107*PACKT06!$G$6<$G$7,PACKT01!O107*PACKT06!$G$6,$G$7)","v":0},{"$f":"IF(PACKT01!P107*PACKT06!$G$6<$G$7,PACKT01!P107*PACKT06!$G$6,$G$7)","v":0},{"$f":"IF(PACKT01!Q107*PACKT06!$G$6<$G$7,PACKT01!Q107*PACKT06!$G$6,$G$7)","v":0},{"$f":"VLOOKUP(PACKT06Table[[#This Row],[EmployeeID]],EmployeeListLookupTable[#All],12,FALSE)=\"Y\"","v":true}]
[null,"EMP0097",{"$f":"VLOOKUP(PACKT06Table[[#This Row],[EmployeeID]],EmployeeListLookupTable[],2,FALSE)","v":"EMPN097"},{"$f":"VLOOKUP(PACKT06Table[[#This Row],[EmployeeID]],EmployeeListLookupTable[],3,FALSE)","v":"Employee Name 97"},{"$f":"VLOOKUP(PACKT06Table[[#This Row],[EmployeeID]],EmployeeListLookupTable[],4,FALSE)","v":"Employee Job Title 97"},{"$f":"IF(PACKT01!F108*PACKT06!$G$6<$G$7,PACKT01!F108*PACKT06!$G$6,$G$7)","v":0},{"$f":"IF(PACKT01!G108*PACKT06!$G$6<$G$7,PACKT01!G108*PACKT06!$G$6,$G$7)","v":0},{"$f":"IF(PACKT01!H108*PACKT06!$G$6<$G$7,PACKT01!H108*PACKT06!$G$6,$G$7)","v":0},{"$f":"IF(PACKT01!I108*PACKT06!$G$6<$G$7,PACKT01!I108*PACKT06!$G$6,$G$7)","v":0},{"$f":"IF(PACKT01!J108*PACKT06!$G$6<$G$7,PACKT01!J108*PACKT06!$G$6,$G$7)","v":0},{"$f":"IF(PACKT01!K108*PACKT06!$G$6<$G$7,PACKT01!K108*PACKT06!$G$6,$G$7)","v":0},{"$f":"IF(PACKT01!L108*PACKT06!$G$6<$G$7,PACKT01!L108*PACKT06!$G$6,$G$7)","v":0},{"$f":"IF(PACKT01!M108*PACKT06!$G$6<$G$7,PACKT01!M108*PACKT06!$G$6,$G$7)","v":0},{"$f":"IF(PACKT01!N108*PACKT06!$G$6<$G$7,PACKT01!N108*PACKT06!$G$6,$G$7)","v":0},{"$f":"IF(PACKT01!O108*PACKT06!$G$6<$G$7,PACKT01!O108*PACKT06!$G$6,$G$7)","v":0},{"$f":"IF(PACKT01!P108*PACKT06!$G$6<$G$7,PACKT01!P108*PACKT06!$G$6,$G$7)","v":0},{"$f":"IF(PACKT01!Q108*PACKT06!$G$6<$G$7,PACKT01!Q108*PACKT06!$G$6,$G$7)","v":0},{"$f":"VLOOKUP(PACKT06Table[[#This Row],[EmployeeID]],EmployeeListLookupTable[#All],12,FALSE)=\"Y\"","v":true}]
[null,"EMP0098",{"$f":"VLOOKUP(PACKT06Table[[#This Row],[EmployeeID]],EmployeeListLookupTable[],2,FALSE)","v":"EMPN098"},{"$f":"VLOOKUP(PACKT06Table[[#This Row],[EmployeeID]],EmployeeListLookupTable[],3,FALSE)","v":"Employee Name 98"},{"$f":"VLOOKUP(PACKT06Table[[#This Row],[EmployeeID]],EmployeeListLookupTable[],4,FALSE)","v":"Employee Job Title 98"},{"$f":"IF(PACKT01!F109*PACKT06!$G$6<$G$7,PACKT01!F109*PACKT06!$G$6,$G$7)","v":0},{"$f":"IF(PACKT01!G109*PACKT06!$G$6<$G$7,PACKT01!G109*PACKT06!$G$6,$G$7)","v":0},{"$f":"IF(PACKT01!H109*PACKT06!$G$6<$G$7,PACKT01!H109*PACKT06!$G$6,$G$7)","v":0},{"$f":"IF(PACKT01!I109*PACKT06!$G$6<$G$7,PACKT01!I109*PACKT06!$G$6,$G$7)","v":0},{"$f":"IF(PACKT01!J109*PACKT06!$G$6<$G$7,PACKT01!J109*PACKT06!$G$6,$G$7)","v":0},{"$f":"IF(PACKT01!K109*PACKT06!$G$6<$G$7,PACKT01!K109*PACKT06!$G$6,$G$7)","v":0},{"$f":"IF(PACKT01!L109*PACKT06!$G$6<$G$7,PACKT01!L109*PACKT06!$G$6,$G$7)","v":0},{"$f":"IF(PACKT01!M109*PACKT06!$G$6<$G$7,PACKT01!M109*PACKT06!$G$6,$G$7)","v":0},{"$f":"IF(PACKT01!N109*PACKT06!$G$6<$G$7,PACKT01!N109*PACKT06!$G$6,$G$7)","v":0},{"$f":"IF(PACKT01!O109*PACKT06!$G$6<$G$7,PACKT01!O109*PACKT06!$G$6,$G$7)","v":0},{"$f":"IF(PACKT01!P109*PACKT06!$G$6<$G$7,PACKT01!P109*PACKT06!$G$6,$G$7)","v":0},{"$f":"IF(PACKT01!Q109*PACKT06!$G$6<$G$7,PACKT01!Q109*PACKT06!$G$6,$G$7)","v":0},{"$f":"VLOOKUP(PACKT06Table[[#This Row],[EmployeeID]],EmployeeListLookupTable[#All],12,FALSE)=\"Y\"","v":true}]
[null,"EMP0099",{"$f":"VLOOKUP(PACKT06Table[[#This Row],[EmployeeID]],EmployeeListLookupTable[],2,FALSE)","v":"EMPN099"},{"$f":"VLOOKUP(PACKT06Table[[#This Row],[EmployeeID]],EmployeeListLookupTable[],3,FALSE)","v":"Employee Name 99"},{"$f":"VLOOKUP(PACKT06Table[[#This Row],[EmployeeID]],EmployeeListLookupTable[],4,FALSE)","v":"Employee Job Title 99"},{"$f":"IF(PACKT01!F110*PACKT06!$G$6<$G$7,PACKT01!F110*PACKT06!$G$6,$G$7)","v":0},{"$f":"IF(PACKT01!G110*PACKT06!$G$6<$G$7,PACKT01!G110*PACKT06!$G$6,$G$7)","v":0},{"$f":"IF(PACKT01!H110*PACKT06!$G$6<$G$7,PACKT01!H110*PACKT06!$G$6,$G$7)","v":0},{"$f":"IF(PACKT01!I110*PACKT06!$G$6<$G$7,PACKT01!I110*PACKT06!$G$6,$G$7)","v":0},{"$f":"IF(PACKT01!J110*PACKT06!$G$6<$G$7,PACKT01!J110*PACKT06!$G$6,$G$7)","v":0},{"$f":"IF(PACKT01!K110*PACKT06!$G$6<$G$7,PACKT01!K110*PACKT06!$G$6,$G$7)","v":0},{"$f":"IF(PACKT01!L110*PACKT06!$G$6<$G$7,PACKT01!L110*PACKT06!$G$6,$G$7)","v":0},{"$f":"IF(PACKT01!M110*PACKT06!$G$6<$G$7,PACKT01!M110*PACKT06!$G$6,$G$7)","v":0},{"$f":"IF(PACKT01!N110*PACKT06!$G$6<$G$7,PACKT01!N110*PACKT06!$G$6,$G$7)","v":0},{"$f":"IF(PACKT01!O110*PACKT06!$G$6<$G$7,PACKT01!O110*PACKT06!$G$6,$G$7)","v":0},{"$f":"IF(PACKT01!P110*PACKT06!$G$6<$G$7,PACKT01!P110*PACKT06!$G$6,$G$7)","v":0},{"$f":"IF(PACKT01!Q110*PACKT06!$G$6<$G$7,PACKT01!Q110*PACKT06!$G$6,$G$7)","v":0},{"$f":"VLOOKUP(PACKT06Table[[#This Row],[EmployeeID]],EmployeeListLookupTable[#All],12,FALSE)=\"Y\"","v":true}]
[null,"EMP0100",{"$f":"VLOOKUP(PACKT06Table[[#This Row],[EmployeeID]],EmployeeListLookupTable[],2,FALSE)","v":"EMPN100"},{"$f":"VLOOKUP(PACKT06Table[[#This Row],[EmployeeID]],EmployeeListLookupTable[],3,FALSE)","v":"Employee Name 100"},{"$f":"VLOOKUP(PACKT06Table[[#This Row],[EmployeeID]],EmployeeListLookupTable[],4,FALSE)","v":"Employee Job Title 100"},{"$f":"IF(PACKT01!F111*PACKT06!$G$6<$G$7,PACKT01!F111*PACKT06!$G$6,$G$7)","v":0},{"$f":"IF(PACKT01!G111*PACKT06!$G$6<$G$7,PACKT01!G111*PACKT06!$G$6,$G$7)","v":0},{"$f":"IF(PACKT01!H111*PACKT06!$G$6<$G$7,PACKT01!H111*PACKT06!$G$6,$G$7)","v":0},{"$f":"IF(PACKT01!I111*PACKT06!$G$6<$G$7,PACKT01!I111*PACKT06!$G$6,$G$7)","v":0},{"$f":"IF(PACKT01!J111*PACKT06!$G$6<$G$7,PACKT01!J111*PACKT06!$G$6,$G$7)","v":0},{"$f":"IF(PACKT01!K111*PACKT06!$G$6<$G$7,PACKT01!K111*PACKT06!$G$6,$G$7)","v":0},{"$f":"IF(PACKT01!L111*PACKT06!$G$6<$G$7,PACKT01!L111*PACKT06!$G$6,$G$7)","v":0},{"$f":"IF(PACKT01!M111*PACKT06!$G$6<$G$7,PACKT01!M111*PACKT06!$G$6,$G$7)","v":0},{"$f":"IF(PACKT01!N111*PACKT06!$G$6<$G$7,PACKT01!N111*PACKT06!$G$6,$G$7)","v":0},{"$f":"IF(PACKT01!O111*PACKT06!$G$6<$G$7,PACKT01!O111*PACKT06!$G$6,$G$7)","v":0},{"$f":"IF(PACKT01!P111*PACKT06!$G$6<$G$7,PACKT01!P111*PACKT06!$G$6,$G$7)","v":0},{"$f":"IF(PACKT01!Q111*PACKT06!$G$6<$G$7,PACKT01!Q111*PACKT06!$G$6,$G$7)","v":0},{"$f":"VLOOKUP(PACKT06Table[[#This Row],[EmployeeID]],EmployeeListLookupTable[#All],12,FALSE)=\"Y\"","v":true}]
[null,"Total",null,null,"Total",{"$f":"SUBTOTAL(109,PACKT06Table[1])","v":0},{"$f":"SUBTOTAL(109,PACKT06Table[2])","v":0},{"$f":"SUBTOTAL(109,PACKT06Table[3])","v":0},{"$f":"SUBTOTAL(109,PACKT06Table[4])","v":0},{"$f":"SUBTOTAL(109,PACKT06Table[5])","v":0},{"$f":"SUBTOTAL(109,PACKT06Table[6])","v":0},{"$f":"SUBTOTAL(109,PACKT06Table[7])","v":0},{"$f":"SUBTOTAL(109,PACKT06Table[8])","v":0},{"$f":"SUBTOTAL(109,PACKT06Table[9])","v":0},{"$f":"SUBTOTAL(109,PACKT06Table[10])","v":0},{"$f":"SUBTOTAL(109,PACKT06Table[11])","v":0},{"$f":"SUBTOTAL(109,PACKT06Table[12])","v":0}]

{"sheet":"PACKT07","index":15,"n_rows":112,"n_cols":18,"rows_kept":112,"cut":false,"hidden":false,"merged":[[1,2,1,4],[1,6,1,10],[2,2,2,10]]}
[null,null,"Menu"]
[null,null,{"$f":"EntityName","v":"Company A"},null,null,null,{"$f":"YearEnd","v":"2013-02-28"}]
[null,null,{"$f":"VLOOKUP(D6,PackageItemListLookup[],4,FALSE)","v":"PACKT07"}]
[]
[]
[null,null,"Package Item code:","PACK007"]
[null,null,"Package Item name:",{"$f":"VLOOKUP(D6,PackageItemListLookup[],2,FALSE)","v":"Provident Fund"}]
[null,null,null,null,"Total",{"$f":"PACKT07Table[[#Totals],[1]]","v":0},{"$f":"PACKT07Table[[#Totals],[2]]","v":0},{"$f":"PACKT07Table[[#Totals],[3]]","v":0},{"$f":"PACKT07Table[[#Totals],[4]]","v":0},{"$f":"PACKT07Table[[#Totals],[5]]","v":0},{"$f":"PACKT07Table[[#Totals],[6]]","v":0},{"$f":"PACKT07Table[[#Totals],[7]]","v":0},{"$f":"PACKT07Table[[#Totals],[8]]","v":0},{"$f":"PACKT07Table[[#Totals],[9]]","v":0},{"$f":"PACKT07Table[[#Totals],[10]]","v":0},{"$f":"PACKT07Table[[#Totals],[11]]","v":0},{"$f":"PACKT07Table[[#Totals],[12]]","v":0}]
[]
[null,null,null,null,null,{"$f":"VLOOKUP(PackageItemTable[[#Headers],[1]],CalendarMonthText,5,FALSE)","v":"March"},{"$f":"VLOOKUP(PackageItemTable[[#Headers],[2]],CalendarMonthText,5,FALSE)","v":"April"},{"$f":"VLOOKUP(PackageItemTable[[#Headers],[3]],CalendarMonthText,5,FALSE)","v":"May"},{"$f":"VLOOKUP(PackageItemTable[[#Headers],[4]],CalendarMonthText,5,FALSE)","v":"June"},{"$f":"VLOOKUP(PackageItemTable[[#Headers],[5]],CalendarMonthText,5,FALSE)","v":"July"},{"$f":"VLOOKUP(PackageItemTable[[#Headers],[6]],CalendarMonthText,5,FALSE)","v":"August"},{"$f":"VLOOKUP(PackageItemTable[[#Headers],[7]],CalendarMonthText,5,FALSE)","v":"September"},{"$f":"VLOOKUP(PackageItemTable[[#Headers],[8]],CalendarMonthText,5,FALSE)","v":"October"},{"$f":"VLOOKUP(PackageItemTable[[#Headers],[9]],CalendarMonthText,5,FALSE)","v":"November"},{"$f":"VLOOKUP(PackageItemTable[[#Headers],[10]],CalendarMonthText,5,FALSE)","v":"December"},{"$f":"VLOOKUP(PackageItemTable[[#Headers],[11]],CalendarMonthText,5,FALSE)","v":"January"},{"$f":"VLOOKUP(PackageItemTable[[#Headers],[12]],CalendarMonthText,5,FALSE)","v":"February"}]
[null,"EmployeeID","EmployeeNumber","EmployeeName","EmployeeJobTitle","1","2","3","4","5","6","7","8","9","10","11","12","Selected"]
[null,"EMP0001",{"$f":"VLOOKUP(PACKT07Table[[#This Row],[EmployeeID]],EmployeeListLookupTable[],2,FALSE)","v":"EMPN001"},{"$f":"VLOOKUP(PACKT07Table[[#This Row],[EmployeeID]],EmployeeListLookupTable[],3,FALSE)","v":"Employee Name 1"},{"$f":"VLOOKUP(PACKT07Table[[#This Row],[EmployeeID]],EmployeeListLookupTable[],4,FALSE)","v":"Employee Job Title 1"},null,null,null,null,null,null,null,null,null,null,null,null,{"$f":"VLOOKUP(PACKT07Table[[#This Row],[EmployeeID]],EmployeeListLookupTable[#All],13,FALSE)=\"Y\"","v":true}]
[null,"EMP0002",{"$f":"VLOOKUP(PACKT07Table[[#This Row],[EmployeeID]],EmployeeListLookupTable[],2,FALSE)","v":"EMPN002"},{"$f":"VLOOKUP(PACKT07Table[[#This Row],[EmployeeID]],EmployeeListLookupTable[],3,FALSE)","v":"Employee Name 2"},{"$f":"VLOOKUP(PACKT07Table[[#This Row],[EmployeeID]],EmployeeListLookupTable[],4,FALSE)","v":"Employee Job Title 2"},null,null,null,null,null,null,null,null,null,null,null,null,{"$f":"VLOOKUP(PACKT07Table[[#This Row],[EmployeeID]],EmployeeListLookupTable[#All],13,FALSE)=\"Y\"","v":true}]
[null,"EMP0003",{"$f":"VLOOKUP(PACKT07Table[[#This Row],[EmployeeID]],EmployeeListLookupTable[],2,FALSE)","v":"EMPN003"},{"$f":"VLOOKUP(PACKT07Table[[#This Row],[EmployeeID]],EmployeeListLookupTable[],3,FALSE)","v":"Employee Name 3"},{"$f":"VLOOKUP(PACKT07Table[[#This Row],[EmployeeID]],EmployeeListLookupTable[],4,FALSE)","v":"Employee Job Title 3"},null,null,null,null,null,null,null,null,null,null,null,null,{"$f":"VLOOKUP(PACKT07Table[[#This Row],[EmployeeID]],EmployeeListLookupTable[#All],13,FALSE)=\"Y\"","v":true}]
[null,"EMP0004",{"$f":"VLOOKUP(PACKT07Table[[#This Row],[EmployeeID]],EmployeeListLookupTable[],2,FALSE)","v":"EMPN004"},{"$f":"VLOOKUP(PACKT07Table[[#This Row],[EmployeeID]],EmployeeListLookupTable[],3,FALSE)","v":"Employee Name 4"},{"$f":"VLOOKUP(PACKT07Table[[#This Row],[EmployeeID]],EmployeeListLookupTable[],4,FALSE)","v":"Employee Job Title 4"},null,null,null,null,null,null,null,null,null,null,null,null,{"$f":"VLOOKUP(PACKT07Table[[#This Row],[EmployeeID]],EmployeeListLookupTable[#All],13,FALSE)=\"Y\"","v":true}]
[null,"EMP0005",{"$f":"VLOOKUP(PACKT07Table[[#This Row],[EmployeeID]],EmployeeListLookupTable[],2,FALSE)","v":"EMPN005"},{"$f":"VLOOKUP(PACKT07Table[[#This Row],[EmployeeID]],EmployeeListLookupTable[],3,FALSE)","v":"Employee Name 5"},{"$f":"VLOOKUP(PACKT07Table[[#This Row],[EmployeeID]],EmployeeListLookupTable[],4,FALSE)","v":"Employee Job Title 5"},null,null,null,null,null,null,null,null,null,null,null,null,{"$f":"VLOOKUP(PACKT07Table[[#This Row],[EmployeeID]],EmployeeListLookupTable[#All],13,FALSE)=\"Y\"","v":true}]
[null,"EMP0006",{"$f":"VLOOKUP(PACKT07Table[[#This Row],[EmployeeID]],EmployeeListLookupTable[],2,FALSE)","v":"EMPN006"},{"$f":"VLOOKUP(PACKT07Table[[#This Row],[EmployeeID]],EmployeeListLookupTable[],3,FALSE)","v":"Employee Name 6"},{"$f":"VLOOKUP(PACKT07Table[[#This Row],[EmployeeID]],EmployeeListLookupTable[],4,FALSE)","v":"Employee Job Title 6"},null,null,null,null,null,null,null,null,null,null,null,null,{"$f":"VLOOKUP(PACKT07Table[[#This Row],[EmployeeID]],EmployeeListLookupTable[#All],13,FALSE)=\"Y\"","v":true}]
[null,"EMP0007",{"$f":"VLOOKUP(PACKT07Table[[#This Row],[EmployeeID]],EmployeeListLookupTable[],2,FALSE)","v":"EMPN007"},{"$f":"VLOOKUP(PACKT07Table[[#This Row],[EmployeeID]],EmployeeListLookupTable[],3,FALSE)","v":"Employee Name 7"},{"$f":"VLOOKUP(PACKT07Table[[#This Row],[EmployeeID]],EmployeeListLookupTable[],4,FALSE)","v":"Employee Job Title 7"},null,null,null,null,null,null,null,null,null,null,null,null,{"$f":"VLOOKUP(PACKT07Table[[#This Row],[EmployeeID]],EmployeeListLookupTable[#All],13,FALSE)=\"Y\"","v":true}]
[null,"EMP0008",{"$f":"VLOOKUP(PACKT07Table[[#This Row],[EmployeeID]],EmployeeListLookupTable[],2,FALSE)","v":"EMPN008"},{"$f":"VLOOKUP(PACKT07Table[[#This Row],[EmployeeID]],EmployeeListLookupTable[],3,FALSE)","v":"Employee Name 8"},{"$f":"VLOOKUP(PACKT07Table[[#This Row],[EmployeeID]],EmployeeListLookupTable[],4,FALSE)","v":"Employee Job Title 8"},null,null,null,null,null,null,null,null,null,null,null,null,{"$f":"VLOOKUP(PACKT07Table[[#This Row],[EmployeeID]],EmployeeListLookupTable[#All],13,FALSE)=\"Y\"","v":true}]
[null,"EMP0009",{"$f":"VLOOKUP(PACKT07Table[[#This Row],[EmployeeID]],EmployeeListLookupTable[],2,FALSE)","v":"EMPN009"},{"$f":"VLOOKUP(PACKT07Table[[#This Row],[EmployeeID]],EmployeeListLookupTable[],3,FALSE)","v":"Employee Name 9"},{"$f":"VLOOKUP(PACKT07Table[[#This Row],[EmployeeID]],EmployeeListLookupTable[],4,FALSE)","v":"Employee Job Title 9"},null,null,null,null,null,null,null,null,null,null,null,null,{"$f":"VLOOKUP(PACKT07Table[[#This Row],[EmployeeID]],EmployeeListLookupTable[#All],13,FALSE)=\"Y\"","v":true}]
[null,"EMP0010",{"$f":"VLOOKUP(PACKT07Table[[#This Row],[EmployeeID]],EmployeeListLookupTable[],2,FALSE)","v":"EMPN010"},{"$f":"VLOOKUP(PACKT07Table[[#This Row],[EmployeeID]],EmployeeListLookupTable[],3,FALSE)","v":"Employee Name 10"},{"$f":"VLOOKUP(PACKT07Table[[#This Row],[EmployeeID]],EmployeeListLookupTable[],4,FALSE)","v":"Employee Job Title 10"},null,null,null,null,null,null,null,null,null,null,null,null,{"$f":"VLOOKUP(PACKT07Table[[#This Row],[EmployeeID]],EmployeeListLookupTable[#All],13,FALSE)=\"Y\"","v":true}]
[null,"EMP0011",{"$f":"VLOOKUP(PACKT07Table[[#This Row],[EmployeeID]],EmployeeListLookupTable[],2,FALSE)","v":"EMPN011"},{"$f":"VLOOKUP(PACKT07Table[[#This Row],[EmployeeID]],EmployeeListLookupTable[],3,FALSE)","v":"Employee Name 11"},{"$f":"VLOOKUP(PACKT07Table[[#This Row],[EmployeeID]],EmployeeListLookupTable[],4,FALSE)","v":"Employee Job Title 11"},null,null,null,null,null,null,null,null,null,null,null,null,{"$f":"VLOOKUP(PACKT07Table[[#This Row],[EmployeeID]],EmployeeListLookupTable[#All],13,FALSE)=\"Y\"","v":true}]
[null,"EMP0012",{"$f":"VLOOKUP(PACKT07Table[[#This Row],[EmployeeID]],EmployeeListLookupTable[],2,FALSE)","v":"EMPN012"},{"$f":"VLOOKUP(PACKT07Table[[#This Row],[EmployeeID]],EmployeeListLookupTable[],3,FALSE)","v":"Employee Name 12"},{"$f":"VLOOKUP(PACKT07Table[[#This Row],[EmployeeID]],EmployeeListLookupTable[],4,FALSE)","v":"Employee Job Title 12"},null,null,null,null,null,null,null,null,null,null,null,null,{"$f":"VLOOKUP(PACKT07Table[[#This Row],[EmployeeID]],EmployeeListLookupTable[#All],13,FALSE)=\"Y\"","v":true}]
[null,"EMP0013",{"$f":"VLOOKUP(PACKT07Table[[#This Row],[EmployeeID]],EmployeeListLookupTable[],2,FALSE)","v":"EMPN013"},{"$f":"VLOOKUP(PACKT07Table[[#This Row],[EmployeeID]],EmployeeListLookupTable[],3,FALSE)","v":"Employee Name 13"},{"$f":"VLOOKUP(PACKT07Table[[#This Row],[EmployeeID]],EmployeeListLookupTable[],4,FALSE)","v":"Employee Job Title 13"},null,null,null,null,null,null,null,null,null,null,null,null,{"$f":"VLOOKUP(PACKT07Table[[#This Row],[EmployeeID]],EmployeeListLookupTable[#All],13,FALSE)=\"Y\"","v":true}]
[null,"EMP0014",{"$f":"VLOOKUP(PACKT07Table[[#This Row],[EmployeeID]],EmployeeListLookupTable[],2,FALSE)","v":"EMPN014"},{"$f":"VLOOKUP(PACKT07Table[[#This Row],[EmployeeID]],EmployeeListLookupTable[],3,FALSE)","v":"Employee Name 14"},{"$f":"VLOOKUP(PACKT07Table[[#This Row],[EmployeeID]],EmployeeListLookupTable[],4,FALSE)","v":"Employee Job Title 14"},null,null,null,null,null,null,null,null,null,null,null,null,{"$f":"VLOOKUP(PACKT07Table[[#This Row],[EmployeeID]],EmployeeListLookupTable[#All],13,FALSE)=\"Y\"","v":true}]
[null,"EMP0015",{"$f":"VLOOKUP(PACKT07Table[[#This Row],[EmployeeID]],EmployeeListLookupTable[],2,FALSE)","v":"EMPN015"},{"$f":"VLOOKUP(PACKT07Table[[#This Row],[EmployeeID]],EmployeeListLookupTable[],3,FALSE)","v":"Employee Name 15"},{"$f":"VLOOKUP(PACKT07Table[[#This Row],[EmployeeID]],EmployeeListLookupTable[],4,FALSE)","v":"Employee Job Title 15"},null,null,null,null,null,null,null,null,null,null,null,null,{"$f":"VLOOKUP(PACKT07Table[[#This Row],[EmployeeID]],EmployeeListLookupTable[#All],13,FALSE)=\"Y\"","v":true}]
[null,"EMP0016",{"$f":"VLOOKUP(PACKT07Table[[#This Row],[EmployeeID]],EmployeeListLookupTable[],2,FALSE)","v":"EMPN016"},{"$f":"VLOOKUP(PACKT07Table[[#This Row],[EmployeeID]],EmployeeListLookupTable[],3,FALSE)","v":"Employee Name 16"},{"$f":"VLOOKUP(PACKT07Table[[#This Row],[EmployeeID]],EmployeeListLookupTable[],4,FALSE)","v":"Employee Job Title 16"},null,null,null,null,null,null,null,null,null,null,null,null,{"$f":"VLOOKUP(PACKT07Table[[#This Row],[EmployeeID]],EmployeeListLookupTable[#All],13,FALSE)=\"Y\"","v":true}]
[null,"EMP0017",{"$f":"VLOOKUP(PACKT07Table[[#This Row],[EmployeeID]],EmployeeListLookupTable[],2,FALSE)","v":"EMPN017"},{"$f":"VLOOKUP(PACKT07Table[[#This Row],[EmployeeID]],EmployeeListLookupTable[],3,FALSE)","v":"Employee Name 17"},{"$f":"VLOOKUP(PACKT07Table[[#This Row],[EmployeeID]],EmployeeListLookupTable[],4,FALSE)","v":"Employee Job Title 17"},null,null,null,null,null,null,null,null,null,null,null,null,{"$f":"VLOOKUP(PACKT07Table[[#This Row],[EmployeeID]],EmployeeListLookupTable[#All],13,FALSE)=\"Y\"","v":true}]
[null,"EMP0018",{"$f":"VLOOKUP(PACKT07Table[[#This Row],[EmployeeID]],EmployeeListLookupTable[],2,FALSE)","v":"EMPN018"},{"$f":"VLOOKUP(PACKT07Table[[#This Row],[EmployeeID]],EmployeeListLookupTable[],3,FALSE)","v":"Employee Name 18"},{"$f":"VLOOKUP(PACKT07Table[[#This Row],[EmployeeID]],EmployeeListLookupTable[],4,FALSE)","v":"Employee Job Title 18"},null,null,null,null,null,null,null,null,null,null,null,null,{"$f":"VLOOKUP(PACKT07Table[[#This Row],[EmployeeID]],EmployeeListLookupTable[#All],13,FALSE)=\"Y\"","v":true}]
[null,"EMP0019",{"$f":"VLOOKUP(PACKT07Table[[#This Row],[EmployeeID]],EmployeeListLookupTable[],2,FALSE)","v":"EMPN019"},{"$f":"VLOOKUP(PACKT07Table[[#This Row],[EmployeeID]],EmployeeListLookupTable[],3,FALSE)","v":"Employee Name 19"},{"$f":"VLOOKUP(PACKT07Table[[#This Row],[EmployeeID]],EmployeeListLookupTable[],4,FALSE)","v":"Employee Job Title 19"},null,null,null,null,null,null,null,null,null,null,null,null,{"$f":"VLOOKUP(PACKT07Table[[#This Row],[EmployeeID]],EmployeeListLookupTable[#All],13,FALSE)=\"Y\"","v":true}]
[null,"EMP0020",{"$f":"VLOOKUP(PACKT07Table[[#This Row],[EmployeeID]],EmployeeListLookupTable[],2,FALSE)","v":"EMPN020"},{"$f":"VLOOKUP(PACKT07Table[[#This Row],[EmployeeID]],EmployeeListLookupTable[],3,FALSE)","v":"Employee Name 20"},{"$f":"VLOOKUP(PACKT07Table[[#This Row],[EmployeeID]],EmployeeListLookupTable[],4,FALSE)","v":"Employee Job Title 20"},null,null,null,null,null,null,null,null,null,null,null,null,{"$f":"VLOOKUP(PACKT07Table[[#This Row],[EmployeeID]],EmployeeListLookupTable[#All],13,FALSE)=\"Y\"","v":true}]
[null,"EMP0021",{"$f":"VLOOKUP(PACKT07Table[[#This Row],[EmployeeID]],EmployeeListLookupTable[],2,FALSE)","v":"EMPN021"},{"$f":"VLOOKUP(PACKT07Table[[#This Row],[EmployeeID]],EmployeeListLookupTable[],3,FALSE)","v":"Employee Name 21"},{"$f":"VLOOKUP(PACKT07Table[[#This Row],[EmployeeID]],EmployeeListLookupTable[],4,FALSE)","v":"Employee Job Title 21"},null,null,null,null,null,null,null,null,null,null,null,null,{"$f":"VLOOKUP(PACKT07Table[[#This Row],[EmployeeID]],EmployeeListLookupTable[#All],13,FALSE)=\"Y\"","v":true}]
[null,"EMP0022",{"$f":"VLOOKUP(PACKT07Table[[#This Row],[EmployeeID]],EmployeeListLookupTable[],2,FALSE)","v":"EMPN022"},{"$f":"VLOOKUP(PACKT07Table[[#This Row],[EmployeeID]],EmployeeListLookupTable[],3,FALSE)","v":"Employee Name 22"},{"$f":"VLOOKUP(PACKT07Table[[#This Row],[EmployeeID]],EmployeeListLookupTable[],4,FALSE)","v":"Employee Job Title 22"},null,null,null,null,null,null,null,null,null,null,null,null,{"$f":"VLOOKUP(PACKT07Table[[#This Row],[EmployeeID]],EmployeeListLookupTable[#All],13,FALSE)=\"Y\"","v":true}]
[null,"EMP0023",{"$f":"VLOOKUP(PACKT07Table[[#This Row],[EmployeeID]],EmployeeListLookupTable[],2,FALSE)","v":"EMPN023"},{"$f":"VLOOKUP(PACKT07Table[[#This Row],[EmployeeID]],EmployeeListLookupTable[],3,FALSE)","v":"Employee Name 23"},{"$f":"VLOOKUP(PACKT07Table[[#This Row],[EmployeeID]],EmployeeListLookupTable[],4,FALSE)","v":"Employee Job Title 23"},null,null,null,null,null,null,null,null,null,null,null,null,{"$f":"VLOOKUP(PACKT07Table[[#This Row],[EmployeeID]],EmployeeListLookupTable[#All],13,FALSE)=\"Y\"","v":true}]
[null,"EMP0024",{"$f":"VLOOKUP(PACKT07Table[[#This Row],[EmployeeID]],EmployeeListLookupTable[],2,FALSE)","v":"EMPN024"},{"$f":"VLOOKUP(PACKT07Table[[#This Row],[EmployeeID]],EmployeeListLookupTable[],3,FALSE)","v":"Employee Name 24"},{"$f":"VLOOKUP(PACKT07Table[[#This Row],[EmployeeID]],EmployeeListLookupTable[],4,FALSE)","v":"Employee Job Title 24"},null,null,null,null,null,null,null,null,null,null,null,null,{"$f":"VLOOKUP(PACKT07Table[[#This Row],[EmployeeID]],EmployeeListLookupTable[#All],13,FALSE)=\"Y\"","v":true}]
[null,"EMP0025",{"$f":"VLOOKUP(PACKT07Table[[#This Row],[EmployeeID]],EmployeeListLookupTable[],2,FALSE)","v":"EMPN025"},{"$f":"VLOOKUP(PACKT07Table[[#This Row],[EmployeeID]],EmployeeListLookupTable[],3,FALSE)","v":"Employee Name 25"},{"$f":"VLOOKUP(PACKT07Table[[#This Row],[EmployeeID]],EmployeeListLookupTable[],4,FALSE)","v":"Employee Job Title 25"},null,null,null,null,null,null,null,null,null,null,null,null,{"$f":"VLOOKUP(PACKT07Table[[#This Row],[EmployeeID]],EmployeeListLookupTable[#All],13,FALSE)=\"Y\"","v":true}]
[null,"EMP0026",{"$f":"VLOOKUP(PACKT07Table[[#This Row],[EmployeeID]],EmployeeListLookupTable[],2,FALSE)","v":"EMPN026"},{"$f":"VLOOKUP(PACKT07Table[[#This Row],[EmployeeID]],EmployeeListLookupTable[],3,FALSE)","v":"Employee Name 26"},{"$f":"VLOOKUP(PACKT07Table[[#This Row],[EmployeeID]],EmployeeListLookupTable[],4,FALSE)","v":"Employee Job Title 26"},null,null,null,null,null,null,null,null,null,null,null,null,{"$f":"VLOOKUP(PACKT07Table[[#This Row],[EmployeeID]],EmployeeListLookupTable[#All],13,FALSE)=\"Y\"","v":true}]
[null,"EMP0027",{"$f":"VLOOKUP(PACKT07Table[[#This Row],[EmployeeID]],EmployeeListLookupTable[],2,FALSE)","v":"EMPN027"},{"$f":"VLOOKUP(PACKT07Table[[#This Row],[EmployeeID]],EmployeeListLookupTable[],3,FALSE)","v":"Employee Name 27"},{"$f":"VLOOKUP(PACKT07Table[[#This Row],[EmployeeID]],EmployeeListLookupTable[],4,FALSE)","v":"Employee Job Title 27"},null,null,null,null,null,null,null,null,null,null,null,null,{"$f":"VLOOKUP(PACKT07Table[[#This Row],[EmployeeID]],EmployeeListLookupTable[#All],13,FALSE)=\"Y\"","v":true}]
[null,"EMP0028",{"$f":"VLOOKUP(PACKT07Table[[#This Row],[EmployeeID]],EmployeeListLookupTable[],2,FALSE)","v":"EMPN028"},{"$f":"VLOOKUP(PACKT07Table[[#This Row],[EmployeeID]],EmployeeListLookupTable[],3,FALSE)","v":"Employee Name 28"},{"$f":"VLOOKUP(PACKT07Table[[#This Row],[EmployeeID]],EmployeeListLookupTable[],4,FALSE)","v":"Employee Job Title 28"},null,null,null,null,null,null,null,null,null,null,null,null,{"$f":"VLOOKUP(PACKT07Table[[#This Row],[EmployeeID]],EmployeeListLookupTable[#All],13,FALSE)=\"Y\"","v":true}]
[null,"EMP0029",{"$f":"VLOOKUP(PACKT07Table[[#This Row],[EmployeeID]],EmployeeListLookupTable[],2,FALSE)","v":"EMPN029"},{"$f":"VLOOKUP(PACKT07Table[[#This Row],[EmployeeID]],EmployeeListLookupTable[],3,FALSE)","v":"Employee Name 29"},{"$f":"VLOOKUP(PACKT07Table[[#This Row],[EmployeeID]],EmployeeListLookupTable[],4,FALSE)","v":"Employee Job Title 29"},null,null,null,null,null,null,null,null,null,null,null,null,{"$f":"VLOOKUP(PACKT07Table[[#This Row],[EmployeeID]],EmployeeListLookupTable[#All],13,FALSE)=\"Y\"","v":true}]
[null,"EMP0030",{"$f":"VLOOKUP(PACKT07Table[[#This Row],[EmployeeID]],EmployeeListLookupTable[],2,FALSE)","v":"EMPN030"},{"$f":"VLOOKUP(PACKT07Table[[#This Row],[EmployeeID]],EmployeeListLookupTable[],3,FALSE)","v":"Employee Name 30"},{"$f":"VLOOKUP(PACKT07Table[[#This Row],[EmployeeID]],EmployeeListLookupTable[],4,FALSE)","v":"Employee Job Title 30"},null,null,null,null,null,null,null,null,null,null,null,null,{"$f":"VLOOKUP(PACKT07Table[[#This Row],[EmployeeID]],EmployeeListLookupTable[#All],13,FALSE)=\"Y\"","v":true}]
[null,"EMP0031",{"$f":"VLOOKUP(PACKT07Table[[#This Row],[EmployeeID]],EmployeeListLookupTable[],2,FALSE)","v":"EMPN031"},{"$f":"VLOOKUP(PACKT07Table[[#This Row],[EmployeeID]],EmployeeListLookupTable[],3,FALSE)","v":"Employee Name 31"},{"$f":"VLOOKUP(PACKT07Table[[#This Row],[EmployeeID]],EmployeeListLookupTable[],4,FALSE)","v":"Employee Job Title 31"},null,null,null,null,null,null,null,null,null,null,null,null,{"$f":"VLOOKUP(PACKT07Table[[#This Row],[EmployeeID]],EmployeeListLookupTable[#All],13,FALSE)=\"Y\"","v":true}]
[null,"EMP0032",{"$f":"VLOOKUP(PACKT07Table[[#This Row],[EmployeeID]],EmployeeListLookupTable[],2,FALSE)","v":"EMPN032"},{"$f":"VLOOKUP(PACKT07Table[[#This Row],[EmployeeID]],EmployeeListLookupTable[],3,FALSE)","v":"Employee Name 32"},{"$f":"VLOOKUP(PACKT07Table[[#This Row],[EmployeeID]],EmployeeListLookupTable[],4,FALSE)","v":"Employee Job Title 32"},null,null,null,null,null,null,null,null,null,null,null,null,{"$f":"VLOOKUP(PACKT07Table[[#This Row],[EmployeeID]],EmployeeListLookupTable[#All],13,FALSE)=\"Y\"","v":true}]
[null,"EMP0033",{"$f":"VLOOKUP(PACKT07Table[[#This Row],[EmployeeID]],EmployeeListLookupTable[],2,FALSE)","v":"EMPN033"},{"$f":"VLOOKUP(PACKT07Table[[#This Row],[EmployeeID]],EmployeeListLookupTable[],3,FALSE)","v":"Employee Name 33"},{"$f":"VLOOKUP(PACKT07Table[[#This Row],[EmployeeID]],EmployeeListLookupTable[],4,FALSE)","v":"Employee Job Title 33"},null,null,null,null,null,null,null,null,null,null,null,null,{"$f":"VLOOKUP(PACKT07Table[[#This Row],[EmployeeID]],EmployeeListLookupTable[#All],13,FALSE)=\"Y\"","v":true}]
[null,"EMP0034",{"$f":"VLOOKUP(PACKT07Table[[#This Row],[EmployeeID]],EmployeeListLookupTable[],2,FALSE)","v":"EMPN034"},{"$f":"VLOOKUP(PACKT07Table[[#This Row],[EmployeeID]],EmployeeListLookupTable[],3,FALSE)","v":"Employee Name 34"},{"$f":"VLOOKUP(PACKT07Table[[#This Row],[EmployeeID]],EmployeeListLookupTable[],4,FALSE)","v":"Employee Job Title 34"},null,null,null,null,null,null,null,null,null,null,null,null,{"$f":"VLOOKUP(PACKT07Table[[#This Row],[EmployeeID]],EmployeeListLookupTable[#All],13,FALSE)=\"Y\"","v":true}]
[null,"EMP0035",{"$f":"VLOOKUP(PACKT07Table[[#This Row],[EmployeeID]],EmployeeListLookupTable[],2,FALSE)","v":"EMPN035"},{"$f":"VLOOKUP(PACKT07Table[[#This Row],[EmployeeID]],EmployeeListLookupTable[],3,FALSE)","v":"Employee Name 35"},{"$f":"VLOOKUP(PACKT07Table[[#This Row],[EmployeeID]],EmployeeListLookupTable[],4,FALSE)","v":"Employee Job Title 35"},null,null,null,null,null,null,null,null,null,null,null,null,{"$f":"VLOOKUP(PACKT07Table[[#This Row],[EmployeeID]],EmployeeListLookupTable[#All],13,FALSE)=\"Y\"","v":true}]
[null,"EMP0036",{"$f":"VLOOKUP(PACKT07Table[[#This Row],[EmployeeID]],EmployeeListLookupTable[],2,FALSE)","v":"EMPN036"},{"$f":"VLOOKUP(PACKT07Table[[#This Row],[EmployeeID]],EmployeeListLookupTable[],3,FALSE)","v":"Employee Name 36"},{"$f":"VLOOKUP(PACKT07Table[[#This Row],[EmployeeID]],EmployeeListLookupTable[],4,FALSE)","v":"Employee Job Title 36"},null,null,null,null,null,null,null,null,null,null,null,null,{"$f":"VLOOKUP(PACKT07Table[[#This Row],[EmployeeID]],EmployeeListLookupTable[#All],13,FALSE)=\"Y\"","v":true}]
[null,"EMP0037",{"$f":"VLOOKUP(PACKT07Table[[#This Row],[EmployeeID]],EmployeeListLookupTable[],2,FALSE)","v":"EMPN037"},{"$f":"VLOOKUP(PACKT07Table[[#This Row],[EmployeeID]],EmployeeListLookupTable[],3,FALSE)","v":"Employee Name 37"},{"$f":"VLOOKUP(PACKT07Table[[#This Row],[EmployeeID]],EmployeeListLookupTable[],4,FALSE)","v":"Employee Job Title 37"},null,null,null,null,null,null,null,null,null,null,null,null,{"$f":"VLOOKUP(PACKT07Table[[#This Row],[EmployeeID]],EmployeeListLookupTable[#All],13,FALSE)=\"Y\"","v":true}]
[null,"EMP0038",{"$f":"VLOOKUP(PACKT07Table[[#This Row],[EmployeeID]],EmployeeListLookupTable[],2,FALSE)","v":"EMPN038"},{"$f":"VLOOKUP(PACKT07Table[[#This Row],[EmployeeID]],EmployeeListLookupTable[],3,FALSE)","v":"Employee Name 38"},{"$f":"VLOOKUP(PACKT07Table[[#This Row],[EmployeeID]],EmployeeListLookupTable[],4,FALSE)","v":"Employee Job Title 38"},null,null,null,null,null,null,null,null,null,null,null,null,{"$f":"VLOOKUP(PACKT07Table[[#This Row],[EmployeeID]],EmployeeListLookupTable[#All],13,FALSE)=\"Y\"","v":true}]
[null,"EMP0039",{"$f":"VLOOKUP(PACKT07Table[[#This Row],[EmployeeID]],EmployeeListLookupTable[],2,FALSE)","v":"EMPN039"},{"$f":"VLOOKUP(PACKT07Table[[#This Row],[EmployeeID]],EmployeeListLookupTable[],3,FALSE)","v":"Employee Name 39"},{"$f":"VLOOKUP(PACKT07Table[[#This Row],[EmployeeID]],EmployeeListLookupTable[],4,FALSE)","v":"Employee Job Title 39"},null,null,null,null,null,null,null,null,null,null,null,null,{"$f":"VLOOKUP(PACKT07Table[[#This Row],[EmployeeID]],EmployeeListLookupTable[#All],13,FALSE)=\"Y\"","v":true}]
[null,"EMP0040",{"$f":"VLOOKUP(PACKT07Table[[#This Row],[EmployeeID]],EmployeeListLookupTable[],2,FALSE)","v":"EMPN040"},{"$f":"VLOOKUP(PACKT07Table[[#This Row],[EmployeeID]],EmployeeListLookupTable[],3,FALSE)","v":"Employee Name 40"},{"$f":"VLOOKUP(PACKT07Table[[#This Row],[EmployeeID]],EmployeeListLookupTable[],4,FALSE)","v":"Employee Job Title 40"},null,null,null,null,null,null,null,null,null,null,null,null,{"$f":"VLOOKUP(PACKT07Table[[#This Row],[EmployeeID]],EmployeeListLookupTable[#All],13,FALSE)=\"Y\"","v":true}]
[null,"EMP0041",{"$f":"VLOOKUP(PACKT07Table[[#This Row],[EmployeeID]],EmployeeListLookupTable[],2,FALSE)","v":"EMPN041"},{"$f":"VLOOKUP(PACKT07Table[[#This Row],[EmployeeID]],EmployeeListLookupTable[],3,FALSE)","v":"Employee Name 41"},{"$f":"VLOOKUP(PACKT07Table[[#This Row],[EmployeeID]],EmployeeListLookupTable[],4,FALSE)","v":"Employee Job Title 41"},null,null,null,null,null,null,null,null,null,null,null,null,{"$f":"VLOOKUP(PACKT07Table[[#This Row],[EmployeeID]],EmployeeListLookupTable[#All],13,FALSE)=\"Y\"","v":true}]
[null,"EMP0042",{"$f":"VLOOKUP(PACKT07Table[[#This Row],[EmployeeID]],EmployeeListLookupTable[],2,FALSE)","v":"EMPN042"},{"$f":"VLOOKUP(PACKT07Table[[#This Row],[EmployeeID]],EmployeeListLookupTable[],3,FALSE)","v":"Employee Name 42"},{"$f":"VLOOKUP(PACKT07Table[[#This Row],[EmployeeID]],EmployeeListLookupTable[],4,FALSE)","v":"Employee Job Title 42"},null,null,null,null,null,null,null,null,null,null,null,null,{"$f":"VLOOKUP(PACKT07Table[[#This Row],[EmployeeID]],EmployeeListLookupTable[#All],13,FALSE)=\"Y\"","v":true}]
[null,"EMP0043",{"$f":"VLOOKUP(PACKT07Table[[#This Row],[EmployeeID]],EmployeeListLookupTable[],2,FALSE)","v":"EMPN043"},{"$f":"VLOOKUP(PACKT07Table[[#This Row],[EmployeeID]],EmployeeListLookupTable[],3,FALSE)","v":"Employee Name 43"},{"$f":"VLOOKUP(PACKT07Table[[#This Row],[EmployeeID]],EmployeeListLookupTable[],4,FALSE)","v":"Employee Job Title 43"},null,null,null,null,null,null,null,null,null,null,null,null,{"$f":"VLOOKUP(PACKT07Table[[#This Row],[EmployeeID]],EmployeeListLookupTable[#All],13,FALSE)=\"Y\"","v":true}]
[null,"EMP0044",{"$f":"VLOOKUP(PACKT07Table[[#This Row],[EmployeeID]],EmployeeListLookupTable[],2,FALSE)","v":"EMPN044"},{"$f":"VLOOKUP(PACKT07Table[[#This Row],[EmployeeID]],EmployeeListLookupTable[],3,FALSE)","v":"Employee Name 44"},{"$f":"VLOOKUP(PACKT07Table[[#This Row],[EmployeeID]],EmployeeListLookupTable[],4,FALSE)","v":"Employee Job Title 44"},null,null,null,null,null,null,null,null,null,null,null,null,{"$f":"VLOOKUP(PACKT07Table[[#This Row],[EmployeeID]],EmployeeListLookupTable[#All],13,FALSE)=\"Y\"","v":true}]
[null,"EMP0045",{"$f":"VLOOKUP(PACKT07Table[[#This Row],[EmployeeID]],EmployeeListLookupTable[],2,FALSE)","v":"EMPN045"},{"$f":"VLOOKUP(PACKT07Table[[#This Row],[EmployeeID]],EmployeeListLookupTable[],3,FALSE)","v":"Employee Name 45"},{"$f":"VLOOKUP(PACKT07Table[[#This Row],[EmployeeID]],EmployeeListLookupTable[],4,FALSE)","v":"Employee Job Title 45"},null,null,null,null,null,null,null,null,null,null,null,null,{"$f":"VLOOKUP(PACKT07Table[[#This Row],[EmployeeID]],EmployeeListLookupTable[#All],13,FALSE)=\"Y\"","v":true}]
[null,"EMP0046",{"$f":"VLOOKUP(PACKT07Table[[#This Row],[EmployeeID]],EmployeeListLookupTable[],2,FALSE)","v":"EMPN046"},{"$f":"VLOOKUP(PACKT07Table[[#This Row],[EmployeeID]],EmployeeListLookupTable[],3,FALSE)","v":"Employee Name 46"},{"$f":"VLOOKUP(PACKT07Table[[#This Row],[EmployeeID]],EmployeeListLookupTable[],4,FALSE)","v":"Employee Job Title 46"},null,null,null,null,null,null,null,null,null,null,null,null,{"$f":"VLOOKUP(PACKT07Table[[#This Row],[EmployeeID]],EmployeeListLookupTable[#All],13,FALSE)=\"Y\"","v":true}]
[null,"EMP0047",{"$f":"VLOOKUP(PACKT07Table[[#This Row],[EmployeeID]],EmployeeListLookupTable[],2,FALSE)","v":"EMPN047"},{"$f":"VLOOKUP(PACKT07Table[[#This Row],[EmployeeID]],EmployeeListLookupTable[],3,FALSE)","v":"Employee Name 47"},{"$f":"VLOOKUP(PACKT07Table[[#This Row],[EmployeeID]],EmployeeListLookupTable[],4,FALSE)","v":"Employee Job Title 47"},null,null,null,null,null,null,null,null,null,null,null,null,{"$f":"VLOOKUP(PACKT07Table[[#This Row],[EmployeeID]],EmployeeListLookupTable[#All],13,FALSE)=\"Y\"","v":true}]
[null,"EMP0048",{"$f":"VLOOKUP(PACKT07Table[[#This Row],[EmployeeID]],EmployeeListLookupTable[],2,FALSE)","v":"EMPN048"},{"$f":"VLOOKUP(PACKT07Table[[#This Row],[EmployeeID]],EmployeeListLookupTable[],3,FALSE)","v":"Employee Name 48"},{"$f":"VLOOKUP(PACKT07Table[[#This Row],[EmployeeID]],EmployeeListLookupTable[],4,FALSE)","v":"Employee Job Title 48"},null,null,null,null,null,null,null,null,null,null,null,null,{"$f":"VLOOKUP(PACKT07Table[[#This Row],[EmployeeID]],EmployeeListLookupTable[#All],13,FALSE)=\"Y\"","v":true}]
[null,"EMP0049",{"$f":"VLOOKUP(PACKT07Table[[#This Row],[EmployeeID]],EmployeeListLookupTable[],2,FALSE)","v":"EMPN049"},{"$f":"VLOOKUP(PACKT07Table[[#This Row],[EmployeeID]],EmployeeListLookupTable[],3,FALSE)","v":"Employee Name 49"},{"$f":"VLOOKUP(PACKT07Table[[#This Row],[EmployeeID]],EmployeeListLookupTable[],4,FALSE)","v":"Employee Job Title 49"},null,null,null,null,null,null,null,null,null,null,null,null,{"$f":"VLOOKUP(PACKT07Table[[#This Row],[EmployeeID]],EmployeeListLookupTable[#All],13,FALSE)=\"Y\"","v":true}]
[null,"EMP0050",{"$f":"VLOOKUP(PACKT07Table[[#This Row],[EmployeeID]],EmployeeListLookupTable[],2,FALSE)","v":"EMPN050"},{"$f":"VLOOKUP(PACKT07Table[[#This Row],[EmployeeID]],EmployeeListLookupTable[],3,FALSE)","v":"Employee Name 50"},{"$f":"VLOOKUP(PACKT07Table[[#This Row],[EmployeeID]],EmployeeListLookupTable[],4,FALSE)","v":"Employee Job Title 50"},null,null,null,null,null,null,null,null,null,null,null,null,{"$f":"VLOOKUP(PACKT07Table[[#This Row],[EmployeeID]],EmployeeListLookupTable[#All],13,FALSE)=\"Y\"","v":true}]
[null,"EMP0051",{"$f":"VLOOKUP(PACKT07Table[[#This Row],[EmployeeID]],EmployeeListLookupTable[],2,FALSE)","v":"EMPN051"},{"$f":"VLOOKUP(PACKT07Table[[#This Row],[EmployeeID]],EmployeeListLookupTable[],3,FALSE)","v":"Employee Name 51"},{"$f":"VLOOKUP(PACKT07Table[[#This Row],[EmployeeID]],EmployeeListLookupTable[],4,FALSE)","v":"Employee Job Title 51"},null,null,null,null,null,null,null,null,null,null,null,null,{"$f":"VLOOKUP(PACKT07Table[[#This Row],[EmployeeID]],EmployeeListLookupTable[#All],13,FALSE)=\"Y\"","v":true}]
[null,"EMP0052",{"$f":"VLOOKUP(PACKT07Table[[#This Row],[EmployeeID]],EmployeeListLookupTable[],2,FALSE)","v":"EMPN052"},{"$f":"VLOOKUP(PACKT07Table[[#This Row],[EmployeeID]],EmployeeListLookupTable[],3,FALSE)","v":"Employee Name 52"},{"$f":"VLOOKUP(PACKT07Table[[#This Row],[EmployeeID]],EmployeeListLookupTable[],4,FALSE)","v":"Employee Job Title 52"},null,null,null,null,null,null,null,null,null,null,null,null,{"$f":"VLOOKUP(PACKT07Table[[#This Row],[EmployeeID]],EmployeeListLookupTable[#All],13,FALSE)=\"Y\"","v":true}]
[null,"EMP0053",{"$f":"VLOOKUP(PACKT07Table[[#This Row],[EmployeeID]],EmployeeListLookupTable[],2,FALSE)","v":"EMPN053"},{"$f":"VLOOKUP(PACKT07Table[[#This Row],[EmployeeID]],EmployeeListLookupTable[],3,FALSE)","v":"Employee Name 53"},{"$f":"VLOOKUP(PACKT07Table[[#This Row],[EmployeeID]],EmployeeListLookupTable[],4,FALSE)","v":"Employee Job Title 53"},null,null,null,null,null,null,null,null,null,null,null,null,{"$f":"VLOOKUP(PACKT07Table[[#This Row],[EmployeeID]],EmployeeListLookupTable[#All],13,FALSE)=\"Y\"","v":true}]
[null,"EMP0054",{"$f":"VLOOKUP(PACKT07Table[[#This Row],[EmployeeID]],EmployeeListLookupTable[],2,FALSE)","v":"EMPN054"},{"$f":"VLOOKUP(PACKT07Table[[#This Row],[EmployeeID]],EmployeeListLookupTable[],3,FALSE)","v":"Employee Name 54"},{"$f":"VLOOKUP(PACKT07Table[[#This Row],[EmployeeID]],EmployeeListLookupTable[],4,FALSE)","v":"Employee Job Title 54"},null,null,null,null,null,null,null,null,null,null,null,null,{"$f":"VLOOKUP(PACKT07Table[[#This Row],[EmployeeID]],EmployeeListLookupTable[#All],13,FALSE)=\"Y\"","v":true}]
[null,"EMP0055",{"$f":"VLOOKUP(PACKT07Table[[#This Row],[EmployeeID]],EmployeeListLookupTable[],2,FALSE)","v":"EMPN055"},{"$f":"VLOOKUP(PACKT07Table[[#This Row],[EmployeeID]],EmployeeListLookupTable[],3,FALSE)","v":"Employee Name 55"},{"$f":"VLOOKUP(PACKT07Table[[#This Row],[EmployeeID]],EmployeeListLookupTable[],4,FALSE)","v":"Employee Job Title 55"},null,null,null,null,null,null,null,null,null,null,null,null,{"$f":"VLOOKUP(PACKT07Table[[#This Row],[EmployeeID]],EmployeeListLookupTable[#All],13,FALSE)=\"Y\"","v":true}]
[null,"EMP0056",{"$f":"VLOOKUP(PACKT07Table[[#This Row],[EmployeeID]],EmployeeListLookupTable[],2,FALSE)","v":"EMPN056"},{"$f":"VLOOKUP(PACKT07Table[[#This Row],[EmployeeID]],EmployeeListLookupTable[],3,FALSE)","v":"Employee Name 56"},{"$f":"VLOOKUP(PACKT07Table[[#This Row],[EmployeeID]],EmployeeListLookupTable[],4,FALSE)","v":"Employee Job Title 56"},null,null,null,null,null,null,null,null,null,null,null,null,{"$f":"VLOOKUP(PACKT07Table[[#This Row],[EmployeeID]],EmployeeListLookupTable[#All],13,FALSE)=\"Y\"","v":true}]
[null,"EMP0057",{"$f":"VLOOKUP(PACKT07Table[[#This Row],[EmployeeID]],EmployeeListLookupTable[],2,FALSE)","v":"EMPN057"},{"$f":"VLOOKUP(PACKT07Table[[#This Row],[EmployeeID]],EmployeeListLookupTable[],3,FALSE)","v":"Employee Name 57"},{"$f":"VLOOKUP(PACKT07Table[[#This Row],[EmployeeID]],EmployeeListLookupTable[],4,FALSE)","v":"Employee Job Title 57"},null,null,null,null,null,null,null,null,null,null,null,null,{"$f":"VLOOKUP(PACKT07Table[[#This Row],[EmployeeID]],EmployeeListLookupTable[#All],13,FALSE)=\"Y\"","v":true}]
[null,"EMP0058",{"$f":"VLOOKUP(PACKT07Table[[#This Row],[EmployeeID]],EmployeeListLookupTable[],2,FALSE)","v":"EMPN058"},{"$f":"VLOOKUP(PACKT07Table[[#This Row],[EmployeeID]],EmployeeListLookupTable[],3,FALSE)","v":"Employee Name 58"},{"$f":"VLOOKUP(PACKT07Table[[#This Row],[EmployeeID]],EmployeeListLookupTable[],4,FALSE)","v":"Employee Job Title 58"},null,null,null,null,null,null,null,null,null,null,null,null,{"$f":"VLOOKUP(PACKT07Table[[#This Row],[EmployeeID]],EmployeeListLookupTable[#All],13,FALSE)=\"Y\"","v":true}]
[null,"EMP0059",{"$f":"VLOOKUP(PACKT07Table[[#This Row],[EmployeeID]],EmployeeListLookupTable[],2,FALSE)","v":"EMPN059"},{"$f":"VLOOKUP(PACKT07Table[[#This Row],[EmployeeID]],EmployeeListLookupTable[],3,FALSE)","v":"Employee Name 59"},{"$f":"VLOOKUP(PACKT07Table[[#This Row],[EmployeeID]],EmployeeListLookupTable[],4,FALSE)","v":"Employee Job Title 59"},null,null,null,null,null,null,null,null,null,null,null,null,{"$f":"VLOOKUP(PACKT07Table[[#This Row],[EmployeeID]],EmployeeListLookupTable[#All],13,FALSE)=\"Y\"","v":true}]
[null,"EMP0060",{"$f":"VLOOKUP(PACKT07Table[[#This Row],[EmployeeID]],EmployeeListLookupTable[],2,FALSE)","v":"EMPN060"},{"$f":"VLOOKUP(PACKT07Table[[#This Row],[EmployeeID]],EmployeeListLookupTable[],3,FALSE)","v":"Employee Name 60"},{"$f":"VLOOKUP(PACKT07Table[[#This Row],[EmployeeID]],EmployeeListLookupTable[],4,FALSE)","v":"Employee Job Title 60"},null,null,null,null,null,null,null,null,null,null,null,null,{"$f":"VLOOKUP(PACKT07Table[[#This Row],[EmployeeID]],EmployeeListLookupTable[#All],13,FALSE)=\"Y\"","v":true}]
[null,"EMP0061",{"$f":"VLOOKUP(PACKT07Table[[#This Row],[EmployeeID]],EmployeeListLookupTable[],2,FALSE)","v":"EMPN061"},{"$f":"VLOOKUP(PACKT07Table[[#This Row],[EmployeeID]],EmployeeListLookupTable[],3,FALSE)","v":"Employee Name 61"},{"$f":"VLOOKUP(PACKT07Table[[#This Row],[EmployeeID]],EmployeeListLookupTable[],4,FALSE)","v":"Employee Job Title 61"},null,null,null,null,null,null,null,null,null,null,null,null,{"$f":"VLOOKUP(PACKT07Table[[#This Row],[EmployeeID]],EmployeeListLookupTable[#All],13,FALSE)=\"Y\"","v":true}]
[null,"EMP0062",{"$f":"VLOOKUP(PACKT07Table[[#This Row],[EmployeeID]],EmployeeListLookupTable[],2,FALSE)","v":"EMPN062"},{"$f":"VLOOKUP(PACKT07Table[[#This Row],[EmployeeID]],EmployeeListLookupTable[],3,FALSE)","v":"Employee Name 62"},{"$f":"VLOOKUP(PACKT07Table[[#This Row],[EmployeeID]],EmployeeListLookupTable[],4,FALSE)","v":"Employee Job Title 62"},null,null,null,null,null,null,null,null,null,null,null,null,{"$f":"VLOOKUP(PACKT07Table[[#This Row],[EmployeeID]],EmployeeListLookupTable[#All],13,FALSE)=\"Y\"","v":true}]
[null,"EMP0063",{"$f":"VLOOKUP(PACKT07Table[[#This Row],[EmployeeID]],EmployeeListLookupTable[],2,FALSE)","v":"EMPN063"},{"$f":"VLOOKUP(PACKT07Table[[#This Row],[EmployeeID]],EmployeeListLookupTable[],3,FALSE)","v":"Employee Name 63"},{"$f":"VLOOKUP(PACKT07Table[[#This Row],[EmployeeID]],EmployeeListLookupTable[],4,FALSE)","v":"Employee Job Title 63"},null,null,null,null,null,null,null,null,null,null,null,null,{"$f":"VLOOKUP(PACKT07Table[[#This Row],[EmployeeID]],EmployeeListLookupTable[#All],13,FALSE)=\"Y\"","v":true}]
[null,"EMP0064",{"$f":"VLOOKUP(PACKT07Table[[#This Row],[EmployeeID]],EmployeeListLookupTable[],2,FALSE)","v":"EMPN064"},{"$f":"VLOOKUP(PACKT07Table[[#This Row],[EmployeeID]],EmployeeListLookupTable[],3,FALSE)","v":"Employee Name 64"},{"$f":"VLOOKUP(PACKT07Table[[#This Row],[EmployeeID]],EmployeeListLookupTable[],4,FALSE)","v":"Employee Job Title 64"},null,null,null,null,null,null,null,null,null,null,null,null,{"$f":"VLOOKUP(PACKT07Table[[#This Row],[EmployeeID]],EmployeeListLookupTable[#All],13,FALSE)=\"Y\"","v":true}]
[null,"EMP0065",{"$f":"VLOOKUP(PACKT07Table[[#This Row],[EmployeeID]],EmployeeListLookupTable[],2,FALSE)","v":"EMPN065"},{"$f":"VLOOKUP(PACKT07Table[[#This Row],[EmployeeID]],EmployeeListLookupTable[],3,FALSE)","v":"Employee Name 65"},{"$f":"VLOOKUP(PACKT07Table[[#This Row],[EmployeeID]],EmployeeListLookupTable[],4,FALSE)","v":"Employee Job Title 65"},null,null,null,null,null,null,null,null,null,null,null,null,{"$f":"VLOOKUP(PACKT07Table[[#This Row],[EmployeeID]],EmployeeListLookupTable[#All],13,FALSE)=\"Y\"","v":true}]
[null,"EMP0066",{"$f":"VLOOKUP(PACKT07Table[[#This Row],[EmployeeID]],EmployeeListLookupTable[],2,FALSE)","v":"EMPN066"},{"$f":"VLOOKUP(PACKT07Table[[#This Row],[EmployeeID]],EmployeeListLookupTable[],3,FALSE)","v":"Employee Name 66"},{"$f":"VLOOKUP(PACKT07Table[[#This Row],[EmployeeID]],EmployeeListLookupTable[],4,FALSE)","v":"Employee Job Title 66"},null,null,null,null,null,null,null,null,null,null,null,null,{"$f":"VLOOKUP(PACKT07Table[[#This Row],[EmployeeID]],EmployeeListLookupTable[#All],13,FALSE)=\"Y\"","v":true}]
[null,"EMP0067",{"$f":"VLOOKUP(PACKT07Table[[#This Row],[EmployeeID]],EmployeeListLookupTable[],2,FALSE)","v":"EMPN067"},{"$f":"VLOOKUP(PACKT07Table[[#This Row],[EmployeeID]],EmployeeListLookupTable[],3,FALSE)","v":"Employee Name 67"},{"$f":"VLOOKUP(PACKT07Table[[#This Row],[EmployeeID]],EmployeeListLookupTable[],4,FALSE)","v":"Employee Job Title 67"},null,null,null,null,null,null,null,null,null,null,null,null,{"$f":"VLOOKUP(PACKT07Table[[#This Row],[EmployeeID]],EmployeeListLookupTable[#All],13,FALSE)=\"Y\"","v":true}]
[null,"EMP0068",{"$f":"VLOOKUP(PACKT07Table[[#This Row],[EmployeeID]],EmployeeListLookupTable[],2,FALSE)","v":"EMPN068"},{"$f":"VLOOKUP(PACKT07Table[[#This Row],[EmployeeID]],EmployeeListLookupTable[],3,FALSE)","v":"Employee Name 68"},{"$f":"VLOOKUP(PACKT07Table[[#This Row],[EmployeeID]],EmployeeListLookupTable[],4,FALSE)","v":"Employee Job Title 68"},null,null,null,null,null,null,null,null,null,null,null,null,{"$f":"VLOOKUP(PACKT07Table[[#This Row],[EmployeeID]],EmployeeListLookupTable[#All],13,FALSE)=\"Y\"","v":true}]
[null,"EMP0069",{"$f":"VLOOKUP(PACKT07Table[[#This Row],[EmployeeID]],EmployeeListLookupTable[],2,FALSE)","v":"EMPN069"},{"$f":"VLOOKUP(PACKT07Table[[#This Row],[EmployeeID]],EmployeeListLookupTable[],3,FALSE)","v":"Employee Name 69"},{"$f":"VLOOKUP(PACKT07Table[[#This Row],[EmployeeID]],EmployeeListLookupTable[],4,FALSE)","v":"Employee Job Title 69"},null,null,null,null,null,null,null,null,null,null,null,null,{"$f":"VLOOKUP(PACKT07Table[[#This Row],[EmployeeID]],EmployeeListLookupTable[#All],13,FALSE)=\"Y\"","v":true}]
[null,"EMP0070",{"$f":"VLOOKUP(PACKT07Table[[#This Row],[EmployeeID]],EmployeeListLookupTable[],2,FALSE)","v":"EMPN070"},{"$f":"VLOOKUP(PACKT07Table[[#This Row],[EmployeeID]],EmployeeListLookupTable[],3,FALSE)","v":"Employee Name 70"},{"$f":"VLOOKUP(PACKT07Table[[#This Row],[EmployeeID]],EmployeeListLookupTable[],4,FALSE)","v":"Employee Job Title 70"},null,null,null,null,null,null,null,null,null,null,null,null,{"$f":"VLOOKUP(PACKT07Table[[#This Row],[EmployeeID]],EmployeeListLookupTable[#All],13,FALSE)=\"Y\"","v":true}]
[null,"EMP0071",{"$f":"VLOOKUP(PACKT07Table[[#This Row],[EmployeeID]],EmployeeListLookupTable[],2,FALSE)","v":"EMPN071"},{"$f":"VLOOKUP(PACKT07Table[[#This Row],[EmployeeID]],EmployeeListLookupTable[],3,FALSE)","v":"Employee Name 71"},{"$f":"VLOOKUP(PACKT07Table[[#This Row],[EmployeeID]],EmployeeListLookupTable[],4,FALSE)","v":"Employee Job Title 71"},null,null,null,null,null,null,null,null,null,null,null,null,{"$f":"VLOOKUP(PACKT07Table[[#This Row],[EmployeeID]],EmployeeListLookupTable[#All],13,FALSE)=\"Y\"","v":true}]
[null,"EMP0072",{"$f":"VLOOKUP(PACKT07Table[[#This Row],[EmployeeID]],EmployeeListLookupTable[],2,FALSE)","v":"EMPN072"},{"$f":"VLOOKUP(PACKT07Table[[#This Row],[EmployeeID]],EmployeeListLookupTable[],3,FALSE)","v":"Employee Name 72"},{"$f":"VLOOKUP(PACKT07Table[[#This Row],[EmployeeID]],EmployeeListLookupTable[],4,FALSE)","v":"Employee Job Title 72"},null,null,null,null,null,null,null,null,null,null,null,null,{"$f":"VLOOKUP(PACKT07Table[[#This Row],[EmployeeID]],EmployeeListLookupTable[#All],13,FALSE)=\"Y\"","v":true}]
[null,"EMP0073",{"$f":"VLOOKUP(PACKT07Table[[#This Row],[EmployeeID]],EmployeeListLookupTable[],2,FALSE)","v":"EMPN073"},{"$f":"VLOOKUP(PACKT07Table[[#This Row],[EmployeeID]],EmployeeListLookupTable[],3,FALSE)","v":"Employee Name 73"},{"$f":"VLOOKUP(PACKT07Table[[#This Row],[EmployeeID]],EmployeeListLookupTable[],4,FALSE)","v":"Employee Job Title 73"},null,null,null,null,null,null,null,null,null,null,null,null,{"$f":"VLOOKUP(PACKT07Table[[#This Row],[EmployeeID]],EmployeeListLookupTable[#All],13,FALSE)=\"Y\"","v":true}]
[null,"EMP0074",{"$f":"VLOOKUP(PACKT07Table[[#This Row],[EmployeeID]],EmployeeListLookupTable[],2,FALSE)","v":"EMPN074"},{"$f":"VLOOKUP(PACKT07Table[[#This Row],[EmployeeID]],EmployeeListLookupTable[],3,FALSE)","v":"Employee Name 74"},{"$f":"VLOOKUP(PACKT07Table[[#This Row],[EmployeeID]],EmployeeListLookupTable[],4,FALSE)","v":"Employee Job Title 74"},null,null,null,null,null,null,null,null,null,null,null,null,{"$f":"VLOOKUP(PACKT07Table[[#This Row],[EmployeeID]],EmployeeListLookupTable[#All],13,FALSE)=\"Y\"","v":true}]
[null,"EMP0075",{"$f":"VLOOKUP(PACKT07Table[[#This Row],[EmployeeID]],EmployeeListLookupTable[],2,FALSE)","v":"EMPN075"},{"$f":"VLOOKUP(PACKT07Table[[#This Row],[EmployeeID]],EmployeeListLookupTable[],3,FALSE)","v":"Employee Name 75"},{"$f":"VLOOKUP(PACKT07Table[[#This Row],[EmployeeID]],EmployeeListLookupTable[],4,FALSE)","v":"Employee Job Title 75"},null,null,null,null,null,null,null,null,null,null,null,null,{"$f":"VLOOKUP(PACKT07Table[[#This Row],[EmployeeID]],EmployeeListLookupTable[#All],13,FALSE)=\"Y\"","v":true}]
[null,"EMP0076",{"$f":"VLOOKUP(PACKT07Table[[#This Row],[EmployeeID]],EmployeeListLookupTable[],2,FALSE)","v":"EMPN076"},{"$f":"VLOOKUP(PACKT07Table[[#This Row],[EmployeeID]],EmployeeListLookupTable[],3,FALSE)","v":"Employee Name 76"},{"$f":"VLOOKUP(PACKT07Table[[#This Row],[EmployeeID]],EmployeeListLookupTable[],4,FALSE)","v":"Employee Job Title 76"},null,null,null,null,null,null,null,null,null,null,null,null,{"$f":"VLOOKUP(PACKT07Table[[#This Row],[EmployeeID]],EmployeeListLookupTable[#All],13,FALSE)=\"Y\"","v":true}]
[null,"EMP0077",{"$f":"VLOOKUP(PACKT07Table[[#This Row],[EmployeeID]],EmployeeListLookupTable[],2,FALSE)","v":"EMPN077"},{"$f":"VLOOKUP(PACKT07Table[[#This Row],[EmployeeID]],EmployeeListLookupTable[],3,FALSE)","v":"Employee Name 77"},{"$f":"VLOOKUP(PACKT07Table[[#This Row],[EmployeeID]],EmployeeListLookupTable[],4,FALSE)","v":"Employee Job Title 77"},null,null,null,null,null,null,null,null,null,null,null,null,{"$f":"VLOOKUP(PACKT07Table[[#This Row],[EmployeeID]],EmployeeListLookupTable[#All],13,FALSE)=\"Y\"","v":true}]
[null,"EMP0078",{"$f":"VLOOKUP(PACKT07Table[[#This Row],[EmployeeID]],EmployeeListLookupTable[],2,FALSE)","v":"EMPN078"},{"$f":"VLOOKUP(PACKT07Table[[#This Row],[EmployeeID]],EmployeeListLookupTable[],3,FALSE)","v":"Employee Name 78"},{"$f":"VLOOKUP(PACKT07Table[[#This Row],[EmployeeID]],EmployeeListLookupTable[],4,FALSE)","v":"Employee Job Title 78"},null,null,null,null,null,null,null,null,null,null,null,null,{"$f":"VLOOKUP(PACKT07Table[[#This Row],[EmployeeID]],EmployeeListLookupTable[#All],13,FALSE)=\"Y\"","v":true}]
[null,"EMP0079",{"$f":"VLOOKUP(PACKT07Table[[#This Row],[EmployeeID]],EmployeeListLookupTable[],2,FALSE)","v":"EMPN079"},{"$f":"VLOOKUP(PACKT07Table[[#This Row],[EmployeeID]],EmployeeListLookupTable[],3,FALSE)","v":"Employee Name 79"},{"$f":"VLOOKUP(PACKT07Table[[#This Row],[EmployeeID]],EmployeeListLookupTable[],4,FALSE)","v":"Employee Job Title 79"},null,null,null,null,null,null,null,null,null,null,null,null,{"$f":"VLOOKUP(PACKT07Table[[#This Row],[EmployeeID]],EmployeeListLookupTable[#All],13,FALSE)=\"Y\"","v":true}]
[null,"EMP0080",{"$f":"VLOOKUP(PACKT07Table[[#This Row],[EmployeeID]],EmployeeListLookupTable[],2,FALSE)","v":"EMPN080"},{"$f":"VLOOKUP(PACKT07Table[[#This Row],[EmployeeID]],EmployeeListLookupTable[],3,FALSE)","v":"Employee Name 80"},{"$f":"VLOOKUP(PACKT07Table[[#This Row],[EmployeeID]],EmployeeListLookupTable[],4,FALSE)","v":"Employee Job Title 80"},null,null,null,null,null,null,null,null,null,null,null,null,{"$f":"VLOOKUP(PACKT07Table[[#This Row],[EmployeeID]],EmployeeListLookupTable[#All],13,FALSE)=\"Y\"","v":true}]
[null,"EMP0081",{"$f":"VLOOKUP(PACKT07Table[[#This Row],[EmployeeID]],EmployeeListLookupTable[],2,FALSE)","v":"EMPN081"},{"$f":"VLOOKUP(PACKT07Table[[#This Row],[EmployeeID]],EmployeeListLookupTable[],3,FALSE)","v":"Employee Name 81"},{"$f":"VLOOKUP(PACKT07Table[[#This Row],[EmployeeID]],EmployeeListLookupTable[],4,FALSE)","v":"Employee Job Title 81"},null,null,null,null,null,null,null,null,null,null,null,null,{"$f":"VLOOKUP(PACKT07Table[[#This Row],[EmployeeID]],EmployeeListLookupTable[#All],13,FALSE)=\"Y\"","v":true}]
[null,"EMP0082",{"$f":"VLOOKUP(PACKT07Table[[#This Row],[EmployeeID]],EmployeeListLookupTable[],2,FALSE)","v":"EMPN082"},{"$f":"VLOOKUP(PACKT07Table[[#This Row],[EmployeeID]],EmployeeListLookupTable[],3,FALSE)","v":"Employee Name 82"},{"$f":"VLOOKUP(PACKT07Table[[#This Row],[EmployeeID]],EmployeeListLookupTable[],4,FALSE)","v":"Employee Job Title 82"},null,null,null,null,null,null,null,null,null,null,null,null,{"$f":"VLOOKUP(PACKT07Table[[#This Row],[EmployeeID]],EmployeeListLookupTable[#All],13,FALSE)=\"Y\"","v":true}]
[null,"EMP0083",{"$f":"VLOOKUP(PACKT07Table[[#This Row],[EmployeeID]],EmployeeListLookupTable[],2,FALSE)","v":"EMPN083"},{"$f":"VLOOKUP(PACKT07Table[[#This Row],[EmployeeID]],EmployeeListLookupTable[],3,FALSE)","v":"Employee Name 83"},{"$f":"VLOOKUP(PACKT07Table[[#This Row],[EmployeeID]],EmployeeListLookupTable[],4,FALSE)","v":"Employee Job Title 83"},null,null,null,null,null,null,null,null,null,null,null,null,{"$f":"VLOOKUP(PACKT07Table[[#This Row],[EmployeeID]],EmployeeListLookupTable[#All],13,FALSE)=\"Y\"","v":true}]
[null,"EMP0084",{"$f":"VLOOKUP(PACKT07Table[[#This Row],[EmployeeID]],EmployeeListLookupTable[],2,FALSE)","v":"EMPN084"},{"$f":"VLOOKUP(PACKT07Table[[#This Row],[EmployeeID]],EmployeeListLookupTable[],3,FALSE)","v":"Employee Name 84"},{"$f":"VLOOKUP(PACKT07Table[[#This Row],[EmployeeID]],EmployeeListLookupTable[],4,FALSE)","v":"Employee Job Title 84"},null,null,null,null,null,null,null,null,null,null,null,null,{"$f":"VLOOKUP(PACKT07Table[[#This Row],[EmployeeID]],EmployeeListLookupTable[#All],13,FALSE)=\"Y\"","v":true}]
[null,"EMP0085",{"$f":"VLOOKUP(PACKT07Table[[#This Row],[EmployeeID]],EmployeeListLookupTable[],2,FALSE)","v":"EMPN085"},{"$f":"VLOOKUP(PACKT07Table[[#This Row],[EmployeeID]],EmployeeListLookupTable[],3,FALSE)","v":"Employee Name 85"},{"$f":"VLOOKUP(PACKT07Table[[#This Row],[EmployeeID]],EmployeeListLookupTable[],4,FALSE)","v":"Employee Job Title 85"},null,null,null,null,null,null,null,null,null,null,null,null,{"$f":"VLOOKUP(PACKT07Table[[#This Row],[EmployeeID]],EmployeeListLookupTable[#All],13,FALSE)=\"Y\"","v":true}]
[null,"EMP0086",{"$f":"VLOOKUP(PACKT07Table[[#This Row],[EmployeeID]],EmployeeListLookupTable[],2,FALSE)","v":"EMPN086"},{"$f":"VLOOKUP(PACKT07Table[[#This Row],[EmployeeID]],EmployeeListLookupTable[],3,FALSE)","v":"Employee Name 86"},{"$f":"VLOOKUP(PACKT07Table[[#This Row],[EmployeeID]],EmployeeListLookupTable[],4,FALSE)","v":"Employee Job Title 86"},null,null,null,null,null,null,null,null,null,null,null,null,{"$f":"VLOOKUP(PACKT07Table[[#This Row],[EmployeeID]],EmployeeListLookupTable[#All],13,FALSE)=\"Y\"","v":true}]
[null,"EMP0087",{"$f":"VLOOKUP(PACKT07Table[[#This Row],[EmployeeID]],EmployeeListLookupTable[],2,FALSE)","v":"EMPN087"},{"$f":"VLOOKUP(PACKT07Table[[#This Row],[EmployeeID]],EmployeeListLookupTable[],3,FALSE)","v":"Employee Name 87"},{"$f":"VLOOKUP(PACKT07Table[[#This Row],[EmployeeID]],EmployeeListLookupTable[],4,FALSE)","v":"Employee Job Title 87"},null,null,null,null,null,null,null,null,null,null,null,null,{"$f":"VLOOKUP(PACKT07Table[[#This Row],[EmployeeID]],EmployeeListLookupTable[#All],13,FALSE)=\"Y\"","v":true}]
[null,"EMP0088",{"$f":"VLOOKUP(PACKT07Table[[#This Row],[EmployeeID]],EmployeeListLookupTable[],2,FALSE)","v":"EMPN088"},{"$f":"VLOOKUP(PACKT07Table[[#This Row],[EmployeeID]],EmployeeListLookupTable[],3,FALSE)","v":"Employee Name 88"},{"$f":"VLOOKUP(PACKT07Table[[#This Row],[EmployeeID]],EmployeeListLookupTable[],4,FALSE)","v":"Employee Job Title 88"},null,null,null,null,null,null,null,null,null,null,null,null,{"$f":"VLOOKUP(PACKT07Table[[#This Row],[EmployeeID]],EmployeeListLookupTable[#All],13,FALSE)=\"Y\"","v":true}]
[null,"EMP0089",{"$f":"VLOOKUP(PACKT07Table[[#This Row],[EmployeeID]],EmployeeListLookupTable[],2,FALSE)","v":"EMPN089"},{"$f":"VLOOKUP(PACKT07Table[[#This Row],[EmployeeID]],EmployeeListLookupTable[],3,FALSE)","v":"Employee Name 89"},{"$f":"VLOOKUP(PACKT07Table[[#This Row],[EmployeeID]],EmployeeListLookupTable[],4,FALSE)","v":"Employee Job Title 89"},null,null,null,null,null,null,null,null,null,null,null,null,{"$f":"VLOOKUP(PACKT07Table[[#This Row],[EmployeeID]],EmployeeListLookupTable[#All],13,FALSE)=\"Y\"","v":true}]
[null,"EMP0090",{"$f":"VLOOKUP(PACKT07Table[[#This Row],[EmployeeID]],EmployeeListLookupTable[],2,FALSE)","v":"EMPN090"},{"$f":"VLOOKUP(PACKT07Table[[#This Row],[EmployeeID]],EmployeeListLookupTable[],3,FALSE)","v":"Employee Name 90"},{"$f":"VLOOKUP(PACKT07Table[[#This Row],[EmployeeID]],EmployeeListLookupTable[],4,FALSE)","v":"Employee Job Title 90"},null,null,null,null,null,null,null,null,null,null,null,null,{"$f":"VLOOKUP(PACKT07Table[[#This Row],[EmployeeID]],EmployeeListLookupTable[#All],13,FALSE)=\"Y\"","v":true}]
[null,"EMP0091",{"$f":"VLOOKUP(PACKT07Table[[#This Row],[EmployeeID]],EmployeeListLookupTable[],2,FALSE)","v":"EMPN091"},{"$f":"VLOOKUP(PACKT07Table[[#This Row],[EmployeeID]],EmployeeListLookupTable[],3,FALSE)","v":"Employee Name 91"},{"$f":"VLOOKUP(PACKT07Table[[#This Row],[EmployeeID]],EmployeeListLookupTable[],4,FALSE)","v":"Employee Job Title 91"},null,null,null,null,null,null,null,null,null,null,null,null,{"$f":"VLOOKUP(PACKT07Table[[#This Row],[EmployeeID]],EmployeeListLookupTable[#All],13,FALSE)=\"Y\"","v":true}]
[null,"EMP0092",{"$f":"VLOOKUP(PACKT07Table[[#This Row],[EmployeeID]],EmployeeListLookupTable[],2,FALSE)","v":"EMPN092"},{"$f":"VLOOKUP(PACKT07Table[[#This Row],[EmployeeID]],EmployeeListLookupTable[],3,FALSE)","v":"Employee Name 92"},{"$f":"VLOOKUP(PACKT07Table[[#This Row],[EmployeeID]],EmployeeListLookupTable[],4,FALSE)","v":"Employee Job Title 92"},null,null,null,null,null,null,null,null,null,null,null,null,{"$f":"VLOOKUP(PACKT07Table[[#This Row],[EmployeeID]],EmployeeListLookupTable[#All],13,FALSE)=\"Y\"","v":true}]
[null,"EMP0093",{"$f":"VLOOKUP(PACKT07Table[[#This Row],[EmployeeID]],EmployeeListLookupTable[],2,FALSE)","v":"EMPN093"},{"$f":"VLOOKUP(PACKT07Table[[#This Row],[EmployeeID]],EmployeeListLookupTable[],3,FALSE)","v":"Employee Name 93"},{"$f":"VLOOKUP(PACKT07Table[[#This Row],[EmployeeID]],EmployeeListLookupTable[],4,FALSE)","v":"Employee Job Title 93"},null,null,null,null,null,null,null,null,null,null,null,null,{"$f":"VLOOKUP(PACKT07Table[[#This Row],[EmployeeID]],EmployeeListLookupTable[#All],13,FALSE)=\"Y\"","v":true}]
[null,"EMP0094",{"$f":"VLOOKUP(PACKT07Table[[#This Row],[EmployeeID]],EmployeeListLookupTable[],2,FALSE)","v":"EMPN094"},{"$f":"VLOOKUP(PACKT07Table[[#This Row],[EmployeeID]],EmployeeListLookupTable[],3,FALSE)","v":"Employee Name 94"},{"$f":"VLOOKUP(PACKT07Table[[#This Row],[EmployeeID]],EmployeeListLookupTable[],4,FALSE)","v":"Employee Job Title 94"},null,null,null,null,null,null,null,null,null,null,null,null,{"$f":"VLOOKUP(PACKT07Table[[#This Row],[EmployeeID]],EmployeeListLookupTable[#All],13,FALSE)=\"Y\"","v":true}]
[null,"EMP0095",{"$f":"VLOOKUP(PACKT07Table[[#This Row],[EmployeeID]],EmployeeListLookupTable[],2,FALSE)","v":"EMPN095"},{"$f":"VLOOKUP(PACKT07Table[[#This Row],[EmployeeID]],EmployeeListLookupTable[],3,FALSE)","v":"Employee Name 95"},{"$f":"VLOOKUP(PACKT07Table[[#This Row],[EmployeeID]],EmployeeListLookupTable[],4,FALSE)","v":"Employee Job Title 95"},null,null,null,null,null,null,null,null,null,null,null,null,{"$f":"VLOOKUP(PACKT07Table[[#This Row],[EmployeeID]],EmployeeListLookupTable[#All],13,FALSE)=\"Y\"","v":true}]
[null,"EMP0096",{"$f":"VLOOKUP(PACKT07Table[[#This Row],[EmployeeID]],EmployeeListLookupTable[],2,FALSE)","v":"EMPN096"},{"$f":"VLOOKUP(PACKT07Table[[#This Row],[EmployeeID]],EmployeeListLookupTable[],3,FALSE)","v":"Employee Name 96"},{"$f":"VLOOKUP(PACKT07Table[[#This Row],[EmployeeID]],EmployeeListLookupTable[],4,FALSE)","v":"Employee Job Title 96"},null,null,null,null,null,null,null,null,null,null,null,null,{"$f":"VLOOKUP(PACKT07Table[[#This Row],[EmployeeID]],EmployeeListLookupTable[#All],13,FALSE)=\"Y\"","v":true}]
[null,"EMP0097",{"$f":"VLOOKUP(PACKT07Table[[#This Row],[EmployeeID]],EmployeeListLookupTable[],2,FALSE)","v":"EMPN097"},{"$f":"VLOOKUP(PACKT07Table[[#This Row],[EmployeeID]],EmployeeListLookupTable[],3,FALSE)","v":"Employee Name 97"},{"$f":"VLOOKUP(PACKT07Table[[#This Row],[EmployeeID]],EmployeeListLookupTable[],4,FALSE)","v":"Employee Job Title 97"},null,null,null,null,null,null,null,null,null,null,null,null,{"$f":"VLOOKUP(PACKT07Table[[#This Row],[EmployeeID]],EmployeeListLookupTable[#All],13,FALSE)=\"Y\"","v":true}]
[null,"EMP0098",{"$f":"VLOOKUP(PACKT07Table[[#This Row],[EmployeeID]],EmployeeListLookupTable[],2,FALSE)","v":"EMPN098"},{"$f":"VLOOKUP(PACKT07Table[[#This Row],[EmployeeID]],EmployeeListLookupTable[],3,FALSE)","v":"Employee Name 98"},{"$f":"VLOOKUP(PACKT07Table[[#This Row],[EmployeeID]],EmployeeListLookupTable[],4,FALSE)","v":"Employee Job Title 98"},null,null,null,null,null,null,null,null,null,null,null,null,{"$f":"VLOOKUP(PACKT07Table[[#This Row],[EmployeeID]],EmployeeListLookupTable[#All],13,FALSE)=\"Y\"","v":true}]
[null,"EMP0099",{"$f":"VLOOKUP(PACKT07Table[[#This Row],[EmployeeID]],EmployeeListLookupTable[],2,FALSE)","v":"EMPN099"},{"$f":"VLOOKUP(PACKT07Table[[#This Row],[EmployeeID]],EmployeeListLookupTable[],3,FALSE)","v":"Employee Name 99"},{"$f":"VLOOKUP(PACKT07Table[[#This Row],[EmployeeID]],EmployeeListLookupTable[],4,FALSE)","v":"Employee Job Title 99"},null,null,null,null,null,null,null,null,null,null,null,null,{"$f":"VLOOKUP(PACKT07Table[[#This Row],[EmployeeID]],EmployeeListLookupTable[#All],13,FALSE)=\"Y\"","v":true}]
[null,"EMP0100",{"$f":"VLOOKUP(PACKT07Table[[#This Row],[EmployeeID]],EmployeeListLookupTable[],2,FALSE)","v":"EMPN100"},{"$f":"VLOOKUP(PACKT07Table[[#This Row],[EmployeeID]],EmployeeListLookupTable[],3,FALSE)","v":"Employee Name 100"},{"$f":"VLOOKUP(PACKT07Table[[#This Row],[EmployeeID]],EmployeeListLookupTable[],4,FALSE)","v":"Employee Job Title 100"},null,null,null,null,null,null,null,null,null,null,null,null,{"$f":"VLOOKUP(PACKT07Table[[#This Row],[EmployeeID]],EmployeeListLookupTable[#All],13,FALSE)=\"Y\"","v":true}]
[null,"Total",null,null,"Total",{"$f":"SUBTOTAL(109,PACKT07Table[1])","v":0},{"$f":"SUBTOTAL(109,PACKT07Table[2])","v":0},{"$f":"SUBTOTAL(109,PACKT07Table[3])","v":0},{"$f":"SUBTOTAL(109,PACKT07Table[4])","v":0},{"$f":"SUBTOTAL(109,PACKT07Table[5])","v":0},{"$f":"SUBTOTAL(109,PACKT07Table[6])","v":0},{"$f":"SUBTOTAL(109,PACKT07Table[7])","v":0},{"$f":"SUBTOTAL(109,PACKT07Table[8])","v":0},{"$f":"SUBTOTAL(109,PACKT07Table[9])","v":0},{"$f":"SUBTOTAL(109,PACKT07Table[10])","v":0},{"$f":"SUBTOTAL(109,PACKT07Table[11])","v":0},{"$f":"SUBTOTAL(109,PACKT07Table[12])","v":0}]

{"sheet":"PACKT08","index":16,"n_rows":112,"n_cols":18,"rows_kept":112,"cut":false,"hidden":false,"merged":[[1,2,1,4],[1,6,1,10],[2,2,2,10]]}
[null,null,"Menu"]
[null,null,{"$f":"EntityName","v":"Company A"},null,null,null,{"$f":"YearEnd","v":"2013-02-28"}]
[null,null,{"$f":"VLOOKUP(D6,PackageItemListLookup[],4,FALSE)","v":"PACKT08"}]
[]
[]
[null,null,"Package Item code:","PACK008"]
[null,null,"Package Item name:",{"$f":"VLOOKUP(D6,PackageItemListLookup[],2,FALSE)","v":"Package Item 8"}]
[null,null,null,null,"Total",{"$f":"PACKT08Table[[#Totals],[1]]","v":0},{"$f":"PACKT08Table[[#Totals],[2]]","v":0},{"$f":"PACKT08Table[[#Totals],[3]]","v":0},{"$f":"PACKT08Table[[#Totals],[4]]","v":0},{"$f":"PACKT08Table[[#Totals],[5]]","v":0},{"$f":"PACKT08Table[[#Totals],[6]]","v":0},{"$f":"PACKT08Table[[#Totals],[7]]","v":0},{"$f":"PACKT08Table[[#Totals],[8]]","v":0},{"$f":"PACKT08Table[[#Totals],[9]]","v":0},{"$f":"PACKT08Table[[#Totals],[10]]","v":0},{"$f":"PACKT08Table[[#Totals],[11]]","v":0},{"$f":"PACKT08Table[[#Totals],[12]]","v":0}]
[]
[null,null,null,null,null,{"$f":"VLOOKUP(PackageItemTable[[#Headers],[1]],CalendarMonthText,5,FALSE)","v":"March"},{"$f":"VLOOKUP(PackageItemTable[[#Headers],[2]],CalendarMonthText,5,FALSE)","v":"April"},{"$f":"VLOOKUP(PackageItemTable[[#Headers],[3]],CalendarMonthText,5,FALSE)","v":"May"},{"$f":"VLOOKUP(PackageItemTable[[#Headers],[4]],CalendarMonthText,5,FALSE)","v":"June"},{"$f":"VLOOKUP(PackageItemTable[[#Headers],[5]],CalendarMonthText,5,FALSE)","v":"July"},{"$f":"VLOOKUP(PackageItemTable[[#Headers],[6]],CalendarMonthText,5,FALSE)","v":"August"},{"$f":"VLOOKUP(PackageItemTable[[#Headers],[7]],CalendarMonthText,5,FALSE)","v":"September"},{"$f":"VLOOKUP(PackageItemTable[[#Headers],[8]],CalendarMonthText,5,FALSE)","v":"October"},{"$f":"VLOOKUP(PackageItemTable[[#Headers],[9]],CalendarMonthText,5,FALSE)","v":"November"},{"$f":"VLOOKUP(PackageItemTable[[#Headers],[10]],CalendarMonthText,5,FALSE)","v":"December"},{"$f":"VLOOKUP(PackageItemTable[[#Headers],[11]],CalendarMonthText,5,FALSE)","v":"January"},{"$f":"VLOOKUP(PackageItemTable[[#Headers],[12]],CalendarMonthText,5,FALSE)","v":"February"}]
[null,"EmployeeID","EmployeeNumber","EmployeeName","EmployeeJobTitle","1","2","3","4","5","6","7","8","9","10","11","12","Selected"]
[null,"EMP0001",{"$f":"VLOOKUP(PACKT08Table[[#This Row],[EmployeeID]],EmployeeListLookupTable[],2,FALSE)","v":"EMPN001"},{"$f":"VLOOKUP(PACKT08Table[[#This Row],[EmployeeID]],EmployeeListLookupTable[],3,FALSE)","v":"Employee Name 1"},{"$f":"VLOOKUP(PACKT08Table[[#This Row],[EmployeeID]],EmployeeListLookupTable[],4,FALSE)","v":"Employee Job Title 1"},null,null,null,null,null,null,null,null,null,null,null,null,{"$f":"VLOOKUP(PACKT08Table[[#This Row],[EmployeeID]],EmployeeListLookupTable[#All],14,FALSE)=\"Y\"","v":true}]
[null,"EMP0002",{"$f":"VLOOKUP(PACKT08Table[[#This Row],[EmployeeID]],EmployeeListLookupTable[],2,FALSE)","v":"EMPN002"},{"$f":"VLOOKUP(PACKT08Table[[#This Row],[EmployeeID]],EmployeeListLookupTable[],3,FALSE)","v":"Employee Name 2"},{"$f":"VLOOKUP(PACKT08Table[[#This Row],[EmployeeID]],EmployeeListLookupTable[],4,FALSE)","v":"Employee Job Title 2"},null,null,null,null,null,null,null,null,null,null,null,null,{"$f":"VLOOKUP(PACKT08Table[[#This Row],[EmployeeID]],EmployeeListLookupTable[#All],14,FALSE)=\"Y\"","v":true}]
[null,"EMP0003",{"$f":"VLOOKUP(PACKT08Table[[#This Row],[EmployeeID]],EmployeeListLookupTable[],2,FALSE)","v":"EMPN003"},{"$f":"VLOOKUP(PACKT08Table[[#This Row],[EmployeeID]],EmployeeListLookupTable[],3,FALSE)","v":"Employee Name 3"},{"$f":"VLOOKUP(PACKT08Table[[#This Row],[EmployeeID]],EmployeeListLookupTable[],4,FALSE)","v":"Employee Job Title 3"},null,null,null,null,null,null,null,null,null,null,null,null,{"$f":"VLOOKUP(PACKT08Table[[#This Row],[EmployeeID]],EmployeeListLookupTable[#All],14,FALSE)=\"Y\"","v":true}]
[null,"EMP0004",{"$f":"VLOOKUP(PACKT08Table[[#This Row],[EmployeeID]],EmployeeListLookupTable[],2,FALSE)","v":"EMPN004"},{"$f":"VLOOKUP(PACKT08Table[[#This Row],[EmployeeID]],EmployeeListLookupTable[],3,FALSE)","v":"Employee Name 4"},{"$f":"VLOOKUP(PACKT08Table[[#This Row],[EmployeeID]],EmployeeListLookupTable[],4,FALSE)","v":"Employee Job Title 4"},null,null,null,null,null,null,null,null,null,null,null,null,{"$f":"VLOOKUP(PACKT08Table[[#This Row],[EmployeeID]],EmployeeListLookupTable[#All],14,FALSE)=\"Y\"","v":true}]
[null,"EMP0005",{"$f":"VLOOKUP(PACKT08Table[[#This Row],[EmployeeID]],EmployeeListLookupTable[],2,FALSE)","v":"EMPN005"},{"$f":"VLOOKUP(PACKT08Table[[#This Row],[EmployeeID]],EmployeeListLookupTable[],3,FALSE)","v":"Employee Name 5"},{"$f":"VLOOKUP(PACKT08Table[[#This Row],[EmployeeID]],EmployeeListLookupTable[],4,FALSE)","v":"Employee Job Title 5"},null,null,null,null,null,null,null,null,null,null,null,null,{"$f":"VLOOKUP(PACKT08Table[[#This Row],[EmployeeID]],EmployeeListLookupTable[#All],14,FALSE)=\"Y\"","v":true}]
[null,"EMP0006",{"$f":"VLOOKUP(PACKT08Table[[#This Row],[EmployeeID]],EmployeeListLookupTable[],2,FALSE)","v":"EMPN006"},{"$f":"VLOOKUP(PACKT08Table[[#This Row],[EmployeeID]],EmployeeListLookupTable[],3,FALSE)","v":"Employee Name 6"},{"$f":"VLOOKUP(PACKT08Table[[#This Row],[EmployeeID]],EmployeeListLookupTable[],4,FALSE)","v":"Employee Job Title 6"},null,null,null,null,null,null,null,null,null,null,null,null,{"$f":"VLOOKUP(PACKT08Table[[#This Row],[EmployeeID]],EmployeeListLookupTable[#All],14,FALSE)=\"Y\"","v":true}]
[null,"EMP0007",{"$f":"VLOOKUP(PACKT08Table[[#This Row],[EmployeeID]],EmployeeListLookupTable[],2,FALSE)","v":"EMPN007"},{"$f":"VLOOKUP(PACKT08Table[[#This Row],[EmployeeID]],EmployeeListLookupTable[],3,FALSE)","v":"Employee Name 7"},{"$f":"VLOOKUP(PACKT08Table[[#This Row],[EmployeeID]],EmployeeListLookupTable[],4,FALSE)","v":"Employee Job Title 7"},null,null,null,null,null,null,null,null,null,null,null,null,{"$f":"VLOOKUP(PACKT08Table[[#This Row],[EmployeeID]],EmployeeListLookupTable[#All],14,FALSE)=\"Y\"","v":true}]
[null,"EMP0008",{"$f":"VLOOKUP(PACKT08Table[[#This Row],[EmployeeID]],EmployeeListLookupTable[],2,FALSE)","v":"EMPN008"},{"$f":"VLOOKUP(PACKT08Table[[#This Row],[EmployeeID]],EmployeeListLookupTable[],3,FALSE)","v":"Employee Name 8"},{"$f":"VLOOKUP(PACKT08Table[[#This Row],[EmployeeID]],EmployeeListLookupTable[],4,FALSE)","v":"Employee Job Title 8"},null,null,null,null,null,null,null,null,null,null,null,null,{"$f":"VLOOKUP(PACKT08Table[[#This Row],[EmployeeID]],EmployeeListLookupTable[#All],14,FALSE)=\"Y\"","v":true}]
[null,"EMP0009",{"$f":"VLOOKUP(PACKT08Table[[#This Row],[EmployeeID]],EmployeeListLookupTable[],2,FALSE)","v":"EMPN009"},{"$f":"VLOOKUP(PACKT08Table[[#This Row],[EmployeeID]],EmployeeListLookupTable[],3,FALSE)","v":"Employee Name 9"},{"$f":"VLOOKUP(PACKT08Table[[#This Row],[EmployeeID]],EmployeeListLookupTable[],4,FALSE)","v":"Employee Job Title 9"},null,null,null,null,null,null,null,null,null,null,null,null,{"$f":"VLOOKUP(PACKT08Table[[#This Row],[EmployeeID]],EmployeeListLookupTable[#All],14,FALSE)=\"Y\"","v":true}]
[null,"EMP0010",{"$f":"VLOOKUP(PACKT08Table[[#This Row],[EmployeeID]],EmployeeListLookupTable[],2,FALSE)","v":"EMPN010"},{"$f":"VLOOKUP(PACKT08Table[[#This Row],[EmployeeID]],EmployeeListLookupTable[],3,FALSE)","v":"Employee Name 10"},{"$f":"VLOOKUP(PACKT08Table[[#This Row],[EmployeeID]],EmployeeListLookupTable[],4,FALSE)","v":"Employee Job Title 10"},null,null,null,null,null,null,null,null,null,null,null,null,{"$f":"VLOOKUP(PACKT08Table[[#This Row],[EmployeeID]],EmployeeListLookupTable[#All],14,FALSE)=\"Y\"","v":true}]
[null,"EMP0011",{"$f":"VLOOKUP(PACKT08Table[[#This Row],[EmployeeID]],EmployeeListLookupTable[],2,FALSE)","v":"EMPN011"},{"$f":"VLOOKUP(PACKT08Table[[#This Row],[EmployeeID]],EmployeeListLookupTable[],3,FALSE)","v":"Employee Name 11"},{"$f":"VLOOKUP(PACKT08Table[[#This Row],[EmployeeID]],EmployeeListLookupTable[],4,FALSE)","v":"Employee Job Title 11"},null,null,null,null,null,null,null,null,null,null,null,null,{"$f":"VLOOKUP(PACKT08Table[[#This Row],[EmployeeID]],EmployeeListLookupTable[#All],14,FALSE)=\"Y\"","v":true}]
[null,"EMP0012",{"$f":"VLOOKUP(PACKT08Table[[#This Row],[EmployeeID]],EmployeeListLookupTable[],2,FALSE)","v":"EMPN012"},{"$f":"VLOOKUP(PACKT08Table[[#This Row],[EmployeeID]],EmployeeListLookupTable[],3,FALSE)","v":"Employee Name 12"},{"$f":"VLOOKUP(PACKT08Table[[#This Row],[EmployeeID]],EmployeeListLookupTable[],4,FALSE)","v":"Employee Job Title 12"},null,null,null,null,null,null,null,null,null,null,null,null,{"$f":"VLOOKUP(PACKT08Table[[#This Row],[EmployeeID]],EmployeeListLookupTable[#All],14,FALSE)=\"Y\"","v":true}]
[null,"EMP0013",{"$f":"VLOOKUP(PACKT08Table[[#This Row],[EmployeeID]],EmployeeListLookupTable[],2,FALSE)","v":"EMPN013"},{"$f":"VLOOKUP(PACKT08Table[[#This Row],[EmployeeID]],EmployeeListLookupTable[],3,FALSE)","v":"Employee Name 13"},{"$f":"VLOOKUP(PACKT08Table[[#This Row],[EmployeeID]],EmployeeListLookupTable[],4,FALSE)","v":"Employee Job Title 13"},null,null,null,null,null,null,null,null,null,null,null,null,{"$f":"VLOOKUP(PACKT08Table[[#This Row],[EmployeeID]],EmployeeListLookupTable[#All],14,FALSE)=\"Y\"","v":true}]
[null,"EMP0014",{"$f":"VLOOKUP(PACKT08Table[[#This Row],[EmployeeID]],EmployeeListLookupTable[],2,FALSE)","v":"EMPN014"},{"$f":"VLOOKUP(PACKT08Table[[#This Row],[EmployeeID]],EmployeeListLookupTable[],3,FALSE)","v":"Employee Name 14"},{"$f":"VLOOKUP(PACKT08Table[[#This Row],[EmployeeID]],EmployeeListLookupTable[],4,FALSE)","v":"Employee Job Title 14"},null,null,null,null,null,null,null,null,null,null,null,null,{"$f":"VLOOKUP(PACKT08Table[[#This Row],[EmployeeID]],EmployeeListLookupTable[#All],14,FALSE)=\"Y\"","v":true}]
[null,"EMP0015",{"$f":"VLOOKUP(PACKT08Table[[#This Row],[EmployeeID]],EmployeeListLookupTable[],2,FALSE)","v":"EMPN015"},{"$f":"VLOOKUP(PACKT08Table[[#This Row],[EmployeeID]],EmployeeListLookupTable[],3,FALSE)","v":"Employee Name 15"},{"$f":"VLOOKUP(PACKT08Table[[#This Row],[EmployeeID]],EmployeeListLookupTable[],4,FALSE)","v":"Employee Job Title 15"},null,null,null,null,null,null,null,null,null,null,null,null,{"$f":"VLOOKUP(PACKT08Table[[#This Row],[EmployeeID]],EmployeeListLookupTable[#All],14,FALSE)=\"Y\"","v":true}]
[null,"EMP0016",{"$f":"VLOOKUP(PACKT08Table[[#This Row],[EmployeeID]],EmployeeListLookupTable[],2,FALSE)","v":"EMPN016"},{"$f":"VLOOKUP(PACKT08Table[[#This Row],[EmployeeID]],EmployeeListLookupTable[],3,FALSE)","v":"Employee Name 16"},{"$f":"VLOOKUP(PACKT08Table[[#This Row],[EmployeeID]],EmployeeListLookupTable[],4,FALSE)","v":"Employee Job Title 16"},null,null,null,null,null,null,null,null,null,null,null,null,{"$f":"VLOOKUP(PACKT08Table[[#This Row],[EmployeeID]],EmployeeListLookupTable[#All],14,FALSE)=\"Y\"","v":true}]
[null,"EMP0017",{"$f":"VLOOKUP(PACKT08Table[[#This Row],[EmployeeID]],EmployeeListLookupTable[],2,FALSE)","v":"EMPN017"},{"$f":"VLOOKUP(PACKT08Table[[#This Row],[EmployeeID]],EmployeeListLookupTable[],3,FALSE)","v":"Employee Name 17"},{"$f":"VLOOKUP(PACKT08Table[[#This Row],[EmployeeID]],EmployeeListLookupTable[],4,FALSE)","v":"Employee Job Title 17"},null,null,null,null,null,null,null,null,null,null,null,null,{"$f":"VLOOKUP(PACKT08Table[[#This Row],[EmployeeID]],EmployeeListLookupTable[#All],14,FALSE)=\"Y\"","v":true}]
[null,"EMP0018",{"$f":"VLOOKUP(PACKT08Table[[#This Row],[EmployeeID]],EmployeeListLookupTable[],2,FALSE)","v":"EMPN018"},{"$f":"VLOOKUP(PACKT08Table[[#This Row],[EmployeeID]],EmployeeListLookupTable[],3,FALSE)","v":"Employee Name 18"},{"$f":"VLOOKUP(PACKT08Table[[#This Row],[EmployeeID]],EmployeeListLookupTable[],4,FALSE)","v":"Employee Job Title 18"},null,null,null,null,null,null,null,null,null,null,null,null,{"$f":"VLOOKUP(PACKT08Table[[#This Row],[EmployeeID]],EmployeeListLookupTable[#All],14,FALSE)=\"Y\"","v":true}]
[null,"EMP0019",{"$f":"VLOOKUP(PACKT08Table[[#This Row],[EmployeeID]],EmployeeListLookupTable[],2,FALSE)","v":"EMPN019"},{"$f":"VLOOKUP(PACKT08Table[[#This Row],[EmployeeID]],EmployeeListLookupTable[],3,FALSE)","v":"Employee Name 19"},{"$f":"VLOOKUP(PACKT08Table[[#This Row],[EmployeeID]],EmployeeListLookupTable[],4,FALSE)","v":"Employee Job Title 19"},null,null,null,null,null,null,null,null,null,null,null,null,{"$f":"VLOOKUP(PACKT08Table[[#This Row],[EmployeeID]],EmployeeListLookupTable[#All],14,FALSE)=\"Y\"","v":true}]
[null,"EMP0020",{"$f":"VLOOKUP(PACKT08Table[[#This Row],[EmployeeID]],EmployeeListLookupTable[],2,FALSE)","v":"EMPN020"},{"$f":"VLOOKUP(PACKT08Table[[#This Row],[EmployeeID]],EmployeeListLookupTable[],3,FALSE)","v":"Employee Name 20"},{"$f":"VLOOKUP(PACKT08Table[[#This Row],[EmployeeID]],EmployeeListLookupTable[],4,FALSE)","v":"Employee Job Title 20"},null,null,null,null,null,null,null,null,null,null,null,null,{"$f":"VLOOKUP(PACKT08Table[[#This Row],[EmployeeID]],EmployeeListLookupTable[#All],14,FALSE)=\"Y\"","v":true}]
[null,"EMP0021",{"$f":"VLOOKUP(PACKT08Table[[#This Row],[EmployeeID]],EmployeeListLookupTable[],2,FALSE)","v":"EMPN021"},{"$f":"VLOOKUP(PACKT08Table[[#This Row],[EmployeeID]],EmployeeListLookupTable[],3,FALSE)","v":"Employee Name 21"},{"$f":"VLOOKUP(PACKT08Table[[#This Row],[EmployeeID]],EmployeeListLookupTable[],4,FALSE)","v":"Employee Job Title 21"},null,null,null,null,null,null,null,null,null,null,null,null,{"$f":"VLOOKUP(PACKT08Table[[#This Row],[EmployeeID]],EmployeeListLookupTable[#All],14,FALSE)=\"Y\"","v":true}]
[null,"EMP0022",{"$f":"VLOOKUP(PACKT08Table[[#This Row],[EmployeeID]],EmployeeListLookupTable[],2,FALSE)","v":"EMPN022"},{"$f":"VLOOKUP(PACKT08Table[[#This Row],[EmployeeID]],EmployeeListLookupTable[],3,FALSE)","v":"Employee Name 22"},{"$f":"VLOOKUP(PACKT08Table[[#This Row],[EmployeeID]],EmployeeListLookupTable[],4,FALSE)","v":"Employee Job Title 22"},null,null,null,null,null,null,null,null,null,null,null,null,{"$f":"VLOOKUP(PACKT08Table[[#This Row],[EmployeeID]],EmployeeListLookupTable[#All],14,FALSE)=\"Y\"","v":true}]
[null,"EMP0023",{"$f":"VLOOKUP(PACKT08Table[[#This Row],[EmployeeID]],EmployeeListLookupTable[],2,FALSE)","v":"EMPN023"},{"$f":"VLOOKUP(PACKT08Table[[#This Row],[EmployeeID]],EmployeeListLookupTable[],3,FALSE)","v":"Employee Name 23"},{"$f":"VLOOKUP(PACKT08Table[[#This Row],[EmployeeID]],EmployeeListLookupTable[],4,FALSE)","v":"Employee Job Title 23"},null,null,null,null,null,null,null,null,null,null,null,null,{"$f":"VLOOKUP(PACKT08Table[[#This Row],[EmployeeID]],EmployeeListLookupTable[#All],14,FALSE)=\"Y\"","v":true}]
[null,"EMP0024",{"$f":"VLOOKUP(PACKT08Table[[#This Row],[EmployeeID]],EmployeeListLookupTable[],2,FALSE)","v":"EMPN024"},{"$f":"VLOOKUP(PACKT08Table[[#This Row],[EmployeeID]],EmployeeListLookupTable[],3,FALSE)","v":"Employee Name 24"},{"$f":"VLOOKUP(PACKT08Table[[#This Row],[EmployeeID]],EmployeeListLookupTable[],4,FALSE)","v":"Employee Job Title 24"},null,null,null,null,null,null,null,null,null,null,null,null,{"$f":"VLOOKUP(PACKT08Table[[#This Row],[EmployeeID]],EmployeeListLookupTable[#All],14,FALSE)=\"Y\"","v":true}]
[null,"EMP0025",{"$f":"VLOOKUP(PACKT08Table[[#This Row],[EmployeeID]],EmployeeListLookupTable[],2,FALSE)","v":"EMPN025"},{"$f":"VLOOKUP(PACKT08Table[[#This Row],[EmployeeID]],EmployeeListLookupTable[],3,FALSE)","v":"Employee Name 25"},{"$f":"VLOOKUP(PACKT08Table[[#This Row],[EmployeeID]],EmployeeListLookupTable[],4,FALSE)","v":"Employee Job Title 25"},null,null,null,null,null,null,null,null,null,null,null,null,{"$f":"VLOOKUP(PACKT08Table[[#This Row],[EmployeeID]],EmployeeListLookupTable[#All],14,FALSE)=\"Y\"","v":true}]
[null,"EMP0026",{"$f":"VLOOKUP(PACKT08Table[[#This Row],[EmployeeID]],EmployeeListLookupTable[],2,FALSE)","v":"EMPN026"},{"$f":"VLOOKUP(PACKT08Table[[#This Row],[EmployeeID]],EmployeeListLookupTable[],3,FALSE)","v":"Employee Name 26"},{"$f":"VLOOKUP(PACKT08Table[[#This Row],[EmployeeID]],EmployeeListLookupTable[],4,FALSE)","v":"Employee Job Title 26"},null,null,null,null,null,null,null,null,null,null,null,null,{"$f":"VLOOKUP(PACKT08Table[[#This Row],[EmployeeID]],EmployeeListLookupTable[#All],14,FALSE)=\"Y\"","v":true}]
[null,"EMP0027",{"$f":"VLOOKUP(PACKT08Table[[#This Row],[EmployeeID]],EmployeeListLookupTable[],2,FALSE)","v":"EMPN027"},{"$f":"VLOOKUP(PACKT08Table[[#This Row],[EmployeeID]],EmployeeListLookupTable[],3,FALSE)","v":"Employee Name 27"},{"$f":"VLOOKUP(PACKT08Table[[#This Row],[EmployeeID]],EmployeeListLookupTable[],4,FALSE)","v":"Employee Job Title 27"},null,null,null,null,null,null,null,null,null,null,null,null,{"$f":"VLOOKUP(PACKT08Table[[#This Row],[EmployeeID]],EmployeeListLookupTable[#All],14,FALSE)=\"Y\"","v":true}]
[null,"EMP0028",{"$f":"VLOOKUP(PACKT08Table[[#This Row],[EmployeeID]],EmployeeListLookupTable[],2,FALSE)","v":"EMPN028"},{"$f":"VLOOKUP(PACKT08Table[[#This Row],[EmployeeID]],EmployeeListLookupTable[],3,FALSE)","v":"Employee Name 28"},{"$f":"VLOOKUP(PACKT08Table[[#This Row],[EmployeeID]],EmployeeListLookupTable[],4,FALSE)","v":"Employee Job Title 28"},null,null,null,null,null,null,null,null,null,null,null,null,{"$f":"VLOOKUP(PACKT08Table[[#This Row],[EmployeeID]],EmployeeListLookupTable[#All],14,FALSE)=\"Y\"","v":true}]
[null,"EMP0029",{"$f":"VLOOKUP(PACKT08Table[[#This Row],[EmployeeID]],EmployeeListLookupTable[],2,FALSE)","v":"EMPN029"},{"$f":"VLOOKUP(PACKT08Table[[#This Row],[EmployeeID]],EmployeeListLookupTable[],3,FALSE)","v":"Employee Name 29"},{"$f":"VLOOKUP(PACKT08Table[[#This Row],[EmployeeID]],EmployeeListLookupTable[],4,FALSE)","v":"Employee Job Title 29"},null,null,null,null,null,null,null,null,null,null,null,null,{"$f":"VLOOKUP(PACKT08Table[[#This Row],[EmployeeID]],EmployeeListLookupTable[#All],14,FALSE)=\"Y\"","v":true}]
[null,"EMP0030",{"$f":"VLOOKUP(PACKT08Table[[#This Row],[EmployeeID]],EmployeeListLookupTable[],2,FALSE)","v":"EMPN030"},{"$f":"VLOOKUP(PACKT08Table[[#This Row],[EmployeeID]],EmployeeListLookupTable[],3,FALSE)","v":"Employee Name 30"},{"$f":"VLOOKUP(PACKT08Table[[#This Row],[EmployeeID]],EmployeeListLookupTable[],4,FALSE)","v":"Employee Job Title 30"},null,null,null,null,null,null,null,null,null,null,null,null,{"$f":"VLOOKUP(PACKT08Table[[#This Row],[EmployeeID]],EmployeeListLookupTable[#All],14,FALSE)=\"Y\"","v":true}]
[null,"EMP0031",{"$f":"VLOOKUP(PACKT08Table[[#This Row],[EmployeeID]],EmployeeListLookupTable[],2,FALSE)","v":"EMPN031"},{"$f":"VLOOKUP(PACKT08Table[[#This Row],[EmployeeID]],EmployeeListLookupTable[],3,FALSE)","v":"Employee Name 31"},{"$f":"VLOOKUP(PACKT08Table[[#This Row],[EmployeeID]],EmployeeListLookupTable[],4,FALSE)","v":"Employee Job Title 31"},null,null,null,null,null,null,null,null,null,null,null,null,{"$f":"VLOOKUP(PACKT08Table[[#This Row],[EmployeeID]],EmployeeListLookupTable[#All],14,FALSE)=\"Y\"","v":true}]
[null,"EMP0032",{"$f":"VLOOKUP(PACKT08Table[[#This Row],[EmployeeID]],EmployeeListLookupTable[],2,FALSE)","v":"EMPN032"},{"$f":"VLOOKUP(PACKT08Table[[#This Row],[EmployeeID]],EmployeeListLookupTable[],3,FALSE)","v":"Employee Name 32"},{"$f":"VLOOKUP(PACKT08Table[[#This Row],[EmployeeID]],EmployeeListLookupTable[],4,FALSE)","v":"Employee Job Title 32"},null,null,null,null,null,null,null,null,null,null,null,null,{"$f":"VLOOKUP(PACKT08Table[[#This Row],[EmployeeID]],EmployeeListLookupTable[#All],14,FALSE)=\"Y\"","v":true}]
[null,"EMP0033",{"$f":"VLOOKUP(PACKT08Table[[#This Row],[EmployeeID]],EmployeeListLookupTable[],2,FALSE)","v":"EMPN033"},{"$f":"VLOOKUP(PACKT08Table[[#This Row],[EmployeeID]],EmployeeListLookupTable[],3,FALSE)","v":"Employee Name 33"},{"$f":"VLOOKUP(PACKT08Table[[#This Row],[EmployeeID]],EmployeeListLookupTable[],4,FALSE)","v":"Employee Job Title 33"},null,null,null,null,null,null,null,null,null,null,null,null,{"$f":"VLOOKUP(PACKT08Table[[#This Row],[EmployeeID]],EmployeeListLookupTable[#All],14,FALSE)=\"Y\"","v":true}]
[null,"EMP0034",{"$f":"VLOOKUP(PACKT08Table[[#This Row],[EmployeeID]],EmployeeListLookupTable[],2,FALSE)","v":"EMPN034"},{"$f":"VLOOKUP(PACKT08Table[[#This Row],[EmployeeID]],EmployeeListLookupTable[],3,FALSE)","v":"Employee Name 34"},{"$f":"VLOOKUP(PACKT08Table[[#This Row],[EmployeeID]],EmployeeListLookupTable[],4,FALSE)","v":"Employee Job Title 34"},null,null,null,null,null,null,null,null,null,null,null,null,{"$f":"VLOOKUP(PACKT08Table[[#This Row],[EmployeeID]],EmployeeListLookupTable[#All],14,FALSE)=\"Y\"","v":true}]
[null,"EMP0035",{"$f":"VLOOKUP(PACKT08Table[[#This Row],[EmployeeID]],EmployeeListLookupTable[],2,FALSE)","v":"EMPN035"},{"$f":"VLOOKUP(PACKT08Table[[#This Row],[EmployeeID]],EmployeeListLookupTable[],3,FALSE)","v":"Employee Name 35"},{"$f":"VLOOKUP(PACKT08Table[[#This Row],[EmployeeID]],EmployeeListLookupTable[],4,FALSE)","v":"Employee Job Title 35"},null,null,null,null,null,null,null,null,null,null,null,null,{"$f":"VLOOKUP(PACKT08Table[[#This Row],[EmployeeID]],EmployeeListLookupTable[#All],14,FALSE)=\"Y\"","v":true}]
[null,"EMP0036",{"$f":"VLOOKUP(PACKT08Table[[#This Row],[EmployeeID]],EmployeeListLookupTable[],2,FALSE)","v":"EMPN036"},{"$f":"VLOOKUP(PACKT08Table[[#This Row],[EmployeeID]],EmployeeListLookupTable[],3,FALSE)","v":"Employee Name 36"},{"$f":"VLOOKUP(PACKT08Table[[#This Row],[EmployeeID]],EmployeeListLookupTable[],4,FALSE)","v":"Employee Job Title 36"},null,null,null,null,null,null,null,null,null,null,null,null,{"$f":"VLOOKUP(PACKT08Table[[#This Row],[EmployeeID]],EmployeeListLookupTable[#All],14,FALSE)=\"Y\"","v":true}]
[null,"EMP0037",{"$f":"VLOOKUP(PACKT08Table[[#This Row],[EmployeeID]],EmployeeListLookupTable[],2,FALSE)","v":"EMPN037"},{"$f":"VLOOKUP(PACKT08Table[[#This Row],[EmployeeID]],EmployeeListLookupTable[],3,FALSE)","v":"Employee Name 37"},{"$f":"VLOOKUP(PACKT08Table[[#This Row],[EmployeeID]],EmployeeListLookupTable[],4,FALSE)","v":"Employee Job Title 37"},null,null,null,null,null,null,null,null,null,null,null,null,{"$f":"VLOOKUP(PACKT08Table[[#This Row],[EmployeeID]],EmployeeListLookupTable[#All],14,FALSE)=\"Y\"","v":true}]
[null,"EMP0038",{"$f":"VLOOKUP(PACKT08Table[[#This Row],[EmployeeID]],EmployeeListLookupTable[],2,FALSE)","v":"EMPN038"},{"$f":"VLOOKUP(PACKT08Table[[#This Row],[EmployeeID]],EmployeeListLookupTable[],3,FALSE)","v":"Employee Name 38"},{"$f":"VLOOKUP(PACKT08Table[[#This Row],[EmployeeID]],EmployeeListLookupTable[],4,FALSE)","v":"Employee Job Title 38"},null,null,null,null,null,null,null,null,null,null,null,null,{"$f":"VLOOKUP(PACKT08Table[[#This Row],[EmployeeID]],EmployeeListLookupTable[#All],14,FALSE)=\"Y\"","v":true}]
[null,"EMP0039",{"$f":"VLOOKUP(PACKT08Table[[#This Row],[EmployeeID]],EmployeeListLookupTable[],2,FALSE)","v":"EMPN039"},{"$f":"VLOOKUP(PACKT08Table[[#This Row],[EmployeeID]],EmployeeListLookupTable[],3,FALSE)","v":"Employee Name 39"},{"$f":"VLOOKUP(PACKT08Table[[#This Row],[EmployeeID]],EmployeeListLookupTable[],4,FALSE)","v":"Employee Job Title 39"},null,null,null,null,null,null,null,null,null,null,null,null,{"$f":"VLOOKUP(PACKT08Table[[#This Row],[EmployeeID]],EmployeeListLookupTable[#All],14,FALSE)=\"Y\"","v":true}]
[null,"EMP0040",{"$f":"VLOOKUP(PACKT08Table[[#This Row],[EmployeeID]],EmployeeListLookupTable[],2,FALSE)","v":"EMPN040"},{"$f":"VLOOKUP(PACKT08Table[[#This Row],[EmployeeID]],EmployeeListLookupTable[],3,FALSE)","v":"Employee Name 40"},{"$f":"VLOOKUP(PACKT08Table[[#This Row],[EmployeeID]],EmployeeListLookupTable[],4,FALSE)","v":"Employee Job Title 40"},null,null,null,null,null,null,null,null,null,null,null,null,{"$f":"VLOOKUP(PACKT08Table[[#This Row],[EmployeeID]],EmployeeListLookupTable[#All],14,FALSE)=\"Y\"","v":true}]
[null,"EMP0041",{"$f":"VLOOKUP(PACKT08Table[[#This Row],[EmployeeID]],EmployeeListLookupTable[],2,FALSE)","v":"EMPN041"},{"$f":"VLOOKUP(PACKT08Table[[#This Row],[EmployeeID]],EmployeeListLookupTable[],3,FALSE)","v":"Employee Name 41"},{"$f":"VLOOKUP(PACKT08Table[[#This Row],[EmployeeID]],EmployeeListLookupTable[],4,FALSE)","v":"Employee Job Title 41"},null,null,null,null,null,null,null,null,null,null,null,null,{"$f":"VLOOKUP(PACKT08Table[[#This Row],[EmployeeID]],EmployeeListLookupTable[#All],14,FALSE)=\"Y\"","v":true}]
[null,"EMP0042",{"$f":"VLOOKUP(PACKT08Table[[#This Row],[EmployeeID]],EmployeeListLookupTable[],2,FALSE)","v":"EMPN042"},{"$f":"VLOOKUP(PACKT08Table[[#This Row],[EmployeeID]],EmployeeListLookupTable[],3,FALSE)","v":"Employee Name 42"},{"$f":"VLOOKUP(PACKT08Table[[#This Row],[EmployeeID]],EmployeeListLookupTable[],4,FALSE)","v":"Employee Job Title 42"},null,null,null,null,null,null,null,null,null,null,null,null,{"$f":"VLOOKUP(PACKT08Table[[#This Row],[EmployeeID]],EmployeeListLookupTable[#All],14,FALSE)=\"Y\"","v":true}]
[null,"EMP0043",{"$f":"VLOOKUP(PACKT08Table[[#This Row],[EmployeeID]],EmployeeListLookupTable[],2,FALSE)","v":"EMPN043"},{"$f":"VLOOKUP(PACKT08Table[[#This Row],[EmployeeID]],EmployeeListLookupTable[],3,FALSE)","v":"Employee Name 43"},{"$f":"VLOOKUP(PACKT08Table[[#This Row],[EmployeeID]],EmployeeListLookupTable[],4,FALSE)","v":"Employee Job Title 43"},null,null,null,null,null,null,null,null,null,null,null,null,{"$f":"VLOOKUP(PACKT08Table[[#This Row],[EmployeeID]],EmployeeListLookupTable[#All],14,FALSE)=\"Y\"","v":true}]
[null,"EMP0044",{"$f":"VLOOKUP(PACKT08Table[[#This Row],[EmployeeID]],EmployeeListLookupTable[],2,FALSE)","v":"EMPN044"},{"$f":"VLOOKUP(PACKT08Table[[#This Row],[EmployeeID]],EmployeeListLookupTable[],3,FALSE)","v":"Employee Name 44"},{"$f":"VLOOKUP(PACKT08Table[[#This Row],[EmployeeID]],EmployeeListLookupTable[],4,FALSE)","v":"Employee Job Title 44"},null,null,null,null,null,null,null,null,null,null,null,null,{"$f":"VLOOKUP(PACKT08Table[[#This Row],[EmployeeID]],EmployeeListLookupTable[#All],14,FALSE)=\"Y\"","v":true}]
[null,"EMP0045",{"$f":"VLOOKUP(PACKT08Table[[#This Row],[EmployeeID]],EmployeeListLookupTable[],2,FALSE)","v":"EMPN045"},{"$f":"VLOOKUP(PACKT08Table[[#This Row],[EmployeeID]],EmployeeListLookupTable[],3,FALSE)","v":"Employee Name 45"},{"$f":"VLOOKUP(PACKT08Table[[#This Row],[EmployeeID]],EmployeeListLookupTable[],4,FALSE)","v":"Employee Job Title 45"},null,null,null,null,null,null,null,null,null,null,null,null,{"$f":"VLOOKUP(PACKT08Table[[#This Row],[EmployeeID]],EmployeeListLookupTable[#All],14,FALSE)=\"Y\"","v":true}]
[null,"EMP0046",{"$f":"VLOOKUP(PACKT08Table[[#This Row],[EmployeeID]],EmployeeListLookupTable[],2,FALSE)","v":"EMPN046"},{"$f":"VLOOKUP(PACKT08Table[[#This Row],[EmployeeID]],EmployeeListLookupTable[],3,FALSE)","v":"Employee Name 46"},{"$f":"VLOOKUP(PACKT08Table[[#This Row],[EmployeeID]],EmployeeListLookupTable[],4,FALSE)","v":"Employee Job Title 46"},null,null,null,null,null,null,null,null,null,null,null,null,{"$f":"VLOOKUP(PACKT08Table[[#This Row],[EmployeeID]],EmployeeListLookupTable[#All],14,FALSE)=\"Y\"","v":true}]
[null,"EMP0047",{"$f":"VLOOKUP(PACKT08Table[[#This Row],[EmployeeID]],EmployeeListLookupTable[],2,FALSE)","v":"EMPN047"},{"$f":"VLOOKUP(PACKT08Table[[#This Row],[EmployeeID]],EmployeeListLookupTable[],3,FALSE)","v":"Employee Name 47"},{"$f":"VLOOKUP(PACKT08Table[[#This Row],[EmployeeID]],EmployeeListLookupTable[],4,FALSE)","v":"Employee Job Title 47"},null,null,null,null,null,null,null,null,null,null,null,null,{"$f":"VLOOKUP(PACKT08Table[[#This Row],[EmployeeID]],EmployeeListLookupTable[#All],14,FALSE)=\"Y\"","v":true}]
[null,"EMP0048",{"$f":"VLOOKUP(PACKT08Table[[#This Row],[EmployeeID]],EmployeeListLookupTable[],2,FALSE)","v":"EMPN048"},{"$f":"VLOOKUP(PACKT08Table[[#This Row],[EmployeeID]],EmployeeListLookupTable[],3,FALSE)","v":"Employee Name 48"},{"$f":"VLOOKUP(PACKT08Table[[#This Row],[EmployeeID]],EmployeeListLookupTable[],4,FALSE)","v":"Employee Job Title 48"},null,null,null,null,null,null,null,null,null,null,null,null,{"$f":"VLOOKUP(PACKT08Table[[#This Row],[EmployeeID]],EmployeeListLookupTable[#All],14,FALSE)=\"Y\"","v":true}]
[null,"EMP0049",{"$f":"VLOOKUP(PACKT08Table[[#This Row],[EmployeeID]],EmployeeListLookupTable[],2,FALSE)","v":"EMPN049"},{"$f":"VLOOKUP(PACKT08Table[[#This Row],[EmployeeID]],EmployeeListLookupTable[],3,FALSE)","v":"Employee Name 49"},{"$f":"VLOOKUP(PACKT08Table[[#This Row],[EmployeeID]],EmployeeListLookupTable[],4,FALSE)","v":"Employee Job Title 49"},null,null,null,null,null,null,null,null,null,null,null,null,{"$f":"VLOOKUP(PACKT08Table[[#This Row],[EmployeeID]],EmployeeListLookupTable[#All],14,FALSE)=\"Y\"","v":true}]
[null,"EMP0050",{"$f":"VLOOKUP(PACKT08Table[[#This Row],[EmployeeID]],EmployeeListLookupTable[],2,FALSE)","v":"EMPN050"},{"$f":"VLOOKUP(PACKT08Table[[#This Row],[EmployeeID]],EmployeeListLookupTable[],3,FALSE)","v":"Employee Name 50"},{"$f":"VLOOKUP(PACKT08Table[[#This Row],[EmployeeID]],EmployeeListLookupTable[],4,FALSE)","v":"Employee Job Title 50"},null,null,null,null,null,null,null,null,null,null,null,null,{"$f":"VLOOKUP(PACKT08Table[[#This Row],[EmployeeID]],EmployeeListLookupTable[#All],14,FALSE)=\"Y\"","v":true}]
[null,"EMP0051",{"$f":"VLOOKUP(PACKT08Table[[#This Row],[EmployeeID]],EmployeeListLookupTable[],2,FALSE)","v":"EMPN051"},{"$f":"VLOOKUP(PACKT08Table[[#This Row],[EmployeeID]],EmployeeListLookupTable[],3,FALSE)","v":"Employee Name 51"},{"$f":"VLOOKUP(PACKT08Table[[#This Row],[EmployeeID]],EmployeeListLookupTable[],4,FALSE)","v":"Employee Job Title 51"},null,null,null,null,null,null,null,null,null,null,null,null,{"$f":"VLOOKUP(PACKT08Table[[#This Row],[EmployeeID]],EmployeeListLookupTable[#All],14,FALSE)=\"Y\"","v":true}]
[null,"EMP0052",{"$f":"VLOOKUP(PACKT08Table[[#This Row],[EmployeeID]],EmployeeListLookupTable[],2,FALSE)","v":"EMPN052"},{"$f":"VLOOKUP(PACKT08Table[[#This Row],[EmployeeID]],EmployeeListLookupTable[],3,FALSE)","v":"Employee Name 52"},{"$f":"VLOOKUP(PACKT08Table[[#This Row],[EmployeeID]],EmployeeListLookupTable[],4,FALSE)","v":"Employee Job Title 52"},null,null,null,null,null,null,null,null,null,null,null,null,{"$f":"VLOOKUP(PACKT08Table[[#This Row],[EmployeeID]],EmployeeListLookupTable[#All],14,FALSE)=\"Y\"","v":true}]
[null,"EMP0053",{"$f":"VLOOKUP(PACKT08Table[[#This Row],[EmployeeID]],EmployeeListLookupTable[],2,FALSE)","v":"EMPN053"},{"$f":"VLOOKUP(PACKT08Table[[#This Row],[EmployeeID]],EmployeeListLookupTable[],3,FALSE)","v":"Employee Name 53"},{"$f":"VLOOKUP(PACKT08Table[[#This Row],[EmployeeID]],EmployeeListLookupTable[],4,FALSE)","v":"Employee Job Title 53"},null,null,null,null,null,null,null,null,null,null,null,null,{"$f":"VLOOKUP(PACKT08Table[[#This Row],[EmployeeID]],EmployeeListLookupTable[#All],14,FALSE)=\"Y\"","v":true}]
[null,"EMP0054",{"$f":"VLOOKUP(PACKT08Table[[#This Row],[EmployeeID]],EmployeeListLookupTable[],2,FALSE)","v":"EMPN054"},{"$f":"VLOOKUP(PACKT08Table[[#This Row],[EmployeeID]],EmployeeListLookupTable[],3,FALSE)","v":"Employee Name 54"},{"$f":"VLOOKUP(PACKT08Table[[#This Row],[EmployeeID]],EmployeeListLookupTable[],4,FALSE)","v":"Employee Job Title 54"},null,null,null,null,null,null,null,null,null,null,null,null,{"$f":"VLOOKUP(PACKT08Table[[#This Row],[EmployeeID]],EmployeeListLookupTable[#All],14,FALSE)=\"Y\"","v":true}]
[null,"EMP0055",{"$f":"VLOOKUP(PACKT08Table[[#This Row],[EmployeeID]],EmployeeListLookupTable[],2,FALSE)","v":"EMPN055"},{"$f":"VLOOKUP(PACKT08Table[[#This Row],[EmployeeID]],EmployeeListLookupTable[],3,FALSE)","v":"Employee Name 55"},{"$f":"VLOOKUP(PACKT08Table[[#This Row],[EmployeeID]],EmployeeListLookupTable[],4,FALSE)","v":"Employee Job Title 55"},null,null,null,null,null,null,null,null,null,null,null,null,{"$f":"VLOOKUP(PACKT08Table[[#This Row],[EmployeeID]],EmployeeListLookupTable[#All],14,FALSE)=\"Y\"","v":true}]
[null,"EMP0056",{"$f":"VLOOKUP(PACKT08Table[[#This Row],[EmployeeID]],EmployeeListLookupTable[],2,FALSE)","v":"EMPN056"},{"$f":"VLOOKUP(PACKT08Table[[#This Row],[EmployeeID]],EmployeeListLookupTable[],3,FALSE)","v":"Employee Name 56"},{"$f":"VLOOKUP(PACKT08Table[[#This Row],[EmployeeID]],EmployeeListLookupTable[],4,FALSE)","v":"Employee Job Title 56"},null,null,null,null,null,null,null,null,null,null,null,null,{"$f":"VLOOKUP(PACKT08Table[[#This Row],[EmployeeID]],EmployeeListLookupTable[#All],14,FALSE)=\"Y\"","v":true}]
[null,"EMP0057",{"$f":"VLOOKUP(PACKT08Table[[#This Row],[EmployeeID]],EmployeeListLookupTable[],2,FALSE)","v":"EMPN057"},{"$f":"VLOOKUP(PACKT08Table[[#This Row],[EmployeeID]],EmployeeListLookupTable[],3,FALSE)","v":"Employee Name 57"},{"$f":"VLOOKUP(PACKT08Table[[#This Row],[EmployeeID]],EmployeeListLookupTable[],4,FALSE)","v":"Employee Job Title 57"},null,null,null,null,null,null,null,null,null,null,null,null,{"$f":"VLOOKUP(PACKT08Table[[#This Row],[EmployeeID]],EmployeeListLookupTable[#All],14,FALSE)=\"Y\"","v":true}]
[null,"EMP0058",{"$f":"VLOOKUP(PACKT08Table[[#This Row],[EmployeeID]],EmployeeListLookupTable[],2,FALSE)","v":"EMPN058"},{"$f":"VLOOKUP(PACKT08Table[[#This Row],[EmployeeID]],EmployeeListLookupTable[],3,FALSE)","v":"Employee Name 58"},{"$f":"VLOOKUP(PACKT08Table[[#This Row],[EmployeeID]],EmployeeListLookupTable[],4,FALSE)","v":"Employee Job Title 58"},null,null,null,null,null,null,null,null,null,null,null,null,{"$f":"VLOOKUP(PACKT08Table[[#This Row],[EmployeeID]],EmployeeListLookupTable[#All],14,FALSE)=\"Y\"","v":true}]
[null,"EMP0059",{"$f":"VLOOKUP(PACKT08Table[[#This Row],[EmployeeID]],EmployeeListLookupTable[],2,FALSE)","v":"EMPN059"},{"$f":"VLOOKUP(PACKT08Table[[#This Row],[EmployeeID]],EmployeeListLookupTable[],3,FALSE)","v":"Employee Name 59"},{"$f":"VLOOKUP(PACKT08Table[[#This Row],[EmployeeID]],EmployeeListLookupTable[],4,FALSE)","v":"Employee Job Title 59"},null,null,null,null,null,null,null,null,null,null,null,null,{"$f":"VLOOKUP(PACKT08Table[[#This Row],[EmployeeID]],EmployeeListLookupTable[#All],14,FALSE)=\"Y\"","v":true}]
[null,"EMP0060",{"$f":"VLOOKUP(PACKT08Table[[#This Row],[EmployeeID]],EmployeeListLookupTable[],2,FALSE)","v":"EMPN060"},{"$f":"VLOOKUP(PACKT08Table[[#This Row],[EmployeeID]],EmployeeListLookupTable[],3,FALSE)","v":"Employee Name 60"},{"$f":"VLOOKUP(PACKT08Table[[#This Row],[EmployeeID]],EmployeeListLookupTable[],4,FALSE)","v":"Employee Job Title 60"},null,null,null,null,null,null,null,null,null,null,null,null,{"$f":"VLOOKUP(PACKT08Table[[#This Row],[EmployeeID]],EmployeeListLookupTable[#All],14,FALSE)=\"Y\"","v":true}]
[null,"EMP0061",{"$f":"VLOOKUP(PACKT08Table[[#This Row],[EmployeeID]],EmployeeListLookupTable[],2,FALSE)","v":"EMPN061"},{"$f":"VLOOKUP(PACKT08Table[[#This Row],[EmployeeID]],EmployeeListLookupTable[],3,FALSE)","v":"Employee Name 61"},{"$f":"VLOOKUP(PACKT08Table[[#This Row],[EmployeeID]],EmployeeListLookupTable[],4,FALSE)","v":"Employee Job Title 61"},null,null,null,null,null,null,null,null,null,null,null,null,{"$f":"VLOOKUP(PACKT08Table[[#This Row],[EmployeeID]],EmployeeListLookupTable[#All],14,FALSE)=\"Y\"","v":true}]
[null,"EMP0062",{"$f":"VLOOKUP(PACKT08Table[[#This Row],[EmployeeID]],EmployeeListLookupTable[],2,FALSE)","v":"EMPN062"},{"$f":"VLOOKUP(PACKT08Table[[#This Row],[EmployeeID]],EmployeeListLookupTable[],3,FALSE)","v":"Employee Name 62"},{"$f":"VLOOKUP(PACKT08Table[[#This Row],[EmployeeID]],EmployeeListLookupTable[],4,FALSE)","v":"Employee Job Title 62"},null,null,null,null,null,null,null,null,null,null,null,null,{"$f":"VLOOKUP(PACKT08Table[[#This Row],[EmployeeID]],EmployeeListLookupTable[#All],14,FALSE)=\"Y\"","v":true}]
[null,"EMP0063",{"$f":"VLOOKUP(PACKT08Table[[#This Row],[EmployeeID]],EmployeeListLookupTable[],2,FALSE)","v":"EMPN063"},{"$f":"VLOOKUP(PACKT08Table[[#This Row],[EmployeeID]],EmployeeListLookupTable[],3,FALSE)","v":"Employee Name 63"},{"$f":"VLOOKUP(PACKT08Table[[#This Row],[EmployeeID]],EmployeeListLookupTable[],4,FALSE)","v":"Employee Job Title 63"},null,null,null,null,null,null,null,null,null,null,null,null,{"$f":"VLOOKUP(PACKT08Table[[#This Row],[EmployeeID]],EmployeeListLookupTable[#All],14,FALSE)=\"Y\"","v":true}]
[null,"EMP0064",{"$f":"VLOOKUP(PACKT08Table[[#This Row],[EmployeeID]],EmployeeListLookupTable[],2,FALSE)","v":"EMPN064"},{"$f":"VLOOKUP(PACKT08Table[[#This Row],[EmployeeID]],EmployeeListLookupTable[],3,FALSE)","v":"Employee Name 64"},{"$f":"VLOOKUP(PACKT08Table[[#This Row],[EmployeeID]],EmployeeListLookupTable[],4,FALSE)","v":"Employee Job Title 64"},null,null,null,null,null,null,null,null,null,null,null,null,{"$f":"VLOOKUP(PACKT08Table[[#This Row],[EmployeeID]],EmployeeListLookupTable[#All],14,FALSE)=\"Y\"","v":true}]
[null,"EMP0065",{"$f":"VLOOKUP(PACKT08Table[[#This Row],[EmployeeID]],EmployeeListLookupTable[],2,FALSE)","v":"EMPN065"},{"$f":"VLOOKUP(PACKT08Table[[#This Row],[EmployeeID]],EmployeeListLookupTable[],3,FALSE)","v":"Employee Name 65"},{"$f":"VLOOKUP(PACKT08Table[[#This Row],[EmployeeID]],EmployeeListLookupTable[],4,FALSE)","v":"Employee Job Title 65"},null,null,null,null,null,null,null,null,null,null,null,null,{"$f":"VLOOKUP(PACKT08Table[[#This Row],[EmployeeID]],EmployeeListLookupTable[#All],14,FALSE)=\"Y\"","v":true}]
[null,"EMP0066",{"$f":"VLOOKUP(PACKT08Table[[#This Row],[EmployeeID]],EmployeeListLookupTable[],2,FALSE)","v":"EMPN066"},{"$f":"VLOOKUP(PACKT08Table[[#This Row],[EmployeeID]],EmployeeListLookupTable[],3,FALSE)","v":"Employee Name 66"},{"$f":"VLOOKUP(PACKT08Table[[#This Row],[EmployeeID]],EmployeeListLookupTable[],4,FALSE)","v":"Employee Job Title 66"},null,null,null,null,null,null,null,null,null,null,null,null,{"$f":"VLOOKUP(PACKT08Table[[#This Row],[EmployeeID]],EmployeeListLookupTable[#All],14,FALSE)=\"Y\"","v":true}]
[null,"EMP0067",{"$f":"VLOOKUP(PACKT08Table[[#This Row],[EmployeeID]],EmployeeListLookupTable[],2,FALSE)","v":"EMPN067"},{"$f":"VLOOKUP(PACKT08Table[[#This Row],[EmployeeID]],EmployeeListLookupTable[],3,FALSE)","v":"Employee Name 67"},{"$f":"VLOOKUP(PACKT08Table[[#This Row],[EmployeeID]],EmployeeListLookupTable[],4,FALSE)","v":"Employee Job Title 67"},null,null,null,null,null,null,null,null,null,null,null,null,{"$f":"VLOOKUP(PACKT08Table[[#This Row],[EmployeeID]],EmployeeListLookupTable[#All],14,FALSE)=\"Y\"","v":true}]
[null,"EMP0068",{"$f":"VLOOKUP(PACKT08Table[[#This Row],[EmployeeID]],EmployeeListLookupTable[],2,FALSE)","v":"EMPN068"},{"$f":"VLOOKUP(PACKT08Table[[#This Row],[EmployeeID]],EmployeeListLookupTable[],3,FALSE)","v":"Employee Name 68"},{"$f":"VLOOKUP(PACKT08Table[[#This Row],[EmployeeID]],EmployeeListLookupTable[],4,FALSE)","v":"Employee Job Title 68"},null,null,null,null,null,null,null,null,null,null,null,null,{"$f":"VLOOKUP(PACKT08Table[[#This Row],[EmployeeID]],EmployeeListLookupTable[#All],14,FALSE)=\"Y\"","v":true}]
[null,"EMP0069",{"$f":"VLOOKUP(PACKT08Table[[#This Row],[EmployeeID]],EmployeeListLookupTable[],2,FALSE)","v":"EMPN069"},{"$f":"VLOOKUP(PACKT08Table[[#This Row],[EmployeeID]],EmployeeListLookupTable[],3,FALSE)","v":"Employee Name 69"},{"$f":"VLOOKUP(PACKT08Table[[#This Row],[EmployeeID]],EmployeeListLookupTable[],4,FALSE)","v":"Employee Job Title 69"},null,null,null,null,null,null,null,null,null,null,null,null,{"$f":"VLOOKUP(PACKT08Table[[#This Row],[EmployeeID]],EmployeeListLookupTable[#All],14,FALSE)=\"Y\"","v":true}]
[null,"EMP0070",{"$f":"VLOOKUP(PACKT08Table[[#This Row],[EmployeeID]],EmployeeListLookupTable[],2,FALSE)","v":"EMPN070"},{"$f":"VLOOKUP(PACKT08Table[[#This Row],[EmployeeID]],EmployeeListLookupTable[],3,FALSE)","v":"Employee Name 70"},{"$f":"VLOOKUP(PACKT08Table[[#This Row],[EmployeeID]],EmployeeListLookupTable[],4,FALSE)","v":"Employee Job Title 70"},null,null,null,null,null,null,null,null,null,null,null,null,{"$f":"VLOOKUP(PACKT08Table[[#This Row],[EmployeeID]],EmployeeListLookupTable[#All],14,FALSE)=\"Y\"","v":true}]
[null,"EMP0071",{"$f":"VLOOKUP(PACKT08Table[[#This Row],[EmployeeID]],EmployeeListLookupTable[],2,FALSE)","v":"EMPN071"},{"$f":"VLOOKUP(PACKT08Table[[#This Row],[EmployeeID]],EmployeeListLookupTable[],3,FALSE)","v":"Employee Name 71"},{"$f":"VLOOKUP(PACKT08Table[[#This Row],[EmployeeID]],EmployeeListLookupTable[],4,FALSE)","v":"Employee Job Title 71"},null,null,null,null,null,null,null,null,null,null,null,null,{"$f":"VLOOKUP(PACKT08Table[[#This Row],[EmployeeID]],EmployeeListLookupTable[#All],14,FALSE)=\"Y\"","v":true}]
[null,"EMP0072",{"$f":"VLOOKUP(PACKT08Table[[#This Row],[EmployeeID]],EmployeeListLookupTable[],2,FALSE)","v":"EMPN072"},{"$f":"VLOOKUP(PACKT08Table[[#This Row],[EmployeeID]],EmployeeListLookupTable[],3,FALSE)","v":"Employee Name 72"},{"$f":"VLOOKUP(PACKT08Table[[#This Row],[EmployeeID]],EmployeeListLookupTable[],4,FALSE)","v":"Employee Job Title 72"},null,null,null,null,null,null,null,null,null,null,null,null,{"$f":"VLOOKUP(PACKT08Table[[#This Row],[EmployeeID]],EmployeeListLookupTable[#All],14,FALSE)=\"Y\"","v":true}]
[null,"EMP0073",{"$f":"VLOOKUP(PACKT08Table[[#This Row],[EmployeeID]],EmployeeListLookupTable[],2,FALSE)","v":"EMPN073"},{"$f":"VLOOKUP(PACKT08Table[[#This Row],[EmployeeID]],EmployeeListLookupTable[],3,FALSE)","v":"Employee Name 73"},{"$f":"VLOOKUP(PACKT08Table[[#This Row],[EmployeeID]],EmployeeListLookupTable[],4,FALSE)","v":"Employee Job Title 73"},null,null,null,null,null,null,null,null,null,null,null,null,{"$f":"VLOOKUP(PACKT08Table[[#This Row],[EmployeeID]],EmployeeListLookupTable[#All],14,FALSE)=\"Y\"","v":true}]
[null,"EMP0074",{"$f":"VLOOKUP(PACKT08Table[[#This Row],[EmployeeID]],EmployeeListLookupTable[],2,FALSE)","v":"EMPN074"},{"$f":"VLOOKUP(PACKT08Table[[#This Row],[EmployeeID]],EmployeeListLookupTable[],3,FALSE)","v":"Employee Name 74"},{"$f":"VLOOKUP(PACKT08Table[[#This Row],[EmployeeID]],EmployeeListLookupTable[],4,FALSE)","v":"Employee Job Title 74"},null,null,null,null,null,null,null,null,null,null,null,null,{"$f":"VLOOKUP(PACKT08Table[[#This Row],[EmployeeID]],EmployeeListLookupTable[#All],14,FALSE)=\"Y\"","v":true}]
[null,"EMP0075",{"$f":"VLOOKUP(PACKT08Table[[#This Row],[EmployeeID]],EmployeeListLookupTable[],2,FALSE)","v":"EMPN075"},{"$f":"VLOOKUP(PACKT08Table[[#This Row],[EmployeeID]],EmployeeListLookupTable[],3,FALSE)","v":"Employee Name 75"},{"$f":"VLOOKUP(PACKT08Table[[#This Row],[EmployeeID]],EmployeeListLookupTable[],4,FALSE)","v":"Employee Job Title 75"},null,null,null,null,null,null,null,null,null,null,null,null,{"$f":"VLOOKUP(PACKT08Table[[#This Row],[EmployeeID]],EmployeeListLookupTable[#All],14,FALSE)=\"Y\"","v":true}]
[null,"EMP0076",{"$f":"VLOOKUP(PACKT08Table[[#This Row],[EmployeeID]],EmployeeListLookupTable[],2,FALSE)","v":"EMPN076"},{"$f":"VLOOKUP(PACKT08Table[[#This Row],[EmployeeID]],EmployeeListLookupTable[],3,FALSE)","v":"Employee Name 76"},{"$f":"VLOOKUP(PACKT08Table[[#This Row],[EmployeeID]],EmployeeListLookupTable[],4,FALSE)","v":"Employee Job Title 76"},null,null,null,null,null,null,null,null,null,null,null,null,{"$f":"VLOOKUP(PACKT08Table[[#This Row],[EmployeeID]],EmployeeListLookupTable[#All],14,FALSE)=\"Y\"","v":true}]
[null,"EMP0077",{"$f":"VLOOKUP(PACKT08Table[[#This Row],[EmployeeID]],EmployeeListLookupTable[],2,FALSE)","v":"EMPN077"},{"$f":"VLOOKUP(PACKT08Table[[#This Row],[EmployeeID]],EmployeeListLookupTable[],3,FALSE)","v":"Employee Name 77"},{"$f":"VLOOKUP(PACKT08Table[[#This Row],[EmployeeID]],EmployeeListLookupTable[],4,FALSE)","v":"Employee Job Title 77"},null,null,null,null,null,null,null,null,null,null,null,null,{"$f":"VLOOKUP(PACKT08Table[[#This Row],[EmployeeID]],EmployeeListLookupTable[#All],14,FALSE)=\"Y\"","v":true}]
[null,"EMP0078",{"$f":"VLOOKUP(PACKT08Table[[#This Row],[EmployeeID]],EmployeeListLookupTable[],2,FALSE)","v":"EMPN078"},{"$f":"VLOOKUP(PACKT08Table[[#This Row],[EmployeeID]],EmployeeListLookupTable[],3,FALSE)","v":"Employee Name 78"},{"$f":"VLOOKUP(PACKT08Table[[#This Row],[EmployeeID]],EmployeeListLookupTable[],4,FALSE)","v":"Employee Job Title 78"},null,null,null,null,null,null,null,null,null,null,null,null,{"$f":"VLOOKUP(PACKT08Table[[#This Row],[EmployeeID]],EmployeeListLookupTable[#All],14,FALSE)=\"Y\"","v":true}]
[null,"EMP0079",{"$f":"VLOOKUP(PACKT08Table[[#This Row],[EmployeeID]],EmployeeListLookupTable[],2,FALSE)","v":"EMPN079"},{"$f":"VLOOKUP(PACKT08Table[[#This Row],[EmployeeID]],EmployeeListLookupTable[],3,FALSE)","v":"Employee Name 79"},{"$f":"VLOOKUP(PACKT08Table[[#This Row],[EmployeeID]],EmployeeListLookupTable[],4,FALSE)","v":"Employee Job Title 79"},null,null,null,null,null,null,null,null,null,null,null,null,{"$f":"VLOOKUP(PACKT08Table[[#This Row],[EmployeeID]],EmployeeListLookupTable[#All],14,FALSE)=\"Y\"","v":true}]
[null,"EMP0080",{"$f":"VLOOKUP(PACKT08Table[[#This Row],[EmployeeID]],EmployeeListLookupTable[],2,FALSE)","v":"EMPN080"},{"$f":"VLOOKUP(PACKT08Table[[#This Row],[EmployeeID]],EmployeeListLookupTable[],3,FALSE)","v":"Employee Name 80"},{"$f":"VLOOKUP(PACKT08Table[[#This Row],[EmployeeID]],EmployeeListLookupTable[],4,FALSE)","v":"Employee Job Title 80"},null,null,null,null,null,null,null,null,null,null,null,null,{"$f":"VLOOKUP(PACKT08Table[[#This Row],[EmployeeID]],EmployeeListLookupTable[#All],14,FALSE)=\"Y\"","v":true}]
[null,"EMP0081",{"$f":"VLOOKUP(PACKT08Table[[#This Row],[EmployeeID]],EmployeeListLookupTable[],2,FALSE)","v":"EMPN081"},{"$f":"VLOOKUP(PACKT08Table[[#This Row],[EmployeeID]],EmployeeListLookupTable[],3,FALSE)","v":"Employee Name 81"},{"$f":"VLOOKUP(PACKT08Table[[#This Row],[EmployeeID]],EmployeeListLookupTable[],4,FALSE)","v":"Employee Job Title 81"},null,null,null,null,null,null,null,null,null,null,null,null,{"$f":"VLOOKUP(PACKT08Table[[#This Row],[EmployeeID]],EmployeeListLookupTable[#All],14,FALSE)=\"Y\"","v":true}]
[null,"EMP0082",{"$f":"VLOOKUP(PACKT08Table[[#This Row],[EmployeeID]],EmployeeListLookupTable[],2,FALSE)","v":"EMPN082"},{"$f":"VLOOKUP(PACKT08Table[[#This Row],[EmployeeID]],EmployeeListLookupTable[],3,FALSE)","v":"Employee Name 82"},{"$f":"VLOOKUP(PACKT08Table[[#This Row],[EmployeeID]],EmployeeListLookupTable[],4,FALSE)","v":"Employee Job Title 82"},null,null,null,null,null,null,null,null,null,null,null,null,{"$f":"VLOOKUP(PACKT08Table[[#This Row],[EmployeeID]],EmployeeListLookupTable[#All],14,FALSE)=\"Y\"","v":true}]
[null,"EMP0083",{"$f":"VLOOKUP(PACKT08Table[[#This Row],[EmployeeID]],EmployeeListLookupTable[],2,FALSE)","v":"EMPN083"},{"$f":"VLOOKUP(PACKT08Table[[#This Row],[EmployeeID]],EmployeeListLookupTable[],3,FALSE)","v":"Employee Name 83"},{"$f":"VLOOKUP(PACKT08Table[[#This Row],[EmployeeID]],EmployeeListLookupTable[],4,FALSE)","v":"Employee Job Title 83"},null,null,null,null,null,null,null,null,null,null,null,null,{"$f":"VLOOKUP(PACKT08Table[[#This Row],[EmployeeID]],EmployeeListLookupTable[#All],14,FALSE)=\"Y\"","v":true}]
[null,"EMP0084",{"$f":"VLOOKUP(PACKT08Table[[#This Row],[EmployeeID]],EmployeeListLookupTable[],2,FALSE)","v":"EMPN084"},{"$f":"VLOOKUP(PACKT08Table[[#This Row],[EmployeeID]],EmployeeListLookupTable[],3,FALSE)","v":"Employee Name 84"},{"$f":"VLOOKUP(PACKT08Table[[#This Row],[EmployeeID]],EmployeeListLookupTable[],4,FALSE)","v":"Employee Job Title 84"},null,null,null,null,null,null,null,null,null,null,null,null,{"$f":"VLOOKUP(PACKT08Table[[#This Row],[EmployeeID]],EmployeeListLookupTable[#All],14,FALSE)=\"Y\"","v":true}]
[null,"EMP0085",{"$f":"VLOOKUP(PACKT08Table[[#This Row],[EmployeeID]],EmployeeListLookupTable[],2,FALSE)","v":"EMPN085"},{"$f":"VLOOKUP(PACKT08Table[[#This Row],[EmployeeID]],EmployeeListLookupTable[],3,FALSE)","v":"Employee Name 85"},{"$f":"VLOOKUP(PACKT08Table[[#This Row],[EmployeeID]],EmployeeListLookupTable[],4,FALSE)","v":"Employee Job Title 85"},null,null,null,null,null,null,null,null,null,null,null,null,{"$f":"VLOOKUP(PACKT08Table[[#This Row],[EmployeeID]],EmployeeListLookupTable[#All],14,FALSE)=\"Y\"","v":true}]
[null,"EMP0086",{"$f":"VLOOKUP(PACKT08Table[[#This Row],[EmployeeID]],EmployeeListLookupTable[],2,FALSE)","v":"EMPN086"},{"$f":"VLOOKUP(PACKT08Table[[#This Row],[EmployeeID]],EmployeeListLookupTable[],3,FALSE)","v":"Employee Name 86"},{"$f":"VLOOKUP(PACKT08Table[[#This Row],[EmployeeID]],EmployeeListLookupTable[],4,FALSE)","v":"Employee Job Title 86"},null,null,null,null,null,null,null,null,null,null,null,null,{"$f":"VLOOKUP(PACKT08Table[[#This Row],[EmployeeID]],EmployeeListLookupTable[#All],14,FALSE)=\"Y\"","v":true}]
[null,"EMP0087",{"$f":"VLOOKUP(PACKT08Table[[#This Row],[EmployeeID]],EmployeeListLookupTable[],2,FALSE)","v":"EMPN087"},{"$f":"VLOOKUP(PACKT08Table[[#This Row],[EmployeeID]],EmployeeListLookupTable[],3,FALSE)","v":"Employee Name 87"},{"$f":"VLOOKUP(PACKT08Table[[#This Row],[EmployeeID]],EmployeeListLookupTable[],4,FALSE)","v":"Employee Job Title 87"},null,null,null,null,null,null,null,null,null,null,null,null,{"$f":"VLOOKUP(PACKT08Table[[#This Row],[EmployeeID]],EmployeeListLookupTable[#All],14,FALSE)=\"Y\"","v":true}]
[null,"EMP0088",{"$f":"VLOOKUP(PACKT08Table[[#This Row],[EmployeeID]],EmployeeListLookupTable[],2,FALSE)","v":"EMPN088"},{"$f":"VLOOKUP(PACKT08Table[[#This Row],[EmployeeID]],EmployeeListLookupTable[],3,FALSE)","v":"Employee Name 88"},{"$f":"VLOOKUP(PACKT08Table[[#This Row],[EmployeeID]],EmployeeListLookupTable[],4,FALSE)","v":"Employee Job Title 88"},null,null,null,null,null,null,null,null,null,null,null,null,{"$f":"VLOOKUP(PACKT08Table[[#This Row],[EmployeeID]],EmployeeListLookupTable[#All],14,FALSE)=\"Y\"","v":true}]
[null,"EMP0089",{"$f":"VLOOKUP(PACKT08Table[[#This Row],[EmployeeID]],EmployeeListLookupTable[],2,FALSE)","v":"EMPN089"},{"$f":"VLOOKUP(PACKT08Table[[#This Row],[EmployeeID]],EmployeeListLookupTable[],3,FALSE)","v":"Employee Name 89"},{"$f":"VLOOKUP(PACKT08Table[[#This Row],[EmployeeID]],EmployeeListLookupTable[],4,FALSE)","v":"Employee Job Title 89"},null,null,null,null,null,null,null,null,null,null,null,null,{"$f":"VLOOKUP(PACKT08Table[[#This Row],[EmployeeID]],EmployeeListLookupTable[#All],14,FALSE)=\"Y\"","v":true}]
[null,"EMP0090",{"$f":"VLOOKUP(PACKT08Table[[#This Row],[EmployeeID]],EmployeeListLookupTable[],2,FALSE)","v":"EMPN090"},{"$f":"VLOOKUP(PACKT08Table[[#This Row],[EmployeeID]],EmployeeListLookupTable[],3,FALSE)","v":"Employee Name 90"},{"$f":"VLOOKUP(PACKT08Table[[#This Row],[EmployeeID]],EmployeeListLookupTable[],4,FALSE)","v":"Employee Job Title 90"},null,null,null,null,null,null,null,null,null,null,null,null,{"$f":"VLOOKUP(PACKT08Table[[#This Row],[EmployeeID]],EmployeeListLookupTable[#All],14,FALSE)=\"Y\"","v":true}]
[null,"EMP0091",{"$f":"VLOOKUP(PACKT08Table[[#This Row],[EmployeeID]],EmployeeListLookupTable[],2,FALSE)","v":"EMPN091"},{"$f":"VLOOKUP(PACKT08Table[[#This Row],[EmployeeID]],EmployeeListLookupTable[],3,FALSE)","v":"Employee Name 91"},{"$f":"VLOOKUP(PACKT08Table[[#This Row],[EmployeeID]],EmployeeListLookupTable[],4,FALSE)","v":"Employee Job Title 91"},null,null,null,null,null,null,null,null,null,null,null,null,{"$f":"VLOOKUP(PACKT08Table[[#This Row],[EmployeeID]],EmployeeListLookupTable[#All],14,FALSE)=\"Y\"","v":true}]
[null,"EMP0092",{"$f":"VLOOKUP(PACKT08Table[[#This Row],[EmployeeID]],EmployeeListLookupTable[],2,FALSE)","v":"EMPN092"},{"$f":"VLOOKUP(PACKT08Table[[#This Row],[EmployeeID]],EmployeeListLookupTable[],3,FALSE)","v":"Employee Name 92"},{"$f":"VLOOKUP(PACKT08Table[[#This Row],[EmployeeID]],EmployeeListLookupTable[],4,FALSE)","v":"Employee Job Title 92"},null,null,null,null,null,null,null,null,null,null,null,null,{"$f":"VLOOKUP(PACKT08Table[[#This Row],[EmployeeID]],EmployeeListLookupTable[#All],14,FALSE)=\"Y\"","v":true}]
[null,"EMP0093",{"$f":"VLOOKUP(PACKT08Table[[#This Row],[EmployeeID]],EmployeeListLookupTable[],2,FALSE)","v":"EMPN093"},{"$f":"VLOOKUP(PACKT08Table[[#This Row],[EmployeeID]],EmployeeListLookupTable[],3,FALSE)","v":"Employee Name 93"},{"$f":"VLOOKUP(PACKT08Table[[#This Row],[EmployeeID]],EmployeeListLookupTable[],4,FALSE)","v":"Employee Job Title 93"},null,null,null,null,null,null,null,null,null,null,null,null,{"$f":"VLOOKUP(PACKT08Table[[#This Row],[EmployeeID]],EmployeeListLookupTable[#All],14,FALSE)=\"Y\"","v":true}]
[null,"EMP0094",{"$f":"VLOOKUP(PACKT08Table[[#This Row],[EmployeeID]],EmployeeListLookupTable[],2,FALSE)","v":"EMPN094"},{"$f":"VLOOKUP(PACKT08Table[[#This Row],[EmployeeID]],EmployeeListLookupTable[],3,FALSE)","v":"Employee Name 94"},{"$f":"VLOOKUP(PACKT08Table[[#This Row],[EmployeeID]],EmployeeListLookupTable[],4,FALSE)","v":"Employee Job Title 94"},null,null,null,null,null,null,null,null,null,null,null,null,{"$f":"VLOOKUP(PACKT08Table[[#This Row],[EmployeeID]],EmployeeListLookupTable[#All],14,FALSE)=\"Y\"","v":true}]
[null,"EMP0095",{"$f":"VLOOKUP(PACKT08Table[[#This Row],[EmployeeID]],EmployeeListLookupTable[],2,FALSE)","v":"EMPN095"},{"$f":"VLOOKUP(PACKT08Table[[#This Row],[EmployeeID]],EmployeeListLookupTable[],3,FALSE)","v":"Employee Name 95"},{"$f":"VLOOKUP(PACKT08Table[[#This Row],[EmployeeID]],EmployeeListLookupTable[],4,FALSE)","v":"Employee Job Title 95"},null,null,null,null,null,null,null,null,null,null,null,null,{"$f":"VLOOKUP(PACKT08Table[[#This Row],[EmployeeID]],EmployeeListLookupTable[#All],14,FALSE)=\"Y\"","v":true}]
[null,"EMP0096",{"$f":"VLOOKUP(PACKT08Table[[#This Row],[EmployeeID]],EmployeeListLookupTable[],2,FALSE)","v":"EMPN096"},{"$f":"VLOOKUP(PACKT08Table[[#This Row],[EmployeeID]],EmployeeListLookupTable[],3,FALSE)","v":"Employee Name 96"},{"$f":"VLOOKUP(PACKT08Table[[#This Row],[EmployeeID]],EmployeeListLookupTable[],4,FALSE)","v":"Employee Job Title 96"},null,null,null,null,null,null,null,null,null,null,null,null,{"$f":"VLOOKUP(PACKT08Table[[#This Row],[EmployeeID]],EmployeeListLookupTable[#All],14,FALSE)=\"Y\"","v":true}]
[null,"EMP0097",{"$f":"VLOOKUP(PACKT08Table[[#This Row],[EmployeeID]],EmployeeListLookupTable[],2,FALSE)","v":"EMPN097"},{"$f":"VLOOKUP(PACKT08Table[[#This Row],[EmployeeID]],EmployeeListLookupTable[],3,FALSE)","v":"Employee Name 97"},{"$f":"VLOOKUP(PACKT08Table[[#This Row],[EmployeeID]],EmployeeListLookupTable[],4,FALSE)","v":"Employee Job Title 97"},null,null,null,null,null,null,null,null,null,null,null,null,{"$f":"VLOOKUP(PACKT08Table[[#This Row],[EmployeeID]],EmployeeListLookupTable[#All],14,FALSE)=\"Y\"","v":true}]
[null,"EMP0098",{"$f":"VLOOKUP(PACKT08Table[[#This Row],[EmployeeID]],EmployeeListLookupTable[],2,FALSE)","v":"EMPN098"},{"$f":"VLOOKUP(PACKT08Table[[#This Row],[EmployeeID]],EmployeeListLookupTable[],3,FALSE)","v":"Employee Name 98"},{"$f":"VLOOKUP(PACKT08Table[[#This Row],[EmployeeID]],EmployeeListLookupTable[],4,FALSE)","v":"Employee Job Title 98"},null,null,null,null,null,null,null,null,null,null,null,null,{"$f":"VLOOKUP(PACKT08Table[[#This Row],[EmployeeID]],EmployeeListLookupTable[#All],14,FALSE)=\"Y\"","v":true}]
[null,"EMP0099",{"$f":"VLOOKUP(PACKT08Table[[#This Row],[EmployeeID]],EmployeeListLookupTable[],2,FALSE)","v":"EMPN099"},{"$f":"VLOOKUP(PACKT08Table[[#This Row],[EmployeeID]],EmployeeListLookupTable[],3,FALSE)","v":"Employee Name 99"},{"$f":"VLOOKUP(PACKT08Table[[#This Row],[EmployeeID]],EmployeeListLookupTable[],4,FALSE)","v":"Employee Job Title 99"},null,null,null,null,null,null,null,null,null,null,null,null,{"$f":"VLOOKUP(PACKT08Table[[#This Row],[EmployeeID]],EmployeeListLookupTable[#All],14,FALSE)=\"Y\"","v":true}]
[null,"EMP0100",{"$f":"VLOOKUP(PACKT08Table[[#This Row],[EmployeeID]],EmployeeListLookupTable[],2,FALSE)","v":"EMPN100"},{"$f":"VLOOKUP(PACKT08Table[[#This Row],[EmployeeID]],EmployeeListLookupTable[],3,FALSE)","v":"Employee Name 100"},{"$f":"VLOOKUP(PACKT08Table[[#This Row],[EmployeeID]],EmployeeListLookupTable[],4,FALSE)","v":"Employee Job Title 100"},null,null,null,null,null,null,null,null,null,null,null,null,{"$f":"VLOOKUP(PACKT08Table[[#This Row],[EmployeeID]],EmployeeListLookupTable[#All],14,FALSE)=\"Y\"","v":true}]
[null,"Total",null,null,"Total",{"$f":"SUBTOTAL(109,PACKT08Table[1])","v":0},{"$f":"SUBTOTAL(109,PACKT08Table[2])","v":0},{"$f":"SUBTOTAL(109,PACKT08Table[3])","v":0},{"$f":"SUBTOTAL(109,PACKT08Table[4])","v":0},{"$f":"SUBTOTAL(109,PACKT08Table[5])","v":0},{"$f":"SUBTOTAL(109,PACKT08Table[6])","v":0},{"$f":"SUBTOTAL(109,PACKT08Table[7])","v":0},{"$f":"SUBTOTAL(109,PACKT08Table[8])","v":0},{"$f":"SUBTOTAL(109,PACKT08Table[9])","v":0},{"$f":"SUBTOTAL(109,PACKT08Table[10])","v":0},{"$f":"SUBTOTAL(109,PACKT08Table[11])","v":0},{"$f":"SUBTOTAL(109,PACKT08Table[12])","v":0}]

{"sheet":"PACKT09","index":17,"n_rows":112,"n_cols":18,"rows_kept":112,"cut":false,"hidden":false,"merged":[[1,2,1,4],[1,6,1,10],[2,2,2,10]]}
[null,null,"Menu"]
[null,null,{"$f":"EntityName","v":"Company A"},null,null,null,{"$f":"YearEnd","v":"2013-02-28"}]
[null,null,{"$f":"VLOOKUP(D6,PackageItemListLookup[],4,FALSE)","v":"PACKT09"}]
[]
[]
[null,null,"Package Item code:","PACK009"]
[null,null,"Package Item name:",{"$f":"VLOOKUP(D6,PackageItemListLookup[],2,FALSE)","v":"Package Item 9"}]
[null,null,null,null,"Total",{"$f":"PACKT09Table[[#Totals],[1]]","v":0},{"$f":"PACKT09Table[[#Totals],[2]]","v":0},{"$f":"PACKT09Table[[#Totals],[3]]","v":0},{"$f":"PACKT09Table[[#Totals],[4]]","v":0},{"$f":"PACKT09Table[[#Totals],[5]]","v":0},{"$f":"PACKT09Table[[#Totals],[6]]","v":0},{"$f":"PACKT09Table[[#Totals],[7]]","v":0},{"$f":"PACKT09Table[[#Totals],[8]]","v":0},{"$f":"PACKT09Table[[#Totals],[9]]","v":0},{"$f":"PACKT09Table[[#Totals],[10]]","v":0},{"$f":"PACKT09Table[[#Totals],[11]]","v":0},{"$f":"PACKT09Table[[#Totals],[12]]","v":0}]
[]
[null,null,null,null,null,{"$f":"VLOOKUP(PackageItemTable[[#Headers],[1]],CalendarMonthText,5,FALSE)","v":"March"},{"$f":"VLOOKUP(PackageItemTable[[#Headers],[2]],CalendarMonthText,5,FALSE)","v":"April"},{"$f":"VLOOKUP(PackageItemTable[[#Headers],[3]],CalendarMonthText,5,FALSE)","v":"May"},{"$f":"VLOOKUP(PackageItemTable[[#Headers],[4]],CalendarMonthText,5,FALSE)","v":"June"},{"$f":"VLOOKUP(PackageItemTable[[#Headers],[5]],CalendarMonthText,5,FALSE)","v":"July"},{"$f":"VLOOKUP(PackageItemTable[[#Headers],[6]],CalendarMonthText,5,FALSE)","v":"August"},{"$f":"VLOOKUP(PackageItemTable[[#Headers],[7]],CalendarMonthText,5,FALSE)","v":"September"},{"$f":"VLOOKUP(PackageItemTable[[#Headers],[8]],CalendarMonthText,5,FALSE)","v":"October"},{"$f":"VLOOKUP(PackageItemTable[[#Headers],[9]],CalendarMonthText,5,FALSE)","v":"November"},{"$f":"VLOOKUP(PackageItemTable[[#Headers],[10]],CalendarMonthText,5,FALSE)","v":"December"},{"$f":"VLOOKUP(PackageItemTable[[#Headers],[11]],CalendarMonthText,5,FALSE)","v":"January"},{"$f":"VLOOKUP(PackageItemTable[[#Headers],[12]],CalendarMonthText,5,FALSE)","v":"February"}]
[null,"EmployeeID","EmployeeNumber","EmployeeName","EmployeeJobTitle","1","2","3","4","5","6","7","8","9","10","11","12","Selected"]
[null,"EMP0001",{"$f":"VLOOKUP(PACKT09Table[[#This Row],[EmployeeID]],EmployeeListLookupTable[],2,FALSE)","v":"EMPN001"},{"$f":"VLOOKUP(PACKT09Table[[#This Row],[EmployeeID]],EmployeeListLookupTable[],3,FALSE)","v":"Employee Name 1"},{"$f":"VLOOKUP(PACKT09Table[[#This Row],[EmployeeID]],EmployeeListLookupTable[],4,FALSE)","v":"Employee Job Title 1"},null,null,null,null,null,null,null,null,null,null,null,null,{"$f":"VLOOKUP(PACKT09Table[[#This Row],[EmployeeID]],EmployeeListLookupTable[#All],15,FALSE)=\"Y\"","v":true}]
[null,"EMP0002",{"$f":"VLOOKUP(PACKT09Table[[#This Row],[EmployeeID]],EmployeeListLookupTable[],2,FALSE)","v":"EMPN002"},{"$f":"VLOOKUP(PACKT09Table[[#This Row],[EmployeeID]],EmployeeListLookupTable[],3,FALSE)","v":"Employee Name 2"},{"$f":"VLOOKUP(PACKT09Table[[#This Row],[EmployeeID]],EmployeeListLookupTable[],4,FALSE)","v":"Employee Job Title 2"},null,null,null,null,null,null,null,null,null,null,null,null,{"$f":"VLOOKUP(PACKT09Table[[#This Row],[EmployeeID]],EmployeeListLookupTable[#All],15,FALSE)=\"Y\"","v":true}]
[null,"EMP0003",{"$f":"VLOOKUP(PACKT09Table[[#This Row],[EmployeeID]],EmployeeListLookupTable[],2,FALSE)","v":"EMPN003"},{"$f":"VLOOKUP(PACKT09Table[[#This Row],[EmployeeID]],EmployeeListLookupTable[],3,FALSE)","v":"Employee Name 3"},{"$f":"VLOOKUP(PACKT09Table[[#This Row],[EmployeeID]],EmployeeListLookupTable[],4,FALSE)","v":"Employee Job Title 3"},null,null,null,null,null,null,null,null,null,null,null,null,{"$f":"VLOOKUP(PACKT09Table[[#This Row],[EmployeeID]],EmployeeListLookupTable[#All],15,FALSE)=\"Y\"","v":true}]
[null,"EMP0004",{"$f":"VLOOKUP(PACKT09Table[[#This Row],[EmployeeID]],EmployeeListLookupTable[],2,FALSE)","v":"EMPN004"},{"$f":"VLOOKUP(PACKT09Table[[#This Row],[EmployeeID]],EmployeeListLookupTable[],3,FALSE)","v":"Employee Name 4"},{"$f":"VLOOKUP(PACKT09Table[[#This Row],[EmployeeID]],EmployeeListLookupTable[],4,FALSE)","v":"Employee Job Title 4"},null,null,null,null,null,null,null,null,null,null,null,null,{"$f":"VLOOKUP(PACKT09Table[[#This Row],[EmployeeID]],EmployeeListLookupTable[#All],15,FALSE)=\"Y\"","v":true}]
[null,"EMP0005",{"$f":"VLOOKUP(PACKT09Table[[#This Row],[EmployeeID]],EmployeeListLookupTable[],2,FALSE)","v":"EMPN005"},{"$f":"VLOOKUP(PACKT09Table[[#This Row],[EmployeeID]],EmployeeListLookupTable[],3,FALSE)","v":"Employee Name 5"},{"$f":"VLOOKUP(PACKT09Table[[#This Row],[EmployeeID]],EmployeeListLookupTable[],4,FALSE)","v":"Employee Job Title 5"},null,null,null,null,null,null,null,null,null,null,null,null,{"$f":"VLOOKUP(PACKT09Table[[#This Row],[EmployeeID]],EmployeeListLookupTable[#All],15,FALSE)=\"Y\"","v":true}]
[null,"EMP0006",{"$f":"VLOOKUP(PACKT09Table[[#This Row],[EmployeeID]],EmployeeListLookupTable[],2,FALSE)","v":"EMPN006"},{"$f":"VLOOKUP(PACKT09Table[[#This Row],[EmployeeID]],EmployeeListLookupTable[],3,FALSE)","v":"Employee Name 6"},{"$f":"VLOOKUP(PACKT09Table[[#This Row],[EmployeeID]],EmployeeListLookupTable[],4,FALSE)","v":"Employee Job Title 6"},null,null,null,null,null,null,null,null,null,null,null,null,{"$f":"VLOOKUP(PACKT09Table[[#This Row],[EmployeeID]],EmployeeListLookupTable[#All],15,FALSE)=\"Y\"","v":true}]
[null,"EMP0007",{"$f":"VLOOKUP(PACKT09Table[[#This Row],[EmployeeID]],EmployeeListLookupTable[],2,FALSE)","v":"EMPN007"},{"$f":"VLOOKUP(PACKT09Table[[#This Row],[EmployeeID]],EmployeeListLookupTable[],3,FALSE)","v":"Employee Name 7"},{"$f":"VLOOKUP(PACKT09Table[[#This Row],[EmployeeID]],EmployeeListLookupTable[],4,FALSE)","v":"Employee Job Title 7"},null,null,null,null,null,null,null,null,null,null,null,null,{"$f":"VLOOKUP(PACKT09Table[[#This Row],[EmployeeID]],EmployeeListLookupTable[#All],15,FALSE)=\"Y\"","v":true}]
[null,"EMP0008",{"$f":"VLOOKUP(PACKT09Table[[#This Row],[EmployeeID]],EmployeeListLookupTable[],2,FALSE)","v":"EMPN008"},{"$f":"VLOOKUP(PACKT09Table[[#This Row],[EmployeeID]],EmployeeListLookupTable[],3,FALSE)","v":"Employee Name 8"},{"$f":"VLOOKUP(PACKT09Table[[#This Row],[EmployeeID]],EmployeeListLookupTable[],4,FALSE)","v":"Employee Job Title 8"},null,null,null,null,null,null,null,null,null,null,null,null,{"$f":"VLOOKUP(PACKT09Table[[#This Row],[EmployeeID]],EmployeeListLookupTable[#All],15,FALSE)=\"Y\"","v":true}]
[null,"EMP0009",{"$f":"VLOOKUP(PACKT09Table[[#This Row],[EmployeeID]],EmployeeListLookupTable[],2,FALSE)","v":"EMPN009"},{"$f":"VLOOKUP(PACKT09Table[[#This Row],[EmployeeID]],EmployeeListLookupTable[],3,FALSE)","v":"Employee Name 9"},{"$f":"VLOOKUP(PACKT09Table[[#This Row],[EmployeeID]],EmployeeListLookupTable[],4,FALSE)","v":"Employee Job Title 9"},null,null,null,null,null,null,null,null,null,null,null,null,{"$f":"VLOOKUP(PACKT09Table[[#This Row],[EmployeeID]],EmployeeListLookupTable[#All],15,FALSE)=\"Y\"","v":true}]
[null,"EMP0010",{"$f":"VLOOKUP(PACKT09Table[[#This Row],[EmployeeID]],EmployeeListLookupTable[],2,FALSE)","v":"EMPN010"},{"$f":"VLOOKUP(PACKT09Table[[#This Row],[EmployeeID]],EmployeeListLookupTable[],3,FALSE)","v":"Employee Name 10"},{"$f":"VLOOKUP(PACKT09Table[[#This Row],[EmployeeID]],EmployeeListLookupTable[],4,FALSE)","v":"Employee Job Title 10"},null,null,null,null,null,null,null,null,null,null,null,null,{"$f":"VLOOKUP(PACKT09Table[[#This Row],[EmployeeID]],EmployeeListLookupTable[#All],15,FALSE)=\"Y\"","v":true}]
[null,"EMP0011",{"$f":"VLOOKUP(PACKT09Table[[#This Row],[EmployeeID]],EmployeeListLookupTable[],2,FALSE)","v":"EMPN011"},{"$f":"VLOOKUP(PACKT09Table[[#This Row],[EmployeeID]],EmployeeListLookupTable[],3,FALSE)","v":"Employee Name 11"},{"$f":"VLOOKUP(PACKT09Table[[#This Row],[EmployeeID]],EmployeeListLookupTable[],4,FALSE)","v":"Employee Job Title 11"},null,null,null,null,null,null,null,null,null,null,null,null,{"$f":"VLOOKUP(PACKT09Table[[#This Row],[EmployeeID]],EmployeeListLookupTable[#All],15,FALSE)=\"Y\"","v":true}]
[null,"EMP0012",{"$f":"VLOOKUP(PACKT09Table[[#This Row],[EmployeeID]],EmployeeListLookupTable[],2,FALSE)","v":"EMPN012"},{"$f":"VLOOKUP(PACKT09Table[[#This Row],[EmployeeID]],EmployeeListLookupTable[],3,FALSE)","v":"Employee Name 12"},{"$f":"VLOOKUP(PACKT09Table[[#This Row],[EmployeeID]],EmployeeListLookupTable[],4,FALSE)","v":"Employee Job Title 12"},null,null,null,null,null,null,null,null,null,null,null,null,{"$f":"VLOOKUP(PACKT09Table[[#This Row],[EmployeeID]],EmployeeListLookupTable[#All],15,FALSE)=\"Y\"","v":true}]
[null,"EMP0013",{"$f":"VLOOKUP(PACKT09Table[[#This Row],[EmployeeID]],EmployeeListLookupTable[],2,FALSE)","v":"EMPN013"},{"$f":"VLOOKUP(PACKT09Table[[#This Row],[EmployeeID]],EmployeeListLookupTable[],3,FALSE)","v":"Employee Name 13"},{"$f":"VLOOKUP(PACKT09Table[[#This Row],[EmployeeID]],EmployeeListLookupTable[],4,FALSE)","v":"Employee Job Title 13"},null,null,null,null,null,null,null,null,null,null,null,null,{"$f":"VLOOKUP(PACKT09Table[[#This Row],[EmployeeID]],EmployeeListLookupTable[#All],15,FALSE)=\"Y\"","v":true}]
[null,"EMP0014",{"$f":"VLOOKUP(PACKT09Table[[#This Row],[EmployeeID]],EmployeeListLookupTable[],2,FALSE)","v":"EMPN014"},{"$f":"VLOOKUP(PACKT09Table[[#This Row],[EmployeeID]],EmployeeListLookupTable[],3,FALSE)","v":"Employee Name 14"},{"$f":"VLOOKUP(PACKT09Table[[#This Row],[EmployeeID]],EmployeeListLookupTable[],4,FALSE)","v":"Employee Job Title 14"},null,null,null,null,null,null,null,null,null,null,null,null,{"$f":"VLOOKUP(PACKT09Table[[#This Row],[EmployeeID]],EmployeeListLookupTable[#All],15,FALSE)=\"Y\"","v":true}]
[null,"EMP0015",{"$f":"VLOOKUP(PACKT09Table[[#This Row],[EmployeeID]],EmployeeListLookupTable[],2,FALSE)","v":"EMPN015"},{"$f":"VLOOKUP(PACKT09Table[[#This Row],[EmployeeID]],EmployeeListLookupTable[],3,FALSE)","v":"Employee Name 15"},{"$f":"VLOOKUP(PACKT09Table[[#This Row],[EmployeeID]],EmployeeListLookupTable[],4,FALSE)","v":"Employee Job Title 15"},null,null,null,null,null,null,null,null,null,null,null,null,{"$f":"VLOOKUP(PACKT09Table[[#This Row],[EmployeeID]],EmployeeListLookupTable[#All],15,FALSE)=\"Y\"","v":true}]
[null,"EMP0016",{"$f":"VLOOKUP(PACKT09Table[[#This Row],[EmployeeID]],EmployeeListLookupTable[],2,FALSE)","v":"EMPN016"},{"$f":"VLOOKUP(PACKT09Table[[#This Row],[EmployeeID]],EmployeeListLookupTable[],3,FALSE)","v":"Employee Name 16"},{"$f":"VLOOKUP(PACKT09Table[[#This Row],[EmployeeID]],EmployeeListLookupTable[],4,FALSE)","v":"Employee Job Title 16"},null,null,null,null,null,null,null,null,null,null,null,null,{"$f":"VLOOKUP(PACKT09Table[[#This Row],[EmployeeID]],EmployeeListLookupTable[#All],15,FALSE)=\"Y\"","v":true}]
[null,"EMP0017",{"$f":"VLOOKUP(PACKT09Table[[#This Row],[EmployeeID]],EmployeeListLookupTable[],2,FALSE)","v":"EMPN017"},{"$f":"VLOOKUP(PACKT09Table[[#This Row],[EmployeeID]],EmployeeListLookupTable[],3,FALSE)","v":"Employee Name 17"},{"$f":"VLOOKUP(PACKT09Table[[#This Row],[EmployeeID]],EmployeeListLookupTable[],4,FALSE)","v":"Employee Job Title 17"},null,null,null,null,null,null,null,null,null,null,null,null,{"$f":"VLOOKUP(PACKT09Table[[#This Row],[EmployeeID]],EmployeeListLookupTable[#All],15,FALSE)=\"Y\"","v":true}]
[null,"EMP0018",{"$f":"VLOOKUP(PACKT09Table[[#This Row],[EmployeeID]],EmployeeListLookupTable[],2,FALSE)","v":"EMPN018"},{"$f":"VLOOKUP(PACKT09Table[[#This Row],[EmployeeID]],EmployeeListLookupTable[],3,FALSE)","v":"Employee Name 18"},{"$f":"VLOOKUP(PACKT09Table[[#This Row],[EmployeeID]],EmployeeListLookupTable[],4,FALSE)","v":"Employee Job Title 18"},null,null,null,null,null,null,null,null,null,null,null,null,{"$f":"VLOOKUP(PACKT09Table[[#This Row],[EmployeeID]],EmployeeListLookupTable[#All],15,FALSE)=\"Y\"","v":true}]
[null,"EMP0019",{"$f":"VLOOKUP(PACKT09Table[[#This Row],[EmployeeID]],EmployeeListLookupTable[],2,FALSE)","v":"EMPN019"},{"$f":"VLOOKUP(PACKT09Table[[#This Row],[EmployeeID]],EmployeeListLookupTable[],3,FALSE)","v":"Employee Name 19"},{"$f":"VLOOKUP(PACKT09Table[[#This Row],[EmployeeID]],EmployeeListLookupTable[],4,FALSE)","v":"Employee Job Title 19"},null,null,null,null,null,null,null,null,null,null,null,null,{"$f":"VLOOKUP(PACKT09Table[[#This Row],[EmployeeID]],EmployeeListLookupTable[#All],15,FALSE)=\"Y\"","v":true}]
[null,"EMP0020",{"$f":"VLOOKUP(PACKT09Table[[#This Row],[EmployeeID]],EmployeeListLookupTable[],2,FALSE)","v":"EMPN020"},{"$f":"VLOOKUP(PACKT09Table[[#This Row],[EmployeeID]],EmployeeListLookupTable[],3,FALSE)","v":"Employee Name 20"},{"$f":"VLOOKUP(PACKT09Table[[#This Row],[EmployeeID]],EmployeeListLookupTable[],4,FALSE)","v":"Employee Job Title 20"},null,null,null,null,null,null,null,null,null,null,null,null,{"$f":"VLOOKUP(PACKT09Table[[#This Row],[EmployeeID]],EmployeeListLookupTable[#All],15,FALSE)=\"Y\"","v":true}]
[null,"EMP0021",{"$f":"VLOOKUP(PACKT09Table[[#This Row],[EmployeeID]],EmployeeListLookupTable[],2,FALSE)","v":"EMPN021"},{"$f":"VLOOKUP(PACKT09Table[[#This Row],[EmployeeID]],EmployeeListLookupTable[],3,FALSE)","v":"Employee Name 21"},{"$f":"VLOOKUP(PACKT09Table[[#This Row],[EmployeeID]],EmployeeListLookupTable[],4,FALSE)","v":"Employee Job Title 21"},null,null,null,null,null,null,null,null,null,null,null,null,{"$f":"VLOOKUP(PACKT09Table[[#This Row],[EmployeeID]],EmployeeListLookupTable[#All],15,FALSE)=\"Y\"","v":true}]
[null,"EMP0022",{"$f":"VLOOKUP(PACKT09Table[[#This Row],[EmployeeID]],EmployeeListLookupTable[],2,FALSE)","v":"EMPN022"},{"$f":"VLOOKUP(PACKT09Table[[#This Row],[EmployeeID]],EmployeeListLookupTable[],3,FALSE)","v":"Employee Name 22"},{"$f":"VLOOKUP(PACKT09Table[[#This Row],[EmployeeID]],EmployeeListLookupTable[],4,FALSE)","v":"Employee Job Title 22"},null,null,null,null,null,null,null,null,null,null,null,null,{"$f":"VLOOKUP(PACKT09Table[[#This Row],[EmployeeID]],EmployeeListLookupTable[#All],15,FALSE)=\"Y\"","v":true}]
[null,"EMP0023",{"$f":"VLOOKUP(PACKT09Table[[#This Row],[EmployeeID]],EmployeeListLookupTable[],2,FALSE)","v":"EMPN023"},{"$f":"VLOOKUP(PACKT09Table[[#This Row],[EmployeeID]],EmployeeListLookupTable[],3,FALSE)","v":"Employee Name 23"},{"$f":"VLOOKUP(PACKT09Table[[#This Row],[EmployeeID]],EmployeeListLookupTable[],4,FALSE)","v":"Employee Job Title 23"},null,null,null,null,null,null,null,null,null,null,null,null,{"$f":"VLOOKUP(PACKT09Table[[#This Row],[EmployeeID]],EmployeeListLookupTable[#All],15,FALSE)=\"Y\"","v":true}]
[null,"EMP0024",{"$f":"VLOOKUP(PACKT09Table[[#This Row],[EmployeeID]],EmployeeListLookupTable[],2,FALSE)","v":"EMPN024"},{"$f":"VLOOKUP(PACKT09Table[[#This Row],[EmployeeID]],EmployeeListLookupTable[],3,FALSE)","v":"Employee Name 24"},{"$f":"VLOOKUP(PACKT09Table[[#This Row],[EmployeeID]],EmployeeListLookupTable[],4,FALSE)","v":"Employee Job Title 24"},null,null,null,null,null,null,null,null,null,null,null,null,{"$f":"VLOOKUP(PACKT09Table[[#This Row],[EmployeeID]],EmployeeListLookupTable[#All],15,FALSE)=\"Y\"","v":true}]
[null,"EMP0025",{"$f":"VLOOKUP(PACKT09Table[[#This Row],[EmployeeID]],EmployeeListLookupTable[],2,FALSE)","v":"EMPN025"},{"$f":"VLOOKUP(PACKT09Table[[#This Row],[EmployeeID]],EmployeeListLookupTable[],3,FALSE)","v":"Employee Name 25"},{"$f":"VLOOKUP(PACKT09Table[[#This Row],[EmployeeID]],EmployeeListLookupTable[],4,FALSE)","v":"Employee Job Title 25"},null,null,null,null,null,null,null,null,null,null,null,null,{"$f":"VLOOKUP(PACKT09Table[[#This Row],[EmployeeID]],EmployeeListLookupTable[#All],15,FALSE)=\"Y\"","v":true}]
[null,"EMP0026",{"$f":"VLOOKUP(PACKT09Table[[#This Row],[EmployeeID]],EmployeeListLookupTable[],2,FALSE)","v":"EMPN026"},{"$f":"VLOOKUP(PACKT09Table[[#This Row],[EmployeeID]],EmployeeListLookupTable[],3,FALSE)","v":"Employee Name 26"},{"$f":"VLOOKUP(PACKT09Table[[#This Row],[EmployeeID]],EmployeeListLookupTable[],4,FALSE)","v":"Employee Job Title 26"},null,null,null,null,null,null,null,null,null,null,null,null,{"$f":"VLOOKUP(PACKT09Table[[#This Row],[EmployeeID]],EmployeeListLookupTable[#All],15,FALSE)=\"Y\"","v":true}]
[null,"EMP0027",{"$f":"VLOOKUP(PACKT09Table[[#This Row],[EmployeeID]],EmployeeListLookupTable[],2,FALSE)","v":"EMPN027"},{"$f":"VLOOKUP(PACKT09Table[[#This Row],[EmployeeID]],EmployeeListLookupTable[],3,FALSE)","v":"Employee Name 27"},{"$f":"VLOOKUP(PACKT09Table[[#This Row],[EmployeeID]],EmployeeListLookupTable[],4,FALSE)","v":"Employee Job Title 27"},null,null,null,null,null,null,null,null,null,null,null,null,{"$f":"VLOOKUP(PACKT09Table[[#This Row],[EmployeeID]],EmployeeListLookupTable[#All],15,FALSE)=\"Y\"","v":true}]
[null,"EMP0028",{"$f":"VLOOKUP(PACKT09Table[[#This Row],[EmployeeID]],EmployeeListLookupTable[],2,FALSE)","v":"EMPN028"},{"$f":"VLOOKUP(PACKT09Table[[#This Row],[EmployeeID]],EmployeeListLookupTable[],3,FALSE)","v":"Employee Name 28"},{"$f":"VLOOKUP(PACKT09Table[[#This Row],[EmployeeID]],EmployeeListLookupTable[],4,FALSE)","v":"Employee Job Title 28"},null,null,null,null,null,null,null,null,null,null,null,null,{"$f":"VLOOKUP(PACKT09Table[[#This Row],[EmployeeID]],EmployeeListLookupTable[#All],15,FALSE)=\"Y\"","v":true}]
[null,"EMP0029",{"$f":"VLOOKUP(PACKT09Table[[#This Row],[EmployeeID]],EmployeeListLookupTable[],2,FALSE)","v":"EMPN029"},{"$f":"VLOOKUP(PACKT09Table[[#This Row],[EmployeeID]],EmployeeListLookupTable[],3,FALSE)","v":"Employee Name 29"},{"$f":"VLOOKUP(PACKT09Table[[#This Row],[EmployeeID]],EmployeeListLookupTable[],4,FALSE)","v":"Employee Job Title 29"},null,null,null,null,null,null,null,null,null,null,null,null,{"$f":"VLOOKUP(PACKT09Table[[#This Row],[EmployeeID]],EmployeeListLookupTable[#All],15,FALSE)=\"Y\"","v":true}]
[null,"EMP0030",{"$f":"VLOOKUP(PACKT09Table[[#This Row],[EmployeeID]],EmployeeListLookupTable[],2,FALSE)","v":"EMPN030"},{"$f":"VLOOKUP(PACKT09Table[[#This Row],[EmployeeID]],EmployeeListLookupTable[],3,FALSE)","v":"Employee Name 30"},{"$f":"VLOOKUP(PACKT09Table[[#This Row],[EmployeeID]],EmployeeListLookupTable[],4,FALSE)","v":"Employee Job Title 30"},null,null,null,null,null,null,null,null,null,null,null,null,{"$f":"VLOOKUP(PACKT09Table[[#This Row],[EmployeeID]],EmployeeListLookupTable[#All],15,FALSE)=\"Y\"","v":true}]
[null,"EMP0031",{"$f":"VLOOKUP(PACKT09Table[[#This Row],[EmployeeID]],EmployeeListLookupTable[],2,FALSE)","v":"EMPN031"},{"$f":"VLOOKUP(PACKT09Table[[#This Row],[EmployeeID]],EmployeeListLookupTable[],3,FALSE)","v":"Employee Name 31"},{"$f":"VLOOKUP(PACKT09Table[[#This Row],[EmployeeID]],EmployeeListLookupTable[],4,FALSE)","v":"Employee Job Title 31"},null,null,null,null,null,null,null,null,null,null,null,null,{"$f":"VLOOKUP(PACKT09Table[[#This Row],[EmployeeID]],EmployeeListLookupTable[#All],15,FALSE)=\"Y\"","v":true}]
[null,"EMP0032",{"$f":"VLOOKUP(PACKT09Table[[#This Row],[EmployeeID]],EmployeeListLookupTable[],2,FALSE)","v":"EMPN032"},{"$f":"VLOOKUP(PACKT09Table[[#This Row],[EmployeeID]],EmployeeListLookupTable[],3,FALSE)","v":"Employee Name 32"},{"$f":"VLOOKUP(PACKT09Table[[#This Row],[EmployeeID]],EmployeeListLookupTable[],4,FALSE)","v":"Employee Job Title 32"},null,null,null,null,null,null,null,null,null,null,null,null,{"$f":"VLOOKUP(PACKT09Table[[#This Row],[EmployeeID]],EmployeeListLookupTable[#All],15,FALSE)=\"Y\"","v":true}]
[null,"EMP0033",{"$f":"VLOOKUP(PACKT09Table[[#This Row],[EmployeeID]],EmployeeListLookupTable[],2,FALSE)","v":"EMPN033"},{"$f":"VLOOKUP(PACKT09Table[[#This Row],[EmployeeID]],EmployeeListLookupTable[],3,FALSE)","v":"Employee Name 33"},{"$f":"VLOOKUP(PACKT09Table[[#This Row],[EmployeeID]],EmployeeListLookupTable[],4,FALSE)","v":"Employee Job Title 33"},null,null,null,null,null,null,null,null,null,null,null,null,{"$f":"VLOOKUP(PACKT09Table[[#This Row],[EmployeeID]],EmployeeListLookupTable[#All],15,FALSE)=\"Y\"","v":true}]
[null,"EMP0034",{"$f":"VLOOKUP(PACKT09Table[[#This Row],[EmployeeID]],EmployeeListLookupTable[],2,FALSE)","v":"EMPN034"},{"$f":"VLOOKUP(PACKT09Table[[#This Row],[EmployeeID]],EmployeeListLookupTable[],3,FALSE)","v":"Employee Name 34"},{"$f":"VLOOKUP(PACKT09Table[[#This Row],[EmployeeID]],EmployeeListLookupTable[],4,FALSE)","v":"Employee Job Title 34"},null,null,null,null,null,null,null,null,null,null,null,null,{"$f":"VLOOKUP(PACKT09Table[[#This Row],[EmployeeID]],EmployeeListLookupTable[#All],15,FALSE)=\"Y\"","v":true}]
[null,"EMP0035",{"$f":"VLOOKUP(PACKT09Table[[#This Row],[EmployeeID]],EmployeeListLookupTable[],2,FALSE)","v":"EMPN035"},{"$f":"VLOOKUP(PACKT09Table[[#This Row],[EmployeeID]],EmployeeListLookupTable[],3,FALSE)","v":"Employee Name 35"},{"$f":"VLOOKUP(PACKT09Table[[#This Row],[EmployeeID]],EmployeeListLookupTable[],4,FALSE)","v":"Employee Job Title 35"},null,null,null,null,null,null,null,null,null,null,null,null,{"$f":"VLOOKUP(PACKT09Table[[#This Row],[EmployeeID]],EmployeeListLookupTable[#All],15,FALSE)=\"Y\"","v":true}]
[null,"EMP0036",{"$f":"VLOOKUP(PACKT09Table[[#This Row],[EmployeeID]],EmployeeListLookupTable[],2,FALSE)","v":"EMPN036"},{"$f":"VLOOKUP(PACKT09Table[[#This Row],[EmployeeID]],EmployeeListLookupTable[],3,FALSE)","v":"Employee Name 36"},{"$f":"VLOOKUP(PACKT09Table[[#This Row],[EmployeeID]],EmployeeListLookupTable[],4,FALSE)","v":"Employee Job Title 36"},null,null,null,null,null,null,null,null,null,null,null,null,{"$f":"VLOOKUP(PACKT09Table[[#This Row],[EmployeeID]],EmployeeListLookupTable[#All],15,FALSE)=\"Y\"","v":true}]
[null,"EMP0037",{"$f":"VLOOKUP(PACKT09Table[[#This Row],[EmployeeID]],EmployeeListLookupTable[],2,FALSE)","v":"EMPN037"},{"$f":"VLOOKUP(PACKT09Table[[#This Row],[EmployeeID]],EmployeeListLookupTable[],3,FALSE)","v":"Employee Name 37"},{"$f":"VLOOKUP(PACKT09Table[[#This Row],[EmployeeID]],EmployeeListLookupTable[],4,FALSE)","v":"Employee Job Title 37"},null,null,null,null,null,null,null,null,null,null,null,null,{"$f":"VLOOKUP(PACKT09Table[[#This Row],[EmployeeID]],EmployeeListLookupTable[#All],15,FALSE)=\"Y\"","v":true}]
[null,"EMP0038",{"$f":"VLOOKUP(PACKT09Table[[#This Row],[EmployeeID]],EmployeeListLookupTable[],2,FALSE)","v":"EMPN038"},{"$f":"VLOOKUP(PACKT09Table[[#This Row],[EmployeeID]],EmployeeListLookupTable[],3,FALSE)","v":"Employee Name 38"},{"$f":"VLOOKUP(PACKT09Table[[#This Row],[EmployeeID]],EmployeeListLookupTable[],4,FALSE)","v":"Employee Job Title 38"},null,null,null,null,null,null,null,null,null,null,null,null,{"$f":"VLOOKUP(PACKT09Table[[#This Row],[EmployeeID]],EmployeeListLookupTable[#All],15,FALSE)=\"Y\"","v":true}]
[null,"EMP0039",{"$f":"VLOOKUP(PACKT09Table[[#This Row],[EmployeeID]],EmployeeListLookupTable[],2,FALSE)","v":"EMPN039"},{"$f":"VLOOKUP(PACKT09Table[[#This Row],[EmployeeID]],EmployeeListLookupTable[],3,FALSE)","v":"Employee Name 39"},{"$f":"VLOOKUP(PACKT09Table[[#This Row],[EmployeeID]],EmployeeListLookupTable[],4,FALSE)","v":"Employee Job Title 39"},null,null,null,null,null,null,null,null,null,null,null,null,{"$f":"VLOOKUP(PACKT09Table[[#This Row],[EmployeeID]],EmployeeListLookupTable[#All],15,FALSE)=\"Y\"","v":true}]
[null,"EMP0040",{"$f":"VLOOKUP(PACKT09Table[[#This Row],[EmployeeID]],EmployeeListLookupTable[],2,FALSE)","v":"EMPN040"},{"$f":"VLOOKUP(PACKT09Table[[#This Row],[EmployeeID]],EmployeeListLookupTable[],3,FALSE)","v":"Employee Name 40"},{"$f":"VLOOKUP(PACKT09Table[[#This Row],[EmployeeID]],EmployeeListLookupTable[],4,FALSE)","v":"Employee Job Title 40"},null,null,null,null,null,null,null,null,null,null,null,null,{"$f":"VLOOKUP(PACKT09Table[[#This Row],[EmployeeID]],EmployeeListLookupTable[#All],15,FALSE)=\"Y\"","v":true}]
[null,"EMP0041",{"$f":"VLOOKUP(PACKT09Table[[#This Row],[EmployeeID]],EmployeeListLookupTable[],2,FALSE)","v":"EMPN041"},{"$f":"VLOOKUP(PACKT09Table[[#This Row],[EmployeeID]],EmployeeListLookupTable[],3,FALSE)","v":"Employee Name 41"},{"$f":"VLOOKUP(PACKT09Table[[#This Row],[EmployeeID]],EmployeeListLookupTable[],4,FALSE)","v":"Employee Job Title 41"},null,null,null,null,null,null,null,null,null,null,null,null,{"$f":"VLOOKUP(PACKT09Table[[#This Row],[EmployeeID]],EmployeeListLookupTable[#All],15,FALSE)=\"Y\"","v":true}]
[null,"EMP0042",{"$f":"VLOOKUP(PACKT09Table[[#This Row],[EmployeeID]],EmployeeListLookupTable[],2,FALSE)","v":"EMPN042"},{"$f":"VLOOKUP(PACKT09Table[[#This Row],[EmployeeID]],EmployeeListLookupTable[],3,FALSE)","v":"Employee Name 42"},{"$f":"VLOOKUP(PACKT09Table[[#This Row],[EmployeeID]],EmployeeListLookupTable[],4,FALSE)","v":"Employee Job Title 42"},null,null,null,null,null,null,null,null,null,null,null,null,{"$f":"VLOOKUP(PACKT09Table[[#This Row],[EmployeeID]],EmployeeListLookupTable[#All],15,FALSE)=\"Y\"","v":true}]
[null,"EMP0043",{"$f":"VLOOKUP(PACKT09Table[[#This Row],[EmployeeID]],EmployeeListLookupTable[],2,FALSE)","v":"EMPN043"},{"$f":"VLOOKUP(PACKT09Table[[#This Row],[EmployeeID]],EmployeeListLookupTable[],3,FALSE)","v":"Employee Name 43"},{"$f":"VLOOKUP(PACKT09Table[[#This Row],[EmployeeID]],EmployeeListLookupTable[],4,FALSE)","v":"Employee Job Title 43"},null,null,null,null,null,null,null,null,null,null,null,null,{"$f":"VLOOKUP(PACKT09Table[[#This Row],[EmployeeID]],EmployeeListLookupTable[#All],15,FALSE)=\"Y\"","v":true}]
[null,"EMP0044",{"$f":"VLOOKUP(PACKT09Table[[#This Row],[EmployeeID]],EmployeeListLookupTable[],2,FALSE)","v":"EMPN044"},{"$f":"VLOOKUP(PACKT09Table[[#This Row],[EmployeeID]],EmployeeListLookupTable[],3,FALSE)","v":"Employee Name 44"},{"$f":"VLOOKUP(PACKT09Table[[#This Row],[EmployeeID]],EmployeeListLookupTable[],4,FALSE)","v":"Employee Job Title 44"},null,null,null,null,null,null,null,null,null,null,null,null,{"$f":"VLOOKUP(PACKT09Table[[#This Row],[EmployeeID]],EmployeeListLookupTable[#All],15,FALSE)=\"Y\"","v":true}]
[null,"EMP0045",{"$f":"VLOOKUP(PACKT09Table[[#This Row],[EmployeeID]],EmployeeListLookupTable[],2,FALSE)","v":"EMPN045"},{"$f":"VLOOKUP(PACKT09Table[[#This Row],[EmployeeID]],EmployeeListLookupTable[],3,FALSE)","v":"Employee Name 45"},{"$f":"VLOOKUP(PACKT09Table[[#This Row],[EmployeeID]],EmployeeListLookupTable[],4,FALSE)","v":"Employee Job Title 45"},null,null,null,null,null,null,null,null,null,null,null,null,{"$f":"VLOOKUP(PACKT09Table[[#This Row],[EmployeeID]],EmployeeListLookupTable[#All],15,FALSE)=\"Y\"","v":true}]
[null,"EMP0046",{"$f":"VLOOKUP(PACKT09Table[[#This Row],[EmployeeID]],EmployeeListLookupTable[],2,FALSE)","v":"EMPN046"},{"$f":"VLOOKUP(PACKT09Table[[#This Row],[EmployeeID]],EmployeeListLookupTable[],3,FALSE)","v":"Employee Name 46"},{"$f":"VLOOKUP(PACKT09Table[[#This Row],[EmployeeID]],EmployeeListLookupTable[],4,FALSE)","v":"Employee Job Title 46"},null,null,null,null,null,null,null,null,null,null,null,null,{"$f":"VLOOKUP(PACKT09Table[[#This Row],[EmployeeID]],EmployeeListLookupTable[#All],15,FALSE)=\"Y\"","v":true}]
[null,"EMP0047",{"$f":"VLOOKUP(PACKT09Table[[#This Row],[EmployeeID]],EmployeeListLookupTable[],2,FALSE)","v":"EMPN047"},{"$f":"VLOOKUP(PACKT09Table[[#This Row],[EmployeeID]],EmployeeListLookupTable[],3,FALSE)","v":"Employee Name 47"},{"$f":"VLOOKUP(PACKT09Table[[#This Row],[EmployeeID]],EmployeeListLookupTable[],4,FALSE)","v":"Employee Job Title 47"},null,null,null,null,null,null,null,null,null,null,null,null,{"$f":"VLOOKUP(PACKT09Table[[#This Row],[EmployeeID]],EmployeeListLookupTable[#All],15,FALSE)=\"Y\"","v":true}]
[null,"EMP0048",{"$f":"VLOOKUP(PACKT09Table[[#This Row],[EmployeeID]],EmployeeListLookupTable[],2,FALSE)","v":"EMPN048"},{"$f":"VLOOKUP(PACKT09Table[[#This Row],[EmployeeID]],EmployeeListLookupTable[],3,FALSE)","v":"Employee Name 48"},{"$f":"VLOOKUP(PACKT09Table[[#This Row],[EmployeeID]],EmployeeListLookupTable[],4,FALSE)","v":"Employee Job Title 48"},null,null,null,null,null,null,null,null,null,null,null,null,{"$f":"VLOOKUP(PACKT09Table[[#This Row],[EmployeeID]],EmployeeListLookupTable[#All],15,FALSE)=\"Y\"","v":true}]
[null,"EMP0049",{"$f":"VLOOKUP(PACKT09Table[[#This Row],[EmployeeID]],EmployeeListLookupTable[],2,FALSE)","v":"EMPN049"},{"$f":"VLOOKUP(PACKT09Table[[#This Row],[EmployeeID]],EmployeeListLookupTable[],3,FALSE)","v":"Employee Name 49"},{"$f":"VLOOKUP(PACKT09Table[[#This Row],[EmployeeID]],EmployeeListLookupTable[],4,FALSE)","v":"Employee Job Title 49"},null,null,null,null,null,null,null,null,null,null,null,null,{"$f":"VLOOKUP(PACKT09Table[[#This Row],[EmployeeID]],EmployeeListLookupTable[#All],15,FALSE)=\"Y\"","v":true}]
[null,"EMP0050",{"$f":"VLOOKUP(PACKT09Table[[#This Row],[EmployeeID]],EmployeeListLookupTable[],2,FALSE)","v":"EMPN050"},{"$f":"VLOOKUP(PACKT09Table[[#This Row],[EmployeeID]],EmployeeListLookupTable[],3,FALSE)","v":"Employee Name 50"},{"$f":"VLOOKUP(PACKT09Table[[#This Row],[EmployeeID]],EmployeeListLookupTable[],4,FALSE)","v":"Employee Job Title 50"},null,null,null,null,null,null,null,null,null,null,null,null,{"$f":"VLOOKUP(PACKT09Table[[#This Row],[EmployeeID]],EmployeeListLookupTable[#All],15,FALSE)=\"Y\"","v":true}]
[null,"EMP0051",{"$f":"VLOOKUP(PACKT09Table[[#This Row],[EmployeeID]],EmployeeListLookupTable[],2,FALSE)","v":"EMPN051"},{"$f":"VLOOKUP(PACKT09Table[[#This Row],[EmployeeID]],EmployeeListLookupTable[],3,FALSE)","v":"Employee Name 51"},{"$f":"VLOOKUP(PACKT09Table[[#This Row],[EmployeeID]],EmployeeListLookupTable[],4,FALSE)","v":"Employee Job Title 51"},null,null,null,null,null,null,null,null,null,null,null,null,{"$f":"VLOOKUP(PACKT09Table[[#This Row],[EmployeeID]],EmployeeListLookupTable[#All],15,FALSE)=\"Y\"","v":true}]
[null,"EMP0052",{"$f":"VLOOKUP(PACKT09Table[[#This Row],[EmployeeID]],EmployeeListLookupTable[],2,FALSE)","v":"EMPN052"},{"$f":"VLOOKUP(PACKT09Table[[#This Row],[EmployeeID]],EmployeeListLookupTable[],3,FALSE)","v":"Employee Name 52"},{"$f":"VLOOKUP(PACKT09Table[[#This Row],[EmployeeID]],EmployeeListLookupTable[],4,FALSE)","v":"Employee Job Title 52"},null,null,null,null,null,null,null,null,null,null,null,null,{"$f":"VLOOKUP(PACKT09Table[[#This Row],[EmployeeID]],EmployeeListLookupTable[#All],15,FALSE)=\"Y\"","v":true}]
[null,"EMP0053",{"$f":"VLOOKUP(PACKT09Table[[#This Row],[EmployeeID]],EmployeeListLookupTable[],2,FALSE)","v":"EMPN053"},{"$f":"VLOOKUP(PACKT09Table[[#This Row],[EmployeeID]],EmployeeListLookupTable[],3,FALSE)","v":"Employee Name 53"},{"$f":"VLOOKUP(PACKT09Table[[#This Row],[EmployeeID]],EmployeeListLookupTable[],4,FALSE)","v":"Employee Job Title 53"},null,null,null,null,null,null,null,null,null,null,null,null,{"$f":"VLOOKUP(PACKT09Table[[#This Row],[EmployeeID]],EmployeeListLookupTable[#All],15,FALSE)=\"Y\"","v":true}]
[null,"EMP0054",{"$f":"VLOOKUP(PACKT09Table[[#This Row],[EmployeeID]],EmployeeListLookupTable[],2,FALSE)","v":"EMPN054"},{"$f":"VLOOKUP(PACKT09Table[[#This Row],[EmployeeID]],EmployeeListLookupTable[],3,FALSE)","v":"Employee Name 54"},{"$f":"VLOOKUP(PACKT09Table[[#This Row],[EmployeeID]],EmployeeListLookupTable[],4,FALSE)","v":"Employee Job Title 54"},null,null,null,null,null,null,null,null,null,null,null,null,{"$f":"VLOOKUP(PACKT09Table[[#This Row],[EmployeeID]],EmployeeListLookupTable[#All],15,FALSE)=\"Y\"","v":true}]
[null,"EMP0055",{"$f":"VLOOKUP(PACKT09Table[[#This Row],[EmployeeID]],EmployeeListLookupTable[],2,FALSE)","v":"EMPN055"},{"$f":"VLOOKUP(PACKT09Table[[#This Row],[EmployeeID]],EmployeeListLookupTable[],3,FALSE)","v":"Employee Name 55"},{"$f":"VLOOKUP(PACKT09Table[[#This Row],[EmployeeID]],EmployeeListLookupTable[],4,FALSE)","v":"Employee Job Title 55"},null,null,null,null,null,null,null,null,null,null,null,null,{"$f":"VLOOKUP(PACKT09Table[[#This Row],[EmployeeID]],EmployeeListLookupTable[#All],15,FALSE)=\"Y\"","v":true}]
[null,"EMP0056",{"$f":"VLOOKUP(PACKT09Table[[#This Row],[EmployeeID]],EmployeeListLookupTable[],2,FALSE)","v":"EMPN056"},{"$f":"VLOOKUP(PACKT09Table[[#This Row],[EmployeeID]],EmployeeListLookupTable[],3,FALSE)","v":"Employee Name 56"},{"$f":"VLOOKUP(PACKT09Table[[#This Row],[EmployeeID]],EmployeeListLookupTable[],4,FALSE)","v":"Employee Job Title 56"},null,null,null,null,null,null,null,null,null,null,null,null,{"$f":"VLOOKUP(PACKT09Table[[#This Row],[EmployeeID]],EmployeeListLookupTable[#All],15,FALSE)=\"Y\"","v":true}]
[null,"EMP0057",{"$f":"VLOOKUP(PACKT09Table[[#This Row],[EmployeeID]],EmployeeListLookupTable[],2,FALSE)","v":"EMPN057"},{"$f":"VLOOKUP(PACKT09Table[[#This Row],[EmployeeID]],EmployeeListLookupTable[],3,FALSE)","v":"Employee Name 57"},{"$f":"VLOOKUP(PACKT09Table[[#This Row],[EmployeeID]],EmployeeListLookupTable[],4,FALSE)","v":"Employee Job Title 57"},null,null,null,null,null,null,null,null,null,null,null,null,{"$f":"VLOOKUP(PACKT09Table[[#This Row],[EmployeeID]],EmployeeListLookupTable[#All],15,FALSE)=\"Y\"","v":true}]
[null,"EMP0058",{"$f":"VLOOKUP(PACKT09Table[[#This Row],[EmployeeID]],EmployeeListLookupTable[],2,FALSE)","v":"EMPN058"},{"$f":"VLOOKUP(PACKT09Table[[#This Row],[EmployeeID]],EmployeeListLookupTable[],3,FALSE)","v":"Employee Name 58"},{"$f":"VLOOKUP(PACKT09Table[[#This Row],[EmployeeID]],EmployeeListLookupTable[],4,FALSE)","v":"Employee Job Title 58"},null,null,null,null,null,null,null,null,null,null,null,null,{"$f":"VLOOKUP(PACKT09Table[[#This Row],[EmployeeID]],EmployeeListLookupTable[#All],15,FALSE)=\"Y\"","v":true}]
[null,"EMP0059",{"$f":"VLOOKUP(PACKT09Table[[#This Row],[EmployeeID]],EmployeeListLookupTable[],2,FALSE)","v":"EMPN059"},{"$f":"VLOOKUP(PACKT09Table[[#This Row],[EmployeeID]],EmployeeListLookupTable[],3,FALSE)","v":"Employee Name 59"},{"$f":"VLOOKUP(PACKT09Table[[#This Row],[EmployeeID]],EmployeeListLookupTable[],4,FALSE)","v":"Employee Job Title 59"},null,null,null,null,null,null,null,null,null,null,null,null,{"$f":"VLOOKUP(PACKT09Table[[#This Row],[EmployeeID]],EmployeeListLookupTable[#All],15,FALSE)=\"Y\"","v":true}]
[null,"EMP0060",{"$f":"VLOOKUP(PACKT09Table[[#This Row],[EmployeeID]],EmployeeListLookupTable[],2,FALSE)","v":"EMPN060"},{"$f":"VLOOKUP(PACKT09Table[[#This Row],[EmployeeID]],EmployeeListLookupTable[],3,FALSE)","v":"Employee Name 60"},{"$f":"VLOOKUP(PACKT09Table[[#This Row],[EmployeeID]],EmployeeListLookupTable[],4,FALSE)","v":"Employee Job Title 60"},null,null,null,null,null,null,null,null,null,null,null,null,{"$f":"VLOOKUP(PACKT09Table[[#This Row],[EmployeeID]],EmployeeListLookupTable[#All],15,FALSE)=\"Y\"","v":true}]
[null,"EMP0061",{"$f":"VLOOKUP(PACKT09Table[[#This Row],[EmployeeID]],EmployeeListLookupTable[],2,FALSE)","v":"EMPN061"},{"$f":"VLOOKUP(PACKT09Table[[#This Row],[EmployeeID]],EmployeeListLookupTable[],3,FALSE)","v":"Employee Name 61"},{"$f":"VLOOKUP(PACKT09Table[[#This Row],[EmployeeID]],EmployeeListLookupTable[],4,FALSE)","v":"Employee Job Title 61"},null,null,null,null,null,null,null,null,null,null,null,null,{"$f":"VLOOKUP(PACKT09Table[[#This Row],[EmployeeID]],EmployeeListLookupTable[#All],15,FALSE)=\"Y\"","v":true}]
[null,"EMP0062",{"$f":"VLOOKUP(PACKT09Table[[#This Row],[EmployeeID]],EmployeeListLookupTable[],2,FALSE)","v":"EMPN062"},{"$f":"VLOOKUP(PACKT09Table[[#This Row],[EmployeeID]],EmployeeListLookupTable[],3,FALSE)","v":"Employee Name 62"},{"$f":"VLOOKUP(PACKT09Table[[#This Row],[EmployeeID]],EmployeeListLookupTable[],4,FALSE)","v":"Employee Job Title 62"},null,null,null,null,null,null,null,null,null,null,null,null,{"$f":"VLOOKUP(PACKT09Table[[#This Row],[EmployeeID]],EmployeeListLookupTable[#All],15,FALSE)=\"Y\"","v":true}]
[null,"EMP0063",{"$f":"VLOOKUP(PACKT09Table[[#This Row],[EmployeeID]],EmployeeListLookupTable[],2,FALSE)","v":"EMPN063"},{"$f":"VLOOKUP(PACKT09Table[[#This Row],[EmployeeID]],EmployeeListLookupTable[],3,FALSE)","v":"Employee Name 63"},{"$f":"VLOOKUP(PACKT09Table[[#This Row],[EmployeeID]],EmployeeListLookupTable[],4,FALSE)","v":"Employee Job Title 63"},null,null,null,null,null,null,null,null,null,null,null,null,{"$f":"VLOOKUP(PACKT09Table[[#This Row],[EmployeeID]],EmployeeListLookupTable[#All],15,FALSE)=\"Y\"","v":true}]
[null,"EMP0064",{"$f":"VLOOKUP(PACKT09Table[[#This Row],[EmployeeID]],EmployeeListLookupTable[],2,FALSE)","v":"EMPN064"},{"$f":"VLOOKUP(PACKT09Table[[#This Row],[EmployeeID]],EmployeeListLookupTable[],3,FALSE)","v":"Employee Name 64"},{"$f":"VLOOKUP(PACKT09Table[[#This Row],[EmployeeID]],EmployeeListLookupTable[],4,FALSE)","v":"Employee Job Title 64"},null,null,null,null,null,null,null,null,null,null,null,null,{"$f":"VLOOKUP(PACKT09Table[[#This Row],[EmployeeID]],EmployeeListLookupTable[#All],15,FALSE)=\"Y\"","v":true}]
[null,"EMP0065",{"$f":"VLOOKUP(PACKT09Table[[#This Row],[EmployeeID]],EmployeeListLookupTable[],2,FALSE)","v":"EMPN065"},{"$f":"VLOOKUP(PACKT09Table[[#This Row],[EmployeeID]],EmployeeListLookupTable[],3,FALSE)","v":"Employee Name 65"},{"$f":"VLOOKUP(PACKT09Table[[#This Row],[EmployeeID]],EmployeeListLookupTable[],4,FALSE)","v":"Employee Job Title 65"},null,null,null,null,null,null,null,null,null,null,null,null,{"$f":"VLOOKUP(PACKT09Table[[#This Row],[EmployeeID]],EmployeeListLookupTable[#All],15,FALSE)=\"Y\"","v":true}]
[null,"EMP0066",{"$f":"VLOOKUP(PACKT09Table[[#This Row],[EmployeeID]],EmployeeListLookupTable[],2,FALSE)","v":"EMPN066"},{"$f":"VLOOKUP(PACKT09Table[[#This Row],[EmployeeID]],EmployeeListLookupTable[],3,FALSE)","v":"Employee Name 66"},{"$f":"VLOOKUP(PACKT09Table[[#This Row],[EmployeeID]],EmployeeListLookupTable[],4,FALSE)","v":"Employee Job Title 66"},null,null,null,null,null,null,null,null,null,null,null,null,{"$f":"VLOOKUP(PACKT09Table[[#This Row],[EmployeeID]],EmployeeListLookupTable[#All],15,FALSE)=\"Y\"","v":true}]
[null,"EMP0067",{"$f":"VLOOKUP(PACKT09Table[[#This Row],[EmployeeID]],EmployeeListLookupTable[],2,FALSE)","v":"EMPN067"},{"$f":"VLOOKUP(PACKT09Table[[#This Row],[EmployeeID]],EmployeeListLookupTable[],3,FALSE)","v":"Employee Name 67"},{"$f":"VLOOKUP(PACKT09Table[[#This Row],[EmployeeID]],EmployeeListLookupTable[],4,FALSE)","v":"Employee Job Title 67"},null,null,null,null,null,null,null,null,null,null,null,null,{"$f":"VLOOKUP(PACKT09Table[[#This Row],[EmployeeID]],EmployeeListLookupTable[#All],15,FALSE)=\"Y\"","v":true}]
[null,"EMP0068",{"$f":"VLOOKUP(PACKT09Table[[#This Row],[EmployeeID]],EmployeeListLookupTable[],2,FALSE)","v":"EMPN068"},{"$f":"VLOOKUP(PACKT09Table[[#This Row],[EmployeeID]],EmployeeListLookupTable[],3,FALSE)","v":"Employee Name 68"},{"$f":"VLOOKUP(PACKT09Table[[#This Row],[EmployeeID]],EmployeeListLookupTable[],4,FALSE)","v":"Employee Job Title 68"},null,null,null,null,null,null,null,null,null,null,null,null,{"$f":"VLOOKUP(PACKT09Table[[#This Row],[EmployeeID]],EmployeeListLookupTable[#All],15,FALSE)=\"Y\"","v":true}]
[null,"EMP0069",{"$f":"VLOOKUP(PACKT09Table[[#This Row],[EmployeeID]],EmployeeListLookupTable[],2,FALSE)","v":"EMPN069"},{"$f":"VLOOKUP(PACKT09Table[[#This Row],[EmployeeID]],EmployeeListLookupTable[],3,FALSE)","v":"Employee Name 69"},{"$f":"VLOOKUP(PACKT09Table[[#This Row],[EmployeeID]],EmployeeListLookupTable[],4,FALSE)","v":"Employee Job Title 69"},null,null,null,null,null,null,null,null,null,null,null,null,{"$f":"VLOOKUP(PACKT09Table[[#This Row],[EmployeeID]],EmployeeListLookupTable[#All],15,FALSE)=\"Y\"","v":true}]
[null,"EMP0070",{"$f":"VLOOKUP(PACKT09Table[[#This Row],[EmployeeID]],EmployeeListLookupTable[],2,FALSE)","v":"EMPN070"},{"$f":"VLOOKUP(PACKT09Table[[#This Row],[EmployeeID]],EmployeeListLookupTable[],3,FALSE)","v":"Employee Name 70"},{"$f":"VLOOKUP(PACKT09Table[[#This Row],[EmployeeID]],EmployeeListLookupTable[],4,FALSE)","v":"Employee Job Title 70"},null,null,null,null,null,null,null,null,null,null,null,null,{"$f":"VLOOKUP(PACKT09Table[[#This Row],[EmployeeID]],EmployeeListLookupTable[#All],15,FALSE)=\"Y\"","v":true}]
[null,"EMP0071",{"$f":"VLOOKUP(PACKT09Table[[#This Row],[EmployeeID]],EmployeeListLookupTable[],2,FALSE)","v":"EMPN071"},{"$f":"VLOOKUP(PACKT09Table[[#This Row],[EmployeeID]],EmployeeListLookupTable[],3,FALSE)","v":"Employee Name 71"},{"$f":"VLOOKUP(PACKT09Table[[#This Row],[EmployeeID]],EmployeeListLookupTable[],4,FALSE)","v":"Employee Job Title 71"},null,null,null,null,null,null,null,null,null,null,null,null,{"$f":"VLOOKUP(PACKT09Table[[#This Row],[EmployeeID]],EmployeeListLookupTable[#All],15,FALSE)=\"Y\"","v":true}]
[null,"EMP0072",{"$f":"VLOOKUP(PACKT09Table[[#This Row],[EmployeeID]],EmployeeListLookupTable[],2,FALSE)","v":"EMPN072"},{"$f":"VLOOKUP(PACKT09Table[[#This Row],[EmployeeID]],EmployeeListLookupTable[],3,FALSE)","v":"Employee Name 72"},{"$f":"VLOOKUP(PACKT09Table[[#This Row],[EmployeeID]],EmployeeListLookupTable[],4,FALSE)","v":"Employee Job Title 72"},null,null,null,null,null,null,null,null,null,null,null,null,{"$f":"VLOOKUP(PACKT09Table[[#This Row],[EmployeeID]],EmployeeListLookupTable[#All],15,FALSE)=\"Y\"","v":true}]
[null,"EMP0073",{"$f":"VLOOKUP(PACKT09Table[[#This Row],[EmployeeID]],EmployeeListLookupTable[],2,FALSE)","v":"EMPN073"},{"$f":"VLOOKUP(PACKT09Table[[#This Row],[EmployeeID]],EmployeeListLookupTable[],3,FALSE)","v":"Employee Name 73"},{"$f":"VLOOKUP(PACKT09Table[[#This Row],[EmployeeID]],EmployeeListLookupTable[],4,FALSE)","v":"Employee Job Title 73"},null,null,null,null,null,null,null,null,null,null,null,null,{"$f":"VLOOKUP(PACKT09Table[[#This Row],[EmployeeID]],EmployeeListLookupTable[#All],15,FALSE)=\"Y\"","v":true}]
[null,"EMP0074",{"$f":"VLOOKUP(PACKT09Table[[#This Row],[EmployeeID]],EmployeeListLookupTable[],2,FALSE)","v":"EMPN074"},{"$f":"VLOOKUP(PACKT09Table[[#This Row],[EmployeeID]],EmployeeListLookupTable[],3,FALSE)","v":"Employee Name 74"},{"$f":"VLOOKUP(PACKT09Table[[#This Row],[EmployeeID]],EmployeeListLookupTable[],4,FALSE)","v":"Employee Job Title 74"},null,null,null,null,null,null,null,null,null,null,null,null,{"$f":"VLOOKUP(PACKT09Table[[#This Row],[EmployeeID]],EmployeeListLookupTable[#All],15,FALSE)=\"Y\"","v":true}]
[null,"EMP0075",{"$f":"VLOOKUP(PACKT09Table[[#This Row],[EmployeeID]],EmployeeListLookupTable[],2,FALSE)","v":"EMPN075"},{"$f":"VLOOKUP(PACKT09Table[[#This Row],[EmployeeID]],EmployeeListLookupTable[],3,FALSE)","v":"Employee Name 75"},{"$f":"VLOOKUP(PACKT09Table[[#This Row],[EmployeeID]],EmployeeListLookupTable[],4,FALSE)","v":"Employee Job Title 75"},null,null,null,null,null,null,null,null,null,null,null,null,{"$f":"VLOOKUP(PACKT09Table[[#This Row],[EmployeeID]],EmployeeListLookupTable[#All],15,FALSE)=\"Y\"","v":true}]
[null,"EMP0076",{"$f":"VLOOKUP(PACKT09Table[[#This Row],[EmployeeID]],EmployeeListLookupTable[],2,FALSE)","v":"EMPN076"},{"$f":"VLOOKUP(PACKT09Table[[#This Row],[EmployeeID]],EmployeeListLookupTable[],3,FALSE)","v":"Employee Name 76"},{"$f":"VLOOKUP(PACKT09Table[[#This Row],[EmployeeID]],EmployeeListLookupTable[],4,FALSE)","v":"Employee Job Title 76"},null,null,null,null,null,null,null,null,null,null,null,null,{"$f":"VLOOKUP(PACKT09Table[[#This Row],[EmployeeID]],EmployeeListLookupTable[#All],15,FALSE)=\"Y\"","v":true}]
[null,"EMP0077",{"$f":"VLOOKUP(PACKT09Table[[#This Row],[EmployeeID]],EmployeeListLookupTable[],2,FALSE)","v":"EMPN077"},{"$f":"VLOOKUP(PACKT09Table[[#This Row],[EmployeeID]],EmployeeListLookupTable[],3,FALSE)","v":"Employee Name 77"},{"$f":"VLOOKUP(PACKT09Table[[#This Row],[EmployeeID]],EmployeeListLookupTable[],4,FALSE)","v":"Employee Job Title 77"},null,null,null,null,null,null,null,null,null,null,null,null,{"$f":"VLOOKUP(PACKT09Table[[#This Row],[EmployeeID]],EmployeeListLookupTable[#All],15,FALSE)=\"Y\"","v":true}]
[null,"EMP0078",{"$f":"VLOOKUP(PACKT09Table[[#This Row],[EmployeeID]],EmployeeListLookupTable[],2,FALSE)","v":"EMPN078"},{"$f":"VLOOKUP(PACKT09Table[[#This Row],[EmployeeID]],EmployeeListLookupTable[],3,FALSE)","v":"Employee Name 78"},{"$f":"VLOOKUP(PACKT09Table[[#This Row],[EmployeeID]],EmployeeListLookupTable[],4,FALSE)","v":"Employee Job Title 78"},null,null,null,null,null,null,null,null,null,null,null,null,{"$f":"VLOOKUP(PACKT09Table[[#This Row],[EmployeeID]],EmployeeListLookupTable[#All],15,FALSE)=\"Y\"","v":true}]
[null,"EMP0079",{"$f":"VLOOKUP(PACKT09Table[[#This Row],[EmployeeID]],EmployeeListLookupTable[],2,FALSE)","v":"EMPN079"},{"$f":"VLOOKUP(PACKT09Table[[#This Row],[EmployeeID]],EmployeeListLookupTable[],3,FALSE)","v":"Employee Name 79"},{"$f":"VLOOKUP(PACKT09Table[[#This Row],[EmployeeID]],EmployeeListLookupTable[],4,FALSE)","v":"Employee Job Title 79"},null,null,null,null,null,null,null,null,null,null,null,null,{"$f":"VLOOKUP(PACKT09Table[[#This Row],[EmployeeID]],EmployeeListLookupTable[#All],15,FALSE)=\"Y\"","v":true}]
[null,"EMP0080",{"$f":"VLOOKUP(PACKT09Table[[#This Row],[EmployeeID]],EmployeeListLookupTable[],2,FALSE)","v":"EMPN080"},{"$f":"VLOOKUP(PACKT09Table[[#This Row],[EmployeeID]],EmployeeListLookupTable[],3,FALSE)","v":"Employee Name 80"},{"$f":"VLOOKUP(PACKT09Table[[#This Row],[EmployeeID]],EmployeeListLookupTable[],4,FALSE)","v":"Employee Job Title 80"},null,null,null,null,null,null,null,null,null,null,null,null,{"$f":"VLOOKUP(PACKT09Table[[#This Row],[EmployeeID]],EmployeeListLookupTable[#All],15,FALSE)=\"Y\"","v":true}]
[null,"EMP0081",{"$f":"VLOOKUP(PACKT09Table[[#This Row],[EmployeeID]],EmployeeListLookupTable[],2,FALSE)","v":"EMPN081"},{"$f":"VLOOKUP(PACKT09Table[[#This Row],[EmployeeID]],EmployeeListLookupTable[],3,FALSE)","v":"Employee Name 81"},{"$f":"VLOOKUP(PACKT09Table[[#This Row],[EmployeeID]],EmployeeListLookupTable[],4,FALSE)","v":"Employee Job Title 81"},null,null,null,null,null,null,null,null,null,null,null,null,{"$f":"VLOOKUP(PACKT09Table[[#This Row],[EmployeeID]],EmployeeListLookupTable[#All],15,FALSE)=\"Y\"","v":true}]
[null,"EMP0082",{"$f":"VLOOKUP(PACKT09Table[[#This Row],[EmployeeID]],EmployeeListLookupTable[],2,FALSE)","v":"EMPN082"},{"$f":"VLOOKUP(PACKT09Table[[#This Row],[EmployeeID]],EmployeeListLookupTable[],3,FALSE)","v":"Employee Name 82"},{"$f":"VLOOKUP(PACKT09Table[[#This Row],[EmployeeID]],EmployeeListLookupTable[],4,FALSE)","v":"Employee Job Title 82"},null,null,null,null,null,null,null,null,null,null,null,null,{"$f":"VLOOKUP(PACKT09Table[[#This Row],[EmployeeID]],EmployeeListLookupTable[#All],15,FALSE)=\"Y\"","v":true}]
[null,"EMP0083",{"$f":"VLOOKUP(PACKT09Table[[#This Row],[EmployeeID]],EmployeeListLookupTable[],2,FALSE)","v":"EMPN083"},{"$f":"VLOOKUP(PACKT09Table[[#This Row],[EmployeeID]],EmployeeListLookupTable[],3,FALSE)","v":"Employee Name 83"},{"$f":"VLOOKUP(PACKT09Table[[#This Row],[EmployeeID]],EmployeeListLookupTable[],4,FALSE)","v":"Employee Job Title 83"},null,null,null,null,null,null,null,null,null,null,null,null,{"$f":"VLOOKUP(PACKT09Table[[#This Row],[EmployeeID]],EmployeeListLookupTable[#All],15,FALSE)=\"Y\"","v":true}]
[null,"EMP0084",{"$f":"VLOOKUP(PACKT09Table[[#This Row],[EmployeeID]],EmployeeListLookupTable[],2,FALSE)","v":"EMPN084"},{"$f":"VLOOKUP(PACKT09Table[[#This Row],[EmployeeID]],EmployeeListLookupTable[],3,FALSE)","v":"Employee Name 84"},{"$f":"VLOOKUP(PACKT09Table[[#This Row],[EmployeeID]],EmployeeListLookupTable[],4,FALSE)","v":"Employee Job Title 84"},null,null,null,null,null,null,null,null,null,null,null,null,{"$f":"VLOOKUP(PACKT09Table[[#This Row],[EmployeeID]],EmployeeListLookupTable[#All],15,FALSE)=\"Y\"","v":true}]
[null,"EMP0085",{"$f":"VLOOKUP(PACKT09Table[[#This Row],[EmployeeID]],EmployeeListLookupTable[],2,FALSE)","v":"EMPN085"},{"$f":"VLOOKUP(PACKT09Table[[#This Row],[EmployeeID]],EmployeeListLookupTable[],3,FALSE)","v":"Employee Name 85"},{"$f":"VLOOKUP(PACKT09Table[[#This Row],[EmployeeID]],EmployeeListLookupTable[],4,FALSE)","v":"Employee Job Title 85"},null,null,null,null,null,null,null,null,null,null,null,null,{"$f":"VLOOKUP(PACKT09Table[[#This Row],[EmployeeID]],EmployeeListLookupTable[#All],15,FALSE)=\"Y\"","v":true}]
[null,"EMP0086",{"$f":"VLOOKUP(PACKT09Table[[#This Row],[EmployeeID]],EmployeeListLookupTable[],2,FALSE)","v":"EMPN086"},{"$f":"VLOOKUP(PACKT09Table[[#This Row],[EmployeeID]],EmployeeListLookupTable[],3,FALSE)","v":"Employee Name 86"},{"$f":"VLOOKUP(PACKT09Table[[#This Row],[EmployeeID]],EmployeeListLookupTable[],4,FALSE)","v":"Employee Job Title 86"},null,null,null,null,null,null,null,null,null,null,null,null,{"$f":"VLOOKUP(PACKT09Table[[#This Row],[EmployeeID]],EmployeeListLookupTable[#All],15,FALSE)=\"Y\"","v":true}]
[null,"EMP0087",{"$f":"VLOOKUP(PACKT09Table[[#This Row],[EmployeeID]],EmployeeListLookupTable[],2,FALSE)","v":"EMPN087"},{"$f":"VLOOKUP(PACKT09Table[[#This Row],[EmployeeID]],EmployeeListLookupTable[],3,FALSE)","v":"Employee Name 87"},{"$f":"VLOOKUP(PACKT09Table[[#This Row],[EmployeeID]],EmployeeListLookupTable[],4,FALSE)","v":"Employee Job Title 87"},null,null,null,null,null,null,null,null,null,null,null,null,{"$f":"VLOOKUP(PACKT09Table[[#This Row],[EmployeeID]],EmployeeListLookupTable[#All],15,FALSE)=\"Y\"","v":true}]
[null,"EMP0088",{"$f":"VLOOKUP(PACKT09Table[[#This Row],[EmployeeID]],EmployeeListLookupTable[],2,FALSE)","v":"EMPN088"},{"$f":"VLOOKUP(PACKT09Table[[#This Row],[EmployeeID]],EmployeeListLookupTable[],3,FALSE)","v":"Employee Name 88"},{"$f":"VLOOKUP(PACKT09Table[[#This Row],[EmployeeID]],EmployeeListLookupTable[],4,FALSE)","v":"Employee Job Title 88"},null,null,null,null,null,null,null,null,null,null,null,null,{"$f":"VLOOKUP(PACKT09Table[[#This Row],[EmployeeID]],EmployeeListLookupTable[#All],15,FALSE)=\"Y\"","v":true}]
[null,"EMP0089",{"$f":"VLOOKUP(PACKT09Table[[#This Row],[EmployeeID]],EmployeeListLookupTable[],2,FALSE)","v":"EMPN089"},{"$f":"VLOOKUP(PACKT09Table[[#This Row],[EmployeeID]],EmployeeListLookupTable[],3,FALSE)","v":"Employee Name 89"},{"$f":"VLOOKUP(PACKT09Table[[#This Row],[EmployeeID]],EmployeeListLookupTable[],4,FALSE)","v":"Employee Job Title 89"},null,null,null,null,null,null,null,null,null,null,null,null,{"$f":"VLOOKUP(PACKT09Table[[#This Row],[EmployeeID]],EmployeeListLookupTable[#All],15,FALSE)=\"Y\"","v":true}]
[null,"EMP0090",{"$f":"VLOOKUP(PACKT09Table[[#This Row],[EmployeeID]],EmployeeListLookupTable[],2,FALSE)","v":"EMPN090"},{"$f":"VLOOKUP(PACKT09Table[[#This Row],[EmployeeID]],EmployeeListLookupTable[],3,FALSE)","v":"Employee Name 90"},{"$f":"VLOOKUP(PACKT09Table[[#This Row],[EmployeeID]],EmployeeListLookupTable[],4,FALSE)","v":"Employee Job Title 90"},null,null,null,null,null,null,null,null,null,null,null,null,{"$f":"VLOOKUP(PACKT09Table[[#This Row],[EmployeeID]],EmployeeListLookupTable[#All],15,FALSE)=\"Y\"","v":true}]
[null,"EMP0091",{"$f":"VLOOKUP(PACKT09Table[[#This Row],[EmployeeID]],EmployeeListLookupTable[],2,FALSE)","v":"EMPN091"},{"$f":"VLOOKUP(PACKT09Table[[#This Row],[EmployeeID]],EmployeeListLookupTable[],3,FALSE)","v":"Employee Name 91"},{"$f":"VLOOKUP(PACKT09Table[[#This Row],[EmployeeID]],EmployeeListLookupTable[],4,FALSE)","v":"Employee Job Title 91"},null,null,null,null,null,null,null,null,null,null,null,null,{"$f":"VLOOKUP(PACKT09Table[[#This Row],[EmployeeID]],EmployeeListLookupTable[#All],15,FALSE)=\"Y\"","v":true}]
[null,"EMP0092",{"$f":"VLOOKUP(PACKT09Table[[#This Row],[EmployeeID]],EmployeeListLookupTable[],2,FALSE)","v":"EMPN092"},{"$f":"VLOOKUP(PACKT09Table[[#This Row],[EmployeeID]],EmployeeListLookupTable[],3,FALSE)","v":"Employee Name 92"},{"$f":"VLOOKUP(PACKT09Table[[#This Row],[EmployeeID]],EmployeeListLookupTable[],4,FALSE)","v":"Employee Job Title 92"},null,null,null,null,null,null,null,null,null,null,null,null,{"$f":"VLOOKUP(PACKT09Table[[#This Row],[EmployeeID]],EmployeeListLookupTable[#All],15,FALSE)=\"Y\"","v":true}]
[null,"EMP0093",{"$f":"VLOOKUP(PACKT09Table[[#This Row],[EmployeeID]],EmployeeListLookupTable[],2,FALSE)","v":"EMPN093"},{"$f":"VLOOKUP(PACKT09Table[[#This Row],[EmployeeID]],EmployeeListLookupTable[],3,FALSE)","v":"Employee Name 93"},{"$f":"VLOOKUP(PACKT09Table[[#This Row],[EmployeeID]],EmployeeListLookupTable[],4,FALSE)","v":"Employee Job Title 93"},null,null,null,null,null,null,null,null,null,null,null,null,{"$f":"VLOOKUP(PACKT09Table[[#This Row],[EmployeeID]],EmployeeListLookupTable[#All],15,FALSE)=\"Y\"","v":true}]
[null,"EMP0094",{"$f":"VLOOKUP(PACKT09Table[[#This Row],[EmployeeID]],EmployeeListLookupTable[],2,FALSE)","v":"EMPN094"},{"$f":"VLOOKUP(PACKT09Table[[#This Row],[EmployeeID]],EmployeeListLookupTable[],3,FALSE)","v":"Employee Name 94"},{"$f":"VLOOKUP(PACKT09Table[[#This Row],[EmployeeID]],EmployeeListLookupTable[],4,FALSE)","v":"Employee Job Title 94"},null,null,null,null,null,null,null,null,null,null,null,null,{"$f":"VLOOKUP(PACKT09Table[[#This Row],[EmployeeID]],EmployeeListLookupTable[#All],15,FALSE)=\"Y\"","v":true}]
[null,"EMP0095",{"$f":"VLOOKUP(PACKT09Table[[#This Row],[EmployeeID]],EmployeeListLookupTable[],2,FALSE)","v":"EMPN095"},{"$f":"VLOOKUP(PACKT09Table[[#This Row],[EmployeeID]],EmployeeListLookupTable[],3,FALSE)","v":"Employee Name 95"},{"$f":"VLOOKUP(PACKT09Table[[#This Row],[EmployeeID]],EmployeeListLookupTable[],4,FALSE)","v":"Employee Job Title 95"},null,null,null,null,null,null,null,null,null,null,null,null,{"$f":"VLOOKUP(PACKT09Table[[#This Row],[EmployeeID]],EmployeeListLookupTable[#All],15,FALSE)=\"Y\"","v":true}]
[null,"EMP0096",{"$f":"VLOOKUP(PACKT09Table[[#This Row],[EmployeeID]],EmployeeListLookupTable[],2,FALSE)","v":"EMPN096"},{"$f":"VLOOKUP(PACKT09Table[[#This Row],[EmployeeID]],EmployeeListLookupTable[],3,FALSE)","v":"Employee Name 96"},{"$f":"VLOOKUP(PACKT09Table[[#This Row],[EmployeeID]],EmployeeListLookupTable[],4,FALSE)","v":"Employee Job Title 96"},null,null,null,null,null,null,null,null,null,null,null,null,{"$f":"VLOOKUP(PACKT09Table[[#This Row],[EmployeeID]],EmployeeListLookupTable[#All],15,FALSE)=\"Y\"","v":true}]
[null,"EMP0097",{"$f":"VLOOKUP(PACKT09Table[[#This Row],[EmployeeID]],EmployeeListLookupTable[],2,FALSE)","v":"EMPN097"},{"$f":"VLOOKUP(PACKT09Table[[#This Row],[EmployeeID]],EmployeeListLookupTable[],3,FALSE)","v":"Employee Name 97"},{"$f":"VLOOKUP(PACKT09Table[[#This Row],[EmployeeID]],EmployeeListLookupTable[],4,FALSE)","v":"Employee Job Title 97"},null,null,null,null,null,null,null,null,null,null,null,null,{"$f":"VLOOKUP(PACKT09Table[[#This Row],[EmployeeID]],EmployeeListLookupTable[#All],15,FALSE)=\"Y\"","v":true}]
[null,"EMP0098",{"$f":"VLOOKUP(PACKT09Table[[#This Row],[EmployeeID]],EmployeeListLookupTable[],2,FALSE)","v":"EMPN098"},{"$f":"VLOOKUP(PACKT09Table[[#This Row],[EmployeeID]],EmployeeListLookupTable[],3,FALSE)","v":"Employee Name 98"},{"$f":"VLOOKUP(PACKT09Table[[#This Row],[EmployeeID]],EmployeeListLookupTable[],4,FALSE)","v":"Employee Job Title 98"},null,null,null,null,null,null,null,null,null,null,null,null,{"$f":"VLOOKUP(PACKT09Table[[#This Row],[EmployeeID]],EmployeeListLookupTable[#All],15,FALSE)=\"Y\"","v":true}]
[null,"EMP0099",{"$f":"VLOOKUP(PACKT09Table[[#This Row],[EmployeeID]],EmployeeListLookupTable[],2,FALSE)","v":"EMPN099"},{"$f":"VLOOKUP(PACKT09Table[[#This Row],[EmployeeID]],EmployeeListLookupTable[],3,FALSE)","v":"Employee Name 99"},{"$f":"VLOOKUP(PACKT09Table[[#This Row],[EmployeeID]],EmployeeListLookupTable[],4,FALSE)","v":"Employee Job Title 99"},null,null,null,null,null,null,null,null,null,null,null,null,{"$f":"VLOOKUP(PACKT09Table[[#This Row],[EmployeeID]],EmployeeListLookupTable[#All],15,FALSE)=\"Y\"","v":true}]
[null,"EMP0100",{"$f":"VLOOKUP(PACKT09Table[[#This Row],[EmployeeID]],EmployeeListLookupTable[],2,FALSE)","v":"EMPN100"},{"$f":"VLOOKUP(PACKT09Table[[#This Row],[EmployeeID]],EmployeeListLookupTable[],3,FALSE)","v":"Employee Name 100"},{"$f":"VLOOKUP(PACKT09Table[[#This Row],[EmployeeID]],EmployeeListLookupTable[],4,FALSE)","v":"Employee Job Title 100"},null,null,null,null,null,null,null,null,null,null,null,null,{"$f":"VLOOKUP(PACKT09Table[[#This Row],[EmployeeID]],EmployeeListLookupTable[#All],15,FALSE)=\"Y\"","v":true}]
[null,"Total",null,null,"Total",{"$f":"SUBTOTAL(109,PACKT09Table[1])","v":0},{"$f":"SUBTOTAL(109,PACKT09Table[2])","v":0},{"$f":"SUBTOTAL(109,PACKT09Table[3])","v":0},{"$f":"SUBTOTAL(109,PACKT09Table[4])","v":0},{"$f":"SUBTOTAL(109,PACKT09Table[5])","v":0},{"$f":"SUBTOTAL(109,PACKT09Table[6])","v":0},{"$f":"SUBTOTAL(109,PACKT09Table[7])","v":0},{"$f":"SUBTOTAL(109,PACKT09Table[8])","v":0},{"$f":"SUBTOTAL(109,PACKT09Table[9])","v":0},{"$f":"SUBTOTAL(109,PACKT09Table[10])","v":0},{"$f":"SUBTOTAL(109,PACKT09Table[11])","v":0},{"$f":"SUBTOTAL(109,PACKT09Table[12])","v":0}]

{"sheet":"PACKT10","index":18,"n_rows":112,"n_cols":18,"rows_kept":112,"cut":false,"hidden":false,"merged":[[1,2,1,4],[1,6,1,10],[2,2,2,10]]}
[null,null,"Menu"]
[null,null,{"$f":"EntityName","v":"Company A"},null,null,null,{"$f":"YearEnd","v":"2013-02-28"}]
[null,null,{"$f":"VLOOKUP(D6,PackageItemListLookup[],4,FALSE)","v":"PACKT10"}]
[]
[]
[null,null,"Package Item code:","PACK010"]
[null,null,"Package Item name:",{"$f":"VLOOKUP(D6,PackageItemListLookup[],2,FALSE)","v":"Package Item 10"}]
[null,null,null,null,"Total",{"$f":"PACKT10Table[[#Totals],[1]]","v":0},{"$f":"PACKT03Table[[#Totals],[2]]","v":0},{"$f":"PACKT03Table[[#Totals],[3]]","v":0},{"$f":"PACKT03Table[[#Totals],[4]]","v":0},{"$f":"PACKT03Table[[#Totals],[5]]","v":0},{"$f":"PACKT03Table[[#Totals],[6]]","v":0},{"$f":"PACKT03Table[[#Totals],[7]]","v":0},{"$f":"PACKT03Table[[#Totals],[8]]","v":0},{"$f":"PACKT03Table[[#Totals],[9]]","v":0},{"$f":"PACKT03Table[[#Totals],[10]]","v":0},{"$f":"PACKT03Table[[#Totals],[11]]","v":0},{"$f":"PACKT03Table[[#Totals],[12]]","v":0}]
[]
[null,null,null,null,null,{"$f":"VLOOKUP(PackageItemTable[[#Headers],[1]],CalendarMonthText,5,FALSE)","v":"March"},{"$f":"VLOOKUP(PackageItemTable[[#Headers],[2]],CalendarMonthText,5,FALSE)","v":"April"},{"$f":"VLOOKUP(PackageItemTable[[#Headers],[3]],CalendarMonthText,5,FALSE)","v":"May"},{"$f":"VLOOKUP(PackageItemTable[[#Headers],[4]],CalendarMonthText,5,FALSE)","v":"June"},{"$f":"VLOOKUP(PackageItemTable[[#Headers],[5]],CalendarMonthText,5,FALSE)","v":"July"},{"$f":"VLOOKUP(PackageItemTable[[#Headers],[6]],CalendarMonthText,5,FALSE)","v":"August"},{"$f":"VLOOKUP(PackageItemTable[[#Headers],[7]],CalendarMonthText,5,FALSE)","v":"September"},{"$f":"VLOOKUP(PackageItemTable[[#Headers],[8]],CalendarMonthText,5,FALSE)","v":"October"},{"$f":"VLOOKUP(PackageItemTable[[#Headers],[9]],CalendarMonthText,5,FALSE)","v":"November"},{"$f":"VLOOKUP(PackageItemTable[[#Headers],[10]],CalendarMonthText,5,FALSE)","v":"December"},{"$f":"VLOOKUP(PackageItemTable[[#Headers],[11]],CalendarMonthText,5,FALSE)","v":"January"},{"$f":"VLOOKUP(PackageItemTable[[#Headers],[12]],CalendarMonthText,5,FALSE)","v":"February"}]
[null,"EmployeeID","EmployeeNumber","EmployeeName","EmployeeJobTitle","1","2","3","4","5","6","7","8","9","10","11","12","Selected"]
[null,"EMP0001",{"$f":"VLOOKUP(PACKT10Table[[#This Row],[EmployeeID]],EmployeeListLookupTable[],2,FALSE)","v":"EMPN001"},{"$f":"VLOOKUP(PACKT10Table[[#This Row],[EmployeeID]],EmployeeListLookupTable[],3,FALSE)","v":"Employee Name 1"},{"$f":"VLOOKUP(PACKT10Table[[#This Row],[EmployeeID]],EmployeeListLookupTable[],4,FALSE)","v":"Employee Job Title 1"},null,null,null,null,null,null,null,null,null,null,null,null,{"$f":"VLOOKUP(PACKT10Table[[#This Row],[EmployeeID]],EmployeeListLookupTable[#All],16,FALSE)=\"Y\"","v":true}]
[null,"EMP0002",{"$f":"VLOOKUP(PACKT10Table[[#This Row],[EmployeeID]],EmployeeListLookupTable[],2,FALSE)","v":"EMPN002"},{"$f":"VLOOKUP(PACKT10Table[[#This Row],[EmployeeID]],EmployeeListLookupTable[],3,FALSE)","v":"Employee Name 2"},{"$f":"VLOOKUP(PACKT10Table[[#This Row],[EmployeeID]],EmployeeListLookupTable[],4,FALSE)","v":"Employee Job Title 2"},null,null,null,null,null,null,null,null,null,null,null,null,{"$f":"VLOOKUP(PACKT10Table[[#This Row],[EmployeeID]],EmployeeListLookupTable[#All],16,FALSE)=\"Y\"","v":true}]
[null,"EMP0003",{"$f":"VLOOKUP(PACKT10Table[[#This Row],[EmployeeID]],EmployeeListLookupTable[],2,FALSE)","v":"EMPN003"},{"$f":"VLOOKUP(PACKT10Table[[#This Row],[EmployeeID]],EmployeeListLookupTable[],3,FALSE)","v":"Employee Name 3"},{"$f":"VLOOKUP(PACKT10Table[[#This Row],[EmployeeID]],EmployeeListLookupTable[],4,FALSE)","v":"Employee Job Title 3"},null,null,null,null,null,null,null,null,null,null,null,null,{"$f":"VLOOKUP(PACKT10Table[[#This Row],[EmployeeID]],EmployeeListLookupTable[#All],16,FALSE)=\"Y\"","v":true}]
[null,"EMP0004",{"$f":"VLOOKUP(PACKT10Table[[#This Row],[EmployeeID]],EmployeeListLookupTable[],2,FALSE)","v":"EMPN004"},{"$f":"VLOOKUP(PACKT10Table[[#This Row],[EmployeeID]],EmployeeListLookupTable[],3,FALSE)","v":"Employee Name 4"},{"$f":"VLOOKUP(PACKT10Table[[#This Row],[EmployeeID]],EmployeeListLookupTable[],4,FALSE)","v":"Employee Job Title 4"},null,null,null,null,null,null,null,null,null,null,null,null,{"$f":"VLOOKUP(PACKT10Table[[#This Row],[EmployeeID]],EmployeeListLookupTable[#All],16,FALSE)=\"Y\"","v":true}]
[null,"EMP0005",{"$f":"VLOOKUP(PACKT10Table[[#This Row],[EmployeeID]],EmployeeListLookupTable[],2,FALSE)","v":"EMPN005"},{"$f":"VLOOKUP(PACKT10Table[[#This Row],[EmployeeID]],EmployeeListLookupTable[],3,FALSE)","v":"Employee Name 5"},{"$f":"VLOOKUP(PACKT10Table[[#This Row],[EmployeeID]],EmployeeListLookupTable[],4,FALSE)","v":"Employee Job Title 5"},null,null,null,null,null,null,null,null,null,null,null,null,{"$f":"VLOOKUP(PACKT10Table[[#This Row],[EmployeeID]],EmployeeListLookupTable[#All],16,FALSE)=\"Y\"","v":true}]
[null,"EMP0006",{"$f":"VLOOKUP(PACKT10Table[[#This Row],[EmployeeID]],EmployeeListLookupTable[],2,FALSE)","v":"EMPN006"},{"$f":"VLOOKUP(PACKT10Table[[#This Row],[EmployeeID]],EmployeeListLookupTable[],3,FALSE)","v":"Employee Name 6"},{"$f":"VLOOKUP(PACKT10Table[[#This Row],[EmployeeID]],EmployeeListLookupTable[],4,FALSE)","v":"Employee Job Title 6"},null,null,null,null,null,null,null,null,null,null,null,null,{"$f":"VLOOKUP(PACKT10Table[[#This Row],[EmployeeID]],EmployeeListLookupTable[#All],16,FALSE)=\"Y\"","v":true}]
[null,"EMP0007",{"$f":"VLOOKUP(PACKT10Table[[#This Row],[EmployeeID]],EmployeeListLookupTable[],2,FALSE)","v":"EMPN007"},{"$f":"VLOOKUP(PACKT10Table[[#This Row],[EmployeeID]],EmployeeListLookupTable[],3,FALSE)","v":"Employee Name 7"},{"$f":"VLOOKUP(PACKT10Table[[#This Row],[EmployeeID]],EmployeeListLookupTable[],4,FALSE)","v":"Employee Job Title 7"},null,null,null,null,null,null,null,null,null,null,null,null,{"$f":"VLOOKUP(PACKT10Table[[#This Row],[EmployeeID]],EmployeeListLookupTable[#All],16,FALSE)=\"Y\"","v":true}]
[null,"EMP0008",{"$f":"VLOOKUP(PACKT10Table[[#This Row],[EmployeeID]],EmployeeListLookupTable[],2,FALSE)","v":"EMPN008"},{"$f":"VLOOKUP(PACKT10Table[[#This Row],[EmployeeID]],EmployeeListLookupTable[],3,FALSE)","v":"Employee Name 8"},{"$f":"VLOOKUP(PACKT10Table[[#This Row],[EmployeeID]],EmployeeListLookupTable[],4,FALSE)","v":"Employee Job Title 8"},null,null,null,null,null,null,null,null,null,null,null,null,{"$f":"VLOOKUP(PACKT10Table[[#This Row],[EmployeeID]],EmployeeListLookupTable[#All],16,FALSE)=\"Y\"","v":true}]
[null,"EMP0009",{"$f":"VLOOKUP(PACKT10Table[[#This Row],[EmployeeID]],EmployeeListLookupTable[],2,FALSE)","v":"EMPN009"},{"$f":"VLOOKUP(PACKT10Table[[#This Row],[EmployeeID]],EmployeeListLookupTable[],3,FALSE)","v":"Employee Name 9"},{"$f":"VLOOKUP(PACKT10Table[[#This Row],[EmployeeID]],EmployeeListLookupTable[],4,FALSE)","v":"Employee Job Title 9"},null,null,null,null,null,null,null,null,null,null,null,null,{"$f":"VLOOKUP(PACKT10Table[[#This Row],[EmployeeID]],EmployeeListLookupTable[#All],16,FALSE)=\"Y\"","v":true}]
[null,"EMP0010",{"$f":"VLOOKUP(PACKT10Table[[#This Row],[EmployeeID]],EmployeeListLookupTable[],2,FALSE)","v":"EMPN010"},{"$f":"VLOOKUP(PACKT10Table[[#This Row],[EmployeeID]],EmployeeListLookupTable[],3,FALSE)","v":"Employee Name 10"},{"$f":"VLOOKUP(PACKT10Table[[#This Row],[EmployeeID]],EmployeeListLookupTable[],4,FALSE)","v":"Employee Job Title 10"},null,null,null,null,null,null,null,null,null,null,null,null,{"$f":"VLOOKUP(PACKT10Table[[#This Row],[EmployeeID]],EmployeeListLookupTable[#All],16,FALSE)=\"Y\"","v":true}]
[null,"EMP0011",{"$f":"VLOOKUP(PACKT10Table[[#This Row],[EmployeeID]],EmployeeListLookupTable[],2,FALSE)","v":"EMPN011"},{"$f":"VLOOKUP(PACKT10Table[[#This Row],[EmployeeID]],EmployeeListLookupTable[],3,FALSE)","v":"Employee Name 11"},{"$f":"VLOOKUP(PACKT10Table[[#This Row],[EmployeeID]],EmployeeListLookupTable[],4,FALSE)","v":"Employee Job Title 11"},null,null,null,null,null,null,null,null,null,null,null,null,{"$f":"VLOOKUP(PACKT10Table[[#This Row],[EmployeeID]],EmployeeListLookupTable[#All],16,FALSE)=\"Y\"","v":true}]
[null,"EMP0012",{"$f":"VLOOKUP(PACKT10Table[[#This Row],[EmployeeID]],EmployeeListLookupTable[],2,FALSE)","v":"EMPN012"},{"$f":"VLOOKUP(PACKT10Table[[#This Row],[EmployeeID]],EmployeeListLookupTable[],3,FALSE)","v":"Employee Name 12"},{"$f":"VLOOKUP(PACKT10Table[[#This Row],[EmployeeID]],EmployeeListLookupTable[],4,FALSE)","v":"Employee Job Title 12"},null,null,null,null,null,null,null,null,null,null,null,null,{"$f":"VLOOKUP(PACKT10Table[[#This Row],[EmployeeID]],EmployeeListLookupTable[#All],16,FALSE)=\"Y\"","v":true}]
[null,"EMP0013",{"$f":"VLOOKUP(PACKT10Table[[#This Row],[EmployeeID]],EmployeeListLookupTable[],2,FALSE)","v":"EMPN013"},{"$f":"VLOOKUP(PACKT10Table[[#This Row],[EmployeeID]],EmployeeListLookupTable[],3,FALSE)","v":"Employee Name 13"},{"$f":"VLOOKUP(PACKT10Table[[#This Row],[EmployeeID]],EmployeeListLookupTable[],4,FALSE)","v":"Employee Job Title 13"},null,null,null,null,null,null,null,null,null,null,null,null,{"$f":"VLOOKUP(PACKT10Table[[#This Row],[EmployeeID]],EmployeeListLookupTable[#All],16,FALSE)=\"Y\"","v":true}]
[null,"EMP0014",{"$f":"VLOOKUP(PACKT10Table[[#This Row],[EmployeeID]],EmployeeListLookupTable[],2,FALSE)","v":"EMPN014"},{"$f":"VLOOKUP(PACKT10Table[[#This Row],[EmployeeID]],EmployeeListLookupTable[],3,FALSE)","v":"Employee Name 14"},{"$f":"VLOOKUP(PACKT10Table[[#This Row],[EmployeeID]],EmployeeListLookupTable[],4,FALSE)","v":"Employee Job Title 14"},null,null,null,null,null,null,null,null,null,null,null,null,{"$f":"VLOOKUP(PACKT10Table[[#This Row],[EmployeeID]],EmployeeListLookupTable[#All],16,FALSE)=\"Y\"","v":true}]
[null,"EMP0015",{"$f":"VLOOKUP(PACKT10Table[[#This Row],[EmployeeID]],EmployeeListLookupTable[],2,FALSE)","v":"EMPN015"},{"$f":"VLOOKUP(PACKT10Table[[#This Row],[EmployeeID]],EmployeeListLookupTable[],3,FALSE)","v":"Employee Name 15"},{"$f":"VLOOKUP(PACKT10Table[[#This Row],[EmployeeID]],EmployeeListLookupTable[],4,FALSE)","v":"Employee Job Title 15"},null,null,null,null,null,null,null,null,null,null,null,null,{"$f":"VLOOKUP(PACKT10Table[[#This Row],[EmployeeID]],EmployeeListLookupTable[#All],16,FALSE)=\"Y\"","v":true}]
[null,"EMP0016",{"$f":"VLOOKUP(PACKT10Table[[#This Row],[EmployeeID]],EmployeeListLookupTable[],2,FALSE)","v":"EMPN016"},{"$f":"VLOOKUP(PACKT10Table[[#This Row],[EmployeeID]],EmployeeListLookupTable[],3,FALSE)","v":"Employee Name 16"},{"$f":"VLOOKUP(PACKT10Table[[#This Row],[EmployeeID]],EmployeeListLookupTable[],4,FALSE)","v":"Employee Job Title 16"},null,null,null,null,null,null,null,null,null,null,null,null,{"$f":"VLOOKUP(PACKT10Table[[#This Row],[EmployeeID]],EmployeeListLookupTable[#All],16,FALSE)=\"Y\"","v":true}]
[null,"EMP0017",{"$f":"VLOOKUP(PACKT10Table[[#This Row],[EmployeeID]],EmployeeListLookupTable[],2,FALSE)","v":"EMPN017"},{"$f":"VLOOKUP(PACKT10Table[[#This Row],[EmployeeID]],EmployeeListLookupTable[],3,FALSE)","v":"Employee Name 17"},{"$f":"VLOOKUP(PACKT10Table[[#This Row],[EmployeeID]],EmployeeListLookupTable[],4,FALSE)","v":"Employee Job Title 17"},null,null,null,null,null,null,null,null,null,null,null,null,{"$f":"VLOOKUP(PACKT10Table[[#This Row],[EmployeeID]],EmployeeListLookupTable[#All],16,FALSE)=\"Y\"","v":true}]
[null,"EMP0018",{"$f":"VLOOKUP(PACKT10Table[[#This Row],[EmployeeID]],EmployeeListLookupTable[],2,FALSE)","v":"EMPN018"},{"$f":"VLOOKUP(PACKT10Table[[#This Row],[EmployeeID]],EmployeeListLookupTable[],3,FALSE)","v":"Employee Name 18"},{"$f":"VLOOKUP(PACKT10Table[[#This Row],[EmployeeID]],EmployeeListLookupTable[],4,FALSE)","v":"Employee Job Title 18"},null,null,null,null,null,null,null,null,null,null,null,null,{"$f":"VLOOKUP(PACKT10Table[[#This Row],[EmployeeID]],EmployeeListLookupTable[#All],16,FALSE)=\"Y\"","v":true}]
[null,"EMP0019",{"$f":"VLOOKUP(PACKT10Table[[#This Row],[EmployeeID]],EmployeeListLookupTable[],2,FALSE)","v":"EMPN019"},{"$f":"VLOOKUP(PACKT10Table[[#This Row],[EmployeeID]],EmployeeListLookupTable[],3,FALSE)","v":"Employee Name 19"},{"$f":"VLOOKUP(PACKT10Table[[#This Row],[EmployeeID]],EmployeeListLookupTable[],4,FALSE)","v":"Employee Job Title 19"},null,null,null,null,null,null,null,null,null,null,null,null,{"$f":"VLOOKUP(PACKT10Table[[#This Row],[EmployeeID]],EmployeeListLookupTable[#All],16,FALSE)=\"Y\"","v":true}]
[null,"EMP0020",{"$f":"VLOOKUP(PACKT10Table[[#This Row],[EmployeeID]],EmployeeListLookupTable[],2,FALSE)","v":"EMPN020"},{"$f":"VLOOKUP(PACKT10Table[[#This Row],[EmployeeID]],EmployeeListLookupTable[],3,FALSE)","v":"Employee Name 20"},{"$f":"VLOOKUP(PACKT10Table[[#This Row],[EmployeeID]],EmployeeListLookupTable[],4,FALSE)","v":"Employee Job Title 20"},null,null,null,null,null,null,null,null,null,null,null,null,{"$f":"VLOOKUP(PACKT10Table[[#This Row],[EmployeeID]],EmployeeListLookupTable[#All],16,FALSE)=\"Y\"","v":true}]
[null,"EMP0021",{"$f":"VLOOKUP(PACKT10Table[[#This Row],[EmployeeID]],EmployeeListLookupTable[],2,FALSE)","v":"EMPN021"},{"$f":"VLOOKUP(PACKT10Table[[#This Row],[EmployeeID]],EmployeeListLookupTable[],3,FALSE)","v":"Employee Name 21"},{"$f":"VLOOKUP(PACKT10Table[[#This Row],[EmployeeID]],EmployeeListLookupTable[],4,FALSE)","v":"Employee Job Title 21"},null,null,null,null,null,null,null,null,null,null,null,null,{"$f":"VLOOKUP(PACKT10Table[[#This Row],[EmployeeID]],EmployeeListLookupTable[#All],16,FALSE)=\"Y\"","v":true}]
[null,"EMP0022",{"$f":"VLOOKUP(PACKT10Table[[#This Row],[EmployeeID]],EmployeeListLookupTable[],2,FALSE)","v":"EMPN022"},{"$f":"VLOOKUP(PACKT10Table[[#This Row],[EmployeeID]],EmployeeListLookupTable[],3,FALSE)","v":"Employee Name 22"},{"$f":"VLOOKUP(PACKT10Table[[#This Row],[EmployeeID]],EmployeeListLookupTable[],4,FALSE)","v":"Employee Job Title 22"},null,null,null,null,null,null,null,null,null,null,null,null,{"$f":"VLOOKUP(PACKT10Table[[#This Row],[EmployeeID]],EmployeeListLookupTable[#All],16,FALSE)=\"Y\"","v":true}]
[null,"EMP0023",{"$f":"VLOOKUP(PACKT10Table[[#This Row],[EmployeeID]],EmployeeListLookupTable[],2,FALSE)","v":"EMPN023"},{"$f":"VLOOKUP(PACKT10Table[[#This Row],[EmployeeID]],EmployeeListLookupTable[],3,FALSE)","v":"Employee Name 23"},{"$f":"VLOOKUP(PACKT10Table[[#This Row],[EmployeeID]],EmployeeListLookupTable[],4,FALSE)","v":"Employee Job Title 23"},null,null,null,null,null,null,null,null,null,null,null,null,{"$f":"VLOOKUP(PACKT10Table[[#This Row],[EmployeeID]],EmployeeListLookupTable[#All],16,FALSE)=\"Y\"","v":true}]
[null,"EMP0024",{"$f":"VLOOKUP(PACKT10Table[[#This Row],[EmployeeID]],EmployeeListLookupTable[],2,FALSE)","v":"EMPN024"},{"$f":"VLOOKUP(PACKT10Table[[#This Row],[EmployeeID]],EmployeeListLookupTable[],3,FALSE)","v":"Employee Name 24"},{"$f":"VLOOKUP(PACKT10Table[[#This Row],[EmployeeID]],EmployeeListLookupTable[],4,FALSE)","v":"Employee Job Title 24"},null,null,null,null,null,null,null,null,null,null,null,null,{"$f":"VLOOKUP(PACKT10Table[[#This Row],[EmployeeID]],EmployeeListLookupTable[#All],16,FALSE)=\"Y\"","v":true}]
[null,"EMP0025",{"$f":"VLOOKUP(PACKT10Table[[#This Row],[EmployeeID]],EmployeeListLookupTable[],2,FALSE)","v":"EMPN025"},{"$f":"VLOOKUP(PACKT10Table[[#This Row],[EmployeeID]],EmployeeListLookupTable[],3,FALSE)","v":"Employee Name 25"},{"$f":"VLOOKUP(PACKT10Table[[#This Row],[EmployeeID]],EmployeeListLookupTable[],4,FALSE)","v":"Employee Job Title 25"},null,null,null,null,null,null,null,null,null,null,null,null,{"$f":"VLOOKUP(PACKT10Table[[#This Row],[EmployeeID]],EmployeeListLookupTable[#All],16,FALSE)=\"Y\"","v":true}]
[null,"EMP0026",{"$f":"VLOOKUP(PACKT10Table[[#This Row],[EmployeeID]],EmployeeListLookupTable[],2,FALSE)","v":"EMPN026"},{"$f":"VLOOKUP(PACKT10Table[[#This Row],[EmployeeID]],EmployeeListLookupTable[],3,FALSE)","v":"Employee Name 26"},{"$f":"VLOOKUP(PACKT10Table[[#This Row],[EmployeeID]],EmployeeListLookupTable[],4,FALSE)","v":"Employee Job Title 26"},null,null,null,null,null,null,null,null,null,null,null,null,{"$f":"VLOOKUP(PACKT10Table[[#This Row],[EmployeeID]],EmployeeListLookupTable[#All],16,FALSE)=\"Y\"","v":true}]
[null,"EMP0027",{"$f":"VLOOKUP(PACKT10Table[[#This Row],[EmployeeID]],EmployeeListLookupTable[],2,FALSE)","v":"EMPN027"},{"$f":"VLOOKUP(PACKT10Table[[#This Row],[EmployeeID]],EmployeeListLookupTable[],3,FALSE)","v":"Employee Name 27"},{"$f":"VLOOKUP(PACKT10Table[[#This Row],[EmployeeID]],EmployeeListLookupTable[],4,FALSE)","v":"Employee Job Title 27"},null,null,null,null,null,null,null,null,null,null,null,null,{"$f":"VLOOKUP(PACKT10Table[[#This Row],[EmployeeID]],EmployeeListLookupTable[#All],16,FALSE)=\"Y\"","v":true}]
[null,"EMP0028",{"$f":"VLOOKUP(PACKT10Table[[#This Row],[EmployeeID]],EmployeeListLookupTable[],2,FALSE)","v":"EMPN028"},{"$f":"VLOOKUP(PACKT10Table[[#This Row],[EmployeeID]],EmployeeListLookupTable[],3,FALSE)","v":"Employee Name 28"},{"$f":"VLOOKUP(PACKT10Table[[#This Row],[EmployeeID]],EmployeeListLookupTable[],4,FALSE)","v":"Employee Job Title 28"},null,null,null,null,null,null,null,null,null,null,null,null,{"$f":"VLOOKUP(PACKT10Table[[#This Row],[EmployeeID]],EmployeeListLookupTable[#All],16,FALSE)=\"Y\"","v":true}]
[null,"EMP0029",{"$f":"VLOOKUP(PACKT10Table[[#This Row],[EmployeeID]],EmployeeListLookupTable[],2,FALSE)","v":"EMPN029"},{"$f":"VLOOKUP(PACKT10Table[[#This Row],[EmployeeID]],EmployeeListLookupTable[],3,FALSE)","v":"Employee Name 29"},{"$f":"VLOOKUP(PACKT10Table[[#This Row],[EmployeeID]],EmployeeListLookupTable[],4,FALSE)","v":"Employee Job Title 29"},null,null,null,null,null,null,null,null,null,null,null,null,{"$f":"VLOOKUP(PACKT10Table[[#This Row],[EmployeeID]],EmployeeListLookupTable[#All],16,FALSE)=\"Y\"","v":true}]
[null,"EMP0030",{"$f":"VLOOKUP(PACKT10Table[[#This Row],[EmployeeID]],EmployeeListLookupTable[],2,FALSE)","v":"EMPN030"},{"$f":"VLOOKUP(PACKT10Table[[#This Row],[EmployeeID]],EmployeeListLookupTable[],3,FALSE)","v":"Employee Name 30"},{"$f":"VLOOKUP(PACKT10Table[[#This Row],[EmployeeID]],EmployeeListLookupTable[],4,FALSE)","v":"Employee Job Title 30"},null,null,null,null,null,null,null,null,null,null,null,null,{"$f":"VLOOKUP(PACKT10Table[[#This Row],[EmployeeID]],EmployeeListLookupTable[#All],16,FALSE)=\"Y\"","v":true}]
[null,"EMP0031",{"$f":"VLOOKUP(PACKT10Table[[#This Row],[EmployeeID]],EmployeeListLookupTable[],2,FALSE)","v":"EMPN031"},{"$f":"VLOOKUP(PACKT10Table[[#This Row],[EmployeeID]],EmployeeListLookupTable[],3,FALSE)","v":"Employee Name 31"},{"$f":"VLOOKUP(PACKT10Table[[#This Row],[EmployeeID]],EmployeeListLookupTable[],4,FALSE)","v":"Employee Job Title 31"},null,null,null,null,null,null,null,null,null,null,null,null,{"$f":"VLOOKUP(PACKT10Table[[#This Row],[EmployeeID]],EmployeeListLookupTable[#All],16,FALSE)=\"Y\"","v":true}]
[null,"EMP0032",{"$f":"VLOOKUP(PACKT10Table[[#This Row],[EmployeeID]],EmployeeListLookupTable[],2,FALSE)","v":"EMPN032"},{"$f":"VLOOKUP(PACKT10Table[[#This Row],[EmployeeID]],EmployeeListLookupTable[],3,FALSE)","v":"Employee Name 32"},{"$f":"VLOOKUP(PACKT10Table[[#This Row],[EmployeeID]],EmployeeListLookupTable[],4,FALSE)","v":"Employee Job Title 32"},null,null,null,null,null,null,null,null,null,null,null,null,{"$f":"VLOOKUP(PACKT10Table[[#This Row],[EmployeeID]],EmployeeListLookupTable[#All],16,FALSE)=\"Y\"","v":true}]
[null,"EMP0033",{"$f":"VLOOKUP(PACKT10Table[[#This Row],[EmployeeID]],EmployeeListLookupTable[],2,FALSE)","v":"EMPN033"},{"$f":"VLOOKUP(PACKT10Table[[#This Row],[EmployeeID]],EmployeeListLookupTable[],3,FALSE)","v":"Employee Name 33"},{"$f":"VLOOKUP(PACKT10Table[[#This Row],[EmployeeID]],EmployeeListLookupTable[],4,FALSE)","v":"Employee Job Title 33"},null,null,null,null,null,null,null,null,null,null,null,null,{"$f":"VLOOKUP(PACKT10Table[[#This Row],[EmployeeID]],EmployeeListLookupTable[#All],16,FALSE)=\"Y\"","v":true}]
[null,"EMP0034",{"$f":"VLOOKUP(PACKT10Table[[#This Row],[EmployeeID]],EmployeeListLookupTable[],2,FALSE)","v":"EMPN034"},{"$f":"VLOOKUP(PACKT10Table[[#This Row],[EmployeeID]],EmployeeListLookupTable[],3,FALSE)","v":"Employee Name 34"},{"$f":"VLOOKUP(PACKT10Table[[#This Row],[EmployeeID]],EmployeeListLookupTable[],4,FALSE)","v":"Employee Job Title 34"},null,null,null,null,null,null,null,null,null,null,null,null,{"$f":"VLOOKUP(PACKT10Table[[#This Row],[EmployeeID]],EmployeeListLookupTable[#All],16,FALSE)=\"Y\"","v":true}]
[null,"EMP0035",{"$f":"VLOOKUP(PACKT10Table[[#This Row],[EmployeeID]],EmployeeListLookupTable[],2,FALSE)","v":"EMPN035"},{"$f":"VLOOKUP(PACKT10Table[[#This Row],[EmployeeID]],EmployeeListLookupTable[],3,FALSE)","v":"Employee Name 35"},{"$f":"VLOOKUP(PACKT10Table[[#This Row],[EmployeeID]],EmployeeListLookupTable[],4,FALSE)","v":"Employee Job Title 35"},null,null,null,null,null,null,null,null,null,null,null,null,{"$f":"VLOOKUP(PACKT10Table[[#This Row],[EmployeeID]],EmployeeListLookupTable[#All],16,FALSE)=\"Y\"","v":true}]
[null,"EMP0036",{"$f":"VLOOKUP(PACKT10Table[[#This Row],[EmployeeID]],EmployeeListLookupTable[],2,FALSE)","v":"EMPN036"},{"$f":"VLOOKUP(PACKT10Table[[#This Row],[EmployeeID]],EmployeeListLookupTable[],3,FALSE)","v":"Employee Name 36"},{"$f":"VLOOKUP(PACKT10Table[[#This Row],[EmployeeID]],EmployeeListLookupTable[],4,FALSE)","v":"Employee Job Title 36"},null,null,null,null,null,null,null,null,null,null,null,null,{"$f":"VLOOKUP(PACKT10Table[[#This Row],[EmployeeID]],EmployeeListLookupTable[#All],16,FALSE)=\"Y\"","v":true}]
[null,"EMP0037",{"$f":"VLOOKUP(PACKT10Table[[#This Row],[EmployeeID]],EmployeeListLookupTable[],2,FALSE)","v":"EMPN037"},{"$f":"VLOOKUP(PACKT10Table[[#This Row],[EmployeeID]],EmployeeListLookupTable[],3,FALSE)","v":"Employee Name 37"},{"$f":"VLOOKUP(PACKT10Table[[#This Row],[EmployeeID]],EmployeeListLookupTable[],4,FALSE)","v":"Employee Job Title 37"},null,null,null,null,null,null,null,null,null,null,null,null,{"$f":"VLOOKUP(PACKT10Table[[#This Row],[EmployeeID]],EmployeeListLookupTable[#All],16,FALSE)=\"Y\"","v":true}]
[null,"EMP0038",{"$f":"VLOOKUP(PACKT10Table[[#This Row],[EmployeeID]],EmployeeListLookupTable[],2,FALSE)","v":"EMPN038"},{"$f":"VLOOKUP(PACKT10Table[[#This Row],[EmployeeID]],EmployeeListLookupTable[],3,FALSE)","v":"Employee Name 38"},{"$f":"VLOOKUP(PACKT10Table[[#This Row],[EmployeeID]],EmployeeListLookupTable[],4,FALSE)","v":"Employee Job Title 38"},null,null,null,null,null,null,null,null,null,null,null,null,{"$f":"VLOOKUP(PACKT10Table[[#This Row],[EmployeeID]],EmployeeListLookupTable[#All],16,FALSE)=\"Y\"","v":true}]
[null,"EMP0039",{"$f":"VLOOKUP(PACKT10Table[[#This Row],[EmployeeID]],EmployeeListLookupTable[],2,FALSE)","v":"EMPN039"},{"$f":"VLOOKUP(PACKT10Table[[#This Row],[EmployeeID]],EmployeeListLookupTable[],3,FALSE)","v":"Employee Name 39"},{"$f":"VLOOKUP(PACKT10Table[[#This Row],[EmployeeID]],EmployeeListLookupTable[],4,FALSE)","v":"Employee Job Title 39"},null,null,null,null,null,null,null,null,null,null,null,null,{"$f":"VLOOKUP(PACKT10Table[[#This Row],[EmployeeID]],EmployeeListLookupTable[#All],16,FALSE)=\"Y\"","v":true}]
[null,"EMP0040",{"$f":"VLOOKUP(PACKT10Table[[#This Row],[EmployeeID]],EmployeeListLookupTable[],2,FALSE)","v":"EMPN040"},{"$f":"VLOOKUP(PACKT10Table[[#This Row],[EmployeeID]],EmployeeListLookupTable[],3,FALSE)","v":"Employee Name 40"},{"$f":"VLOOKUP(PACKT10Table[[#This Row],[EmployeeID]],EmployeeListLookupTable[],4,FALSE)","v":"Employee Job Title 40"},null,null,null,null,null,null,null,null,null,null,null,null,{"$f":"VLOOKUP(PACKT10Table[[#This Row],[EmployeeID]],EmployeeListLookupTable[#All],16,FALSE)=\"Y\"","v":true}]
[null,"EMP0041",{"$f":"VLOOKUP(PACKT10Table[[#This Row],[EmployeeID]],EmployeeListLookupTable[],2,FALSE)","v":"EMPN041"},{"$f":"VLOOKUP(PACKT10Table[[#This Row],[EmployeeID]],EmployeeListLookupTable[],3,FALSE)","v":"Employee Name 41"},{"$f":"VLOOKUP(PACKT10Table[[#This Row],[EmployeeID]],EmployeeListLookupTable[],4,FALSE)","v":"Employee Job Title 41"},null,null,null,null,null,null,null,null,null,null,null,null,{"$f":"VLOOKUP(PACKT10Table[[#This Row],[EmployeeID]],EmployeeListLookupTable[#All],16,FALSE)=\"Y\"","v":true}]
[null,"EMP0042",{"$f":"VLOOKUP(PACKT10Table[[#This Row],[EmployeeID]],EmployeeListLookupTable[],2,FALSE)","v":"EMPN042"},{"$f":"VLOOKUP(PACKT10Table[[#This Row],[EmployeeID]],EmployeeListLookupTable[],3,FALSE)","v":"Employee Name 42"},{"$f":"VLOOKUP(PACKT10Table[[#This Row],[EmployeeID]],EmployeeListLookupTable[],4,FALSE)","v":"Employee Job Title 42"},null,null,null,null,null,null,null,null,null,null,null,null,{"$f":"VLOOKUP(PACKT10Table[[#This Row],[EmployeeID]],EmployeeListLookupTable[#All],16,FALSE)=\"Y\"","v":true}]
[null,"EMP0043",{"$f":"VLOOKUP(PACKT10Table[[#This Row],[EmployeeID]],EmployeeListLookupTable[],2,FALSE)","v":"EMPN043"},{"$f":"VLOOKUP(PACKT10Table[[#This Row],[EmployeeID]],EmployeeListLookupTable[],3,FALSE)","v":"Employee Name 43"},{"$f":"VLOOKUP(PACKT10Table[[#This Row],[EmployeeID]],EmployeeListLookupTable[],4,FALSE)","v":"Employee Job Title 43"},null,null,null,null,null,null,null,null,null,null,null,null,{"$f":"VLOOKUP(PACKT10Table[[#This Row],[EmployeeID]],EmployeeListLookupTable[#All],16,FALSE)=\"Y\"","v":true}]
[null,"EMP0044",{"$f":"VLOOKUP(PACKT10Table[[#This Row],[EmployeeID]],EmployeeListLookupTable[],2,FALSE)","v":"EMPN044"},{"$f":"VLOOKUP(PACKT10Table[[#This Row],[EmployeeID]],EmployeeListLookupTable[],3,FALSE)","v":"Employee Name 44"},{"$f":"VLOOKUP(PACKT10Table[[#This Row],[EmployeeID]],EmployeeListLookupTable[],4,FALSE)","v":"Employee Job Title 44"},null,null,null,null,null,null,null,null,null,null,null,null,{"$f":"VLOOKUP(PACKT10Table[[#This Row],[EmployeeID]],EmployeeListLookupTable[#All],16,FALSE)=\"Y\"","v":true}]
[null,"EMP0045",{"$f":"VLOOKUP(PACKT10Table[[#This Row],[EmployeeID]],EmployeeListLookupTable[],2,FALSE)","v":"EMPN045"},{"$f":"VLOOKUP(PACKT10Table[[#This Row],[EmployeeID]],EmployeeListLookupTable[],3,FALSE)","v":"Employee Name 45"},{"$f":"VLOOKUP(PACKT10Table[[#This Row],[EmployeeID]],EmployeeListLookupTable[],4,FALSE)","v":"Employee Job Title 45"},null,null,null,null,null,null,null,null,null,null,null,null,{"$f":"VLOOKUP(PACKT10Table[[#This Row],[EmployeeID]],EmployeeListLookupTable[#All],16,FALSE)=\"Y\"","v":true}]
[null,"EMP0046",{"$f":"VLOOKUP(PACKT10Table[[#This Row],[EmployeeID]],EmployeeListLookupTable[],2,FALSE)","v":"EMPN046"},{"$f":"VLOOKUP(PACKT10Table[[#This Row],[EmployeeID]],EmployeeListLookupTable[],3,FALSE)","v":"Employee Name 46"},{"$f":"VLOOKUP(PACKT10Table[[#This Row],[EmployeeID]],EmployeeListLookupTable[],4,FALSE)","v":"Employee Job Title 46"},null,null,null,null,null,null,null,null,null,null,null,null,{"$f":"VLOOKUP(PACKT10Table[[#This Row],[EmployeeID]],EmployeeListLookupTable[#All],16,FALSE)=\"Y\"","v":true}]
[null,"EMP0047",{"$f":"VLOOKUP(PACKT10Table[[#This Row],[EmployeeID]],EmployeeListLookupTable[],2,FALSE)","v":"EMPN047"},{"$f":"VLOOKUP(PACKT10Table[[#This Row],[EmployeeID]],EmployeeListLookupTable[],3,FALSE)","v":"Employee Name 47"},{"$f":"VLOOKUP(PACKT10Table[[#This Row],[EmployeeID]],EmployeeListLookupTable[],4,FALSE)","v":"Employee Job Title 47"},null,null,null,null,null,null,null,null,null,null,null,null,{"$f":"VLOOKUP(PACKT10Table[[#This Row],[EmployeeID]],EmployeeListLookupTable[#All],16,FALSE)=\"Y\"","v":true}]
[null,"EMP0048",{"$f":"VLOOKUP(PACKT10Table[[#This Row],[EmployeeID]],EmployeeListLookupTable[],2,FALSE)","v":"EMPN048"},{"$f":"VLOOKUP(PACKT10Table[[#This Row],[EmployeeID]],EmployeeListLookupTable[],3,FALSE)","v":"Employee Name 48"},{"$f":"VLOOKUP(PACKT10Table[[#This Row],[EmployeeID]],EmployeeListLookupTable[],4,FALSE)","v":"Employee Job Title 48"},null,null,null,null,null,null,null,null,null,null,null,null,{"$f":"VLOOKUP(PACKT10Table[[#This Row],[EmployeeID]],EmployeeListLookupTable[#All],16,FALSE)=\"Y\"","v":true}]
[null,"EMP0049",{"$f":"VLOOKUP(PACKT10Table[[#This Row],[EmployeeID]],EmployeeListLookupTable[],2,FALSE)","v":"EMPN049"},{"$f":"VLOOKUP(PACKT10Table[[#This Row],[EmployeeID]],EmployeeListLookupTable[],3,FALSE)","v":"Employee Name 49"},{"$f":"VLOOKUP(PACKT10Table[[#This Row],[EmployeeID]],EmployeeListLookupTable[],4,FALSE)","v":"Employee Job Title 49"},null,null,null,null,null,null,null,null,null,null,null,null,{"$f":"VLOOKUP(PACKT10Table[[#This Row],[EmployeeID]],EmployeeListLookupTable[#All],16,FALSE)=\"Y\"","v":true}]
[null,"EMP0050",{"$f":"VLOOKUP(PACKT10Table[[#This Row],[EmployeeID]],EmployeeListLookupTable[],2,FALSE)","v":"EMPN050"},{"$f":"VLOOKUP(PACKT10Table[[#This Row],[EmployeeID]],EmployeeListLookupTable[],3,FALSE)","v":"Employee Name 50"},{"$f":"VLOOKUP(PACKT10Table[[#This Row],[EmployeeID]],EmployeeListLookupTable[],4,FALSE)","v":"Employee Job Title 50"},null,null,null,null,null,null,null,null,null,null,null,null,{"$f":"VLOOKUP(PACKT10Table[[#This Row],[EmployeeID]],EmployeeListLookupTable[#All],16,FALSE)=\"Y\"","v":true}]
[null,"EMP0051",{"$f":"VLOOKUP(PACKT10Table[[#This Row],[EmployeeID]],EmployeeListLookupTable[],2,FALSE)","v":"EMPN051"},{"$f":"VLOOKUP(PACKT10Table[[#This Row],[EmployeeID]],EmployeeListLookupTable[],3,FALSE)","v":"Employee Name 51"},{"$f":"VLOOKUP(PACKT10Table[[#This Row],[EmployeeID]],EmployeeListLookupTable[],4,FALSE)","v":"Employee Job Title 51"},null,null,null,null,null,null,null,null,null,null,null,null,{"$f":"VLOOKUP(PACKT10Table[[#This Row],[EmployeeID]],EmployeeListLookupTable[#All],16,FALSE)=\"Y\"","v":true}]
[null,"EMP0052",{"$f":"VLOOKUP(PACKT10Table[[#This Row],[EmployeeID]],EmployeeListLookupTable[],2,FALSE)","v":"EMPN052"},{"$f":"VLOOKUP(PACKT10Table[[#This Row],[EmployeeID]],EmployeeListLookupTable[],3,FALSE)","v":"Employee Name 52"},{"$f":"VLOOKUP(PACKT10Table[[#This Row],[EmployeeID]],EmployeeListLookupTable[],4,FALSE)","v":"Employee Job Title 52"},null,null,null,null,null,null,null,null,null,null,null,null,{"$f":"VLOOKUP(PACKT10Table[[#This Row],[EmployeeID]],EmployeeListLookupTable[#All],16,FALSE)=\"Y\"","v":true}]
[null,"EMP0053",{"$f":"VLOOKUP(PACKT10Table[[#This Row],[EmployeeID]],EmployeeListLookupTable[],2,FALSE)","v":"EMPN053"},{"$f":"VLOOKUP(PACKT10Table[[#This Row],[EmployeeID]],EmployeeListLookupTable[],3,FALSE)","v":"Employee Name 53"},{"$f":"VLOOKUP(PACKT10Table[[#This Row],[EmployeeID]],EmployeeListLookupTable[],4,FALSE)","v":"Employee Job Title 53"},null,null,null,null,null,null,null,null,null,null,null,null,{"$f":"VLOOKUP(PACKT10Table[[#This Row],[EmployeeID]],EmployeeListLookupTable[#All],16,FALSE)=\"Y\"","v":true}]
[null,"EMP0054",{"$f":"VLOOKUP(PACKT10Table[[#This Row],[EmployeeID]],EmployeeListLookupTable[],2,FALSE)","v":"EMPN054"},{"$f":"VLOOKUP(PACKT10Table[[#This Row],[EmployeeID]],EmployeeListLookupTable[],3,FALSE)","v":"Employee Name 54"},{"$f":"VLOOKUP(PACKT10Table[[#This Row],[EmployeeID]],EmployeeListLookupTable[],4,FALSE)","v":"Employee Job Title 54"},null,null,null,null,null,null,null,null,null,null,null,null,{"$f":"VLOOKUP(PACKT10Table[[#This Row],[EmployeeID]],EmployeeListLookupTable[#All],16,FALSE)=\"Y\"","v":true}]
[null,"EMP0055",{"$f":"VLOOKUP(PACKT10Table[[#This Row],[EmployeeID]],EmployeeListLookupTable[],2,FALSE)","v":"EMPN055"},{"$f":"VLOOKUP(PACKT10Table[[#This Row],[EmployeeID]],EmployeeListLookupTable[],3,FALSE)","v":"Employee Name 55"},{"$f":"VLOOKUP(PACKT10Table[[#This Row],[EmployeeID]],EmployeeListLookupTable[],4,FALSE)","v":"Employee Job Title 55"},null,null,null,null,null,null,null,null,null,null,null,null,{"$f":"VLOOKUP(PACKT10Table[[#This Row],[EmployeeID]],EmployeeListLookupTable[#All],16,FALSE)=\"Y\"","v":true}]
[null,"EMP0056",{"$f":"VLOOKUP(PACKT10Table[[#This Row],[EmployeeID]],EmployeeListLookupTable[],2,FALSE)","v":"EMPN056"},{"$f":"VLOOKUP(PACKT10Table[[#This Row],[EmployeeID]],EmployeeListLookupTable[],3,FALSE)","v":"Employee Name 56"},{"$f":"VLOOKUP(PACKT10Table[[#This Row],[EmployeeID]],EmployeeListLookupTable[],4,FALSE)","v":"Employee Job Title 56"},null,null,null,null,null,null,null,null,null,null,null,null,{"$f":"VLOOKUP(PACKT10Table[[#This Row],[EmployeeID]],EmployeeListLookupTable[#All],16,FALSE)=\"Y\"","v":true}]
[null,"EMP0057",{"$f":"VLOOKUP(PACKT10Table[[#This Row],[EmployeeID]],EmployeeListLookupTable[],2,FALSE)","v":"EMPN057"},{"$f":"VLOOKUP(PACKT10Table[[#This Row],[EmployeeID]],EmployeeListLookupTable[],3,FALSE)","v":"Employee Name 57"},{"$f":"VLOOKUP(PACKT10Table[[#This Row],[EmployeeID]],EmployeeListLookupTable[],4,FALSE)","v":"Employee Job Title 57"},null,null,null,null,null,null,null,null,null,null,null,null,{"$f":"VLOOKUP(PACKT10Table[[#This Row],[EmployeeID]],EmployeeListLookupTable[#All],16,FALSE)=\"Y\"","v":true}]
[null,"EMP0058",{"$f":"VLOOKUP(PACKT10Table[[#This Row],[EmployeeID]],EmployeeListLookupTable[],2,FALSE)","v":"EMPN058"},{"$f":"VLOOKUP(PACKT10Table[[#This Row],[EmployeeID]],EmployeeListLookupTable[],3,FALSE)","v":"Employee Name 58"},{"$f":"VLOOKUP(PACKT10Table[[#This Row],[EmployeeID]],EmployeeListLookupTable[],4,FALSE)","v":"Employee Job Title 58"},null,null,null,null,null,null,null,null,null,null,null,null,{"$f":"VLOOKUP(PACKT10Table[[#This Row],[EmployeeID]],EmployeeListLookupTable[#All],16,FALSE)=\"Y\"","v":true}]
[null,"EMP0059",{"$f":"VLOOKUP(PACKT10Table[[#This Row],[EmployeeID]],EmployeeListLookupTable[],2,FALSE)","v":"EMPN059"},{"$f":"VLOOKUP(PACKT10Table[[#This Row],[EmployeeID]],EmployeeListLookupTable[],3,FALSE)","v":"Employee Name 59"},{"$f":"VLOOKUP(PACKT10Table[[#This Row],[EmployeeID]],EmployeeListLookupTable[],4,FALSE)","v":"Employee Job Title 59"},null,null,null,null,null,null,null,null,null,null,null,null,{"$f":"VLOOKUP(PACKT10Table[[#This Row],[EmployeeID]],EmployeeListLookupTable[#All],16,FALSE)=\"Y\"","v":true}]
[null,"EMP0060",{"$f":"VLOOKUP(PACKT10Table[[#This Row],[EmployeeID]],EmployeeListLookupTable[],2,FALSE)","v":"EMPN060"},{"$f":"VLOOKUP(PACKT10Table[[#This Row],[EmployeeID]],EmployeeListLookupTable[],3,FALSE)","v":"Employee Name 60"},{"$f":"VLOOKUP(PACKT10Table[[#This Row],[EmployeeID]],EmployeeListLookupTable[],4,FALSE)","v":"Employee Job Title 60"},null,null,null,null,null,null,null,null,null,null,null,null,{"$f":"VLOOKUP(PACKT10Table[[#This Row],[EmployeeID]],EmployeeListLookupTable[#All],16,FALSE)=\"Y\"","v":true}]
[null,"EMP0061",{"$f":"VLOOKUP(PACKT10Table[[#This Row],[EmployeeID]],EmployeeListLookupTable[],2,FALSE)","v":"EMPN061"},{"$f":"VLOOKUP(PACKT10Table[[#This Row],[EmployeeID]],EmployeeListLookupTable[],3,FALSE)","v":"Employee Name 61"},{"$f":"VLOOKUP(PACKT10Table[[#This Row],[EmployeeID]],EmployeeListLookupTable[],4,FALSE)","v":"Employee Job Title 61"},null,null,null,null,null,null,null,null,null,null,null,null,{"$f":"VLOOKUP(PACKT10Table[[#This Row],[EmployeeID]],EmployeeListLookupTable[#All],16,FALSE)=\"Y\"","v":true}]
[null,"EMP0062",{"$f":"VLOOKUP(PACKT10Table[[#This Row],[EmployeeID]],EmployeeListLookupTable[],2,FALSE)","v":"EMPN062"},{"$f":"VLOOKUP(PACKT10Table[[#This Row],[EmployeeID]],EmployeeListLookupTable[],3,FALSE)","v":"Employee Name 62"},{"$f":"VLOOKUP(PACKT10Table[[#This Row],[EmployeeID]],EmployeeListLookupTable[],4,FALSE)","v":"Employee Job Title 62"},null,null,null,null,null,null,null,null,null,null,null,null,{"$f":"VLOOKUP(PACKT10Table[[#This Row],[EmployeeID]],EmployeeListLookupTable[#All],16,FALSE)=\"Y\"","v":true}]
[null,"EMP0063",{"$f":"VLOOKUP(PACKT10Table[[#This Row],[EmployeeID]],EmployeeListLookupTable[],2,FALSE)","v":"EMPN063"},{"$f":"VLOOKUP(PACKT10Table[[#This Row],[EmployeeID]],EmployeeListLookupTable[],3,FALSE)","v":"Employee Name 63"},{"$f":"VLOOKUP(PACKT10Table[[#This Row],[EmployeeID]],EmployeeListLookupTable[],4,FALSE)","v":"Employee Job Title 63"},null,null,null,null,null,null,null,null,null,null,null,null,{"$f":"VLOOKUP(PACKT10Table[[#This Row],[EmployeeID]],EmployeeListLookupTable[#All],16,FALSE)=\"Y\"","v":true}]
[null,"EMP0064",{"$f":"VLOOKUP(PACKT10Table[[#This Row],[EmployeeID]],EmployeeListLookupTable[],2,FALSE)","v":"EMPN064"},{"$f":"VLOOKUP(PACKT10Table[[#This Row],[EmployeeID]],EmployeeListLookupTable[],3,FALSE)","v":"Employee Name 64"},{"$f":"VLOOKUP(PACKT10Table[[#This Row],[EmployeeID]],EmployeeListLookupTable[],4,FALSE)","v":"Employee Job Title 64"},null,null,null,null,null,null,null,null,null,null,null,null,{"$f":"VLOOKUP(PACKT10Table[[#This Row],[EmployeeID]],EmployeeListLookupTable[#All],16,FALSE)=\"Y\"","v":true}]
[null,"EMP0065",{"$f":"VLOOKUP(PACKT10Table[[#This Row],[EmployeeID]],EmployeeListLookupTable[],2,FALSE)","v":"EMPN065"},{"$f":"VLOOKUP(PACKT10Table[[#This Row],[EmployeeID]],EmployeeListLookupTable[],3,FALSE)","v":"Employee Name 65"},{"$f":"VLOOKUP(PACKT10Table[[#This Row],[EmployeeID]],EmployeeListLookupTable[],4,FALSE)","v":"Employee Job Title 65"},null,null,null,null,null,null,null,null,null,null,null,null,{"$f":"VLOOKUP(PACKT10Table[[#This Row],[EmployeeID]],EmployeeListLookupTable[#All],16,FALSE)=\"Y\"","v":true}]
[null,"EMP0066",{"$f":"VLOOKUP(PACKT10Table[[#This Row],[EmployeeID]],EmployeeListLookupTable[],2,FALSE)","v":"EMPN066"},{"$f":"VLOOKUP(PACKT10Table[[#This Row],[EmployeeID]],EmployeeListLookupTable[],3,FALSE)","v":"Employee Name 66"},{"$f":"VLOOKUP(PACKT10Table[[#This Row],[EmployeeID]],EmployeeListLookupTable[],4,FALSE)","v":"Employee Job Title 66"},null,null,null,null,null,null,null,null,null,null,null,null,{"$f":"VLOOKUP(PACKT10Table[[#This Row],[EmployeeID]],EmployeeListLookupTable[#All],16,FALSE)=\"Y\"","v":true}]
[null,"EMP0067",{"$f":"VLOOKUP(PACKT10Table[[#This Row],[EmployeeID]],EmployeeListLookupTable[],2,FALSE)","v":"EMPN067"},{"$f":"VLOOKUP(PACKT10Table[[#This Row],[EmployeeID]],EmployeeListLookupTable[],3,FALSE)","v":"Employee Name 67"},{"$f":"VLOOKUP(PACKT10Table[[#This Row],[EmployeeID]],EmployeeListLookupTable[],4,FALSE)","v":"Employee Job Title 67"},null,null,null,null,null,null,null,null,null,null,null,null,{"$f":"VLOOKUP(PACKT10Table[[#This Row],[EmployeeID]],EmployeeListLookupTable[#All],16,FALSE)=\"Y\"","v":true}]
[null,"EMP0068",{"$f":"VLOOKUP(PACKT10Table[[#This Row],[EmployeeID]],EmployeeListLookupTable[],2,FALSE)","v":"EMPN068"},{"$f":"VLOOKUP(PACKT10Table[[#This Row],[EmployeeID]],EmployeeListLookupTable[],3,FALSE)","v":"Employee Name 68"},{"$f":"VLOOKUP(PACKT10Table[[#This Row],[EmployeeID]],EmployeeListLookupTable[],4,FALSE)","v":"Employee Job Title 68"},null,null,null,null,null,null,null,null,null,null,null,null,{"$f":"VLOOKUP(PACKT10Table[[#This Row],[EmployeeID]],EmployeeListLookupTable[#All],16,FALSE)=\"Y\"","v":true}]
[null,"EMP0069",{"$f":"VLOOKUP(PACKT10Table[[#This Row],[EmployeeID]],EmployeeListLookupTable[],2,FALSE)","v":"EMPN069"},{"$f":"VLOOKUP(PACKT10Table[[#This Row],[EmployeeID]],EmployeeListLookupTable[],3,FALSE)","v":"Employee Name 69"},{"$f":"VLOOKUP(PACKT10Table[[#This Row],[EmployeeID]],EmployeeListLookupTable[],4,FALSE)","v":"Employee Job Title 69"},null,null,null,null,null,null,null,null,null,null,null,null,{"$f":"VLOOKUP(PACKT10Table[[#This Row],[EmployeeID]],EmployeeListLookupTable[#All],16,FALSE)=\"Y\"","v":true}]
[null,"EMP0070",{"$f":"VLOOKUP(PACKT10Table[[#This Row],[EmployeeID]],EmployeeListLookupTable[],2,FALSE)","v":"EMPN070"},{"$f":"VLOOKUP(PACKT10Table[[#This Row],[EmployeeID]],EmployeeListLookupTable[],3,FALSE)","v":"Employee Name 70"},{"$f":"VLOOKUP(PACKT10Table[[#This Row],[EmployeeID]],EmployeeListLookupTable[],4,FALSE)","v":"Employee Job Title 70"},null,null,null,null,null,null,null,null,null,null,null,null,{"$f":"VLOOKUP(PACKT10Table[[#This Row],[EmployeeID]],EmployeeListLookupTable[#All],16,FALSE)=\"Y\"","v":true}]
[null,"EMP0071",{"$f":"VLOOKUP(PACKT10Table[[#This Row],[EmployeeID]],EmployeeListLookupTable[],2,FALSE)","v":"EMPN071"},{"$f":"VLOOKUP(PACKT10Table[[#This Row],[EmployeeID]],EmployeeListLookupTable[],3,FALSE)","v":"Employee Name 71"},{"$f":"VLOOKUP(PACKT10Table[[#This Row],[EmployeeID]],EmployeeListLookupTable[],4,FALSE)","v":"Employee Job Title 71"},null,null,null,null,null,null,null,null,null,null,null,null,{"$f":"VLOOKUP(PACKT10Table[[#This Row],[EmployeeID]],EmployeeListLookupTable[#All],16,FALSE)=\"Y\"","v":true}]
[null,"EMP0072",{"$f":"VLOOKUP(PACKT10Table[[#This Row],[EmployeeID]],EmployeeListLookupTable[],2,FALSE)","v":"EMPN072"},{"$f":"VLOOKUP(PACKT10Table[[#This Row],[EmployeeID]],EmployeeListLookupTable[],3,FALSE)","v":"Employee Name 72"},{"$f":"VLOOKUP(PACKT10Table[[#This Row],[EmployeeID]],EmployeeListLookupTable[],4,FALSE)","v":"Employee Job Title 72"},null,null,null,null,null,null,null,null,null,null,null,null,{"$f":"VLOOKUP(PACKT10Table[[#This Row],[EmployeeID]],EmployeeListLookupTable[#All],16,FALSE)=\"Y\"","v":true}]
[null,"EMP0073",{"$f":"VLOOKUP(PACKT10Table[[#This Row],[EmployeeID]],EmployeeListLookupTable[],2,FALSE)","v":"EMPN073"},{"$f":"VLOOKUP(PACKT10Table[[#This Row],[EmployeeID]],EmployeeListLookupTable[],3,FALSE)","v":"Employee Name 73"},{"$f":"VLOOKUP(PACKT10Table[[#This Row],[EmployeeID]],EmployeeListLookupTable[],4,FALSE)","v":"Employee Job Title 73"},null,null,null,null,null,null,null,null,null,null,null,null,{"$f":"VLOOKUP(PACKT10Table[[#This Row],[EmployeeID]],EmployeeListLookupTable[#All],16,FALSE)=\"Y\"","v":true}]
[null,"EMP0074",{"$f":"VLOOKUP(PACKT10Table[[#This Row],[EmployeeID]],EmployeeListLookupTable[],2,FALSE)","v":"EMPN074"},{"$f":"VLOOKUP(PACKT10Table[[#This Row],[EmployeeID]],EmployeeListLookupTable[],3,FALSE)","v":"Employee Name 74"},{"$f":"VLOOKUP(PACKT10Table[[#This Row],[EmployeeID]],EmployeeListLookupTable[],4,FALSE)","v":"Employee Job Title 74"},null,null,null,null,null,null,null,null,null,null,null,null,{"$f":"VLOOKUP(PACKT10Table[[#This Row],[EmployeeID]],EmployeeListLookupTable[#All],16,FALSE)=\"Y\"","v":true}]
[null,"EMP0075",{"$f":"VLOOKUP(PACKT10Table[[#This Row],[EmployeeID]],EmployeeListLookupTable[],2,FALSE)","v":"EMPN075"},{"$f":"VLOOKUP(PACKT10Table[[#This Row],[EmployeeID]],EmployeeListLookupTable[],3,FALSE)","v":"Employee Name 75"},{"$f":"VLOOKUP(PACKT10Table[[#This Row],[EmployeeID]],EmployeeListLookupTable[],4,FALSE)","v":"Employee Job Title 75"},null,null,null,null,null,null,null,null,null,null,null,null,{"$f":"VLOOKUP(PACKT10Table[[#This Row],[EmployeeID]],EmployeeListLookupTable[#All],16,FALSE)=\"Y\"","v":true}]
[null,"EMP0076",{"$f":"VLOOKUP(PACKT10Table[[#This Row],[EmployeeID]],EmployeeListLookupTable[],2,FALSE)","v":"EMPN076"},{"$f":"VLOOKUP(PACKT10Table[[#This Row],[EmployeeID]],EmployeeListLookupTable[],3,FALSE)","v":"Employee Name 76"},{"$f":"VLOOKUP(PACKT10Table[[#This Row],[EmployeeID]],EmployeeListLookupTable[],4,FALSE)","v":"Employee Job Title 76"},null,null,null,null,null,null,null,null,null,null,null,null,{"$f":"VLOOKUP(PACKT10Table[[#This Row],[EmployeeID]],EmployeeListLookupTable[#All],16,FALSE)=\"Y\"","v":true}]
[null,"EMP0077",{"$f":"VLOOKUP(PACKT10Table[[#This Row],[EmployeeID]],EmployeeListLookupTable[],2,FALSE)","v":"EMPN077"},{"$f":"VLOOKUP(PACKT10Table[[#This Row],[EmployeeID]],EmployeeListLookupTable[],3,FALSE)","v":"Employee Name 77"},{"$f":"VLOOKUP(PACKT10Table[[#This Row],[EmployeeID]],EmployeeListLookupTable[],4,FALSE)","v":"Employee Job Title 77"},null,null,null,null,null,null,null,null,null,null,null,null,{"$f":"VLOOKUP(PACKT10Table[[#This Row],[EmployeeID]],EmployeeListLookupTable[#All],16,FALSE)=\"Y\"","v":true}]
[null,"EMP0078",{"$f":"VLOOKUP(PACKT10Table[[#This Row],[EmployeeID]],EmployeeListLookupTable[],2,FALSE)","v":"EMPN078"},{"$f":"VLOOKUP(PACKT10Table[[#This Row],[EmployeeID]],EmployeeListLookupTable[],3,FALSE)","v":"Employee Name 78"},{"$f":"VLOOKUP(PACKT10Table[[#This Row],[EmployeeID]],EmployeeListLookupTable[],4,FALSE)","v":"Employee Job Title 78"},null,null,null,null,null,null,null,null,null,null,null,null,{"$f":"VLOOKUP(PACKT10Table[[#This Row],[EmployeeID]],EmployeeListLookupTable[#All],16,FALSE)=\"Y\"","v":true}]
[null,"EMP0079",{"$f":"VLOOKUP(PACKT10Table[[#This Row],[EmployeeID]],EmployeeListLookupTable[],2,FALSE)","v":"EMPN079"},{"$f":"VLOOKUP(PACKT10Table[[#This Row],[EmployeeID]],EmployeeListLookupTable[],3,FALSE)","v":"Employee Name 79"},{"$f":"VLOOKUP(PACKT10Table[[#This Row],[EmployeeID]],EmployeeListLookupTable[],4,FALSE)","v":"Employee Job Title 79"},null,null,null,null,null,null,null,null,null,null,null,null,{"$f":"VLOOKUP(PACKT10Table[[#This Row],[EmployeeID]],EmployeeListLookupTable[#All],16,FALSE)=\"Y\"","v":true}]
[null,"EMP0080",{"$f":"VLOOKUP(PACKT10Table[[#This Row],[EmployeeID]],EmployeeListLookupTable[],2,FALSE)","v":"EMPN080"},{"$f":"VLOOKUP(PACKT10Table[[#This Row],[EmployeeID]],EmployeeListLookupTable[],3,FALSE)","v":"Employee Name 80"},{"$f":"VLOOKUP(PACKT10Table[[#This Row],[EmployeeID]],EmployeeListLookupTable[],4,FALSE)","v":"Employee Job Title 80"},null,null,null,null,null,null,null,null,null,null,null,null,{"$f":"VLOOKUP(PACKT10Table[[#This Row],[EmployeeID]],EmployeeListLookupTable[#All],16,FALSE)=\"Y\"","v":true}]
[null,"EMP0081",{"$f":"VLOOKUP(PACKT10Table[[#This Row],[EmployeeID]],EmployeeListLookupTable[],2,FALSE)","v":"EMPN081"},{"$f":"VLOOKUP(PACKT10Table[[#This Row],[EmployeeID]],EmployeeListLookupTable[],3,FALSE)","v":"Employee Name 81"},{"$f":"VLOOKUP(PACKT10Table[[#This Row],[EmployeeID]],EmployeeListLookupTable[],4,FALSE)","v":"Employee Job Title 81"},null,null,null,null,null,null,null,null,null,null,null,null,{"$f":"VLOOKUP(PACKT10Table[[#This Row],[EmployeeID]],EmployeeListLookupTable[#All],16,FALSE)=\"Y\"","v":true}]
[null,"EMP0082",{"$f":"VLOOKUP(PACKT10Table[[#This Row],[EmployeeID]],EmployeeListLookupTable[],2,FALSE)","v":"EMPN082"},{"$f":"VLOOKUP(PACKT10Table[[#This Row],[EmployeeID]],EmployeeListLookupTable[],3,FALSE)","v":"Employee Name 82"},{"$f":"VLOOKUP(PACKT10Table[[#This Row],[EmployeeID]],EmployeeListLookupTable[],4,FALSE)","v":"Employee Job Title 82"},null,null,null,null,null,null,null,null,null,null,null,null,{"$f":"VLOOKUP(PACKT10Table[[#This Row],[EmployeeID]],EmployeeListLookupTable[#All],16,FALSE)=\"Y\"","v":true}]
[null,"EMP0083",{"$f":"VLOOKUP(PACKT10Table[[#This Row],[EmployeeID]],EmployeeListLookupTable[],2,FALSE)","v":"EMPN083"},{"$f":"VLOOKUP(PACKT10Table[[#This Row],[EmployeeID]],EmployeeListLookupTable[],3,FALSE)","v":"Employee Name 83"},{"$f":"VLOOKUP(PACKT10Table[[#This Row],[EmployeeID]],EmployeeListLookupTable[],4,FALSE)","v":"Employee Job Title 83"},null,null,null,null,null,null,null,null,null,null,null,null,{"$f":"VLOOKUP(PACKT10Table[[#This Row],[EmployeeID]],EmployeeListLookupTable[#All],16,FALSE)=\"Y\"","v":true}]
[null,"EMP0084",{"$f":"VLOOKUP(PACKT10Table[[#This Row],[EmployeeID]],EmployeeListLookupTable[],2,FALSE)","v":"EMPN084"},{"$f":"VLOOKUP(PACKT10Table[[#This Row],[EmployeeID]],EmployeeListLookupTable[],3,FALSE)","v":"Employee Name 84"},{"$f":"VLOOKUP(PACKT10Table[[#This Row],[EmployeeID]],EmployeeListLookupTable[],4,FALSE)","v":"Employee Job Title 84"},null,null,null,null,null,null,null,null,null,null,null,null,{"$f":"VLOOKUP(PACKT10Table[[#This Row],[EmployeeID]],EmployeeListLookupTable[#All],16,FALSE)=\"Y\"","v":true}]
[null,"EMP0085",{"$f":"VLOOKUP(PACKT10Table[[#This Row],[EmployeeID]],EmployeeListLookupTable[],2,FALSE)","v":"EMPN085"},{"$f":"VLOOKUP(PACKT10Table[[#This Row],[EmployeeID]],EmployeeListLookupTable[],3,FALSE)","v":"Employee Name 85"},{"$f":"VLOOKUP(PACKT10Table[[#This Row],[EmployeeID]],EmployeeListLookupTable[],4,FALSE)","v":"Employee Job Title 85"},null,null,null,null,null,null,null,null,null,null,null,null,{"$f":"VLOOKUP(PACKT10Table[[#This Row],[EmployeeID]],EmployeeListLookupTable[#All],16,FALSE)=\"Y\"","v":true}]
[null,"EMP0086",{"$f":"VLOOKUP(PACKT10Table[[#This Row],[EmployeeID]],EmployeeListLookupTable[],2,FALSE)","v":"EMPN086"},{"$f":"VLOOKUP(PACKT10Table[[#This Row],[EmployeeID]],EmployeeListLookupTable[],3,FALSE)","v":"Employee Name 86"},{"$f":"VLOOKUP(PACKT10Table[[#This Row],[EmployeeID]],EmployeeListLookupTable[],4,FALSE)","v":"Employee Job Title 86"},null,null,null,null,null,null,null,null,null,null,null,null,{"$f":"VLOOKUP(PACKT10Table[[#This Row],[EmployeeID]],EmployeeListLookupTable[#All],16,FALSE)=\"Y\"","v":true}]
[null,"EMP0087",{"$f":"VLOOKUP(PACKT10Table[[#This Row],[EmployeeID]],EmployeeListLookupTable[],2,FALSE)","v":"EMPN087"},{"$f":"VLOOKUP(PACKT10Table[[#This Row],[EmployeeID]],EmployeeListLookupTable[],3,FALSE)","v":"Employee Name 87"},{"$f":"VLOOKUP(PACKT10Table[[#This Row],[EmployeeID]],EmployeeListLookupTable[],4,FALSE)","v":"Employee Job Title 87"},null,null,null,null,null,null,null,null,null,null,null,null,{"$f":"VLOOKUP(PACKT10Table[[#This Row],[EmployeeID]],EmployeeListLookupTable[#All],16,FALSE)=\"Y\"","v":true}]
[null,"EMP0088",{"$f":"VLOOKUP(PACKT10Table[[#This Row],[EmployeeID]],EmployeeListLookupTable[],2,FALSE)","v":"EMPN088"},{"$f":"VLOOKUP(PACKT10Table[[#This Row],[EmployeeID]],EmployeeListLookupTable[],3,FALSE)","v":"Employee Name 88"},{"$f":"VLOOKUP(PACKT10Table[[#This Row],[EmployeeID]],EmployeeListLookupTable[],4,FALSE)","v":"Employee Job Title 88"},null,null,null,null,null,null,null,null,null,null,null,null,{"$f":"VLOOKUP(PACKT10Table[[#This Row],[EmployeeID]],EmployeeListLookupTable[#All],16,FALSE)=\"Y\"","v":true}]
[null,"EMP0089",{"$f":"VLOOKUP(PACKT10Table[[#This Row],[EmployeeID]],EmployeeListLookupTable[],2,FALSE)","v":"EMPN089"},{"$f":"VLOOKUP(PACKT10Table[[#This Row],[EmployeeID]],EmployeeListLookupTable[],3,FALSE)","v":"Employee Name 89"},{"$f":"VLOOKUP(PACKT10Table[[#This Row],[EmployeeID]],EmployeeListLookupTable[],4,FALSE)","v":"Employee Job Title 89"},null,null,null,null,null,null,null,null,null,null,null,null,{"$f":"VLOOKUP(PACKT10Table[[#This Row],[EmployeeID]],EmployeeListLookupTable[#All],16,FALSE)=\"Y\"","v":true}]
[null,"EMP0090",{"$f":"VLOOKUP(PACKT10Table[[#This Row],[EmployeeID]],EmployeeListLookupTable[],2,FALSE)","v":"EMPN090"},{"$f":"VLOOKUP(PACKT10Table[[#This Row],[EmployeeID]],EmployeeListLookupTable[],3,FALSE)","v":"Employee Name 90"},{"$f":"VLOOKUP(PACKT10Table[[#This Row],[EmployeeID]],EmployeeListLookupTable[],4,FALSE)","v":"Employee Job Title 90"},null,null,null,null,null,null,null,null,null,null,null,null,{"$f":"VLOOKUP(PACKT10Table[[#This Row],[EmployeeID]],EmployeeListLookupTable[#All],16,FALSE)=\"Y\"","v":true}]
[null,"EMP0091",{"$f":"VLOOKUP(PACKT10Table[[#This Row],[EmployeeID]],EmployeeListLookupTable[],2,FALSE)","v":"EMPN091"},{"$f":"VLOOKUP(PACKT10Table[[#This Row],[EmployeeID]],EmployeeListLookupTable[],3,FALSE)","v":"Employee Name 91"},{"$f":"VLOOKUP(PACKT10Table[[#This Row],[EmployeeID]],EmployeeListLookupTable[],4,FALSE)","v":"Employee Job Title 91"},null,null,null,null,null,null,null,null,null,null,null,null,{"$f":"VLOOKUP(PACKT10Table[[#This Row],[EmployeeID]],EmployeeListLookupTable[#All],16,FALSE)=\"Y\"","v":true}]
[null,"EMP0092",{"$f":"VLOOKUP(PACKT10Table[[#This Row],[EmployeeID]],EmployeeListLookupTable[],2,FALSE)","v":"EMPN092"},{"$f":"VLOOKUP(PACKT10Table[[#This Row],[EmployeeID]],EmployeeListLookupTable[],3,FALSE)","v":"Employee Name 92"},{"$f":"VLOOKUP(PACKT10Table[[#This Row],[EmployeeID]],EmployeeListLookupTable[],4,FALSE)","v":"Employee Job Title 92"},null,null,null,null,null,null,null,null,null,null,null,null,{"$f":"VLOOKUP(PACKT10Table[[#This Row],[EmployeeID]],EmployeeListLookupTable[#All],16,FALSE)=\"Y\"","v":true}]
[null,"EMP0093",{"$f":"VLOOKUP(PACKT10Table[[#This Row],[EmployeeID]],EmployeeListLookupTable[],2,FALSE)","v":"EMPN093"},{"$f":"VLOOKUP(PACKT10Table[[#This Row],[EmployeeID]],EmployeeListLookupTable[],3,FALSE)","v":"Employee Name 93"},{"$f":"VLOOKUP(PACKT10Table[[#This Row],[EmployeeID]],EmployeeListLookupTable[],4,FALSE)","v":"Employee Job Title 93"},null,null,null,null,null,null,null,null,null,null,null,null,{"$f":"VLOOKUP(PACKT10Table[[#This Row],[EmployeeID]],EmployeeListLookupTable[#All],16,FALSE)=\"Y\"","v":true}]
[null,"EMP0094",{"$f":"VLOOKUP(PACKT10Table[[#This Row],[EmployeeID]],EmployeeListLookupTable[],2,FALSE)","v":"EMPN094"},{"$f":"VLOOKUP(PACKT10Table[[#This Row],[EmployeeID]],EmployeeListLookupTable[],3,FALSE)","v":"Employee Name 94"},{"$f":"VLOOKUP(PACKT10Table[[#This Row],[EmployeeID]],EmployeeListLookupTable[],4,FALSE)","v":"Employee Job Title 94"},null,null,null,null,null,null,null,null,null,null,null,null,{"$f":"VLOOKUP(PACKT10Table[[#This Row],[EmployeeID]],EmployeeListLookupTable[#All],16,FALSE)=\"Y\"","v":true}]
[null,"EMP0095",{"$f":"VLOOKUP(PACKT10Table[[#This Row],[EmployeeID]],EmployeeListLookupTable[],2,FALSE)","v":"EMPN095"},{"$f":"VLOOKUP(PACKT10Table[[#This Row],[EmployeeID]],EmployeeListLookupTable[],3,FALSE)","v":"Employee Name 95"},{"$f":"VLOOKUP(PACKT10Table[[#This Row],[EmployeeID]],EmployeeListLookupTable[],4,FALSE)","v":"Employee Job Title 95"},null,null,null,null,null,null,null,null,null,null,null,null,{"$f":"VLOOKUP(PACKT10Table[[#This Row],[EmployeeID]],EmployeeListLookupTable[#All],16,FALSE)=\"Y\"","v":true}]
[null,"EMP0096",{"$f":"VLOOKUP(PACKT10Table[[#This Row],[EmployeeID]],EmployeeListLookupTable[],2,FALSE)","v":"EMPN096"},{"$f":"VLOOKUP(PACKT10Table[[#This Row],[EmployeeID]],EmployeeListLookupTable[],3,FALSE)","v":"Employee Name 96"},{"$f":"VLOOKUP(PACKT10Table[[#This Row],[EmployeeID]],EmployeeListLookupTable[],4,FALSE)","v":"Employee Job Title 96"},null,null,null,null,null,null,null,null,null,null,null,null,{"$f":"VLOOKUP(PACKT10Table[[#This Row],[EmployeeID]],EmployeeListLookupTable[#All],16,FALSE)=\"Y\"","v":true}]
[null,"EMP0097",{"$f":"VLOOKUP(PACKT10Table[[#This Row],[EmployeeID]],EmployeeListLookupTable[],2,FALSE)","v":"EMPN097"},{"$f":"VLOOKUP(PACKT10Table[[#This Row],[EmployeeID]],EmployeeListLookupTable[],3,FALSE)","v":"Employee Name 97"},{"$f":"VLOOKUP(PACKT10Table[[#This Row],[EmployeeID]],EmployeeListLookupTable[],4,FALSE)","v":"Employee Job Title 97"},null,null,null,null,null,null,null,null,null,null,null,null,{"$f":"VLOOKUP(PACKT10Table[[#This Row],[EmployeeID]],EmployeeListLookupTable[#All],16,FALSE)=\"Y\"","v":true}]
[null,"EMP0098",{"$f":"VLOOKUP(PACKT10Table[[#This Row],[EmployeeID]],EmployeeListLookupTable[],2,FALSE)","v":"EMPN098"},{"$f":"VLOOKUP(PACKT10Table[[#This Row],[EmployeeID]],EmployeeListLookupTable[],3,FALSE)","v":"Employee Name 98"},{"$f":"VLOOKUP(PACKT10Table[[#This Row],[EmployeeID]],EmployeeListLookupTable[],4,FALSE)","v":"Employee Job Title 98"},null,null,null,null,null,null,null,null,null,null,null,null,{"$f":"VLOOKUP(PACKT10Table[[#This Row],[EmployeeID]],EmployeeListLookupTable[#All],16,FALSE)=\"Y\"","v":true}]
[null,"EMP0099",{"$f":"VLOOKUP(PACKT10Table[[#This Row],[EmployeeID]],EmployeeListLookupTable[],2,FALSE)","v":"EMPN099"},{"$f":"VLOOKUP(PACKT10Table[[#This Row],[EmployeeID]],EmployeeListLookupTable[],3,FALSE)","v":"Employee Name 99"},{"$f":"VLOOKUP(PACKT10Table[[#This Row],[EmployeeID]],EmployeeListLookupTable[],4,FALSE)","v":"Employee Job Title 99"},null,null,null,null,null,null,null,null,null,null,null,null,{"$f":"VLOOKUP(PACKT10Table[[#This Row],[EmployeeID]],EmployeeListLookupTable[#All],16,FALSE)=\"Y\"","v":true}]
[null,"EMP0100",{"$f":"VLOOKUP(PACKT10Table[[#This Row],[EmployeeID]],EmployeeListLookupTable[],2,FALSE)","v":"EMPN100"},{"$f":"VLOOKUP(PACKT10Table[[#This Row],[EmployeeID]],EmployeeListLookupTable[],3,FALSE)","v":"Employee Name 100"},{"$f":"VLOOKUP(PACKT10Table[[#This Row],[EmployeeID]],EmployeeListLookupTable[],4,FALSE)","v":"Employee Job Title 100"},null,null,null,null,null,null,null,null,null,null,null,null,{"$f":"VLOOKUP(PACKT10Table[[#This Row],[EmployeeID]],EmployeeListLookupTable[#All],16,FALSE)=\"Y\"","v":true}]
[null,"Total",null,null,"Total",{"$f":"SUBTOTAL(109,PACKT10Table[1])","v":0},{"$f":"SUBTOTAL(109,PACKT10Table[2])","v":0},{"$f":"SUBTOTAL(109,PACKT10Table[3])","v":0},{"$f":"SUBTOTAL(109,PACKT10Table[4])","v":0},{"$f":"SUBTOTAL(109,PACKT10Table[5])","v":0},{"$f":"SUBTOTAL(109,PACKT10Table[6])","v":0},{"$f":"SUBTOTAL(109,PACKT10Table[7])","v":0},{"$f":"SUBTOTAL(109,PACKT10Table[8])","v":0},{"$f":"SUBTOTAL(109,PACKT10Table[9])","v":0},{"$f":"SUBTOTAL(109,PACKT10Table[10])","v":0},{"$f":"SUBTOTAL(109,PACKT10Table[11])","v":0},{"$f":"SUBTOTAL(109,PACKT10Table[12])","v":0}]

{"sheet":"PACKT11","index":19,"n_rows":112,"n_cols":18,"rows_kept":112,"cut":false,"hidden":false,"merged":[[1,2,1,4],[1,6,1,10],[2,2,2,10]]}
[null,null,"Menu"]
[null,null,{"$f":"EntityName","v":"Company A"},null,null,null,{"$f":"YearEnd","v":"2013-02-28"}]
[null,null,{"$f":"VLOOKUP(D6,PackageItemListLookup[],4,FALSE)","v":"PACKT11"}]
[]
[]
[null,null,"Package Item code:","PACK011"]
[null,null,"Package Item name:",{"$f":"VLOOKUP(D6,PackageItemListLookup[],2,FALSE)","v":"Package Item 11"}]
[null,null,null,null,"Total",{"$f":"PACKT11Table[[#Totals],[1]]","v":0},{"$f":"PACKT11Table[[#Totals],[2]]","v":0},{"$f":"PACKT11Table[[#Totals],[3]]","v":0},{"$f":"PACKT11Table[[#Totals],[4]]","v":0},{"$f":"PACKT11Table[[#Totals],[5]]","v":0},{"$f":"PACKT11Table[[#Totals],[6]]","v":0},{"$f":"PACKT11Table[[#Totals],[7]]","v":0},{"$f":"PACKT11Table[[#Totals],[8]]","v":0},{"$f":"PACKT11Table[[#Totals],[9]]","v":0},{"$f":"PACKT11Table[[#Totals],[10]]","v":0},{"$f":"PACKT11Table[[#Totals],[11]]","v":0},{"$f":"PACKT11Table[[#Totals],[12]]","v":0}]
[]
[null,null,null,null,null,{"$f":"VLOOKUP(PackageItemTable[[#Headers],[1]],CalendarMonthText,5,FALSE)","v":"March"},{"$f":"VLOOKUP(PackageItemTable[[#Headers],[2]],CalendarMonthText,5,FALSE)","v":"April"},{"$f":"VLOOKUP(PackageItemTable[[#Headers],[3]],CalendarMonthText,5,FALSE)","v":"May"},{"$f":"VLOOKUP(PackageItemTable[[#Headers],[4]],CalendarMonthText,5,FALSE)","v":"June"},{"$f":"VLOOKUP(PackageItemTable[[#Headers],[5]],CalendarMonthText,5,FALSE)","v":"July"},{"$f":"VLOOKUP(PackageItemTable[[#Headers],[6]],CalendarMonthText,5,FALSE)","v":"August"},{"$f":"VLOOKUP(PackageItemTable[[#Headers],[7]],CalendarMonthText,5,FALSE)","v":"September"},{"$f":"VLOOKUP(PackageItemTable[[#Headers],[8]],CalendarMonthText,5,FALSE)","v":"October"},{"$f":"VLOOKUP(PackageItemTable[[#Headers],[9]],CalendarMonthText,5,FALSE)","v":"November"},{"$f":"VLOOKUP(PackageItemTable[[#Headers],[10]],CalendarMonthText,5,FALSE)","v":"December"},{"$f":"VLOOKUP(PackageItemTable[[#Headers],[11]],CalendarMonthText,5,FALSE)","v":"January"},{"$f":"VLOOKUP(PackageItemTable[[#Headers],[12]],CalendarMonthText,5,FALSE)","v":"February"}]
[null,"EmployeeID","EmployeeNumber","EmployeeName","EmployeeJobTitle","1","2","3","4","5","6","7","8","9","10","11","12","Selected"]
[null,"EMP0001",{"$f":"VLOOKUP(PACKT11Table[[#This Row],[EmployeeID]],EmployeeListLookupTable[],2,FALSE)","v":"EMPN001"},{"$f":"VLOOKUP(PACKT11Table[[#This Row],[EmployeeID]],EmployeeListLookupTable[],3,FALSE)","v":"Employee Name 1"},{"$f":"VLOOKUP(PACKT11Table[[#This Row],[EmployeeID]],EmployeeListLookupTable[],4,FALSE)","v":"Employee Job Title 1"},null,null,null,null,null,null,null,null,null,null,null,null,{"$f":"VLOOKUP(PACKT11Table[[#This Row],[EmployeeID]],EmployeeListLookupTable[#All],17,FALSE)=\"Y\"","v":true}]
[null,"EMP0002",{"$f":"VLOOKUP(PACKT11Table[[#This Row],[EmployeeID]],EmployeeListLookupTable[],2,FALSE)","v":"EMPN002"},{"$f":"VLOOKUP(PACKT11Table[[#This Row],[EmployeeID]],EmployeeListLookupTable[],3,FALSE)","v":"Employee Name 2"},{"$f":"VLOOKUP(PACKT11Table[[#This Row],[EmployeeID]],EmployeeListLookupTable[],4,FALSE)","v":"Employee Job Title 2"},null,null,null,null,null,null,null,null,null,null,null,null,{"$f":"VLOOKUP(PACKT11Table[[#This Row],[EmployeeID]],EmployeeListLookupTable[#All],17,FALSE)=\"Y\"","v":true}]
[null,"EMP0003",{"$f":"VLOOKUP(PACKT11Table[[#This Row],[EmployeeID]],EmployeeListLookupTable[],2,FALSE)","v":"EMPN003"},{"$f":"VLOOKUP(PACKT11Table[[#This Row],[EmployeeID]],EmployeeListLookupTable[],3,FALSE)","v":"Employee Name 3"},{"$f":"VLOOKUP(PACKT11Table[[#This Row],[EmployeeID]],EmployeeListLookupTable[],4,FALSE)","v":"Employee Job Title 3"},null,null,null,null,null,null,null,null,null,null,null,null,{"$f":"VLOOKUP(PACKT11Table[[#This Row],[EmployeeID]],EmployeeListLookupTable[#All],17,FALSE)=\"Y\"","v":true}]
[null,"EMP0004",{"$f":"VLOOKUP(PACKT11Table[[#This Row],[EmployeeID]],EmployeeListLookupTable[],2,FALSE)","v":"EMPN004"},{"$f":"VLOOKUP(PACKT11Table[[#This Row],[EmployeeID]],EmployeeListLookupTable[],3,FALSE)","v":"Employee Name 4"},{"$f":"VLOOKUP(PACKT11Table[[#This Row],[EmployeeID]],EmployeeListLookupTable[],4,FALSE)","v":"Employee Job Title 4"},null,null,null,null,null,null,null,null,null,null,null,null,{"$f":"VLOOKUP(PACKT11Table[[#This Row],[EmployeeID]],EmployeeListLookupTable[#All],17,FALSE)=\"Y\"","v":true}]
[null,"EMP0005",{"$f":"VLOOKUP(PACKT11Table[[#This Row],[EmployeeID]],EmployeeListLookupTable[],2,FALSE)","v":"EMPN005"},{"$f":"VLOOKUP(PACKT11Table[[#This Row],[EmployeeID]],EmployeeListLookupTable[],3,FALSE)","v":"Employee Name 5"},{"$f":"VLOOKUP(PACKT11Table[[#This Row],[EmployeeID]],EmployeeListLookupTable[],4,FALSE)","v":"Employee Job Title 5"},null,null,null,null,null,null,null,null,null,null,null,null,{"$f":"VLOOKUP(PACKT11Table[[#This Row],[EmployeeID]],EmployeeListLookupTable[#All],17,FALSE)=\"Y\"","v":true}]
[null,"EMP0006",{"$f":"VLOOKUP(PACKT11Table[[#This Row],[EmployeeID]],EmployeeListLookupTable[],2,FALSE)","v":"EMPN006"},{"$f":"VLOOKUP(PACKT11Table[[#This Row],[EmployeeID]],EmployeeListLookupTable[],3,FALSE)","v":"Employee Name 6"},{"$f":"VLOOKUP(PACKT11Table[[#This Row],[EmployeeID]],EmployeeListLookupTable[],4,FALSE)","v":"Employee Job Title 6"},null,null,null,null,null,null,null,null,null,null,null,null,{"$f":"VLOOKUP(PACKT11Table[[#This Row],[EmployeeID]],EmployeeListLookupTable[#All],17,FALSE)=\"Y\"","v":true}]
[null,"EMP0007",{"$f":"VLOOKUP(PACKT11Table[[#This Row],[EmployeeID]],EmployeeListLookupTable[],2,FALSE)","v":"EMPN007"},{"$f":"VLOOKUP(PACKT11Table[[#This Row],[EmployeeID]],EmployeeListLookupTable[],3,FALSE)","v":"Employee Name 7"},{"$f":"VLOOKUP(PACKT11Table[[#This Row],[EmployeeID]],EmployeeListLookupTable[],4,FALSE)","v":"Employee Job Title 7"},null,null,null,null,null,null,null,null,null,null,null,null,{"$f":"VLOOKUP(PACKT11Table[[#This Row],[EmployeeID]],EmployeeListLookupTable[#All],17,FALSE)=\"Y\"","v":true}]
[null,"EMP0008",{"$f":"VLOOKUP(PACKT11Table[[#This Row],[EmployeeID]],EmployeeListLookupTable[],2,FALSE)","v":"EMPN008"},{"$f":"VLOOKUP(PACKT11Table[[#This Row],[EmployeeID]],EmployeeListLookupTable[],3,FALSE)","v":"Employee Name 8"},{"$f":"VLOOKUP(PACKT11Table[[#This Row],[EmployeeID]],EmployeeListLookupTable[],4,FALSE)","v":"Employee Job Title 8"},null,null,null,null,null,null,null,null,null,null,null,null,{"$f":"VLOOKUP(PACKT11Table[[#This Row],[EmployeeID]],EmployeeListLookupTable[#All],17,FALSE)=\"Y\"","v":true}]
[null,"EMP0009",{"$f":"VLOOKUP(PACKT11Table[[#This Row],[EmployeeID]],EmployeeListLookupTable[],2,FALSE)","v":"EMPN009"},{"$f":"VLOOKUP(PACKT11Table[[#This Row],[EmployeeID]],EmployeeListLookupTable[],3,FALSE)","v":"Employee Name 9"},{"$f":"VLOOKUP(PACKT11Table[[#This Row],[EmployeeID]],EmployeeListLookupTable[],4,FALSE)","v":"Employee Job Title 9"},null,null,null,null,null,null,null,null,null,null,null,null,{"$f":"VLOOKUP(PACKT11Table[[#This Row],[EmployeeID]],EmployeeListLookupTable[#All],17,FALSE)=\"Y\"","v":true}]
[null,"EMP0010",{"$f":"VLOOKUP(PACKT11Table[[#This Row],[EmployeeID]],EmployeeListLookupTable[],2,FALSE)","v":"EMPN010"},{"$f":"VLOOKUP(PACKT11Table[[#This Row],[EmployeeID]],EmployeeListLookupTable[],3,FALSE)","v":"Employee Name 10"},{"$f":"VLOOKUP(PACKT11Table[[#This Row],[EmployeeID]],EmployeeListLookupTable[],4,FALSE)","v":"Employee Job Title 10"},null,null,null,null,null,null,null,null,null,null,null,null,{"$f":"VLOOKUP(PACKT11Table[[#This Row],[EmployeeID]],EmployeeListLookupTable[#All],17,FALSE)=\"Y\"","v":true}]
[null,"EMP0011",{"$f":"VLOOKUP(PACKT11Table[[#This Row],[EmployeeID]],EmployeeListLookupTable[],2,FALSE)","v":"EMPN011"},{"$f":"VLOOKUP(PACKT11Table[[#This Row],[EmployeeID]],EmployeeListLookupTable[],3,FALSE)","v":"Employee Name 11"},{"$f":"VLOOKUP(PACKT11Table[[#This Row],[EmployeeID]],EmployeeListLookupTable[],4,FALSE)","v":"Employee Job Title 11"},null,null,null,null,null,null,null,null,null,null,null,null,{"$f":"VLOOKUP(PACKT11Table[[#This Row],[EmployeeID]],EmployeeListLookupTable[#All],17,FALSE)=\"Y\"","v":true}]
[null,"EMP0012",{"$f":"VLOOKUP(PACKT11Table[[#This Row],[EmployeeID]],EmployeeListLookupTable[],2,FALSE)","v":"EMPN012"},{"$f":"VLOOKUP(PACKT11Table[[#This Row],[EmployeeID]],EmployeeListLookupTable[],3,FALSE)","v":"Employee Name 12"},{"$f":"VLOOKUP(PACKT11Table[[#This Row],[EmployeeID]],EmployeeListLookupTable[],4,FALSE)","v":"Employee Job Title 12"},null,null,null,null,null,null,null,null,null,null,null,null,{"$f":"VLOOKUP(PACKT11Table[[#This Row],[EmployeeID]],EmployeeListLookupTable[#All],17,FALSE)=\"Y\"","v":true}]
[null,"EMP0013",{"$f":"VLOOKUP(PACKT11Table[[#This Row],[EmployeeID]],EmployeeListLookupTable[],2,FALSE)","v":"EMPN013"},{"$f":"VLOOKUP(PACKT11Table[[#This Row],[EmployeeID]],EmployeeListLookupTable[],3,FALSE)","v":"Employee Name 13"},{"$f":"VLOOKUP(PACKT11Table[[#This Row],[EmployeeID]],EmployeeListLookupTable[],4,FALSE)","v":"Employee Job Title 13"},null,null,null,null,null,null,null,null,null,null,null,null,{"$f":"VLOOKUP(PACKT11Table[[#This Row],[EmployeeID]],EmployeeListLookupTable[#All],17,FALSE)=\"Y\"","v":true}]
[null,"EMP0014",{"$f":"VLOOKUP(PACKT11Table[[#This Row],[EmployeeID]],EmployeeListLookupTable[],2,FALSE)","v":"EMPN014"},{"$f":"VLOOKUP(PACKT11Table[[#This Row],[EmployeeID]],EmployeeListLookupTable[],3,FALSE)","v":"Employee Name 14"},{"$f":"VLOOKUP(PACKT11Table[[#This Row],[EmployeeID]],EmployeeListLookupTable[],4,FALSE)","v":"Employee Job Title 14"},null,null,null,null,null,null,null,null,null,null,null,null,{"$f":"VLOOKUP(PACKT11Table[[#This Row],[EmployeeID]],EmployeeListLookupTable[#All],17,FALSE)=\"Y\"","v":true}]
[null,"EMP0015",{"$f":"VLOOKUP(PACKT11Table[[#This Row],[EmployeeID]],EmployeeListLookupTable[],2,FALSE)","v":"EMPN015"},{"$f":"VLOOKUP(PACKT11Table[[#This Row],[EmployeeID]],EmployeeListLookupTable[],3,FALSE)","v":"Employee Name 15"},{"$f":"VLOOKUP(PACKT11Table[[#This Row],[EmployeeID]],EmployeeListLookupTable[],4,FALSE)","v":"Employee Job Title 15"},null,null,null,null,null,null,null,null,null,null,null,null,{"$f":"VLOOKUP(PACKT11Table[[#This Row],[EmployeeID]],EmployeeListLookupTable[#All],17,FALSE)=\"Y\"","v":true}]
[null,"EMP0016",{"$f":"VLOOKUP(PACKT11Table[[#This Row],[EmployeeID]],EmployeeListLookupTable[],2,FALSE)","v":"EMPN016"},{"$f":"VLOOKUP(PACKT11Table[[#This Row],[EmployeeID]],EmployeeListLookupTable[],3,FALSE)","v":"Employee Name 16"},{"$f":"VLOOKUP(PACKT11Table[[#This Row],[EmployeeID]],EmployeeListLookupTable[],4,FALSE)","v":"Employee Job Title 16"},null,null,null,null,null,null,null,null,null,null,null,null,{"$f":"VLOOKUP(PACKT11Table[[#This Row],[EmployeeID]],EmployeeListLookupTable[#All],17,FALSE)=\"Y\"","v":true}]
[null,"EMP0017",{"$f":"VLOOKUP(PACKT11Table[[#This Row],[EmployeeID]],EmployeeListLookupTable[],2,FALSE)","v":"EMPN017"},{"$f":"VLOOKUP(PACKT11Table[[#This Row],[EmployeeID]],EmployeeListLookupTable[],3,FALSE)","v":"Employee Name 17"},{"$f":"VLOOKUP(PACKT11Table[[#This Row],[EmployeeID]],EmployeeListLookupTable[],4,FALSE)","v":"Employee Job Title 17"},null,null,null,null,null,null,null,null,null,null,null,null,{"$f":"VLOOKUP(PACKT11Table[[#This Row],[EmployeeID]],EmployeeListLookupTable[#All],17,FALSE)=\"Y\"","v":true}]
[null,"EMP0018",{"$f":"VLOOKUP(PACKT11Table[[#This Row],[EmployeeID]],EmployeeListLookupTable[],2,FALSE)","v":"EMPN018"},{"$f":"VLOOKUP(PACKT11Table[[#This Row],[EmployeeID]],EmployeeListLookupTable[],3,FALSE)","v":"Employee Name 18"},{"$f":"VLOOKUP(PACKT11Table[[#This Row],[EmployeeID]],EmployeeListLookupTable[],4,FALSE)","v":"Employee Job Title 18"},null,null,null,null,null,null,null,null,null,null,null,null,{"$f":"VLOOKUP(PACKT11Table[[#This Row],[EmployeeID]],EmployeeListLookupTable[#All],17,FALSE)=\"Y\"","v":true}]
[null,"EMP0019",{"$f":"VLOOKUP(PACKT11Table[[#This Row],[EmployeeID]],EmployeeListLookupTable[],2,FALSE)","v":"EMPN019"},{"$f":"VLOOKUP(PACKT11Table[[#This Row],[EmployeeID]],EmployeeListLookupTable[],3,FALSE)","v":"Employee Name 19"},{"$f":"VLOOKUP(PACKT11Table[[#This Row],[EmployeeID]],EmployeeListLookupTable[],4,FALSE)","v":"Employee Job Title 19"},null,null,null,null,null,null,null,null,null,null,null,null,{"$f":"VLOOKUP(PACKT11Table[[#This Row],[EmployeeID]],EmployeeListLookupTable[#All],17,FALSE)=\"Y\"","v":true}]
[null,"EMP0020",{"$f":"VLOOKUP(PACKT11Table[[#This Row],[EmployeeID]],EmployeeListLookupTable[],2,FALSE)","v":"EMPN020"},{"$f":"VLOOKUP(PACKT11Table[[#This Row],[EmployeeID]],EmployeeListLookupTable[],3,FALSE)","v":"Employee Name 20"},{"$f":"VLOOKUP(PACKT11Table[[#This Row],[EmployeeID]],EmployeeListLookupTable[],4,FALSE)","v":"Employee Job Title 20"},null,null,null,null,null,null,null,null,null,null,null,null,{"$f":"VLOOKUP(PACKT11Table[[#This Row],[EmployeeID]],EmployeeListLookupTable[#All],17,FALSE)=\"Y\"","v":true}]
[null,"EMP0021",{"$f":"VLOOKUP(PACKT11Table[[#This Row],[EmployeeID]],EmployeeListLookupTable[],2,FALSE)","v":"EMPN021"},{"$f":"VLOOKUP(PACKT11Table[[#This Row],[EmployeeID]],EmployeeListLookupTable[],3,FALSE)","v":"Employee Name 21"},{"$f":"VLOOKUP(PACKT11Table[[#This Row],[EmployeeID]],EmployeeListLookupTable[],4,FALSE)","v":"Employee Job Title 21"},null,null,null,null,null,null,null,null,null,null,null,null,{"$f":"VLOOKUP(PACKT11Table[[#This Row],[EmployeeID]],EmployeeListLookupTable[#All],17,FALSE)=\"Y\"","v":true}]
[null,"EMP0022",{"$f":"VLOOKUP(PACKT11Table[[#This Row],[EmployeeID]],EmployeeListLookupTable[],2,FALSE)","v":"EMPN022"},{"$f":"VLOOKUP(PACKT11Table[[#This Row],[EmployeeID]],EmployeeListLookupTable[],3,FALSE)","v":"Employee Name 22"},{"$f":"VLOOKUP(PACKT11Table[[#This Row],[EmployeeID]],EmployeeListLookupTable[],4,FALSE)","v":"Employee Job Title 22"},null,null,null,null,null,null,null,null,null,null,null,null,{"$f":"VLOOKUP(PACKT11Table[[#This Row],[EmployeeID]],EmployeeListLookupTable[#All],17,FALSE)=\"Y\"","v":true}]
[null,"EMP0023",{"$f":"VLOOKUP(PACKT11Table[[#This Row],[EmployeeID]],EmployeeListLookupTable[],2,FALSE)","v":"EMPN023"},{"$f":"VLOOKUP(PACKT11Table[[#This Row],[EmployeeID]],EmployeeListLookupTable[],3,FALSE)","v":"Employee Name 23"},{"$f":"VLOOKUP(PACKT11Table[[#This Row],[EmployeeID]],EmployeeListLookupTable[],4,FALSE)","v":"Employee Job Title 23"},null,null,null,null,null,null,null,null,null,null,null,null,{"$f":"VLOOKUP(PACKT11Table[[#This Row],[EmployeeID]],EmployeeListLookupTable[#All],17,FALSE)=\"Y\"","v":true}]
[null,"EMP0024",{"$f":"VLOOKUP(PACKT11Table[[#This Row],[EmployeeID]],EmployeeListLookupTable[],2,FALSE)","v":"EMPN024"},{"$f":"VLOOKUP(PACKT11Table[[#This Row],[EmployeeID]],EmployeeListLookupTable[],3,FALSE)","v":"Employee Name 24"},{"$f":"VLOOKUP(PACKT11Table[[#This Row],[EmployeeID]],EmployeeListLookupTable[],4,FALSE)","v":"Employee Job Title 24"},null,null,null,null,null,null,null,null,null,null,null,null,{"$f":"VLOOKUP(PACKT11Table[[#This Row],[EmployeeID]],EmployeeListLookupTable[#All],17,FALSE)=\"Y\"","v":true}]
[null,"EMP0025",{"$f":"VLOOKUP(PACKT11Table[[#This Row],[EmployeeID]],EmployeeListLookupTable[],2,FALSE)","v":"EMPN025"},{"$f":"VLOOKUP(PACKT11Table[[#This Row],[EmployeeID]],EmployeeListLookupTable[],3,FALSE)","v":"Employee Name 25"},{"$f":"VLOOKUP(PACKT11Table[[#This Row],[EmployeeID]],EmployeeListLookupTable[],4,FALSE)","v":"Employee Job Title 25"},null,null,null,null,null,null,null,null,null,null,null,null,{"$f":"VLOOKUP(PACKT11Table[[#This Row],[EmployeeID]],EmployeeListLookupTable[#All],17,FALSE)=\"Y\"","v":true}]
[null,"EMP0026",{"$f":"VLOOKUP(PACKT11Table[[#This Row],[EmployeeID]],EmployeeListLookupTable[],2,FALSE)","v":"EMPN026"},{"$f":"VLOOKUP(PACKT11Table[[#This Row],[EmployeeID]],EmployeeListLookupTable[],3,FALSE)","v":"Employee Name 26"},{"$f":"VLOOKUP(PACKT11Table[[#This Row],[EmployeeID]],EmployeeListLookupTable[],4,FALSE)","v":"Employee Job Title 26"},null,null,null,null,null,null,null,null,null,null,null,null,{"$f":"VLOOKUP(PACKT11Table[[#This Row],[EmployeeID]],EmployeeListLookupTable[#All],17,FALSE)=\"Y\"","v":true}]
[null,"EMP0027",{"$f":"VLOOKUP(PACKT11Table[[#This Row],[EmployeeID]],EmployeeListLookupTable[],2,FALSE)","v":"EMPN027"},{"$f":"VLOOKUP(PACKT11Table[[#This Row],[EmployeeID]],EmployeeListLookupTable[],3,FALSE)","v":"Employee Name 27"},{"$f":"VLOOKUP(PACKT11Table[[#This Row],[EmployeeID]],EmployeeListLookupTable[],4,FALSE)","v":"Employee Job Title 27"},null,null,null,null,null,null,null,null,null,null,null,null,{"$f":"VLOOKUP(PACKT11Table[[#This Row],[EmployeeID]],EmployeeListLookupTable[#All],17,FALSE)=\"Y\"","v":true}]
[null,"EMP0028",{"$f":"VLOOKUP(PACKT11Table[[#This Row],[EmployeeID]],EmployeeListLookupTable[],2,FALSE)","v":"EMPN028"},{"$f":"VLOOKUP(PACKT11Table[[#This Row],[EmployeeID]],EmployeeListLookupTable[],3,FALSE)","v":"Employee Name 28"},{"$f":"VLOOKUP(PACKT11Table[[#This Row],[EmployeeID]],EmployeeListLookupTable[],4,FALSE)","v":"Employee Job Title 28"},null,null,null,null,null,null,null,null,null,null,null,null,{"$f":"VLOOKUP(PACKT11Table[[#This Row],[EmployeeID]],EmployeeListLookupTable[#All],17,FALSE)=\"Y\"","v":true}]
[null,"EMP0029",{"$f":"VLOOKUP(PACKT11Table[[#This Row],[EmployeeID]],EmployeeListLookupTable[],2,FALSE)","v":"EMPN029"},{"$f":"VLOOKUP(PACKT11Table[[#This Row],[EmployeeID]],EmployeeListLookupTable[],3,FALSE)","v":"Employee Name 29"},{"$f":"VLOOKUP(PACKT11Table[[#This Row],[EmployeeID]],EmployeeListLookupTable[],4,FALSE)","v":"Employee Job Title 29"},null,null,null,null,null,null,null,null,null,null,null,null,{"$f":"VLOOKUP(PACKT11Table[[#This Row],[EmployeeID]],EmployeeListLookupTable[#All],17,FALSE)=\"Y\"","v":true}]
[null,"EMP0030",{"$f":"VLOOKUP(PACKT11Table[[#This Row],[EmployeeID]],EmployeeListLookupTable[],2,FALSE)","v":"EMPN030"},{"$f":"VLOOKUP(PACKT11Table[[#This Row],[EmployeeID]],EmployeeListLookupTable[],3,FALSE)","v":"Employee Name 30"},{"$f":"VLOOKUP(PACKT11Table[[#This Row],[EmployeeID]],EmployeeListLookupTable[],4,FALSE)","v":"Employee Job Title 30"},null,null,null,null,null,null,null,null,null,null,null,null,{"$f":"VLOOKUP(PACKT11Table[[#This Row],[EmployeeID]],EmployeeListLookupTable[#All],17,FALSE)=\"Y\"","v":true}]
[null,"EMP0031",{"$f":"VLOOKUP(PACKT11Table[[#This Row],[EmployeeID]],EmployeeListLookupTable[],2,FALSE)","v":"EMPN031"},{"$f":"VLOOKUP(PACKT11Table[[#This Row],[EmployeeID]],EmployeeListLookupTable[],3,FALSE)","v":"Employee Name 31"},{"$f":"VLOOKUP(PACKT11Table[[#This Row],[EmployeeID]],EmployeeListLookupTable[],4,FALSE)","v":"Employee Job Title 31"},null,null,null,null,null,null,null,null,null,null,null,null,{"$f":"VLOOKUP(PACKT11Table[[#This Row],[EmployeeID]],EmployeeListLookupTable[#All],17,FALSE)=\"Y\"","v":true}]
[null,"EMP0032",{"$f":"VLOOKUP(PACKT11Table[[#This Row],[EmployeeID]],EmployeeListLookupTable[],2,FALSE)","v":"EMPN032"},{"$f":"VLOOKUP(PACKT11Table[[#This Row],[EmployeeID]],EmployeeListLookupTable[],3,FALSE)","v":"Employee Name 32"},{"$f":"VLOOKUP(PACKT11Table[[#This Row],[EmployeeID]],EmployeeListLookupTable[],4,FALSE)","v":"Employee Job Title 32"},null,null,null,null,null,null,null,null,null,null,null,null,{"$f":"VLOOKUP(PACKT11Table[[#This Row],[EmployeeID]],EmployeeListLookupTable[#All],17,FALSE)=\"Y\"","v":true}]
[null,"EMP0033",{"$f":"VLOOKUP(PACKT11Table[[#This Row],[EmployeeID]],EmployeeListLookupTable[],2,FALSE)","v":"EMPN033"},{"$f":"VLOOKUP(PACKT11Table[[#This Row],[EmployeeID]],EmployeeListLookupTable[],3,FALSE)","v":"Employee Name 33"},{"$f":"VLOOKUP(PACKT11Table[[#This Row],[EmployeeID]],EmployeeListLookupTable[],4,FALSE)","v":"Employee Job Title 33"},null,null,null,null,null,null,null,null,null,null,null,null,{"$f":"VLOOKUP(PACKT11Table[[#This Row],[EmployeeID]],EmployeeListLookupTable[#All],17,FALSE)=\"Y\"","v":true}]
[null,"EMP0034",{"$f":"VLOOKUP(PACKT11Table[[#This Row],[EmployeeID]],EmployeeListLookupTable[],2,FALSE)","v":"EMPN034"},{"$f":"VLOOKUP(PACKT11Table[[#This Row],[EmployeeID]],EmployeeListLookupTable[],3,FALSE)","v":"Employee Name 34"},{"$f":"VLOOKUP(PACKT11Table[[#This Row],[EmployeeID]],EmployeeListLookupTable[],4,FALSE)","v":"Employee Job Title 34"},null,null,null,null,null,null,null,null,null,null,null,null,{"$f":"VLOOKUP(PACKT11Table[[#This Row],[EmployeeID]],EmployeeListLookupTable[#All],17,FALSE)=\"Y\"","v":true}]
[null,"EMP0035",{"$f":"VLOOKUP(PACKT11Table[[#This Row],[EmployeeID]],EmployeeListLookupTable[],2,FALSE)","v":"EMPN035"},{"$f":"VLOOKUP(PACKT11Table[[#This Row],[EmployeeID]],EmployeeListLookupTable[],3,FALSE)","v":"Employee Name 35"},{"$f":"VLOOKUP(PACKT11Table[[#This Row],[EmployeeID]],EmployeeListLookupTable[],4,FALSE)","v":"Employee Job Title 35"},null,null,null,null,null,null,null,null,null,null,null,null,{"$f":"VLOOKUP(PACKT11Table[[#This Row],[EmployeeID]],EmployeeListLookupTable[#All],17,FALSE)=\"Y\"","v":true}]
[null,"EMP0036",{"$f":"VLOOKUP(PACKT11Table[[#This Row],[EmployeeID]],EmployeeListLookupTable[],2,FALSE)","v":"EMPN036"},{"$f":"VLOOKUP(PACKT11Table[[#This Row],[EmployeeID]],EmployeeListLookupTable[],3,FALSE)","v":"Employee Name 36"},{"$f":"VLOOKUP(PACKT11Table[[#This Row],[EmployeeID]],EmployeeListLookupTable[],4,FALSE)","v":"Employee Job Title 36"},null,null,null,null,null,null,null,null,null,null,null,null,{"$f":"VLOOKUP(PACKT11Table[[#This Row],[EmployeeID]],EmployeeListLookupTable[#All],17,FALSE)=\"Y\"","v":true}]
[null,"EMP0037",{"$f":"VLOOKUP(PACKT11Table[[#This Row],[EmployeeID]],EmployeeListLookupTable[],2,FALSE)","v":"EMPN037"},{"$f":"VLOOKUP(PACKT11Table[[#This Row],[EmployeeID]],EmployeeListLookupTable[],3,FALSE)","v":"Employee Name 37"},{"$f":"VLOOKUP(PACKT11Table[[#This Row],[EmployeeID]],EmployeeListLookupTable[],4,FALSE)","v":"Employee Job Title 37"},null,null,null,null,null,null,null,null,null,null,null,null,{"$f":"VLOOKUP(PACKT11Table[[#This Row],[EmployeeID]],EmployeeListLookupTable[#All],17,FALSE)=\"Y\"","v":true}]
[null,"EMP0038",{"$f":"VLOOKUP(PACKT11Table[[#This Row],[EmployeeID]],EmployeeListLookupTable[],2,FALSE)","v":"EMPN038"},{"$f":"VLOOKUP(PACKT11Table[[#This Row],[EmployeeID]],EmployeeListLookupTable[],3,FALSE)","v":"Employee Name 38"},{"$f":"VLOOKUP(PACKT11Table[[#This Row],[EmployeeID]],EmployeeListLookupTable[],4,FALSE)","v":"Employee Job Title 38"},null,null,null,null,null,null,null,null,null,null,null,null,{"$f":"VLOOKUP(PACKT11Table[[#This Row],[EmployeeID]],EmployeeListLookupTable[#All],17,FALSE)=\"Y\"","v":true}]
[null,"EMP0039",{"$f":"VLOOKUP(PACKT11Table[[#This Row],[EmployeeID]],EmployeeListLookupTable[],2,FALSE)","v":"EMPN039"},{"$f":"VLOOKUP(PACKT11Table[[#This Row],[EmployeeID]],EmployeeListLookupTable[],3,FALSE)","v":"Employee Name 39"},{"$f":"VLOOKUP(PACKT11Table[[#This Row],[EmployeeID]],EmployeeListLookupTable[],4,FALSE)","v":"Employee Job Title 39"},null,null,null,null,null,null,null,null,null,null,null,null,{"$f":"VLOOKUP(PACKT11Table[[#This Row],[EmployeeID]],EmployeeListLookupTable[#All],17,FALSE)=\"Y\"","v":true}]
[null,"EMP0040",{"$f":"VLOOKUP(PACKT11Table[[#This Row],[EmployeeID]],EmployeeListLookupTable[],2,FALSE)","v":"EMPN040"},{"$f":"VLOOKUP(PACKT11Table[[#This Row],[EmployeeID]],EmployeeListLookupTable[],3,FALSE)","v":"Employee Name 40"},{"$f":"VLOOKUP(PACKT11Table[[#This Row],[EmployeeID]],EmployeeListLookupTable[],4,FALSE)","v":"Employee Job Title 40"},null,null,null,null,null,null,null,null,null,null,null,null,{"$f":"VLOOKUP(PACKT11Table[[#This Row],[EmployeeID]],EmployeeListLookupTable[#All],17,FALSE)=\"Y\"","v":true}]
[null,"EMP0041",{"$f":"VLOOKUP(PACKT11Table[[#This Row],[EmployeeID]],EmployeeListLookupTable[],2,FALSE)","v":"EMPN041"},{"$f":"VLOOKUP(PACKT11Table[[#This Row],[EmployeeID]],EmployeeListLookupTable[],3,FALSE)","v":"Employee Name 41"},{"$f":"VLOOKUP(PACKT11Table[[#This Row],[EmployeeID]],EmployeeListLookupTable[],4,FALSE)","v":"Employee Job Title 41"},null,null,null,null,null,null,null,null,null,null,null,null,{"$f":"VLOOKUP(PACKT11Table[[#This Row],[EmployeeID]],EmployeeListLookupTable[#All],17,FALSE)=\"Y\"","v":true}]
[null,"EMP0042",{"$f":"VLOOKUP(PACKT11Table[[#This Row],[EmployeeID]],EmployeeListLookupTable[],2,FALSE)","v":"EMPN042"},{"$f":"VLOOKUP(PACKT11Table[[#This Row],[EmployeeID]],EmployeeListLookupTable[],3,FALSE)","v":"Employee Name 42"},{"$f":"VLOOKUP(PACKT11Table[[#This Row],[EmployeeID]],EmployeeListLookupTable[],4,FALSE)","v":"Employee Job Title 42"},null,null,null,null,null,null,null,null,null,null,null,null,{"$f":"VLOOKUP(PACKT11Table[[#This Row],[EmployeeID]],EmployeeListLookupTable[#All],17,FALSE)=\"Y\"","v":true}]
[null,"EMP0043",{"$f":"VLOOKUP(PACKT11Table[[#This Row],[EmployeeID]],EmployeeListLookupTable[],2,FALSE)","v":"EMPN043"},{"$f":"VLOOKUP(PACKT11Table[[#This Row],[EmployeeID]],EmployeeListLookupTable[],3,FALSE)","v":"Employee Name 43"},{"$f":"VLOOKUP(PACKT11Table[[#This Row],[EmployeeID]],EmployeeListLookupTable[],4,FALSE)","v":"Employee Job Title 43"},null,null,null,null,null,null,null,null,null,null,null,null,{"$f":"VLOOKUP(PACKT11Table[[#This Row],[EmployeeID]],EmployeeListLookupTable[#All],17,FALSE)=\"Y\"","v":true}]
[null,"EMP0044",{"$f":"VLOOKUP(PACKT11Table[[#This Row],[EmployeeID]],EmployeeListLookupTable[],2,FALSE)","v":"EMPN044"},{"$f":"VLOOKUP(PACKT11Table[[#This Row],[EmployeeID]],EmployeeListLookupTable[],3,FALSE)","v":"Employee Name 44"},{"$f":"VLOOKUP(PACKT11Table[[#This Row],[EmployeeID]],EmployeeListLookupTable[],4,FALSE)","v":"Employee Job Title 44"},null,null,null,null,null,null,null,null,null,null,null,null,{"$f":"VLOOKUP(PACKT11Table[[#This Row],[EmployeeID]],EmployeeListLookupTable[#All],17,FALSE)=\"Y\"","v":true}]
[null,"EMP0045",{"$f":"VLOOKUP(PACKT11Table[[#This Row],[EmployeeID]],EmployeeListLookupTable[],2,FALSE)","v":"EMPN045"},{"$f":"VLOOKUP(PACKT11Table[[#This Row],[EmployeeID]],EmployeeListLookupTable[],3,FALSE)","v":"Employee Name 45"},{"$f":"VLOOKUP(PACKT11Table[[#This Row],[EmployeeID]],EmployeeListLookupTable[],4,FALSE)","v":"Employee Job Title 45"},null,null,null,null,null,null,null,null,null,null,null,null,{"$f":"VLOOKUP(PACKT11Table[[#This Row],[EmployeeID]],EmployeeListLookupTable[#All],17,FALSE)=\"Y\"","v":true}]
[null,"EMP0046",{"$f":"VLOOKUP(PACKT11Table[[#This Row],[EmployeeID]],EmployeeListLookupTable[],2,FALSE)","v":"EMPN046"},{"$f":"VLOOKUP(PACKT11Table[[#This Row],[EmployeeID]],EmployeeListLookupTable[],3,FALSE)","v":"Employee Name 46"},{"$f":"VLOOKUP(PACKT11Table[[#This Row],[EmployeeID]],EmployeeListLookupTable[],4,FALSE)","v":"Employee Job Title 46"},null,null,null,null,null,null,null,null,null,null,null,null,{"$f":"VLOOKUP(PACKT11Table[[#This Row],[EmployeeID]],EmployeeListLookupTable[#All],17,FALSE)=\"Y\"","v":true}]
[null,"EMP0047",{"$f":"VLOOKUP(PACKT11Table[[#This Row],[EmployeeID]],EmployeeListLookupTable[],2,FALSE)","v":"EMPN047"},{"$f":"VLOOKUP(PACKT11Table[[#This Row],[EmployeeID]],EmployeeListLookupTable[],3,FALSE)","v":"Employee Name 47"},{"$f":"VLOOKUP(PACKT11Table[[#This Row],[EmployeeID]],EmployeeListLookupTable[],4,FALSE)","v":"Employee Job Title 47"},null,null,null,null,null,null,null,null,null,null,null,null,{"$f":"VLOOKUP(PACKT11Table[[#This Row],[EmployeeID]],EmployeeListLookupTable[#All],17,FALSE)=\"Y\"","v":true}]
[null,"EMP0048",{"$f":"VLOOKUP(PACKT11Table[[#This Row],[EmployeeID]],EmployeeListLookupTable[],2,FALSE)","v":"EMPN048"},{"$f":"VLOOKUP(PACKT11Table[[#This Row],[EmployeeID]],EmployeeListLookupTable[],3,FALSE)","v":"Employee Name 48"},{"$f":"VLOOKUP(PACKT11Table[[#This Row],[EmployeeID]],EmployeeListLookupTable[],4,FALSE)","v":"Employee Job Title 48"},null,null,null,null,null,null,null,null,null,null,null,null,{"$f":"VLOOKUP(PACKT11Table[[#This Row],[EmployeeID]],EmployeeListLookupTable[#All],17,FALSE)=\"Y\"","v":true}]
[null,"EMP0049",{"$f":"VLOOKUP(PACKT11Table[[#This Row],[EmployeeID]],EmployeeListLookupTable[],2,FALSE)","v":"EMPN049"},{"$f":"VLOOKUP(PACKT11Table[[#This Row],[EmployeeID]],EmployeeListLookupTable[],3,FALSE)","v":"Employee Name 49"},{"$f":"VLOOKUP(PACKT11Table[[#This Row],[EmployeeID]],EmployeeListLookupTable[],4,FALSE)","v":"Employee Job Title 49"},null,null,null,null,null,null,null,null,null,null,null,null,{"$f":"VLOOKUP(PACKT11Table[[#This Row],[EmployeeID]],EmployeeListLookupTable[#All],17,FALSE)=\"Y\"","v":true}]
[null,"EMP0050",{"$f":"VLOOKUP(PACKT11Table[[#This Row],[EmployeeID]],EmployeeListLookupTable[],2,FALSE)","v":"EMPN050"},{"$f":"VLOOKUP(PACKT11Table[[#This Row],[EmployeeID]],EmployeeListLookupTable[],3,FALSE)","v":"Employee Name 50"},{"$f":"VLOOKUP(PACKT11Table[[#This Row],[EmployeeID]],EmployeeListLookupTable[],4,FALSE)","v":"Employee Job Title 50"},null,null,null,null,null,null,null,null,null,null,null,null,{"$f":"VLOOKUP(PACKT11Table[[#This Row],[EmployeeID]],EmployeeListLookupTable[#All],17,FALSE)=\"Y\"","v":true}]
[null,"EMP0051",{"$f":"VLOOKUP(PACKT11Table[[#This Row],[EmployeeID]],EmployeeListLookupTable[],2,FALSE)","v":"EMPN051"},{"$f":"VLOOKUP(PACKT11Table[[#This Row],[EmployeeID]],EmployeeListLookupTable[],3,FALSE)","v":"Employee Name 51"},{"$f":"VLOOKUP(PACKT11Table[[#This Row],[EmployeeID]],EmployeeListLookupTable[],4,FALSE)","v":"Employee Job Title 51"},null,null,null,null,null,null,null,null,null,null,null,null,{"$f":"VLOOKUP(PACKT11Table[[#This Row],[EmployeeID]],EmployeeListLookupTable[#All],17,FALSE)=\"Y\"","v":true}]
[null,"EMP0052",{"$f":"VLOOKUP(PACKT11Table[[#This Row],[EmployeeID]],EmployeeListLookupTable[],2,FALSE)","v":"EMPN052"},{"$f":"VLOOKUP(PACKT11Table[[#This Row],[EmployeeID]],EmployeeListLookupTable[],3,FALSE)","v":"Employee Name 52"},{"$f":"VLOOKUP(PACKT11Table[[#This Row],[EmployeeID]],EmployeeListLookupTable[],4,FALSE)","v":"Employee Job Title 52"},null,null,null,null,null,null,null,null,null,null,null,null,{"$f":"VLOOKUP(PACKT11Table[[#This Row],[EmployeeID]],EmployeeListLookupTable[#All],17,FALSE)=\"Y\"","v":true}]
[null,"EMP0053",{"$f":"VLOOKUP(PACKT11Table[[#This Row],[EmployeeID]],EmployeeListLookupTable[],2,FALSE)","v":"EMPN053"},{"$f":"VLOOKUP(PACKT11Table[[#This Row],[EmployeeID]],EmployeeListLookupTable[],3,FALSE)","v":"Employee Name 53"},{"$f":"VLOOKUP(PACKT11Table[[#This Row],[EmployeeID]],EmployeeListLookupTable[],4,FALSE)","v":"Employee Job Title 53"},null,null,null,null,null,null,null,null,null,null,null,null,{"$f":"VLOOKUP(PACKT11Table[[#This Row],[EmployeeID]],EmployeeListLookupTable[#All],17,FALSE)=\"Y\"","v":true}]
[null,"EMP0054",{"$f":"VLOOKUP(PACKT11Table[[#This Row],[EmployeeID]],EmployeeListLookupTable[],2,FALSE)","v":"EMPN054"},{"$f":"VLOOKUP(PACKT11Table[[#This Row],[EmployeeID]],EmployeeListLookupTable[],3,FALSE)","v":"Employee Name 54"},{"$f":"VLOOKUP(PACKT11Table[[#This Row],[EmployeeID]],EmployeeListLookupTable[],4,FALSE)","v":"Employee Job Title 54"},null,null,null,null,null,null,null,null,null,null,null,null,{"$f":"VLOOKUP(PACKT11Table[[#This Row],[EmployeeID]],EmployeeListLookupTable[#All],17,FALSE)=\"Y\"","v":true}]
[null,"EMP0055",{"$f":"VLOOKUP(PACKT11Table[[#This Row],[EmployeeID]],EmployeeListLookupTable[],2,FALSE)","v":"EMPN055"},{"$f":"VLOOKUP(PACKT11Table[[#This Row],[EmployeeID]],EmployeeListLookupTable[],3,FALSE)","v":"Employee Name 55"},{"$f":"VLOOKUP(PACKT11Table[[#This Row],[EmployeeID]],EmployeeListLookupTable[],4,FALSE)","v":"Employee Job Title 55"},null,null,null,null,null,null,null,null,null,null,null,null,{"$f":"VLOOKUP(PACKT11Table[[#This Row],[EmployeeID]],EmployeeListLookupTable[#All],17,FALSE)=\"Y\"","v":true}]
[null,"EMP0056",{"$f":"VLOOKUP(PACKT11Table[[#This Row],[EmployeeID]],EmployeeListLookupTable[],2,FALSE)","v":"EMPN056"},{"$f":"VLOOKUP(PACKT11Table[[#This Row],[EmployeeID]],EmployeeListLookupTable[],3,FALSE)","v":"Employee Name 56"},{"$f":"VLOOKUP(PACKT11Table[[#This Row],[EmployeeID]],EmployeeListLookupTable[],4,FALSE)","v":"Employee Job Title 56"},null,null,null,null,null,null,null,null,null,null,null,null,{"$f":"VLOOKUP(PACKT11Table[[#This Row],[EmployeeID]],EmployeeListLookupTable[#All],17,FALSE)=\"Y\"","v":true}]
[null,"EMP0057",{"$f":"VLOOKUP(PACKT11Table[[#This Row],[EmployeeID]],EmployeeListLookupTable[],2,FALSE)","v":"EMPN057"},{"$f":"VLOOKUP(PACKT11Table[[#This Row],[EmployeeID]],EmployeeListLookupTable[],3,FALSE)","v":"Employee Name 57"},{"$f":"VLOOKUP(PACKT11Table[[#This Row],[EmployeeID]],EmployeeListLookupTable[],4,FALSE)","v":"Employee Job Title 57"},null,null,null,null,null,null,null,null,null,null,null,null,{"$f":"VLOOKUP(PACKT11Table[[#This Row],[EmployeeID]],EmployeeListLookupTable[#All],17,FALSE)=\"Y\"","v":true}]
[null,"EMP0058",{"$f":"VLOOKUP(PACKT11Table[[#This Row],[EmployeeID]],EmployeeListLookupTable[],2,FALSE)","v":"EMPN058"},{"$f":"VLOOKUP(PACKT11Table[[#This Row],[EmployeeID]],EmployeeListLookupTable[],3,FALSE)","v":"Employee Name 58"},{"$f":"VLOOKUP(PACKT11Table[[#This Row],[EmployeeID]],EmployeeListLookupTable[],4,FALSE)","v":"Employee Job Title 58"},null,null,null,null,null,null,null,null,null,null,null,null,{"$f":"VLOOKUP(PACKT11Table[[#This Row],[EmployeeID]],EmployeeListLookupTable[#All],17,FALSE)=\"Y\"","v":true}]
[null,"EMP0059",{"$f":"VLOOKUP(PACKT11Table[[#This Row],[EmployeeID]],EmployeeListLookupTable[],2,FALSE)","v":"EMPN059"},{"$f":"VLOOKUP(PACKT11Table[[#This Row],[EmployeeID]],EmployeeListLookupTable[],3,FALSE)","v":"Employee Name 59"},{"$f":"VLOOKUP(PACKT11Table[[#This Row],[EmployeeID]],EmployeeListLookupTable[],4,FALSE)","v":"Employee Job Title 59"},null,null,null,null,null,null,null,null,null,null,null,null,{"$f":"VLOOKUP(PACKT11Table[[#This Row],[EmployeeID]],EmployeeListLookupTable[#All],17,FALSE)=\"Y\"","v":true}]
[null,"EMP0060",{"$f":"VLOOKUP(PACKT11Table[[#This Row],[EmployeeID]],EmployeeListLookupTable[],2,FALSE)","v":"EMPN060"},{"$f":"VLOOKUP(PACKT11Table[[#This Row],[EmployeeID]],EmployeeListLookupTable[],3,FALSE)","v":"Employee Name 60"},{"$f":"VLOOKUP(PACKT11Table[[#This Row],[EmployeeID]],EmployeeListLookupTable[],4,FALSE)","v":"Employee Job Title 60"},null,null,null,null,null,null,null,null,null,null,null,null,{"$f":"VLOOKUP(PACKT11Table[[#This Row],[EmployeeID]],EmployeeListLookupTable[#All],17,FALSE)=\"Y\"","v":true}]
[null,"EMP0061",{"$f":"VLOOKUP(PACKT11Table[[#This Row],[EmployeeID]],EmployeeListLookupTable[],2,FALSE)","v":"EMPN061"},{"$f":"VLOOKUP(PACKT11Table[[#This Row],[EmployeeID]],EmployeeListLookupTable[],3,FALSE)","v":"Employee Name 61"},{"$f":"VLOOKUP(PACKT11Table[[#This Row],[EmployeeID]],EmployeeListLookupTable[],4,FALSE)","v":"Employee Job Title 61"},null,null,null,null,null,null,null,null,null,null,null,null,{"$f":"VLOOKUP(PACKT11Table[[#This Row],[EmployeeID]],EmployeeListLookupTable[#All],17,FALSE)=\"Y\"","v":true}]
[null,"EMP0062",{"$f":"VLOOKUP(PACKT11Table[[#This Row],[EmployeeID]],EmployeeListLookupTable[],2,FALSE)","v":"EMPN062"},{"$f":"VLOOKUP(PACKT11Table[[#This Row],[EmployeeID]],EmployeeListLookupTable[],3,FALSE)","v":"Employee Name 62"},{"$f":"VLOOKUP(PACKT11Table[[#This Row],[EmployeeID]],EmployeeListLookupTable[],4,FALSE)","v":"Employee Job Title 62"},null,null,null,null,null,null,null,null,null,null,null,null,{"$f":"VLOOKUP(PACKT11Table[[#This Row],[EmployeeID]],EmployeeListLookupTable[#All],17,FALSE)=\"Y\"","v":true}]
[null,"EMP0063",{"$f":"VLOOKUP(PACKT11Table[[#This Row],[EmployeeID]],EmployeeListLookupTable[],2,FALSE)","v":"EMPN063"},{"$f":"VLOOKUP(PACKT11Table[[#This Row],[EmployeeID]],EmployeeListLookupTable[],3,FALSE)","v":"Employee Name 63"},{"$f":"VLOOKUP(PACKT11Table[[#This Row],[EmployeeID]],EmployeeListLookupTable[],4,FALSE)","v":"Employee Job Title 63"},null,null,null,null,null,null,null,null,null,null,null,null,{"$f":"VLOOKUP(PACKT11Table[[#This Row],[EmployeeID]],EmployeeListLookupTable[#All],17,FALSE)=\"Y\"","v":true}]
[null,"EMP0064",{"$f":"VLOOKUP(PACKT11Table[[#This Row],[EmployeeID]],EmployeeListLookupTable[],2,FALSE)","v":"EMPN064"},{"$f":"VLOOKUP(PACKT11Table[[#This Row],[EmployeeID]],EmployeeListLookupTable[],3,FALSE)","v":"Employee Name 64"},{"$f":"VLOOKUP(PACKT11Table[[#This Row],[EmployeeID]],EmployeeListLookupTable[],4,FALSE)","v":"Employee Job Title 64"},null,null,null,null,null,null,null,null,null,null,null,null,{"$f":"VLOOKUP(PACKT11Table[[#This Row],[EmployeeID]],EmployeeListLookupTable[#All],17,FALSE)=\"Y\"","v":true}]
[null,"EMP0065",{"$f":"VLOOKUP(PACKT11Table[[#This Row],[EmployeeID]],EmployeeListLookupTable[],2,FALSE)","v":"EMPN065"},{"$f":"VLOOKUP(PACKT11Table[[#This Row],[EmployeeID]],EmployeeListLookupTable[],3,FALSE)","v":"Employee Name 65"},{"$f":"VLOOKUP(PACKT11Table[[#This Row],[EmployeeID]],EmployeeListLookupTable[],4,FALSE)","v":"Employee Job Title 65"},null,null,null,null,null,null,null,null,null,null,null,null,{"$f":"VLOOKUP(PACKT11Table[[#This Row],[EmployeeID]],EmployeeListLookupTable[#All],17,FALSE)=\"Y\"","v":true}]
[null,"EMP0066",{"$f":"VLOOKUP(PACKT11Table[[#This Row],[EmployeeID]],EmployeeListLookupTable[],2,FALSE)","v":"EMPN066"},{"$f":"VLOOKUP(PACKT11Table[[#This Row],[EmployeeID]],EmployeeListLookupTable[],3,FALSE)","v":"Employee Name 66"},{"$f":"VLOOKUP(PACKT11Table[[#This Row],[EmployeeID]],EmployeeListLookupTable[],4,FALSE)","v":"Employee Job Title 66"},null,null,null,null,null,null,null,null,null,null,null,null,{"$f":"VLOOKUP(PACKT11Table[[#This Row],[EmployeeID]],EmployeeListLookupTable[#All],17,FALSE)=\"Y\"","v":true}]
[null,"EMP0067",{"$f":"VLOOKUP(PACKT11Table[[#This Row],[EmployeeID]],EmployeeListLookupTable[],2,FALSE)","v":"EMPN067"},{"$f":"VLOOKUP(PACKT11Table[[#This Row],[EmployeeID]],EmployeeListLookupTable[],3,FALSE)","v":"Employee Name 67"},{"$f":"VLOOKUP(PACKT11Table[[#This Row],[EmployeeID]],EmployeeListLookupTable[],4,FALSE)","v":"Employee Job Title 67"},null,null,null,null,null,null,null,null,null,null,null,null,{"$f":"VLOOKUP(PACKT11Table[[#This Row],[EmployeeID]],EmployeeListLookupTable[#All],17,FALSE)=\"Y\"","v":true}]
[null,"EMP0068",{"$f":"VLOOKUP(PACKT11Table[[#This Row],[EmployeeID]],EmployeeListLookupTable[],2,FALSE)","v":"EMPN068"},{"$f":"VLOOKUP(PACKT11Table[[#This Row],[EmployeeID]],EmployeeListLookupTable[],3,FALSE)","v":"Employee Name 68"},{"$f":"VLOOKUP(PACKT11Table[[#This Row],[EmployeeID]],EmployeeListLookupTable[],4,FALSE)","v":"Employee Job Title 68"},null,null,null,null,null,null,null,null,null,null,null,null,{"$f":"VLOOKUP(PACKT11Table[[#This Row],[EmployeeID]],EmployeeListLookupTable[#All],17,FALSE)=\"Y\"","v":true}]
[null,"EMP0069",{"$f":"VLOOKUP(PACKT11Table[[#This Row],[EmployeeID]],EmployeeListLookupTable[],2,FALSE)","v":"EMPN069"},{"$f":"VLOOKUP(PACKT11Table[[#This Row],[EmployeeID]],EmployeeListLookupTable[],3,FALSE)","v":"Employee Name 69"},{"$f":"VLOOKUP(PACKT11Table[[#This Row],[EmployeeID]],EmployeeListLookupTable[],4,FALSE)","v":"Employee Job Title 69"},null,null,null,null,null,null,null,null,null,null,null,null,{"$f":"VLOOKUP(PACKT11Table[[#This Row],[EmployeeID]],EmployeeListLookupTable[#All],17,FALSE)=\"Y\"","v":true}]
[null,"EMP0070",{"$f":"VLOOKUP(PACKT11Table[[#This Row],[EmployeeID]],EmployeeListLookupTable[],2,FALSE)","v":"EMPN070"},{"$f":"VLOOKUP(PACKT11Table[[#This Row],[EmployeeID]],EmployeeListLookupTable[],3,FALSE)","v":"Employee Name 70"},{"$f":"VLOOKUP(PACKT11Table[[#This Row],[EmployeeID]],EmployeeListLookupTable[],4,FALSE)","v":"Employee Job Title 70"},null,null,null,null,null,null,null,null,null,null,null,null,{"$f":"VLOOKUP(PACKT11Table[[#This Row],[EmployeeID]],EmployeeListLookupTable[#All],17,FALSE)=\"Y\"","v":true}]
[null,"EMP0071",{"$f":"VLOOKUP(PACKT11Table[[#This Row],[EmployeeID]],EmployeeListLookupTable[],2,FALSE)","v":"EMPN071"},{"$f":"VLOOKUP(PACKT11Table[[#This Row],[EmployeeID]],EmployeeListLookupTable[],3,FALSE)","v":"Employee Name 71"},{"$f":"VLOOKUP(PACKT11Table[[#This Row],[EmployeeID]],EmployeeListLookupTable[],4,FALSE)","v":"Employee Job Title 71"},null,null,null,null,null,null,null,null,null,null,null,null,{"$f":"VLOOKUP(PACKT11Table[[#This Row],[EmployeeID]],EmployeeListLookupTable[#All],17,FALSE)=\"Y\"","v":true}]
[null,"EMP0072",{"$f":"VLOOKUP(PACKT11Table[[#This Row],[EmployeeID]],EmployeeListLookupTable[],2,FALSE)","v":"EMPN072"},{"$f":"VLOOKUP(PACKT11Table[[#This Row],[EmployeeID]],EmployeeListLookupTable[],3,FALSE)","v":"Employee Name 72"},{"$f":"VLOOKUP(PACKT11Table[[#This Row],[EmployeeID]],EmployeeListLookupTable[],4,FALSE)","v":"Employee Job Title 72"},null,null,null,null,null,null,null,null,null,null,null,null,{"$f":"VLOOKUP(PACKT11Table[[#This Row],[EmployeeID]],EmployeeListLookupTable[#All],17,FALSE)=\"Y\"","v":true}]
[null,"EMP0073",{"$f":"VLOOKUP(PACKT11Table[[#This Row],[EmployeeID]],EmployeeListLookupTable[],2,FALSE)","v":"EMPN073"},{"$f":"VLOOKUP(PACKT11Table[[#This Row],[EmployeeID]],EmployeeListLookupTable[],3,FALSE)","v":"Employee Name 73"},{"$f":"VLOOKUP(PACKT11Table[[#This Row],[EmployeeID]],EmployeeListLookupTable[],4,FALSE)","v":"Employee Job Title 73"},null,null,null,null,null,null,null,null,null,null,null,null,{"$f":"VLOOKUP(PACKT11Table[[#This Row],[EmployeeID]],EmployeeListLookupTable[#All],17,FALSE)=\"Y\"","v":true}]
[null,"EMP0074",{"$f":"VLOOKUP(PACKT11Table[[#This Row],[EmployeeID]],EmployeeListLookupTable[],2,FALSE)","v":"EMPN074"},{"$f":"VLOOKUP(PACKT11Table[[#This Row],[EmployeeID]],EmployeeListLookupTable[],3,FALSE)","v":"Employee Name 74"},{"$f":"VLOOKUP(PACKT11Table[[#This Row],[EmployeeID]],EmployeeListLookupTable[],4,FALSE)","v":"Employee Job Title 74"},null,null,null,null,null,null,null,null,null,null,null,null,{"$f":"VLOOKUP(PACKT11Table[[#This Row],[EmployeeID]],EmployeeListLookupTable[#All],17,FALSE)=\"Y\"","v":true}]
[null,"EMP0075",{"$f":"VLOOKUP(PACKT11Table[[#This Row],[EmployeeID]],EmployeeListLookupTable[],2,FALSE)","v":"EMPN075"},{"$f":"VLOOKUP(PACKT11Table[[#This Row],[EmployeeID]],EmployeeListLookupTable[],3,FALSE)","v":"Employee Name 75"},{"$f":"VLOOKUP(PACKT11Table[[#This Row],[EmployeeID]],EmployeeListLookupTable[],4,FALSE)","v":"Employee Job Title 75"},null,null,null,null,null,null,null,null,null,null,null,null,{"$f":"VLOOKUP(PACKT11Table[[#This Row],[EmployeeID]],EmployeeListLookupTable[#All],17,FALSE)=\"Y\"","v":true}]
[null,"EMP0076",{"$f":"VLOOKUP(PACKT11Table[[#This Row],[EmployeeID]],EmployeeListLookupTable[],2,FALSE)","v":"EMPN076"},{"$f":"VLOOKUP(PACKT11Table[[#This Row],[EmployeeID]],EmployeeListLookupTable[],3,FALSE)","v":"Employee Name 76"},{"$f":"VLOOKUP(PACKT11Table[[#This Row],[EmployeeID]],EmployeeListLookupTable[],4,FALSE)","v":"Employee Job Title 76"},null,null,null,null,null,null,null,null,null,null,null,null,{"$f":"VLOOKUP(PACKT11Table[[#This Row],[EmployeeID]],EmployeeListLookupTable[#All],17,FALSE)=\"Y\"","v":true}]
[null,"EMP0077",{"$f":"VLOOKUP(PACKT11Table[[#This Row],[EmployeeID]],EmployeeListLookupTable[],2,FALSE)","v":"EMPN077"},{"$f":"VLOOKUP(PACKT11Table[[#This Row],[EmployeeID]],EmployeeListLookupTable[],3,FALSE)","v":"Employee Name 77"},{"$f":"VLOOKUP(PACKT11Table[[#This Row],[EmployeeID]],EmployeeListLookupTable[],4,FALSE)","v":"Employee Job Title 77"},null,null,null,null,null,null,null,null,null,null,null,null,{"$f":"VLOOKUP(PACKT11Table[[#This Row],[EmployeeID]],EmployeeListLookupTable[#All],17,FALSE)=\"Y\"","v":true}]
[null,"EMP0078",{"$f":"VLOOKUP(PACKT11Table[[#This Row],[EmployeeID]],EmployeeListLookupTable[],2,FALSE)","v":"EMPN078"},{"$f":"VLOOKUP(PACKT11Table[[#This Row],[EmployeeID]],EmployeeListLookupTable[],3,FALSE)","v":"Employee Name 78"},{"$f":"VLOOKUP(PACKT11Table[[#This Row],[EmployeeID]],EmployeeListLookupTable[],4,FALSE)","v":"Employee Job Title 78"},null,null,null,null,null,null,null,null,null,null,null,null,{"$f":"VLOOKUP(PACKT11Table[[#This Row],[EmployeeID]],EmployeeListLookupTable[#All],17,FALSE)=\"Y\"","v":true}]
[null,"EMP0079",{"$f":"VLOOKUP(PACKT11Table[[#This Row],[EmployeeID]],EmployeeListLookupTable[],2,FALSE)","v":"EMPN079"},{"$f":"VLOOKUP(PACKT11Table[[#This Row],[EmployeeID]],EmployeeListLookupTable[],3,FALSE)","v":"Employee Name 79"},{"$f":"VLOOKUP(PACKT11Table[[#This Row],[EmployeeID]],EmployeeListLookupTable[],4,FALSE)","v":"Employee Job Title 79"},null,null,null,null,null,null,null,null,null,null,null,null,{"$f":"VLOOKUP(PACKT11Table[[#This Row],[EmployeeID]],EmployeeListLookupTable[#All],17,FALSE)=\"Y\"","v":true}]
[null,"EMP0080",{"$f":"VLOOKUP(PACKT11Table[[#This Row],[EmployeeID]],EmployeeListLookupTable[],2,FALSE)","v":"EMPN080"},{"$f":"VLOOKUP(PACKT11Table[[#This Row],[EmployeeID]],EmployeeListLookupTable[],3,FALSE)","v":"Employee Name 80"},{"$f":"VLOOKUP(PACKT11Table[[#This Row],[EmployeeID]],EmployeeListLookupTable[],4,FALSE)","v":"Employee Job Title 80"},null,null,null,null,null,null,null,null,null,null,null,null,{"$f":"VLOOKUP(PACKT11Table[[#This Row],[EmployeeID]],EmployeeListLookupTable[#All],17,FALSE)=\"Y\"","v":true}]
[null,"EMP0081",{"$f":"VLOOKUP(PACKT11Table[[#This Row],[EmployeeID]],EmployeeListLookupTable[],2,FALSE)","v":"EMPN081"},{"$f":"VLOOKUP(PACKT11Table[[#This Row],[EmployeeID]],EmployeeListLookupTable[],3,FALSE)","v":"Employee Name 81"},{"$f":"VLOOKUP(PACKT11Table[[#This Row],[EmployeeID]],EmployeeListLookupTable[],4,FALSE)","v":"Employee Job Title 81"},null,null,null,null,null,null,null,null,null,null,null,null,{"$f":"VLOOKUP(PACKT11Table[[#This Row],[EmployeeID]],EmployeeListLookupTable[#All],17,FALSE)=\"Y\"","v":true}]
[null,"EMP0082",{"$f":"VLOOKUP(PACKT11Table[[#This Row],[EmployeeID]],EmployeeListLookupTable[],2,FALSE)","v":"EMPN082"},{"$f":"VLOOKUP(PACKT11Table[[#This Row],[EmployeeID]],EmployeeListLookupTable[],3,FALSE)","v":"Employee Name 82"},{"$f":"VLOOKUP(PACKT11Table[[#This Row],[EmployeeID]],EmployeeListLookupTable[],4,FALSE)","v":"Employee Job Title 82"},null,null,null,null,null,null,null,null,null,null,null,null,{"$f":"VLOOKUP(PACKT11Table[[#This Row],[EmployeeID]],EmployeeListLookupTable[#All],17,FALSE)=\"Y\"","v":true}]
[null,"EMP0083",{"$f":"VLOOKUP(PACKT11Table[[#This Row],[EmployeeID]],EmployeeListLookupTable[],2,FALSE)","v":"EMPN083"},{"$f":"VLOOKUP(PACKT11Table[[#This Row],[EmployeeID]],EmployeeListLookupTable[],3,FALSE)","v":"Employee Name 83"},{"$f":"VLOOKUP(PACKT11Table[[#This Row],[EmployeeID]],EmployeeListLookupTable[],4,FALSE)","v":"Employee Job Title 83"},null,null,null,null,null,null,null,null,null,null,null,null,{"$f":"VLOOKUP(PACKT11Table[[#This Row],[EmployeeID]],EmployeeListLookupTable[#All],17,FALSE)=\"Y\"","v":true}]
[null,"EMP0084",{"$f":"VLOOKUP(PACKT11Table[[#This Row],[EmployeeID]],EmployeeListLookupTable[],2,FALSE)","v":"EMPN084"},{"$f":"VLOOKUP(PACKT11Table[[#This Row],[EmployeeID]],EmployeeListLookupTable[],3,FALSE)","v":"Employee Name 84"},{"$f":"VLOOKUP(PACKT11Table[[#This Row],[EmployeeID]],EmployeeListLookupTable[],4,FALSE)","v":"Employee Job Title 84"},null,null,null,null,null,null,null,null,null,null,null,null,{"$f":"VLOOKUP(PACKT11Table[[#This Row],[EmployeeID]],EmployeeListLookupTable[#All],17,FALSE)=\"Y\"","v":true}]
[null,"EMP0085",{"$f":"VLOOKUP(PACKT11Table[[#This Row],[EmployeeID]],EmployeeListLookupTable[],2,FALSE)","v":"EMPN085"},{"$f":"VLOOKUP(PACKT11Table[[#This Row],[EmployeeID]],EmployeeListLookupTable[],3,FALSE)","v":"Employee Name 85"},{"$f":"VLOOKUP(PACKT11Table[[#This Row],[EmployeeID]],EmployeeListLookupTable[],4,FALSE)","v":"Employee Job Title 85"},null,null,null,null,null,null,null,null,null,null,null,null,{"$f":"VLOOKUP(PACKT11Table[[#This Row],[EmployeeID]],EmployeeListLookupTable[#All],17,FALSE)=\"Y\"","v":true}]
[null,"EMP0086",{"$f":"VLOOKUP(PACKT11Table[[#This Row],[EmployeeID]],EmployeeListLookupTable[],2,FALSE)","v":"EMPN086"},{"$f":"VLOOKUP(PACKT11Table[[#This Row],[EmployeeID]],EmployeeListLookupTable[],3,FALSE)","v":"Employee Name 86"},{"$f":"VLOOKUP(PACKT11Table[[#This Row],[EmployeeID]],EmployeeListLookupTable[],4,FALSE)","v":"Employee Job Title 86"},null,null,null,null,null,null,null,null,null,null,null,null,{"$f":"VLOOKUP(PACKT11Table[[#This Row],[EmployeeID]],EmployeeListLookupTable[#All],17,FALSE)=\"Y\"","v":true}]
[null,"EMP0087",{"$f":"VLOOKUP(PACKT11Table[[#This Row],[EmployeeID]],EmployeeListLookupTable[],2,FALSE)","v":"EMPN087"},{"$f":"VLOOKUP(PACKT11Table[[#This Row],[EmployeeID]],EmployeeListLookupTable[],3,FALSE)","v":"Employee Name 87"},{"$f":"VLOOKUP(PACKT11Table[[#This Row],[EmployeeID]],EmployeeListLookupTable[],4,FALSE)","v":"Employee Job Title 87"},null,null,null,null,null,null,null,null,null,null,null,null,{"$f":"VLOOKUP(PACKT11Table[[#This Row],[EmployeeID]],EmployeeListLookupTable[#All],17,FALSE)=\"Y\"","v":true}]
[null,"EMP0088",{"$f":"VLOOKUP(PACKT11Table[[#This Row],[EmployeeID]],EmployeeListLookupTable[],2,FALSE)","v":"EMPN088"},{"$f":"VLOOKUP(PACKT11Table[[#This Row],[EmployeeID]],EmployeeListLookupTable[],3,FALSE)","v":"Employee Name 88"},{"$f":"VLOOKUP(PACKT11Table[[#This Row],[EmployeeID]],EmployeeListLookupTable[],4,FALSE)","v":"Employee Job Title 88"},null,null,null,null,null,null,null,null,null,null,null,null,{"$f":"VLOOKUP(PACKT11Table[[#This Row],[EmployeeID]],EmployeeListLookupTable[#All],17,FALSE)=\"Y\"","v":true}]
[null,"EMP0089",{"$f":"VLOOKUP(PACKT11Table[[#This Row],[EmployeeID]],EmployeeListLookupTable[],2,FALSE)","v":"EMPN089"},{"$f":"VLOOKUP(PACKT11Table[[#This Row],[EmployeeID]],EmployeeListLookupTable[],3,FALSE)","v":"Employee Name 89"},{"$f":"VLOOKUP(PACKT11Table[[#This Row],[EmployeeID]],EmployeeListLookupTable[],4,FALSE)","v":"Employee Job Title 89"},null,null,null,null,null,null,null,null,null,null,null,null,{"$f":"VLOOKUP(PACKT11Table[[#This Row],[EmployeeID]],EmployeeListLookupTable[#All],17,FALSE)=\"Y\"","v":true}]
[null,"EMP0090",{"$f":"VLOOKUP(PACKT11Table[[#This Row],[EmployeeID]],EmployeeListLookupTable[],2,FALSE)","v":"EMPN090"},{"$f":"VLOOKUP(PACKT11Table[[#This Row],[EmployeeID]],EmployeeListLookupTable[],3,FALSE)","v":"Employee Name 90"},{"$f":"VLOOKUP(PACKT11Table[[#This Row],[EmployeeID]],EmployeeListLookupTable[],4,FALSE)","v":"Employee Job Title 90"},null,null,null,null,null,null,null,null,null,null,null,null,{"$f":"VLOOKUP(PACKT11Table[[#This Row],[EmployeeID]],EmployeeListLookupTable[#All],17,FALSE)=\"Y\"","v":true}]
[null,"EMP0091",{"$f":"VLOOKUP(PACKT11Table[[#This Row],[EmployeeID]],EmployeeListLookupTable[],2,FALSE)","v":"EMPN091"},{"$f":"VLOOKUP(PACKT11Table[[#This Row],[EmployeeID]],EmployeeListLookupTable[],3,FALSE)","v":"Employee Name 91"},{"$f":"VLOOKUP(PACKT11Table[[#This Row],[EmployeeID]],EmployeeListLookupTable[],4,FALSE)","v":"Employee Job Title 91"},null,null,null,null,null,null,null,null,null,null,null,null,{"$f":"VLOOKUP(PACKT11Table[[#This Row],[EmployeeID]],EmployeeListLookupTable[#All],17,FALSE)=\"Y\"","v":true}]
[null,"EMP0092",{"$f":"VLOOKUP(PACKT11Table[[#This Row],[EmployeeID]],EmployeeListLookupTable[],2,FALSE)","v":"EMPN092"},{"$f":"VLOOKUP(PACKT11Table[[#This Row],[EmployeeID]],EmployeeListLookupTable[],3,FALSE)","v":"Employee Name 92"},{"$f":"VLOOKUP(PACKT11Table[[#This Row],[EmployeeID]],EmployeeListLookupTable[],4,FALSE)","v":"Employee Job Title 92"},null,null,null,null,null,null,null,null,null,null,null,null,{"$f":"VLOOKUP(PACKT11Table[[#This Row],[EmployeeID]],EmployeeListLookupTable[#All],17,FALSE)=\"Y\"","v":true}]
[null,"EMP0093",{"$f":"VLOOKUP(PACKT11Table[[#This Row],[EmployeeID]],EmployeeListLookupTable[],2,FALSE)","v":"EMPN093"},{"$f":"VLOOKUP(PACKT11Table[[#This Row],[EmployeeID]],EmployeeListLookupTable[],3,FALSE)","v":"Employee Name 93"},{"$f":"VLOOKUP(PACKT11Table[[#This Row],[EmployeeID]],EmployeeListLookupTable[],4,FALSE)","v":"Employee Job Title 93"},null,null,null,null,null,null,null,null,null,null,null,null,{"$f":"VLOOKUP(PACKT11Table[[#This Row],[EmployeeID]],EmployeeListLookupTable[#All],17,FALSE)=\"Y\"","v":true}]
[null,"EMP0094",{"$f":"VLOOKUP(PACKT11Table[[#This Row],[EmployeeID]],EmployeeListLookupTable[],2,FALSE)","v":"EMPN094"},{"$f":"VLOOKUP(PACKT11Table[[#This Row],[EmployeeID]],EmployeeListLookupTable[],3,FALSE)","v":"Employee Name 94"},{"$f":"VLOOKUP(PACKT11Table[[#This Row],[EmployeeID]],EmployeeListLookupTable[],4,FALSE)","v":"Employee Job Title 94"},null,null,null,null,null,null,null,null,null,null,null,null,{"$f":"VLOOKUP(PACKT11Table[[#This Row],[EmployeeID]],EmployeeListLookupTable[#All],17,FALSE)=\"Y\"","v":true}]
[null,"EMP0095",{"$f":"VLOOKUP(PACKT11Table[[#This Row],[EmployeeID]],EmployeeListLookupTable[],2,FALSE)","v":"EMPN095"},{"$f":"VLOOKUP(PACKT11Table[[#This Row],[EmployeeID]],EmployeeListLookupTable[],3,FALSE)","v":"Employee Name 95"},{"$f":"VLOOKUP(PACKT11Table[[#This Row],[EmployeeID]],EmployeeListLookupTable[],4,FALSE)","v":"Employee Job Title 95"},null,null,null,null,null,null,null,null,null,null,null,null,{"$f":"VLOOKUP(PACKT11Table[[#This Row],[EmployeeID]],EmployeeListLookupTable[#All],17,FALSE)=\"Y\"","v":true}]
[null,"EMP0096",{"$f":"VLOOKUP(PACKT11Table[[#This Row],[EmployeeID]],EmployeeListLookupTable[],2,FALSE)","v":"EMPN096"},{"$f":"VLOOKUP(PACKT11Table[[#This Row],[EmployeeID]],EmployeeListLookupTable[],3,FALSE)","v":"Employee Name 96"},{"$f":"VLOOKUP(PACKT11Table[[#This Row],[EmployeeID]],EmployeeListLookupTable[],4,FALSE)","v":"Employee Job Title 96"},null,null,null,null,null,null,null,null,null,null,null,null,{"$f":"VLOOKUP(PACKT11Table[[#This Row],[EmployeeID]],EmployeeListLookupTable[#All],17,FALSE)=\"Y\"","v":true}]
[null,"EMP0097",{"$f":"VLOOKUP(PACKT11Table[[#This Row],[EmployeeID]],EmployeeListLookupTable[],2,FALSE)","v":"EMPN097"},{"$f":"VLOOKUP(PACKT11Table[[#This Row],[EmployeeID]],EmployeeListLookupTable[],3,FALSE)","v":"Employee Name 97"},{"$f":"VLOOKUP(PACKT11Table[[#This Row],[EmployeeID]],EmployeeListLookupTable[],4,FALSE)","v":"Employee Job Title 97"},null,null,null,null,null,null,null,null,null,null,null,null,{"$f":"VLOOKUP(PACKT11Table[[#This Row],[EmployeeID]],EmployeeListLookupTable[#All],17,FALSE)=\"Y\"","v":true}]
[null,"EMP0098",{"$f":"VLOOKUP(PACKT11Table[[#This Row],[EmployeeID]],EmployeeListLookupTable[],2,FALSE)","v":"EMPN098"},{"$f":"VLOOKUP(PACKT11Table[[#This Row],[EmployeeID]],EmployeeListLookupTable[],3,FALSE)","v":"Employee Name 98"},{"$f":"VLOOKUP(PACKT11Table[[#This Row],[EmployeeID]],EmployeeListLookupTable[],4,FALSE)","v":"Employee Job Title 98"},null,null,null,null,null,null,null,null,null,null,null,null,{"$f":"VLOOKUP(PACKT11Table[[#This Row],[EmployeeID]],EmployeeListLookupTable[#All],17,FALSE)=\"Y\"","v":true}]
[null,"EMP0099",{"$f":"VLOOKUP(PACKT11Table[[#This Row],[EmployeeID]],EmployeeListLookupTable[],2,FALSE)","v":"EMPN099"},{"$f":"VLOOKUP(PACKT11Table[[#This Row],[EmployeeID]],EmployeeListLookupTable[],3,FALSE)","v":"Employee Name 99"},{"$f":"VLOOKUP(PACKT11Table[[#This Row],[EmployeeID]],EmployeeListLookupTable[],4,FALSE)","v":"Employee Job Title 99"},null,null,null,null,null,null,null,null,null,null,null,null,{"$f":"VLOOKUP(PACKT11Table[[#This Row],[EmployeeID]],EmployeeListLookupTable[#All],17,FALSE)=\"Y\"","v":true}]
[null,"EMP0100",{"$f":"VLOOKUP(PACKT11Table[[#This Row],[EmployeeID]],EmployeeListLookupTable[],2,FALSE)","v":"EMPN100"},{"$f":"VLOOKUP(PACKT11Table[[#This Row],[EmployeeID]],EmployeeListLookupTable[],3,FALSE)","v":"Employee Name 100"},{"$f":"VLOOKUP(PACKT11Table[[#This Row],[EmployeeID]],EmployeeListLookupTable[],4,FALSE)","v":"Employee Job Title 100"},null,null,null,null,null,null,null,null,null,null,null,null,{"$f":"VLOOKUP(PACKT11Table[[#This Row],[EmployeeID]],EmployeeListLookupTable[#All],17,FALSE)=\"Y\"","v":true}]
[null,"Total",null,null,"Total",{"$f":"SUBTOTAL(109,PACKT11Table[1])","v":0},{"$f":"SUBTOTAL(109,PACKT11Table[2])","v":0},{"$f":"SUBTOTAL(109,PACKT11Table[3])","v":0},{"$f":"SUBTOTAL(109,PACKT11Table[4])","v":0},{"$f":"SUBTOTAL(109,PACKT11Table[5])","v":0},{"$f":"SUBTOTAL(109,PACKT11Table[6])","v":0},{"$f":"SUBTOTAL(109,PACKT11Table[7])","v":0},{"$f":"SUBTOTAL(109,PACKT11Table[8])","v":0},{"$f":"SUBTOTAL(109,PACKT11Table[9])","v":0},{"$f":"SUBTOTAL(109,PACKT11Table[10])","v":0},{"$f":"SUBTOTAL(109,PACKT11Table[11])","v":0},{"$f":"SUBTOTAL(109,PACKT11Table[12])","v":0}]